{"text_format":"2","workbook":"xlsx","n_sheets":16,"sheets":["วิธีการใช้","กรอกข้อมูล","วิธีการเปิดแมโคร","เรียงข้อมูล","ไม่แจกแจง","แจกแจง I=0","แจกแจง I>0","PDQไม่แจกแจง","PDQ","TมาตรฐานT","gradeD","TมาตรฐานZ","gradeD (2)","gradeMed","Ttable","Ztable"],"not_rendered":{"charts":0,"images":39,"macros":1,"external_links":0,"defined_names":0,"comments":0,"pivot_tables":0},"unopened":[],"bounds":{"document_bytes":16777216,"sheet_cells":100000,"run_cost":"one","rows_first":2000,"rows_last":500,"rows_between":2000,"halvings":0,"cell_chars":16384,"cell_head_chars":4096},"cells_cut":0,"cells_raw":0,"read":"whole","date_system":"1900"}

{"sheet":"วิธีการใช้","index":0,"n_rows":16,"n_cols":2,"rows_kept":16,"cut":false,"hidden":false,"merged":[[9,1,9,7],[2,1,2,7],[3,1,3,7],[4,1,4,7],[5,1,5,7],[17,1,17,7],[10,1,10,7],[11,1,11,7],[12,1,12,7],[13,1,13,7],[16,1,16,7],[14,1,14,7],[15,1,15,7]]}
[" "]
[]
[null,"โปรแกรมช่วยคำนวณระดับคะแนนแบบ T - Score\n "]
[null,"ชุดโปรแกรมช่วยสอนวิชาสถิติและวิจัย"]
[null,"พัฒนาโดย...นายศักดิ์สิทธิ์ วัชรารัตน์ วิทยาลัยสารพัดช่างพิษณุโลก สำนักงานคณะกรรมการการอาชีวศึกษา, 2553 "]
[null,"email: saksit2500@gmail.com; saksit2500@hotmail.com; saksit2500@yahoo.com"]
[]
[]
[null,"คำแนะนำในการใช้งาน"]
[null,"               โปรแกรมช่วยคำนวณระดับคะแนนแบบ T - Score คิดค่าระดับคะแนนทั้ง 5 ระดับ และ 8 ระดับ โดยมีขั้นตอนการใช้ ดังต่อไปนี้ "]
[null,"               1.  ที่แผ่นงานกรอกข้อมูล ให้กรอกข้อมูลค่าคะแนนลงมาในคอลัมน์กรอกข้อมูลจนครบ (ทับข้อมูลเก่าหรือลบข้อมูลเก่าให้หมด) โดยได้จัดเตรียมไว้ให้จำนวนตั้งแต่ 1 - 400 ข้อมูล (ผู้ที่ได้คะแนน 0 ไม่ต้องกรอก เพราะไม่นำมาคำนวณด้วย)"]
[null,"               2. เมื่อกรอกข้อมูลเสร็จสิ้นแล้ว ให้ใช้แผ่นงานTมาตรฐานTคู่กับแผ่นงานgradeD และ แผ่นงานTมาตรฐานZคู่กับแผ่นงานgradeD(2)"]
[null,"               3. ที่แผ่นงานgradeD หรือแผ่นงานgradeD(2) ในกรณีที่มีการคำนวณเกรดได้เป็นเลขคี่ 1,3,5  โดยดูที่ D10 ท่านสามารถปรับตัวเลขเกรดตามกลุ่มผู้เรียนได้ในตารางเกรดเลขคี่ โดยยึดค่าแถวกลางไว้ (B21) สำหรับเลข 5 ใช้ได้เลยไม่ต้องกรอกใหม่ ตัวอย่างเช่น คำนวณได้  3 เกรดมีวิธีการกรอกตัวเลขเกรดตามกลุ่ม ดังนี้ กรณีที่1 B20 กรอก 4,B21 กรอก 3,B22 กรอก 2 หรือ กรณีที่2 B20 กรอก 3,B21 กรอก 2,B22 กรอก 1 หรือ กรณีที่3 B20 กรอก 2,B21 กรอก 1,B22 กรอก 0\n"]
[null,"               4. ที่แผ่นงานgradeD หรือแผ่นงานgradeD(2) ในกรณีที่มีการคำนวณเกรดได้เป็นเลขคู่ 2,4 โดยดูที่ D10 ท่านสามารถปรับตัวเลขเกรดตามกลุ่มผู้เรียนได้ในตารางเกรดเลขคู่ โดยยึดค่าแถวกลางไว้ (B30 กับ B31) ตัวอย่างเช่น  คำนวณได้ 2 เกรด มีวิธีการกรอกตัวเลขเกรดตามกลุ่ม ดังนี้ กรณีที่1 B30 กรอก 4,B31 กรอก 3 หรือ กรณีที่2 B30 กรอก 3,B31 กรอก 2 หรือ กรณีที่3 B30 กรอก 2,B31 กรอก 1 หรือ กรณีที่4 B30 กรอก 1,B31 กรอก 0"]
[null,"               5. ดูผลการคำนวณค่า T-score และเกรดแบบ 5 ระดับ/ 8 ระดับ ได้ที่แผ่นงานTมาตรฐานT หรือ แผ่นงานTมาตรฐานZ โดยท่านเลือกใช้แผ่นงานใดแผ่นงานหนึ่งได้ตามต้องการ ซึ่งค่าคะแนนในแต่ละเกรด หรืออันตรภาคชั้น (I) นั้น ได้ใช้วิธีการของ Douglas จะไม่ให้กำหนดเอง (จะมีอคติได้)\n"]
[null,"               6. ให้บันทึกเป็นแฟ้มข้อมูลในชื่อใหม่ตามต้องการ  "]

{"sheet":"กรอกข้อมูล","index":1,"n_rows":404,"n_cols":56,"rows_kept":404,"cut":false,"hidden":false,"merged":[[51,4,51,9],[0,14,0,16],[0,17,0,19],[23,2,27,3],[20,2,21,3],[2,2,2,3],[13,2,13,3],[3,2,3,3],[0,4,0,6],[0,7,0,9]]}
["กรอกข้อมูล",null,"กำหนดจำนวนชั้น (k) =>",7,{"$f":"$O$1","v":"ช่วงข้อมูล"},null,null,"ขอบเขตชั้น",null,null,{"$f":"U1","v":"ความถี่ (f)"},"ความถี่สะสม (F)",null,"class","ช่วงข้อมูล",null,null,"ขอบเขตชั้น",null,null,"ความถี่ (f)","ความถี่สะสม (F)","f","Cum F","ช่วงข้อมูล L","X","fX","fX2","X-m","(X-m)2","f(X-m)2","ความถี่สัมพัทธ์","%ความถี่สัมพัทธ์","จุดกึ่งกลาง (X)","x¢","fix'i","(x¢)2","fix'i2","Z=(x-m)/s",null,"กรณีที่แจกแจงความถี่",null,null,null,"no","freq","cum freq",{"$f":"AS1","v":"no"},null,"no","count","fre",null,"count",null,"no"]
[19,null,"เทียบกับการคำนวณจากสูตร =",{"$f":"$M$2","v":6.6066010143088612},{"$f":"O2","v":12},{"$f":"P2","v":"-"},{"$f":"Q2","v":14},{"$f":"R2","v":11.5},{"$f":"S2","v":"-"},{"$f":"T2","v":14.5},{"$f":"U2","v":4},{"$f":"V2","v":4},{"$f":"1+3.3*LOG(D12)","v":6.6066010143088612},1,{"$f":"MIN(A2:A401)","v":12},{"$f":"IF(N2<=AO$4,\"-\",\"\")","v":"-"},{"$f":"IF(N2<=AO$4,O2+AQ$3-1,\"\")","v":14},{"$f":"IF(N2<=AO$4,O2-0.5,\"\")","v":11.5},{"$f":"IF(N2<=AO$4,\"-\",\"\")","v":"-"},{"$f":"IF(N2<=AO$4,Q2+0.5,\"\")","v":14.5},{"$f":"W2","v":4},{"$f":"X2","v":4},{"$f":"IF(N2<=AO$4,$X$2,\"\")","v":4},{"$f":"IF(N2<=AO$4,DSUM(AS$1:AU$401,AU$1,AX1:AZ2),\"\")","v":4},{"$f":"O2","v":12},{"$f":"IF(N2<=AO$4,(O2+Q2)/2,\"\")","v":13},{"$f":"IF(N2<=AO$4,W2*Z2,\"\")","v":52},{"$f":"IF(N2<=AO$4,(W2*Z2^2),\"\")","v":676},{"$f":"IF(N2<=AO$4,(Z2-AO$9),\"\")","v":-8.64},{"$f":"IF(N2<=AO$4,(Z2-AO$9)^2,\"\")","v":74.649600000000007},{"$f":"IF(N2<=AO$4,AD2*W2,\"\")","v":298.59840000000003},{"$f":"IF(N2<=AO$4,W2/AO$7,\"\")","v":0.08},{"$f":"IF(N2<=AO$4,AF2*100,\"\")","v":8},{"$f":"Z2","v":13},{"$f":"IF(N2<=AO$4,(Z2-AH$53)/D$7,\"\")","v":-3},{"$f":"IF(N2<=AO$4,W2*AI2,\"\")","v":-12},{"$f":"IF(N2<=AO$4,AI2^2,\"\")","v":9},{"$f":"IF(N2<=AO$4,W2*AK2,\"\")","v":36},null,"max =",{"$f":"MAX(A2:A401)","v":31},"max - min =",{"$f":"AO2-AO3","v":19},null,{"$f":"MIN(A2:A60)","v":12},{"$f":"COUNTIF(A$2:A$401,AS2)","v":2},{"$f":"AT2","v":2},12,1,{"$f":"$Q$2","v":14},null,null,null,{"$f":"IF(AT2>0,COUNT(AT2),0)","v":1},{"$f":"$BB$2","v":1},{"$f":"AS2","v":12}]
[24,null,"ด้วยสูตร k = 1 + 3.3 log N",null,15,"-",17,14.5,"-",17.5,7,11,null,2,{"$f":"IF(N3<=AO$4,O2+AQ$3,\"\")","v":15},"-",17,14.5,"-",17.5,7,11,{"$f":"IF(N3<=AO$4,X3-X2,\"\")","v":7},{"$f":"IF(N3<=AO$4,DSUM(AS$1:AU$401,AU$1,AX3:AZ4),\"\")","v":11},15,16,112,{"$f":"IF(N3<=AO$4,(W3*Z3^2),\"\")","v":1792},{"$f":"IF(N3<=AO$4,(Z3-AO$9),\"\")","v":-5.6400000000000006},31.809600000000007,222.66720000000004,0.14000000000000001,14.000000000000002,16,-2,{"$f":"IF(N3<=AO$4,W3*AI3,\"\")","v":-14},{"$f":"IF(N3<=AO$4,AI3^2,\"\")","v":4},{"$f":"IF(N3<=AO$4,W3*AK3,\"\")","v":28},null,"min =",{"$f":"MIN(A2:A401)","v":12},"อันตรภาคชั้น(I) =",{"$f":"ROUND(AR4,0)","v":3},null,{"$f":"AS2+1","v":13},{"$f":"COUNTIF(A$2:A$401,AS3)","v":1},{"$f":"AT3+AU2","v":3},13,null,"no","count","fre",null,1,{"$f":"BC2+BB3","v":2},13]
[30,null,"เทียบกับคะแนนสูงสุดของข้อมูลกับในตาราง",null,18,"-",20,17.5,"-",20.5,9,20,null,3,18,"-",20,17.5,"-",20.5,9,20,9,{"$f":"IF(N4<=AO$4,DSUM(AS$1:AU$401,AU$1,AX5:AZ6),\"\")","v":20},18,19,171,3249,-2.6400000000000006,6.9696000000000033,62.726400000000027,0.18,18,19,-1,-9,1,9,null,"class =",{"$f":"$D$1","v":7},"อันตรภาคชั้น =",{"$f":"AQ2/AO4","v":2.7142857142857144},{"$f":"CEILING(AQ4,0.5)","v":3},{"$f":"AS3+1","v":14},1,4,14,2,{"$f":"Q3","v":17},null,null,null,1,3,14]
[14,null,"สรุปว่าการกำหนดชั้น",{"$f":"$C$404","v":"ค่า k ใช้ได้"},21,"-",23,20.5,"-",23.5,12,32,null,4,21,"-",23,20.5,"-",23.5,12,32,12,{"$f":"IF(N5<=AO$4,DSUM(AS$1:AU$401,AU$1,AX7:AZ8),\"\")","v":32},21,22,264,5808,0.35999999999999943,0.1295999999999996,1.5551999999999953,0.24,24,22,0,0,0,0,null,"sum =",{"$f":"SUM(A2:A401)","v":1079},null,null,null,{"$f":"AS4+1","v":15},2,6,15,null,"no","count","fre",null,1,4,15]
[31,null,"อันตรภาคชั้น (I) = พิสัย/จำนวนชั้น",null,24,"-",26,23.5,"-",26.5,10,42,null,5,24,"-",26,23.5,"-",26.5,10,42,10,{"$f":"IF(N6<=AO$4,DSUM(AS$1:AU$401,AU$1,AX9:AZ10),\"\")","v":42},24,25,250,6250,3.3599999999999994,11.289599999999997,112.89599999999996,0.2,20,25,1,10,1,10,null,"average =",{"$f":"AVERAGE(A2:A401)","v":21.58},null,null,null,16,2,8,16,3,{"$f":"Q4","v":20},null,null,null,1,5,16]
[12,null,"อันตรภาคชั้น (I) =",{"$f":"$AQ$3","v":3},27,"-",29,26.5,"-",29.5,5,47,null,6,27,"-",29,26.5,"-",29.5,5,47,5,{"$f":"IF(N7<=AO$4,DSUM(AS$1:AU$401,AU$1,AX11:AZ12),\"\")","v":47},27,28,140,3920,6.3599999999999994,40.44959999999999,202.24799999999993,0.1,10,28,2,10,4,20,null,"n =",{"$f":"COUNT(A2:A401)","v":50},"รวมความถี่=",{"$f":"$W$52","v":50},null,17,3,11,17,null,"no","count","fre",null,1,6,17]
[29,null,"          พิสัย = ค่าสูงสุด - ค่าต่ำสุด",null,30,"-",32,29.5,"-",32.5,3,50,null,7,30,"-",32,29.5,"-",32.5,3,50,3,{"$f":"IF(N8<=AO$4,DSUM(AS$1:AU$401,AU$1,AX13:AZ14),\"\")","v":50},30,31,93,2883,9.36,87.609599999999986,262.82879999999994,0.06,6,31,3,9,9,27,null,"sum fX =",{"$f":"SUM(AA2:AA51)","v":1082},"ตำแหน่ง med =",{"$f":"AO7/2","v":25},null,18,2,13,18,4,{"$f":"Q5","v":23},null,null,null,1,7,18]
[26,null,"พิสัย =",{"$f":"$AQ$2","v":19},"","","","","","","","",null,8,"","","","","","","","","",{"$f":"IF(N9<=AO$4,DSUM(AS$1:AU$401,AU$1,AX15:AZ16),\"\")","v":""},"","","","","","","","","","","","","","",null,"m =",{"$f":"AO8/AO7","v":21.64},"ตำแหน่งต่ำ F =",{"$f":"VLOOKUP(AQ8,X2:Y51,2)","v":18},null,19,4,17,19,null,"no","count","fre",null,1,8,19]
[23,null,"ค่าสูงสุด =",{"$f":"AO2","v":31},"","","","","","","","",null,9,"","","","","","","","","",{"$f":"IF(N10<=AO$4,DSUM(AS$1:AU$401,AU$1,AX17:AZ18),\"\")","v":""},"","","","","","","","","","","","","","",null,"sum f(X-m)2=",{"$f":"SUM(AE2:AE51)","v":1163.52},"L =",{"$f":"AQ9-0.5","v":17.5},null,20,3,20,20,5,{"$f":"Q6","v":26},null,null,null,{"$f":"IF(AT10>0,COUNT(AT10),0)","v":1},{"$f":"BC9+BB10","v":9},20]
[23,null,"ค่าต่ำสุด =",{"$f":"AO3","v":12},"","","","","","","","",null,10,"","","","","","","","","",{"$f":"IF(N11<=AO$4,DSUM(AS$1:AU$401,AU$1,AX19:AZ20),\"\")","v":""},"","","","","","","","","","","","","","",null,"s2 =",{"$f":"AO10/AO7","v":23.270399999999999},"ตำแหน่ง f =",{"$f":"VLOOKUP(AQ9,O2:W51,7)","v":9},null,21,6,26,21,null,"no","count","fre",null,1,10,21]
[20,null,"จำนวนข้อมูล =",{"$f":"$AO$7","v":50},"","","","","","","","",null,11,"","","","","","","","","",{"$f":"IF(N12<=AO$4,DSUM(AS$1:AU$401,AU$1,AX22:AZ23),\"\")","v":""},"","","","","","","","","","","","",{"$f":"IF(N12<=AO$4,AI12^2,\"\")","v":""},{"$f":"IF(N12<=AO$4,W12*AK12,\"\")","v":""},null,"s =",{"$f":"SQRT(AO11)","v":4.8239402981380275},"ตำแหน่ง F ก่อน=",{"$f":"VLOOKUP(AQ9-AQ3,O2:X51,8)","v":11},null,22,2,28,22,6,{"$f":"Q7","v":29},null,null,null,1,11,22]
[25,null,"สัมประสิทธิ์ของพิสัย = ค่าสูงสุด - ค่าต่ำสุด",null,"","","","","","","","",null,12,"","","","","","","","","",{"$f":"IF(N13<=AO$4,DSUM(AS$1:AU$401,AU$1,AX23:AZ24),\"\")","v":""},"","","","","","","","","","","","","","",null,"C.V. =",{"$f":"AO12/AO9","v":0.22291775869399388},"Med =","L+I(((N/2)-F)/f)",null,23,4,32,23,null,"no","count","fre",null,1,12,23]
[17,null,"                                         ค่าสูงสุด + ค่าต่ำสุด",null,"","","","","","","","",null,13,"","","","","","","","","",{"$f":"IF(N14<=AO$4,DSUM(AS$1:AU$401,AU$1,AX25:AZ26),\"\")","v":""},"","","","","","","","","","","","","","",null,"%C.V. =",{"$f":"AO13*100","v":22.291775869399387},"Med =",{"$f":"AQ10+AQ3*((AQ8-AQ12)/AQ11)","v":22.166666666666668},null,24,3,35,24,7,{"$f":"Q8","v":32},null,null,null,1,13,24]
[15,null," ดังนั้น สัมประสิทธิ์ของพิสัย =",{"$f":"$M$15","v":0.44186046511627908},"","","","","","","","",{"$f":"(D10-D11)/(D10+D11)","v":0.44186046511627908},14,"","","","","","","","","",{"$f":"IF(N15<=AO$4,DSUM(AS$1:AU$401,AU$1,AX27:AZ28),\"\")","v":""},"","","","","","","","","","","","","","",null,"S2 =",{"$f":"AO10/(AO7-1)","v":23.74530612244898},null,null,null,25,3,38,25,null,"no","count","fre",null,1,14,25]
[22,null,"หรือร้อยละ =",{"$f":"$M$16","v":0.44186046511627908},"","","","","","","","",{"$f":"(D10-D11)/(D10+D11)","v":0.44186046511627908},15,"","","","","","","","","",{"$f":"IF(N16<=AO$4,DSUM(AS$1:AU$401,AU$1,AX29:AZ30),\"\")","v":""},"","","","","","","","","","","","","","",null,"S =",{"$f":"SQRT(AO15)","v":4.8729155669320789},"ตำแหน่ง mod f =",{"$f":"MAX(W2:W51)","v":12},null,26,4,42,26,8,{"$f":"Q9","v":""},null,null,null,1,15,26]
[28,null,"สัมประสิทธิ์ของการแปรผัน = S.D./ค่าเฉลี่ย",null,"","","","","","","","",null,16,"","","","","","","","","",{"$f":"IF(N17<=AO$4,DSUM(AS$1:AU$401,AU$1,AX31:AZ32),\"\")","v":""},"","","","","","","","","","","","","","",null,null,null,"ตำแหน่งต่ำ mod =",{"$f":"VLOOKUP(AQ16,W2:Y51,3,FALSE)","v":21},null,27,2,44,27,null,"no","count","fre",null,1,16,27]
[12,null,"สัมประสิทธิ์ของการแปรผัน =",{"$f":"$M$18","v":0.22291775869399388},"","","","","","","","",{"$f":"AO12/AO9","v":0.22291775869399388},17,"","","","","","","","","",{"$f":"IF(N18<=AO$4,DSUM(AS$1:AU$401,AU$1,AX33:AZ34),\"\")","v":""},"","","","","","","","","","","","","","",null,null,null,"L =",{"$f":"AQ17-0.5","v":20.5},null,{"$f":"AS17+1","v":28},2,46,28,9,{"$f":"Q10","v":""},null,null,null,1,17,28]
[27,null,"หรือร้อยละ =",{"$f":"$M$19","v":0.22291775869399388},"","","","","","","","",{"$f":"AO12/AO9","v":0.22291775869399388},18,"","","","","","","","","",{"$f":"IF(N19<=AO$4,DSUM(AS$1:AU$401,AU$1,AX35:AZ36),\"\")","v":""},"","","","","","","","","","","","","","",null,null,null,"ตำแหน่งต่ำก่อน mod =",{"$f":"AQ17-AQ3","v":18},null,29,1,47,29,null,"no","count","fre",null,1,18,29]
[19,null,null,null,"","","","","","","","",null,19,"","","","","","","","","",{"$f":"IF(N20<=AO$4,DSUM(AS$1:AU$401,AU$1,AX37:AZ38),\"\")","v":""},"","","","","","","","","","","","","","",null,null,null,"ตำแหน่งต่ำสูง mod =",{"$f":"AQ17+AQ3","v":24},null,30,2,49,30,10,{"$f":"Q11","v":""},null,null,null,1,19,30]
[26,null,"อันตรภาคชั้นจะปัดขึ้นให้เป็นเลขจำนวนเต็ม เพื่อให้ครบจำนวนชั้น",null,"","","","","","","","",null,20,"","","","","","","","","",{"$f":"IF(N21<=AO$4,DSUM(AS$1:AU$401,AU$1,AX39:AZ40),\"\")","v":""},"","","","","","","","","","","","","","",null,null,null,"f ก่อน mod =",{"$f":"VLOOKUP(AQ19,O2:W51,7)","v":9},null,31,1,50,31,null,"no","count","fre",null,1,20,31]
[25,null,null,null,"","","","","","","","",null,21,"","","","","","","","","",{"$f":"IF(N22<=AO$4,DSUM(AS$1:AU$401,AU$1,AX41:AZ42),\"\")","v":""},"","","","","","","","","","","","","","",null,null,null,"f สูง mod =",{"$f":"VLOOKUP(AQ20,O2:W51,7)","v":10},null,32,0,50,32,11,{"$f":"Q12","v":""},null,null,null,0,20,32]
[30,null,null,null,"","","","","","","","",null,22,"","","","","","","","","",{"$f":"IF(N23<=AO$4,DSUM(AS$1:AU$401,AU$1,AX43:AZ44),\"\")","v":""},"","","","","","","","","","","","","","",null,"sum (X-m)2=",{"$f":"SUM(AD2:AD51)","v":252.90719999999999},"Change1 =",{"$f":"AQ16-AQ21","v":3},null,33,0,{"$f":"AT23+AU22","v":50},33,null,"no","count","fre",null,0,20,33]
[15,null,"ให้กำหนดเฉพาะจำนวนชั้น\n โดยต้องสังเกตด้วยว่าคะแนนสูงสุดในตารางครอบคลุมค่าข้อมูลที่กรอกด้วยหรือไม่ \nหากไม่ครอบคลุมให้เปลี่ยนจำนวนชั้นใหม่",null,"","","","","","","","",null,23,"","","","","","","","","",{"$f":"IF(N24<=AO$4,DSUM(AS$1:AU$401,AU$1,AX45:AZ46),\"\")","v":""},"","","","","","","","","","","","","","",null,"n =",{"$f":"$AO$7","v":50},"Change2 =",{"$f":"AQ16-AQ22","v":2},null,{"$f":"AS23+1","v":34},0,50,34,12,{"$f":"Q13","v":""},null,null,null,0,20,34]
[19,null,null,null,"","","","","","","","",null,24,"","","","","","","","","",{"$f":"IF(N25<=AO$4,DSUM(AS$1:AU$401,AU$1,AX47:AZ48),\"\")","v":""},"","","","","","","","","","","","","","",null,"S2 =",{"$f":"AO23/(AO24-1)","v":5.1613714285714281}," mod =","L+I(d1/(d1+d2))",null,35,0,50,35,null,"no","count","fre",null,0,20,35]
[19,null,null,null,"","","","","","","","",null,25,"","","","","","","","","",{"$f":"IF(N26<=AO$4,DSUM(AS$1:AU$401,AU$1,AX49:AZ50),\"\")","v":""},"","","","","","","","","","","","","","",null,"S =",{"$f":"SQRT(AO25)","v":2.2718651871472102}," mod =",{"$f":"AQ18+AQ3*(AQ23/(AQ23+AQ24))","v":22.3},null,36,0,50,36,13,{"$f":"Q14","v":""},null,null,null,0,20,36]
[23,null,null,null,"","","","","","","","",null,26,"","","","","","","","","",{"$f":"IF(N27<=AO$4,DSUM(AS$1:AU$401,AU$1,AX51:AZ52),\"\")","v":""},"","","","","","","","","","","","","","",{"$nulls":6},37,0,50,37,null,"no","count","fre",null,0,20,37]
[22,null,null,null,"","","","","","","","",null,27,"","","","","","","","","",{"$f":"IF(N28<=AO$4,DSUM(AS$1:AU$401,AU$1,AX53:AZ54),\"\")","v":""},"","","","","","","","","","","","","","",null,"กรณีที่ไม่แจกแจงความถี่",null,{"$f":"COUNT(A2:A401)","v":50},{"$f":"AP28/2","v":25},{"$f":"AQ28+1","v":26},38,0,50,38,14,{"$f":"Q15","v":""},null,null,null,0,20,38]
[21,null,null,null,"","","","","","","","",null,28,"","","","","","","","","",{"$f":"IF(N29<=AO$4,DSUM(AS$1:AU$401,AU$1,AX55:AZ56),\"\")","v":""},"","","","","","","","","","","","","","",null,"Med excel =",{"$f":"MEDIAN(A2:A401)","v":21},{"$f":"ISEVEN(AP28)","v":true},{"$f":"INDEX(เรียงข้อมูล!M1:M400,AQ28,1)","v":21},{"$f":"INDEX(เรียงข้อมูล!M1:M400,AR28,1)","v":21},39,0,50,39,null,"no","count","fre",null,0,20,39]
[21,null,"ที่มา: 1.บุญเรียง ขจรศิลป์.2549.สถิติวิจัย I.พิมพ์ครั้งที่ 9.",null,"","","","","","","","",null,29,"","","","","","","","","",{"$f":"IF(N30<=AO$4,DSUM(AS$1:AU$401,AU$1,AX57:AZ58),\"\")","v":""},"","","","","","","","","","","","","","",null,null,null,"Med คี่ =",{"$f":"(AP28+1)/2","v":25.5},{"$f":"INDEX(เรียงข้อมูล!M1:M400,AQ30,1)","v":21},40,0,50,40,15,{"$f":"Q16","v":""},null,null,null,0,20,40]
[27,null,"กรุงเทพฯ: พีเอส.พริ้นท์.หน้า 11-52.",null,"","","","","","","","",null,30,"","","","","","","","","",{"$f":"IF(N31<=AO$4,DSUM(AS$1:AU$401,AU$1,AX59:AZ60),\"\")","v":""},"","","","","","","","","","","","","","",null,null,null,"Med คู่ =",{"$f":"(AQ29+AR29)/2","v":21},null,41,0,50,41,null,"no","count","fre",null,0,20,41]
[16,null,"         2.พิสมัย หาญมงคลพิพัฒน์.2550.หลักสถิติ1.",null,"","","","","","","","",null,31,"","","","","","","","","",{"$f":"IF(N32<=AO$4,DSUM(AS$1:AU$401,AU$1,AX61:AZ62),\"\")","v":""},"","","","","","","","","","","","","","",null,null,null,{"$f":"IF(AP29=TRUE,AP31,AP30)","v":"Med คู่ ="},{"$f":"IF(AP29=TRUE,AQ31,AR30)","v":21},null,42,0,50,42,16,{"$f":"Q17","v":""},null,null,null,0,20,42]
[26,null,"พิมพ์ครั้งที่ 3.กรุงเทพฯ: มหาวิทยาลัยเกษตรศาสตร์.",null,"","","","","","","","",null,32,"","","","","","","","","",{"$f":"IF(N33<=AO$4,DSUM(AS$1:AU$401,AU$1,AX63:AZ64),\"\")","v":""},"","","","","","","","","","","","","","",null,null,null,"Max freq =",{"$f":"MAX(AT2:AT401)","v":6},null,43,0,50,43,null,"no","count","fre",null,0,20,43]
[26,null,"หน้า 11-40.",null,{"$f":"O34","v":""},{"$f":"P34","v":""},{"$f":"Q34","v":""},{"$f":"R34","v":""},{"$f":"S34","v":""},{"$f":"T34","v":""},{"$f":"U34","v":""},{"$f":"V34","v":""},null,33,"",{"$f":"IF(N34<=AO$4,\"-\",\"\")","v":""},{"$f":"IF(N34<=AO$4,O34+AQ$3-1,\"\")","v":""},{"$f":"IF(N34<=AO$4,O34-0.5,\"\")","v":""},{"$f":"IF(N34<=AO$4,\"-\",\"\")","v":""},{"$f":"IF(N34<=AO$4,Q34+0.5,\"\")","v":""},{"$f":"W34","v":""},{"$f":"X34","v":""},"",{"$f":"IF(N34<=AO$4,DSUM(AS$1:AU$401,AU$1,AX65:AZ66),\"\")","v":""},{"$f":"O34","v":""},{"$f":"IF(N34<=AO$4,(O34+Q34)/2,\"\")","v":""},{"$f":"IF(N34<=AO$4,W34*Z34,\"\")","v":""},"","",{"$f":"IF(N34<=AO$4,(Z34-AO$9)^2,\"\")","v":""},{"$f":"IF(N34<=AO$4,AD34*W34,\"\")","v":""},{"$f":"IF(N34<=AO$4,W34/AO$7,\"\")","v":""},{"$f":"IF(N34<=AO$4,AF34*100,\"\")","v":""},{"$f":"Z34","v":""},{"$f":"IF(N34<=AO$4,(Z34-AH$53)/D$7,\"\")","v":""},"","","",null,"Mod  excel  =",{"$f":"MODE(A2:A401)","v":21},"Mod    =",{"$f":"VLOOKUP(AQ33,AT1:AV401,3,FALSE)","v":21},null,44,0,50,44,17,{"$f":"Q18","v":""},null,null,null,0,20,44]
[28,null,null,null,"","","","","","","","",null,34,{"$f":"IF(N35<=AO$4,O34+AQ$3,\"\")","v":""},"","","","","","","",{"$f":"IF(N35<=AO$4,X35-X34,\"\")","v":""},{"$f":"IF(N35<=AO$4,DSUM(AS$1:AU$401,AU$1,AX67:AZ68),\"\")","v":""},"","","","","","","","","","","","","","",null,"Mean excel  =",{"$f":"AVERAGE(A2:A401)","v":21.58},"Mean   =",{"$f":"SUM(A2:A401)/W52","v":21.58},null,45,0,50,45,null,"no","count","fre",null,0,20,45]
[21,null,null,null,"","","","","","","","",null,35,"","","","","","","","","",{"$f":"IF(N36<=AO$4,DSUM(AS$1:AU$401,AU$1,AX69:AZ70),\"\")","v":""},"","","","","","","","","","","","","","",{"$nulls":6},46,0,50,46,18,{"$f":"Q19","v":""},null,null,null,0,20,46]
[17,null,null,null,"","","","","","","","",null,36,"","","","","","","","","",{"$f":"IF(N37<=AO$4,DSUM(AS$1:AU$401,AU$1,AX71:AZ72),\"\")","v":""},"","","","","","","","","","","","","","",null,"P =",{"$f":"PDQไม่แจกแจง!$D$13","v":12.75},{"$f":"ROUNDDOWN(AO37,0)","v":12},"กับ",{"$f":"AP37+1","v":13},47,0,50,47,null,"no","count","fre",null,0,20,47]
[13,null,null,null,"","","","","","","","",null,37,"","","","","","","","","",{"$f":"IF(N38<=AO$4,DSUM(AS$1:AU$401,AU$1,AX73:AZ74),\"\")","v":""},"","","","","","","","","","","","","","",null,null,{"$f":"AP38+(AR38-AP38)/(AR37-AP37)*(AO37-AP37)","v":18},{"$f":"INDEX(เรียงข้อมูล!M1:M400,AP37,1)","v":18},"กับ",{"$f":"INDEX(เรียงข้อมูล!M1:M400,AR37,1)","v":18},48,0,50,48,19,{"$f":"Q20","v":""},null,null,null,0,20,48]
[17,null,null,null,"","","","","","","","",null,38,"","","","","","","","","",{"$f":"IF(N39<=AO$4,DSUM(AS$1:AU$401,AU$1,AX75:AZ76),\"\")","v":""},"","","","","","","","","","","","","","",null,"D =",null,null,"กับ",null,49,0,50,49,null,"no","count","fre",null,0,20,49]
[24,null,null,null,"","","","","","","","",null,39,"","","","","","","","","",{"$f":"IF(N40<=AO$4,DSUM(AS$1:AU$401,AU$1,AX77:AZ78),\"\")","v":""},"","","","","","","","","","","","","","",{"$nulls":4},"กับ",null,50,0,50,50,20,{"$f":"Q21","v":""},null,null,null,0,20,50]
[21,null,null,null,"","","","","","","","",null,40,"","","","","","","","","",{"$f":"IF(N41<=AO$4,DSUM(AS$1:AU$401,AU$1,AX79:AZ80),\"\")","v":""},"","","","","","","","","","","","","","",null,"Q =",null,null,"กับ",null,51,0,50,51,null,"no","count","fre",null,0,20,51]
[20,null,null,null,"","","","","","","","",null,41,"","","","","","","","","",{"$f":"IF(N42<=AO$4,DSUM(AS$1:AU$401,AU$1,AX81:AZ82),\"\")","v":""},"","","","","","","","","","","","","","",{"$nulls":4},"กับ",null,52,0,50,52,21,{"$f":"Q22","v":""},null,null,null,0,20,52]
[16,null,null,null,"","","","","","","","",null,42,"","","","","","","","","",{"$f":"IF(N43<=AO$4,DSUM(AS$1:AU$401,AU$1,AX83:AZ84),\"\")","v":""},"","","","","","","","","","","","","","",{"$nulls":6},53,0,50,53,null,"no","count","fre",null,0,20,53]
[20,null,null,null,"","","","","","","","",null,43,"","","","","","","","","",{"$f":"IF(N44<=AO$4,DSUM(AS$1:AU$401,AU$1,AX85:AZ86),\"\")","v":""},"","","","","","","","","","","","","","",null,"กรณีที่แจกแจงความถี่",{"$nulls":4},54,0,50,54,22,{"$f":"Q23","v":""},null,null,null,0,20,54]
[25,null,null,null,"","","","","","","","",null,44,"","","","","","","","","",{"$f":"IF(N45<=AO$4,DSUM(AS$1:AU$401,AU$1,AX87:AZ88),\"\")","v":""},"","","","","","","","","","","","","","",null,"การคำนวณหาตำแหน่งเปอร์เซนไทล์ เดไซล์ และควอไซล์ ของคะแนนที่กำหนด",{"$nulls":4},55,0,50,55,null,"no","count","fre",null,0,20,55]
[21,null,null,null,"","","","","","","","",null,45,"","","","","","","","","",{"$f":"IF(N46<=AO$4,DSUM(AS$1:AU$401,AU$1,AX89:AZ90),\"\")","v":""},"","","","","","","","","","","","","","",null,"X =",{"$f":"PDQ!$C$19","v":25},"P =",{"$f":"PDQ!J13","v":75},null,56,0,50,56,23,{"$f":"Q24","v":""},null,null,null,0,20,56]
[23,null,null,null,"","","","","","","","",null,46,"","","","","","","","","",{"$f":"IF(N47<=AO$4,DSUM(AS$1:AU$401,AU$1,AX91:AZ92),\"\")","v":""},"","","","","","","","","","","","","","",null,"L =",{"$f":"VLOOKUP(AO46,O2:X51,1)","v":24},"D =",{"$f":"PDQ!J15","v":7.5},null,57,0,50,57,null,"no","count","fre",null,0,20,57]
[24,null,null,null,"","","","","","","","",null,47,"","","","","","","","","",{"$f":"IF(N48<=AO$4,DSUM(AS$1:AU$401,AU$1,AX93:AZ94),\"\")","v":""},"","","","","","","","","","","","","","",null,"Lf =",{"$f":"AO47-0.5","v":23.5},"Q =",{"$f":"PDQ!J17","v":3},null,58,0,50,58,24,{"$f":"Q25","v":""},null,null,null,0,20,58]
[21,null,null,null,"","","","","","","","",null,48,"","","","","","","","","",{"$f":"IF(N49<=AO$4,DSUM(AS$1:AU$401,AU$1,AX95:AZ96),\"\")","v":""},"","","","","","","","","","","","","","",null,"Ll =",{"$f":"AO47-AQ3","v":21},null,null,null,59,0,50,59,null,"no","count","fre",null,0,20,59]
[18,null,null,null,"","","","","","","","",null,49,"","","","","","","","","",{"$f":"IF(N50<=AO$4,DSUM(AS$1:AU$401,AU$1,AX97:AZ98),\"\")","v":""},"","","","","","","","","","","","","","",null,"F =",{"$f":"VLOOKUP(AO49,O2:X51,8)","v":32},null,null,null,60,0,50,60,25,{"$f":"Q26","v":""},null,null,null,0,20,60]
[18,null,null,null,"","","","","","","","",null,50,"","","","","","","","","",{"$f":"IF(N51<=AO$4,DSUM(AS$1:AU$401,AU$1,AX99:AZ100),\"\")","v":""},"","","","","","","","","","","","","","",null,"f =",{"$f":"VLOOKUP(AO47,O2:X51,7)","v":10},null,null,null,61,0,50,61,null,"no","count","fre",null,0,20,61]
[{"$nulls":4},"ผลรวม",{"$nulls":5},50,206,null,"Sum","ผลรวม",{"$nulls":5},50,206,{"$f":"SUM(W2:W51)","v":50},{"$f":"SUM(X2:X51)","v":206},null,{"$f":"SUM(Z2:Z51)","v":154},1082,24578,2.519999999999996,252.90719999999999,1163.52,{"$f":"SUM(AF2:AF51)","v":1},100,154,0,-6,28,130,null,"N =",{"$f":"$AO$7","v":50},null,null,null,62,0,50,62,26,{"$f":"Q27","v":""},null,null,null,0,20,62]
[{"$nulls":33},{"$f":"VLOOKUP(MAX(W2:W51),W2:AH51,12,FALSE)","v":22},{"$nulls":10},63,0,50,63,null,"no","count","fre",null,0,20,63]
[{"$nulls":39},"P =",{"$f":"(100/AO52)*(AO50+(AO51*(AO46-AO48)/AQ3))","v":74},"Xp =",{"$f":"AO48+(((AO52*AQ46/100)-AO50)/AO51)*AQ3","v":25.15},null,64,0,50,64,27,{"$f":"Q28","v":""},null,null,null,0,20,64]
[{"$nulls":39},"D =",{"$f":"(10/AO52)*(AO50+(AO51*(AO46-AO48)/AQ3))","v":7.4},"Xd =",{"$f":"AO48+(((AO52*AQ47/10)-AO50)/AO51)*AQ3","v":25.15},null,65,0,50,65,null,"no","count","fre",null,0,20,65]
[{"$nulls":39},"Q =",{"$f":"(4/AO52)*(AO50+(AO51*(AO46-AO48)/AQ3))","v":2.96},"Xq =",{"$f":"AO48+(((AO52*AQ48/4)-AO50)/AO51)*AQ3","v":25.15},null,66,0,50,66,28,{"$f":"Q29","v":""},null,null,null,0,20,66]
[{"$nulls":44},67,0,50,67,null,"no","count","fre",null,0,20,67]
[{"$nulls":44},68,0,50,68,29,{"$f":"Q30","v":""},null,null,null,0,20,68]
[{"$nulls":44},69,0,50,69,null,"no","count","fre",null,0,20,69]
[{"$nulls":44},70,0,50,70,30,{"$f":"Q31","v":""},null,null,null,0,20,70]
[{"$nulls":44},71,0,50,71,null,"no","count","fre",null,0,20,71]
[{"$nulls":44},72,0,50,72,31,{"$f":"Q32","v":""},null,null,null,0,20,72]
[{"$nulls":44},73,0,50,73,null,"no","count","fre",null,0,20,73]
[{"$nulls":44},74,0,50,74,32,{"$f":"Q33","v":""},null,null,null,0,20,74]
[{"$nulls":44},75,0,50,75,null,"no","count","fre",null,0,20,75]
[{"$nulls":44},76,0,50,{"$f":"AS66","v":76},33,{"$f":"Q34","v":""},null,null,null,0,20,{"$f":"AS66","v":76}]
[{"$nulls":44},77,{"$f":"COUNTIF(A$2:A$401,AS67)","v":0},50,77,null,"no","count","fre",null,0,20,77]
[{"$nulls":44},78,0,50,78,34,{"$f":"Q35","v":""},null,null,null,0,20,78]
[{"$nulls":44},79,0,50,79,null,"no","count","fre",null,0,20,79]
[{"$nulls":44},80,0,50,80,35,{"$f":"Q36","v":""},null,null,null,0,20,80]
[{"$nulls":44},81,0,50,81,null,"no","count","fre",null,0,20,81]
[{"$nulls":44},82,0,50,82,36,{"$f":"Q37","v":""},null,null,null,0,20,82]
[{"$nulls":44},83,0,50,83,null,"no","count","fre",null,0,20,83]
[{"$nulls":44},84,0,50,84,37,{"$f":"Q38","v":""},null,null,null,{"$f":"IF(AT74>0,COUNT(AT74),0)","v":0},{"$f":"BC73+BB74","v":20},84]
[{"$nulls":44},85,0,50,85,null,"no","count","fre",null,0,20,85]
[{"$nulls":44},86,0,50,86,38,{"$f":"Q39","v":""},null,null,null,0,20,86]
[{"$nulls":44},87,0,50,87,null,"no","count","fre",null,0,20,87]
[{"$nulls":44},88,0,50,88,39,{"$f":"Q40","v":""},null,null,null,0,20,88]
[{"$nulls":44},89,0,50,89,null,"no","count","fre",null,0,20,89]
[{"$nulls":44},90,0,50,90,40,{"$f":"Q41","v":""},null,null,null,0,20,90]
[{"$nulls":44},91,0,50,91,null,"no","count","fre",null,0,20,91]
[{"$nulls":44},92,0,50,92,41,{"$f":"Q42","v":""},null,null,null,0,20,92]
[{"$nulls":44},93,0,50,93,null,"no","count","fre",null,0,20,93]
[{"$nulls":44},94,0,50,94,42,{"$f":"Q43","v":""},null,null,null,0,20,94]
[{"$nulls":44},95,0,50,95,null,"no","count","fre",null,0,20,95]
[{"$nulls":44},96,0,50,96,43,{"$f":"Q44","v":""},null,null,null,0,20,96]
[{"$nulls":44},97,0,{"$f":"AT87+AU86","v":50},97,null,"no","count","fre",null,0,20,97]
[{"$nulls":44},{"$f":"AS87+1","v":98},0,50,98,44,{"$f":"Q45","v":""},null,null,null,0,20,98]
[{"$nulls":44},99,0,50,99,null,"no","count","fre",null,0,20,99]
[{"$nulls":44},100,0,50,100,45,{"$f":"Q46","v":""},null,null,null,0,20,100]
[{"$nulls":44},101,0,50,101,null,"no","count","fre",null,0,20,101]
[{"$nulls":44},102,0,50,102,46,{"$f":"Q47","v":""},null,null,null,0,20,102]
[{"$nulls":44},103,0,50,103,null,"no","count","fre",null,0,20,103]
[{"$nulls":44},104,0,50,104,47,{"$f":"Q48","v":""},null,null,null,0,20,104]
[{"$nulls":44},105,0,50,105,null,"no","count","fre",null,0,20,105]
[{"$nulls":44},106,0,50,106,48,{"$f":"Q49","v":""},null,null,null,0,20,106]
[{"$nulls":44},107,0,50,107,null,"no","count","fre",null,0,20,107]
[{"$nulls":44},108,0,50,108,49,{"$f":"Q50","v":""},null,null,null,0,20,108]
[{"$nulls":44},109,0,50,109,null,"no","count","fre",null,0,20,109]
[{"$nulls":44},110,0,50,110,50,{"$f":"Q51","v":""},null,null,null,0,20,110]
[{"$nulls":44},111,0,50,111,{"$nulls":5},0,20,111]
[{"$nulls":44},112,0,50,112,{"$nulls":5},0,20,112]
[{"$nulls":44},113,0,50,113,{"$nulls":5},0,20,113]
[{"$nulls":44},114,0,50,114,{"$nulls":5},0,20,114]
[{"$nulls":44},115,0,50,115,{"$nulls":5},0,20,115]
[{"$nulls":44},116,0,50,116,{"$nulls":5},0,20,116]
[{"$nulls":44},117,0,50,117,{"$nulls":5},0,20,117]
[{"$nulls":44},118,0,50,118,{"$nulls":5},0,20,118]
[{"$nulls":44},119,0,50,119,{"$nulls":5},0,20,119]
[{"$nulls":44},120,0,50,120,{"$nulls":5},0,20,120]
[{"$nulls":44},121,0,50,121,{"$nulls":5},0,20,121]
[{"$nulls":44},122,0,50,122,{"$nulls":5},0,20,122]
[{"$nulls":44},123,0,50,123,{"$nulls":5},0,20,123]
[{"$nulls":44},124,0,50,124,{"$nulls":5},0,20,124]
[{"$nulls":44},125,0,50,125,{"$nulls":5},0,20,125]
[{"$nulls":44},126,0,50,126,{"$nulls":5},0,20,126]
[{"$nulls":44},127,0,50,127,{"$nulls":5},0,20,127]
[{"$nulls":44},128,0,50,128,{"$nulls":5},0,20,128]
[{"$nulls":44},129,0,50,129,{"$nulls":5},0,20,129]
[{"$nulls":44},130,0,50,130,{"$nulls":5},0,20,130]
[{"$nulls":44},131,0,50,131,{"$nulls":5},0,20,131]
[{"$nulls":44},132,0,50,132,{"$nulls":5},0,20,132]
[{"$nulls":44},133,0,50,133,{"$nulls":5},0,20,133]
[{"$nulls":44},134,0,50,134,{"$nulls":5},0,20,134]
[{"$nulls":44},135,0,50,135,{"$nulls":5},0,20,135]
[{"$nulls":44},136,0,50,136,{"$nulls":5},0,20,136]
[{"$nulls":44},137,0,50,137,{"$nulls":5},0,20,137]
[{"$nulls":44},138,0,50,138,{"$nulls":5},0,20,138]
[{"$nulls":44},139,0,50,139,{"$nulls":5},0,20,139]
[{"$nulls":44},140,0,50,{"$f":"AS130","v":140},{"$nulls":5},0,20,{"$f":"AS130","v":140}]
[{"$nulls":44},141,{"$f":"COUNTIF(A$2:A$401,AS131)","v":0},50,141,{"$nulls":5},0,20,141]
[{"$nulls":44},142,0,50,142,{"$nulls":5},0,20,142]
[{"$nulls":44},143,0,50,143,{"$nulls":5},0,20,143]
[{"$nulls":44},144,0,50,144,{"$nulls":5},0,20,144]
[{"$nulls":44},145,0,50,145,{"$nulls":5},0,20,145]
[{"$nulls":44},146,0,50,146,{"$nulls":5},0,20,146]
[{"$nulls":44},147,0,50,147,{"$nulls":5},0,20,147]
[{"$nulls":44},148,0,50,148,{"$nulls":5},{"$f":"IF(AT138>0,COUNT(AT138),0)","v":0},{"$f":"BC137+BB138","v":20},148]
[{"$nulls":44},149,0,50,149,{"$nulls":5},0,20,149]
[{"$nulls":44},150,0,50,150,{"$nulls":5},0,20,150]
[{"$nulls":44},151,0,50,151,{"$nulls":5},0,20,151]
[{"$nulls":44},152,0,50,152,{"$nulls":5},0,20,152]
[{"$nulls":44},153,0,50,153,{"$nulls":5},0,20,153]
[{"$nulls":44},154,0,50,154,{"$nulls":5},0,20,154]
[{"$nulls":44},155,0,50,155,{"$nulls":5},0,20,155]
[{"$nulls":44},156,0,50,156,{"$nulls":5},0,20,156]
[{"$nulls":44},157,0,50,157,{"$nulls":5},0,20,157]
[{"$nulls":44},158,0,50,158,{"$nulls":5},0,20,158]
[{"$nulls":44},159,0,50,159,{"$nulls":5},0,20,159]
[{"$nulls":44},160,0,50,160,{"$nulls":5},0,20,160]
[{"$nulls":44},161,0,{"$f":"AT151+AU150","v":50},161,{"$nulls":5},0,20,161]
[{"$nulls":44},{"$f":"AS151+1","v":162},0,50,162,{"$nulls":5},0,20,162]
[{"$nulls":44},163,0,50,163,{"$nulls":5},0,20,163]
[{"$nulls":44},164,0,50,164,{"$nulls":5},0,20,164]
[{"$nulls":44},165,0,50,165,{"$nulls":5},0,20,165]
[{"$nulls":44},166,0,50,166,{"$nulls":5},0,20,166]
[{"$nulls":44},167,0,50,167,{"$nulls":5},0,20,167]
[{"$nulls":44},168,0,50,168,{"$nulls":5},0,20,168]
[{"$nulls":44},169,0,50,169,{"$nulls":5},0,20,169]
[{"$nulls":44},170,0,50,170,{"$nulls":5},0,20,170]
[{"$nulls":44},171,0,50,171,{"$nulls":5},0,20,171]
[{"$nulls":44},172,0,50,172,{"$nulls":5},0,20,172]
[{"$nulls":44},173,0,50,173,{"$nulls":5},0,20,173]
[{"$nulls":44},174,0,50,174,{"$nulls":5},0,20,174]
[{"$nulls":44},175,0,50,175,{"$nulls":5},0,20,175]
[{"$nulls":44},176,0,50,176,{"$nulls":5},0,20,176]
[{"$nulls":44},177,0,50,177,{"$nulls":5},0,20,177]
[{"$nulls":44},178,0,50,178,{"$nulls":5},0,20,178]
[{"$nulls":44},179,0,50,179,{"$nulls":5},0,20,179]
[{"$nulls":44},180,0,50,180,{"$nulls":5},0,20,180]
[{"$nulls":44},181,0,50,181,{"$nulls":5},0,20,181]
[{"$nulls":44},182,0,50,182,{"$nulls":5},0,20,182]
[{"$nulls":44},183,0,50,183,{"$nulls":5},0,20,183]
[{"$nulls":44},184,0,50,184,{"$nulls":5},0,20,184]
[{"$nulls":44},185,0,50,185,{"$nulls":5},0,20,185]
[{"$nulls":44},186,0,50,186,{"$nulls":5},0,20,186]
[{"$nulls":44},187,0,50,187,{"$nulls":5},0,20,187]
[{"$nulls":44},188,0,50,188,{"$nulls":5},0,20,188]
[{"$nulls":44},189,0,50,189,{"$nulls":5},0,20,189]
[{"$nulls":44},190,0,50,190,{"$nulls":5},0,20,190]
[{"$nulls":44},191,0,50,191,{"$nulls":5},0,20,191]
[{"$nulls":44},192,0,50,192,{"$nulls":5},0,20,192]
[{"$nulls":44},193,0,50,193,{"$nulls":5},0,20,193]
[{"$nulls":44},194,0,50,194,{"$nulls":5},0,20,194]
[{"$nulls":44},195,0,50,195,{"$nulls":5},0,20,195]
[{"$nulls":44},196,0,50,196,{"$nulls":5},0,20,196]
[{"$nulls":44},197,0,50,197,{"$nulls":5},0,20,197]
[{"$nulls":44},198,0,50,198,{"$nulls":5},0,20,198]
[{"$nulls":44},199,0,50,199,{"$nulls":5},0,20,199]
[{"$nulls":44},200,0,50,200,{"$nulls":5},0,20,200]
[{"$nulls":44},201,0,50,201,{"$nulls":5},0,20,201]
[{"$nulls":44},202,0,50,202,{"$nulls":5},0,20,202]
[{"$nulls":44},203,0,50,203,{"$nulls":5},0,20,203]
[{"$nulls":44},204,0,50,{"$f":"AS194","v":204},{"$nulls":5},0,20,{"$f":"AS194","v":204}]
[{"$nulls":44},205,{"$f":"COUNTIF(A$2:A$401,AS195)","v":0},50,205,{"$nulls":5},0,20,205]
[{"$nulls":44},206,0,50,206,{"$nulls":5},0,20,206]
[{"$nulls":44},207,0,50,207,{"$nulls":5},0,20,207]
[{"$nulls":44},208,0,50,208,{"$nulls":5},0,20,208]
[{"$nulls":44},209,0,50,209,{"$nulls":5},0,20,209]
[{"$nulls":44},210,0,50,210,{"$nulls":5},0,20,210]
[{"$nulls":44},211,0,50,211,{"$nulls":5},0,20,211]
[{"$nulls":44},212,0,50,212,{"$nulls":5},{"$f":"IF(AT202>0,COUNT(AT202),0)","v":0},{"$f":"BC201+BB202","v":20},212]
[{"$nulls":44},213,0,50,213,{"$nulls":5},0,20,213]
[{"$nulls":44},214,0,50,214,{"$nulls":5},0,20,214]
[{"$nulls":44},215,0,50,215,{"$nulls":5},0,20,215]
[{"$nulls":44},216,0,50,216,{"$nulls":5},0,20,216]
[{"$nulls":44},217,0,50,217,{"$nulls":5},0,20,217]
[{"$nulls":44},218,0,50,218,{"$nulls":5},0,20,218]
[{"$nulls":44},219,0,50,219,{"$nulls":5},0,20,219]
[{"$nulls":44},220,0,50,220,{"$nulls":5},0,20,220]
[{"$nulls":44},221,0,50,221,{"$nulls":5},0,20,221]
[{"$nulls":44},222,0,50,222,{"$nulls":5},0,20,222]
[{"$nulls":44},223,0,50,223,{"$nulls":5},0,20,223]
[{"$nulls":44},224,0,50,224,{"$nulls":5},0,20,224]
[{"$nulls":44},225,0,{"$f":"AT215+AU214","v":50},225,{"$nulls":5},0,20,225]
[{"$nulls":44},{"$f":"AS215+1","v":226},0,50,226,{"$nulls":5},0,20,226]
[{"$nulls":44},227,0,50,227,{"$nulls":5},0,20,227]
[{"$nulls":44},228,0,50,228,{"$nulls":5},0,20,228]
[{"$nulls":44},229,0,50,229,{"$nulls":5},0,20,229]
[{"$nulls":44},230,0,50,230,{"$nulls":5},0,20,230]
[{"$nulls":44},231,0,50,231,{"$nulls":5},0,20,231]
[{"$nulls":44},232,0,50,232,{"$nulls":5},0,20,232]
[{"$nulls":44},233,0,50,233,{"$nulls":5},0,20,233]
[{"$nulls":44},234,0,50,234,{"$nulls":5},0,20,234]
[{"$nulls":44},235,0,50,235,{"$nulls":5},0,20,235]
[{"$nulls":44},236,0,50,236,{"$nulls":5},0,20,236]
[{"$nulls":44},237,0,50,237,{"$nulls":5},0,20,237]
[{"$nulls":44},238,0,50,238,{"$nulls":5},0,20,238]
[{"$nulls":44},239,0,50,239,{"$nulls":5},0,20,239]
[{"$nulls":44},240,0,50,240,{"$nulls":5},0,20,240]
[{"$nulls":44},241,0,50,241,{"$nulls":5},0,20,241]
[{"$nulls":44},242,0,50,242,{"$nulls":5},0,20,242]
[{"$nulls":44},243,0,50,243,{"$nulls":5},0,20,243]
[{"$nulls":44},244,0,50,244,{"$nulls":5},0,20,244]
[{"$nulls":44},245,0,50,245,{"$nulls":5},0,20,245]
[{"$nulls":44},246,0,50,246,{"$nulls":5},0,20,246]
[{"$nulls":44},247,0,50,247,{"$nulls":5},0,20,247]
[{"$nulls":44},248,0,50,248,{"$nulls":5},0,20,248]
[{"$nulls":44},249,0,50,249,{"$nulls":5},0,20,249]
[{"$nulls":44},250,0,50,250,{"$nulls":5},0,20,250]
[{"$nulls":44},251,0,50,251,{"$nulls":5},0,20,251]
[{"$nulls":44},252,0,50,252,{"$nulls":5},0,20,252]
[{"$nulls":44},253,0,50,253,{"$nulls":5},0,20,253]
[{"$nulls":44},254,0,50,254,{"$nulls":5},0,20,254]
[{"$nulls":44},255,0,50,255,{"$nulls":5},0,20,255]
[{"$nulls":44},256,0,50,256,{"$nulls":5},0,20,256]
[{"$nulls":44},257,0,50,257,{"$nulls":5},0,20,257]
[{"$nulls":44},258,0,50,258,{"$nulls":5},0,20,258]
[{"$nulls":44},259,0,50,259,{"$nulls":5},0,20,259]
[{"$nulls":44},260,0,50,260,{"$nulls":5},0,20,260]
[{"$nulls":44},261,0,50,261,{"$nulls":5},0,20,261]
[{"$nulls":44},262,0,50,262,{"$nulls":5},0,20,262]
[{"$nulls":44},263,0,50,263,{"$nulls":5},0,20,263]
[{"$nulls":44},264,0,50,264,{"$nulls":5},0,20,264]
[{"$nulls":44},265,0,50,265,{"$nulls":5},0,20,265]
[{"$nulls":44},266,0,50,266,{"$nulls":5},0,20,266]
[{"$nulls":44},267,0,50,267,{"$nulls":5},0,20,267]
[{"$nulls":44},268,0,50,{"$f":"AS258","v":268},{"$nulls":5},0,20,{"$f":"AS258","v":268}]
[{"$nulls":44},269,{"$f":"COUNTIF(A$2:A$401,AS259)","v":0},50,269,{"$nulls":5},0,20,269]
[{"$nulls":44},270,0,50,270,{"$nulls":5},0,20,270]
[{"$nulls":44},271,0,50,271,{"$nulls":5},0,20,271]
[{"$nulls":44},272,0,50,272,{"$nulls":5},0,20,272]
[{"$nulls":44},273,0,50,273,{"$nulls":5},0,20,273]
[{"$nulls":44},274,0,50,274,{"$nulls":5},0,20,274]
[{"$nulls":44},275,0,50,275,{"$nulls":5},0,20,275]
[{"$nulls":44},276,0,50,276,{"$nulls":5},{"$f":"IF(AT266>0,COUNT(AT266),0)","v":0},{"$f":"BC265+BB266","v":20},276]
[{"$nulls":44},277,0,50,277,{"$nulls":5},0,20,277]
[{"$nulls":44},278,0,50,278,{"$nulls":5},0,20,278]
[{"$nulls":44},279,0,50,279,{"$nulls":5},0,20,279]
[{"$nulls":44},280,0,50,280,{"$nulls":5},0,20,280]
[{"$nulls":44},281,0,50,281,{"$nulls":5},0,20,281]
[{"$nulls":44},282,0,50,282,{"$nulls":5},0,20,282]
[{"$nulls":44},283,0,50,283,{"$nulls":5},0,20,283]
[{"$nulls":44},284,0,50,284,{"$nulls":5},0,20,284]
[{"$nulls":44},285,0,50,285,{"$nulls":5},0,20,285]
[{"$nulls":44},286,0,50,286,{"$nulls":5},0,20,286]
[{"$nulls":44},287,0,50,287,{"$nulls":5},0,20,287]
[{"$nulls":44},288,0,50,288,{"$nulls":5},0,20,288]
[{"$nulls":44},289,0,{"$f":"AT279+AU278","v":50},289,{"$nulls":5},0,20,289]
[{"$nulls":44},{"$f":"AS279+1","v":290},0,50,290,{"$nulls":5},0,20,290]
[{"$nulls":44},291,0,50,291,{"$nulls":5},0,20,291]
[{"$nulls":44},292,0,50,292,{"$nulls":5},0,20,292]
[{"$nulls":44},293,0,50,293,{"$nulls":5},0,20,293]
[{"$nulls":44},294,0,50,294,{"$nulls":5},0,20,294]
[{"$nulls":44},295,0,50,295,{"$nulls":5},0,20,295]
[{"$nulls":44},296,0,50,296,{"$nulls":5},0,20,296]
[{"$nulls":44},297,0,50,297,{"$nulls":5},0,20,297]
[{"$nulls":44},298,0,50,298,{"$nulls":5},0,20,298]
[{"$nulls":44},299,0,50,299,{"$nulls":5},0,20,299]
[{"$nulls":44},300,0,50,300,{"$nulls":5},0,20,300]
[{"$nulls":44},301,0,50,301,{"$nulls":5},0,20,301]
[{"$nulls":44},302,0,50,302,{"$nulls":5},0,20,302]
[{"$nulls":44},303,0,50,303,{"$nulls":5},0,20,303]
[{"$nulls":44},304,0,50,304,{"$nulls":5},0,20,304]
[{"$nulls":44},305,0,50,305,{"$nulls":5},0,20,305]
[{"$nulls":44},306,0,50,306,{"$nulls":5},0,20,306]
[{"$nulls":44},307,0,50,307,{"$nulls":5},0,20,307]
[{"$nulls":44},308,0,50,308,{"$nulls":5},0,20,308]
[{"$nulls":44},309,0,50,309,{"$nulls":5},0,20,309]
[{"$nulls":44},310,0,50,310,{"$nulls":5},0,20,310]
[{"$nulls":44},311,0,50,311,{"$nulls":5},0,20,311]
[{"$nulls":44},312,0,50,312,{"$nulls":5},0,20,312]
[{"$nulls":44},313,0,50,313,{"$nulls":5},0,20,313]
[{"$nulls":44},314,0,50,314,{"$nulls":5},0,20,314]
[{"$nulls":44},315,0,50,315,{"$nulls":5},0,20,315]
[{"$nulls":44},316,0,50,316,{"$nulls":5},0,20,316]
[{"$nulls":44},317,0,50,317,{"$nulls":5},0,20,317]
[{"$nulls":44},318,0,50,318,{"$nulls":5},0,20,318]
[{"$nulls":44},319,0,50,319,{"$nulls":5},0,20,319]
[{"$nulls":44},320,0,50,320,{"$nulls":5},0,20,320]
[{"$nulls":44},321,0,50,321,{"$nulls":5},0,20,321]
[{"$nulls":44},322,0,50,322,{"$nulls":5},0,20,322]
[{"$nulls":44},323,0,50,323,{"$nulls":5},0,20,323]
[{"$nulls":44},324,0,50,324,{"$nulls":5},0,20,324]
[{"$nulls":44},325,0,50,325,{"$nulls":5},0,20,325]
[{"$nulls":44},326,0,50,326,{"$nulls":5},0,20,326]
[{"$nulls":44},327,0,50,327,{"$nulls":5},0,20,327]
[{"$nulls":44},328,0,50,328,{"$nulls":5},0,20,328]
[{"$nulls":44},329,0,50,329,{"$nulls":5},0,20,329]
[{"$nulls":44},330,0,50,330,{"$nulls":5},0,20,330]
[{"$nulls":44},331,0,50,331,{"$nulls":5},0,20,331]
[{"$nulls":44},332,0,50,{"$f":"AS322","v":332},{"$nulls":5},0,20,{"$f":"AS322","v":332}]
[{"$nulls":44},333,{"$f":"COUNTIF(A$2:A$401,AS323)","v":0},50,333,{"$nulls":5},0,20,333]
[{"$nulls":44},334,0,50,334,{"$nulls":5},0,20,334]
[{"$nulls":44},335,0,50,335,{"$nulls":5},0,20,335]
[{"$nulls":44},336,0,50,336,{"$nulls":5},0,20,336]
[{"$nulls":44},337,0,50,337,{"$nulls":5},0,20,337]
[{"$nulls":44},338,0,50,338,{"$nulls":5},0,20,338]
[{"$nulls":44},339,0,50,339,{"$nulls":5},0,20,339]
[{"$nulls":44},340,0,50,340,{"$nulls":5},{"$f":"IF(AT330>0,COUNT(AT330),0)","v":0},{"$f":"BC329+BB330","v":20},340]
[{"$nulls":44},341,0,50,341,{"$nulls":5},0,20,341]
[{"$nulls":44},342,0,50,342,{"$nulls":5},0,20,342]
[{"$nulls":44},343,0,50,343,{"$nulls":5},0,20,343]
[{"$nulls":44},344,0,50,344,{"$nulls":5},0,20,344]
[{"$nulls":44},345,0,50,345,{"$nulls":5},0,20,345]
[{"$nulls":44},346,0,50,346,{"$nulls":5},0,20,346]
[{"$nulls":44},347,0,50,347,{"$nulls":5},0,20,347]
[{"$nulls":44},348,0,50,348,{"$nulls":5},0,20,348]
[{"$nulls":44},349,0,50,349,{"$nulls":5},0,20,349]
[{"$nulls":44},350,0,50,350,{"$nulls":5},0,20,350]
[{"$nulls":44},351,0,50,351,{"$nulls":5},0,20,351]
[{"$nulls":44},352,0,50,352,{"$nulls":5},0,20,352]
[{"$nulls":44},353,0,{"$f":"AT343+AU342","v":50},353,{"$nulls":5},0,20,353]
[{"$nulls":44},{"$f":"AS343+1","v":354},0,50,354,{"$nulls":5},0,20,354]
[{"$nulls":44},355,0,50,355,{"$nulls":5},0,20,355]
[{"$nulls":44},356,0,50,356,{"$nulls":5},0,20,356]
[{"$nulls":44},357,0,50,357,{"$nulls":5},0,20,357]
[{"$nulls":44},358,0,50,358,{"$nulls":5},0,20,358]
[{"$nulls":44},359,0,50,359,{"$nulls":5},0,20,359]
[{"$nulls":44},360,0,50,360,{"$nulls":5},0,20,360]
[{"$nulls":44},361,0,50,361,{"$nulls":5},0,20,361]
[{"$nulls":44},362,0,50,362,{"$nulls":5},0,20,362]
[{"$nulls":44},363,0,50,363,{"$nulls":5},0,20,363]
[{"$nulls":44},364,0,50,364,{"$nulls":5},0,20,364]
[{"$nulls":44},365,0,50,365,{"$nulls":5},0,20,365]
[{"$nulls":44},366,0,50,366,{"$nulls":5},0,20,366]
[{"$nulls":44},367,0,50,367,{"$nulls":5},0,20,367]
[{"$nulls":44},368,0,50,368,{"$nulls":5},0,20,368]
[{"$nulls":44},369,0,50,369,{"$nulls":5},0,20,369]
[{"$nulls":44},370,0,50,370,{"$nulls":5},0,20,370]
[{"$nulls":44},371,0,50,371,{"$nulls":5},0,20,371]
[{"$nulls":44},372,0,50,372,{"$nulls":5},0,20,372]
[{"$nulls":44},373,0,50,373,{"$nulls":5},0,20,373]
[{"$nulls":44},374,0,50,374,{"$nulls":5},0,20,374]
[{"$nulls":44},375,0,50,375,{"$nulls":5},0,20,375]
[{"$nulls":44},376,0,50,376,{"$nulls":5},0,20,376]
[{"$nulls":44},377,0,50,377,{"$nulls":5},0,20,377]
[{"$nulls":44},378,0,50,378,{"$nulls":5},0,20,378]
[{"$nulls":44},379,0,50,379,{"$nulls":5},0,20,379]
[{"$nulls":44},380,0,50,380,{"$nulls":5},0,20,380]
[{"$nulls":44},381,0,50,381,{"$nulls":5},0,20,381]
[{"$nulls":44},382,0,50,382,{"$nulls":5},0,20,382]
[{"$nulls":44},383,0,50,383,{"$nulls":5},0,20,383]
[{"$nulls":44},384,0,50,384,{"$nulls":5},0,20,384]
[{"$nulls":44},385,0,50,385,{"$nulls":5},0,20,385]
[{"$nulls":44},386,0,50,386,{"$nulls":5},0,20,386]
[{"$nulls":44},387,0,50,387,{"$nulls":5},0,20,387]
[{"$nulls":44},388,0,50,388,{"$nulls":5},0,20,388]
[{"$nulls":44},389,0,50,389,{"$nulls":5},0,20,389]
[{"$nulls":44},390,0,50,390,{"$nulls":5},0,20,390]
[{"$nulls":44},391,0,50,391,{"$nulls":5},0,20,391]
[{"$nulls":44},392,0,50,392,{"$nulls":5},0,20,392]
[{"$nulls":44},393,0,50,393,{"$nulls":5},0,20,393]
[{"$nulls":44},394,0,50,394,{"$nulls":5},0,20,394]
[{"$nulls":44},395,0,50,395,{"$nulls":5},0,20,395]
[{"$nulls":44},396,0,50,{"$f":"AS386","v":396},{"$nulls":5},0,20,{"$f":"AS386","v":396}]
[{"$nulls":44},397,{"$f":"COUNTIF(A$2:A$401,AS387)","v":0},50,397,{"$nulls":5},0,20,397]
[{"$nulls":44},398,0,50,398,{"$nulls":5},0,20,398]
[{"$nulls":44},399,0,50,399,{"$nulls":5},0,20,399]
[{"$nulls":44},400,0,50,400,{"$nulls":5},0,20,400]
[{"$nulls":44},401,0,50,401,{"$nulls":5},0,20,401]
[{"$nulls":44},402,0,50,402,{"$nulls":5},0,20,402]
[{"$nulls":44},403,0,50,403,{"$nulls":5},0,20,403]
[{"$nulls":44},404,0,50,404,{"$nulls":5},{"$f":"IF(AT394>0,COUNT(AT394),0)","v":0},{"$f":"BC393+BB394","v":20},404]
[{"$nulls":44},405,0,50,405,{"$nulls":5},0,20,405]
[{"$nulls":44},406,0,50,406,{"$nulls":5},0,20,406]
[{"$nulls":44},407,0,50,407,{"$nulls":5},0,20,407]
[{"$nulls":44},408,0,50,408,{"$nulls":5},0,20,408]
[{"$nulls":44},409,0,50,409,{"$nulls":5},0,20,409]
[{"$nulls":44},410,0,50,410,{"$nulls":5},0,20,410]
[{"$nulls":44},411,0,50,411,{"$nulls":5},0,20,411]
[]
[null,null,{"$f":"MAX(Q2:Q51)","v":32}]
[null,null,{"$f":"IF(C403>=D10,\"ค่า k ใช้ได้\",\"ค่า k ใช้ไม่ได้\")","v":"ค่า k ใช้ได้"}]

{"sheet":"วิธีการเปิดแมโคร","index":2,"n_rows":32,"n_cols":1,"rows_kept":32,"cut":false,"hidden":true,"merged":[[0,0,0,1]]}
["วิธีการเปิดใช้งานแมโคร"]
[" 1. เปิดแฟ้มข้อมูลนี้ขึ้นมา"]
[" 2. ที่ใต้แถบ Ribbon จะมีแถบเครื่องมือคำเตือนเกี่ยวกับความปลอดภัย ดังรูป"]
{"$rows_empty":10}
[" 3. ให้คลิกปุ่มตัวเลือก...จะเปิดแผ่นโต้ตอบตัวเลือกความปลอดภัยของ Microsoft Office แล้วจึงคลิกเลือกตัวเลือกเปิดใช้งานเนื้อหานี้ ดังรูป"]
{"$rows_empty":17}
[" 4. ในกรณีที่ยังไม่เปิดการใช้แมโคร เมื่อมีการใช้คำสั่งแมโคร จะเปิดแผ่นคำเตือนให้เปิดแฟ้มใหม่ แล้วเลือกเปิดใช้งานแมโคร ตาม ข้อ 1 - 3 ดังรูป"]

{"sheet":"เรียงข้อมูล","index":3,"n_rows":400,"n_cols":13,"rows_kept":400,"cut":false,"hidden":true,"merged":[]}
[{"$f":"M1","v":12},{"$nulls":11},{"$f":"IF(กรอกข้อมูล!A7=0,\"\",กรอกข้อมูล!A7)","v":12}]
[12,{"$nulls":11},{"$f":"IF(กรอกข้อมูล!A18=0,\"\",กรอกข้อมูล!A18)","v":12}]
[13,{"$nulls":11},{"$f":"IF(กรอกข้อมูล!A38=0,\"\",กรอกข้อมูล!A38)","v":13}]
[14,{"$nulls":11},{"$f":"IF(กรอกข้อมูล!A5=0,\"\",กรอกข้อมูล!A5)","v":14}]
[15,{"$nulls":11},{"$f":"IF(กรอกข้อมูล!A15=0,\"\",กรอกข้อมูล!A15)","v":15}]
[15,{"$nulls":11},{"$f":"IF(กรอกข้อมูล!A24=0,\"\",กรอกข้อมูล!A24)","v":15}]
[16,{"$nulls":11},{"$f":"IF(กรอกข้อมูล!A32=0,\"\",กรอกข้อมูล!A32)","v":16}]
[16,{"$nulls":11},{"$f":"IF(กรอกข้อมูล!A43=0,\"\",กรอกข้อมูล!A43)","v":16}]
[17,{"$nulls":11},{"$f":"IF(กรอกข้อมูล!A14=0,\"\",กรอกข้อมูล!A14)","v":17}]
[17,{"$nulls":11},{"$f":"IF(กรอกข้อมูล!A37=0,\"\",กรอกข้อมูล!A37)","v":17}]
[17,{"$nulls":11},{"$f":"IF(กรอกข้อมูล!A39=0,\"\",กรอกข้อมูล!A39)","v":17}]
[18,{"$nulls":11},{"$f":"IF(กรอกข้อมูล!A50=0,\"\",กรอกข้อมูล!A50)","v":18}]
[18,{"$nulls":11},{"$f":"IF(กรอกข้อมูล!A51=0,\"\",กรอกข้อมูล!A51)","v":18}]
[19,{"$nulls":11},{"$f":"IF(กรอกข้อมูล!A2=0,\"\",กรอกข้อมูล!A2)","v":19}]
[19,{"$nulls":11},{"$f":"IF(กรอกข้อมูล!A20=0,\"\",กรอกข้อมูล!A20)","v":19}]
[19,{"$nulls":11},{"$f":"IF(กรอกข้อมูล!A25=0,\"\",กรอกข้อมูล!A25)","v":19}]
[19,{"$nulls":11},{"$f":"IF(กรอกข้อมูล!A26=0,\"\",กรอกข้อมูล!A26)","v":19}]
[20,{"$nulls":11},{"$f":"IF(กรอกข้อมูล!A12=0,\"\",กรอกข้อมูล!A12)","v":20}]
[20,{"$nulls":11},{"$f":"IF(กรอกข้อมูล!A42=0,\"\",กรอกข้อมูล!A42)","v":20}]
[20,{"$nulls":11},{"$f":"IF(กรอกข้อมูล!A44=0,\"\",กรอกข้อมูล!A44)","v":20}]
[21,{"$nulls":11},{"$f":"IF(กรอกข้อมูล!A29=0,\"\",กรอกข้อมูล!A29)","v":21}]
[21,{"$nulls":11},{"$f":"IF(กรอกข้อมูล!A30=0,\"\",กรอกข้อมูล!A30)","v":21}]
[21,{"$nulls":11},{"$f":"IF(กรอกข้อมูล!A36=0,\"\",กรอกข้อมูล!A36)","v":21}]
[21,{"$nulls":11},{"$f":"IF(กรอกข้อมูล!A41=0,\"\",กรอกข้อมูล!A41)","v":21}]
[21,{"$nulls":11},{"$f":"IF(กรอกข้อมูล!A46=0,\"\",กรอกข้อมูล!A46)","v":21}]
[21,{"$nulls":11},{"$f":"IF(กรอกข้อมูล!A49=0,\"\",กรอกข้อมูล!A49)","v":21}]
[22,{"$nulls":11},{"$f":"IF(กรอกข้อมูล!A16=0,\"\",กรอกข้อมูล!A16)","v":22}]
[22,{"$nulls":11},{"$f":"IF(กรอกข้อมูล!A28=0,\"\",กรอกข้อมูล!A28)","v":22}]
[23,{"$nulls":11},{"$f":"IF(กรอกข้อมูล!A10=0,\"\",กรอกข้อมูล!A10)","v":23}]
[23,{"$nulls":11},{"$f":"IF(กรอกข้อมูล!A11=0,\"\",กรอกข้อมูล!A11)","v":23}]
[23,{"$nulls":11},{"$f":"IF(กรอกข้อมูล!A27=0,\"\",กรอกข้อมูล!A27)","v":23}]
[23,{"$nulls":11},{"$f":"IF(กรอกข้อมูล!A47=0,\"\",กรอกข้อมูล!A47)","v":23}]
[24,{"$nulls":11},{"$f":"IF(กรอกข้อมูล!A3=0,\"\",กรอกข้อมูล!A3)","v":24}]
[24,{"$nulls":11},{"$f":"IF(กรอกข้อมูล!A40=0,\"\",กรอกข้อมูล!A40)","v":24}]
[24,{"$nulls":11},{"$f":"IF(กรอกข้อมูล!A48=0,\"\",กรอกข้อมูล!A48)","v":24}]
[25,{"$nulls":11},{"$f":"IF(กรอกข้อมูล!A13=0,\"\",กรอกข้อมูล!A13)","v":25}]
[25,{"$nulls":11},{"$f":"IF(กรอกข้อมูล!A22=0,\"\",กรอกข้อมูล!A22)","v":25}]
[25,{"$nulls":11},{"$f":"IF(กรอกข้อมูล!A45=0,\"\",กรอกข้อมูล!A45)","v":25}]
[26,{"$nulls":11},{"$f":"IF(กรอกข้อมูล!A9=0,\"\",กรอกข้อมูล!A9)","v":26}]
[26,{"$nulls":11},{"$f":"IF(กรอกข้อมูล!A21=0,\"\",กรอกข้อมูล!A21)","v":26}]
[26,{"$nulls":11},{"$f":"IF(กรอกข้อมูล!A33=0,\"\",กรอกข้อมูล!A33)","v":26}]
[26,{"$nulls":11},{"$f":"IF(กรอกข้อมูล!A34=0,\"\",กรอกข้อมูล!A34)","v":26}]
[27,{"$nulls":11},{"$f":"IF(กรอกข้อมูล!A19=0,\"\",กรอกข้อมูล!A19)","v":27}]
[27,{"$nulls":11},{"$f":"IF(กรอกข้อมูล!A31=0,\"\",กรอกข้อมูล!A31)","v":27}]
[28,{"$nulls":11},{"$f":"IF(กรอกข้อมูล!A17=0,\"\",กรอกข้อมูล!A17)","v":28}]
[28,{"$nulls":11},{"$f":"IF(กรอกข้อมูล!A35=0,\"\",กรอกข้อมูล!A35)","v":28}]
[29,{"$nulls":11},{"$f":"IF(กรอกข้อมูล!A8=0,\"\",กรอกข้อมูล!A8)","v":29}]
[30,{"$nulls":11},{"$f":"IF(กรอกข้อมูล!A4=0,\"\",กรอกข้อมูล!A4)","v":30}]
[30,{"$nulls":11},{"$f":"IF(กรอกข้อมูล!A23=0,\"\",กรอกข้อมูล!A23)","v":30}]
[31,{"$nulls":11},{"$f":"IF(กรอกข้อมูล!A6=0,\"\",กรอกข้อมูล!A6)","v":31}]
["",{"$nulls":11},{"$f":"IF(กรอกข้อมูล!A52=0,\"\",กรอกข้อมูล!A52)","v":""}]
["",{"$nulls":11},{"$f":"IF(กรอกข้อมูล!A53=0,\"\",กรอกข้อมูล!A53)","v":""}]
["",{"$nulls":11},{"$f":"IF(กรอกข้อมูล!A54=0,\"\",กรอกข้อมูล!A54)","v":""}]
["",{"$nulls":11},{"$f":"IF(กรอกข้อมูล!A55=0,\"\",กรอกข้อมูล!A55)","v":""}]
["",{"$nulls":11},{"$f":"IF(กรอกข้อมูล!A56=0,\"\",กรอกข้อมูล!A56)","v":""}]
["",{"$nulls":11},{"$f":"IF(กรอกข้อมูล!A57=0,\"\",กรอกข้อมูล!A57)","v":""}]
["",{"$nulls":11},{"$f":"IF(กรอกข้อมูล!A58=0,\"\",กรอกข้อมูล!A58)","v":""}]
["",{"$nulls":11},{"$f":"IF(กรอกข้อมูล!A59=0,\"\",กรอกข้อมูล!A59)","v":""}]
["",{"$nulls":11},{"$f":"IF(กรอกข้อมูล!A60=0,\"\",กรอกข้อมูล!A60)","v":""}]
["",{"$nulls":11},{"$f":"IF(กรอกข้อมูล!A61=0,\"\",กรอกข้อมูล!A61)","v":""}]
["",{"$nulls":11},{"$f":"IF(กรอกข้อมูล!A62=0,\"\",กรอกข้อมูล!A62)","v":""}]
["",{"$nulls":11},{"$f":"IF(กรอกข้อมูล!A63=0,\"\",กรอกข้อมูล!A63)","v":""}]
["",{"$nulls":11},{"$f":"IF(กรอกข้อมูล!A64=0,\"\",กรอกข้อมูล!A64)","v":""}]
["",{"$nulls":11},{"$f":"IF(กรอกข้อมูล!A65=0,\"\",กรอกข้อมูล!A65)","v":""}]
[{"$f":"M65","v":""},{"$nulls":11},{"$f":"IF(กรอกข้อมูล!A66=0,\"\",กรอกข้อมูล!A66)","v":""}]
["",{"$nulls":11},{"$f":"IF(กรอกข้อมูล!A67=0,\"\",กรอกข้อมูล!A67)","v":""}]
["",{"$nulls":11},{"$f":"IF(กรอกข้อมูล!A68=0,\"\",กรอกข้อมูล!A68)","v":""}]
["",{"$nulls":11},{"$f":"IF(กรอกข้อมูล!A69=0,\"\",กรอกข้อมูล!A69)","v":""}]
["",{"$nulls":11},{"$f":"IF(กรอกข้อมูล!A70=0,\"\",กรอกข้อมูล!A70)","v":""}]
["",{"$nulls":11},{"$f":"IF(กรอกข้อมูล!A71=0,\"\",กรอกข้อมูล!A71)","v":""}]
["",{"$nulls":11},{"$f":"IF(กรอกข้อมูล!A72=0,\"\",กรอกข้อมูล!A72)","v":""}]
["",{"$nulls":11},{"$f":"IF(กรอกข้อมูล!A73=0,\"\",กรอกข้อมูล!A73)","v":""}]
["",{"$nulls":11},{"$f":"IF(กรอกข้อมูล!A74=0,\"\",กรอกข้อมูล!A74)","v":""}]
["",{"$nulls":11},{"$f":"IF(กรอกข้อมูล!A75=0,\"\",กรอกข้อมูล!A75)","v":""}]
["",{"$nulls":11},{"$f":"IF(กรอกข้อมูล!A76=0,\"\",กรอกข้อมูล!A76)","v":""}]
["",{"$nulls":11},{"$f":"IF(กรอกข้อมูล!A77=0,\"\",กรอกข้อมูล!A77)","v":""}]
["",{"$nulls":11},{"$f":"IF(กรอกข้อมูล!A78=0,\"\",กรอกข้อมูล!A78)","v":""}]
["",{"$nulls":11},{"$f":"IF(กรอกข้อมูล!A79=0,\"\",กรอกข้อมูล!A79)","v":""}]
["",{"$nulls":11},{"$f":"IF(กรอกข้อมูล!A80=0,\"\",กรอกข้อมูล!A80)","v":""}]
["",{"$nulls":11},{"$f":"IF(กรอกข้อมูล!A81=0,\"\",กรอกข้อมูล!A81)","v":""}]
["",{"$nulls":11},{"$f":"IF(กรอกข้อมูล!A82=0,\"\",กรอกข้อมูล!A82)","v":""}]
["",{"$nulls":11},{"$f":"IF(กรอกข้อมูล!A83=0,\"\",กรอกข้อมูล!A83)","v":""}]
["",{"$nulls":11},{"$f":"IF(กรอกข้อมูล!A84=0,\"\",กรอกข้อมูล!A84)","v":""}]
["",{"$nulls":11},{"$f":"IF(กรอกข้อมูล!A85=0,\"\",กรอกข้อมูล!A85)","v":""}]
["",{"$nulls":11},{"$f":"IF(กรอกข้อมูล!A86=0,\"\",กรอกข้อมูล!A86)","v":""}]
["",{"$nulls":11},{"$f":"IF(กรอกข้อมูล!A87=0,\"\",กรอกข้อมูล!A87)","v":""}]
["",{"$nulls":11},{"$f":"IF(กรอกข้อมูล!A88=0,\"\",กรอกข้อมูล!A88)","v":""}]
["",{"$nulls":11},{"$f":"IF(กรอกข้อมูล!A89=0,\"\",กรอกข้อมูล!A89)","v":""}]
["",{"$nulls":11},{"$f":"IF(กรอกข้อมูล!A90=0,\"\",กรอกข้อมูล!A90)","v":""}]
["",{"$nulls":11},{"$f":"IF(กรอกข้อมูล!A91=0,\"\",กรอกข้อมูล!A91)","v":""}]
["",{"$nulls":11},{"$f":"IF(กรอกข้อมูล!A92=0,\"\",กรอกข้อมูล!A92)","v":""}]
["",{"$nulls":11},{"$f":"IF(กรอกข้อมูล!A93=0,\"\",กรอกข้อมูล!A93)","v":""}]
["",{"$nulls":11},{"$f":"IF(กรอกข้อมูล!A94=0,\"\",กรอกข้อมูล!A94)","v":""}]
["",{"$nulls":11},{"$f":"IF(กรอกข้อมูล!A95=0,\"\",กรอกข้อมูล!A95)","v":""}]
["",{"$nulls":11},{"$f":"IF(กรอกข้อมูล!A96=0,\"\",กรอกข้อมูล!A96)","v":""}]
["",{"$nulls":11},{"$f":"IF(กรอกข้อมูล!A97=0,\"\",กรอกข้อมูล!A97)","v":""}]
["",{"$nulls":11},{"$f":"IF(กรอกข้อมูล!A98=0,\"\",กรอกข้อมูล!A98)","v":""}]
["",{"$nulls":11},{"$f":"IF(กรอกข้อมูล!A99=0,\"\",กรอกข้อมูล!A99)","v":""}]
["",{"$nulls":11},{"$f":"IF(กรอกข้อมูล!A100=0,\"\",กรอกข้อมูล!A100)","v":""}]
["",{"$nulls":11},{"$f":"IF(กรอกข้อมูล!A101=0,\"\",กรอกข้อมูล!A101)","v":""}]
["",{"$nulls":11},{"$f":"IF(กรอกข้อมูล!A102=0,\"\",กรอกข้อมูล!A102)","v":""}]
["",{"$nulls":11},{"$f":"IF(กรอกข้อมูล!A103=0,\"\",กรอกข้อมูล!A103)","v":""}]
["",{"$nulls":11},{"$f":"IF(กรอกข้อมูล!A104=0,\"\",กรอกข้อมูล!A104)","v":""}]
["",{"$nulls":11},{"$f":"IF(กรอกข้อมูล!A105=0,\"\",กรอกข้อมูล!A105)","v":""}]
["",{"$nulls":11},{"$f":"IF(กรอกข้อมูล!A106=0,\"\",กรอกข้อมูล!A106)","v":""}]
["",{"$nulls":11},{"$f":"IF(กรอกข้อมูล!A107=0,\"\",กรอกข้อมูล!A107)","v":""}]
["",{"$nulls":11},{"$f":"IF(กรอกข้อมูล!A108=0,\"\",กรอกข้อมูล!A108)","v":""}]
["",{"$nulls":11},{"$f":"IF(กรอกข้อมูล!A109=0,\"\",กรอกข้อมูล!A109)","v":""}]
["",{"$nulls":11},{"$f":"IF(กรอกข้อมูล!A110=0,\"\",กรอกข้อมูล!A110)","v":""}]
["",{"$nulls":11},{"$f":"IF(กรอกข้อมูล!A111=0,\"\",กรอกข้อมูล!A111)","v":""}]
["",{"$nulls":11},{"$f":"IF(กรอกข้อมูล!A112=0,\"\",กรอกข้อมูล!A112)","v":""}]
["",{"$nulls":11},{"$f":"IF(กรอกข้อมูล!A113=0,\"\",กรอกข้อมูล!A113)","v":""}]
["",{"$nulls":11},{"$f":"IF(กรอกข้อมูล!A114=0,\"\",กรอกข้อมูล!A114)","v":""}]
["",{"$nulls":11},{"$f":"IF(กรอกข้อมูล!A115=0,\"\",กรอกข้อมูล!A115)","v":""}]
["",{"$nulls":11},{"$f":"IF(กรอกข้อมูล!A116=0,\"\",กรอกข้อมูล!A116)","v":""}]
["",{"$nulls":11},{"$f":"IF(กรอกข้อมูล!A117=0,\"\",กรอกข้อมูล!A117)","v":""}]
["",{"$nulls":11},{"$f":"IF(กรอกข้อมูล!A118=0,\"\",กรอกข้อมูล!A118)","v":""}]
["",{"$nulls":11},{"$f":"IF(กรอกข้อมูล!A119=0,\"\",กรอกข้อมูล!A119)","v":""}]
["",{"$nulls":11},{"$f":"IF(กรอกข้อมูล!A120=0,\"\",กรอกข้อมูล!A120)","v":""}]
["",{"$nulls":11},{"$f":"IF(กรอกข้อมูล!A121=0,\"\",กรอกข้อมูล!A121)","v":""}]
["",{"$nulls":11},{"$f":"IF(กรอกข้อมูล!A122=0,\"\",กรอกข้อมูล!A122)","v":""}]
["",{"$nulls":11},{"$f":"IF(กรอกข้อมูล!A123=0,\"\",กรอกข้อมูล!A123)","v":""}]
["",{"$nulls":11},{"$f":"IF(กรอกข้อมูล!A124=0,\"\",กรอกข้อมูล!A124)","v":""}]
["",{"$nulls":11},{"$f":"IF(กรอกข้อมูล!A125=0,\"\",กรอกข้อมูล!A125)","v":""}]
["",{"$nulls":11},{"$f":"IF(กรอกข้อมูล!A126=0,\"\",กรอกข้อมูล!A126)","v":""}]
["",{"$nulls":11},{"$f":"IF(กรอกข้อมูล!A127=0,\"\",กรอกข้อมูล!A127)","v":""}]
["",{"$nulls":11},{"$f":"IF(กรอกข้อมูล!A128=0,\"\",กรอกข้อมูล!A128)","v":""}]
["",{"$nulls":11},{"$f":"IF(กรอกข้อมูล!A129=0,\"\",กรอกข้อมูล!A129)","v":""}]
[{"$f":"M129","v":""},{"$nulls":11},{"$f":"IF(กรอกข้อมูล!A130=0,\"\",กรอกข้อมูล!A130)","v":""}]
["",{"$nulls":11},{"$f":"IF(กรอกข้อมูล!A131=0,\"\",กรอกข้อมูล!A131)","v":""}]
["",{"$nulls":11},{"$f":"IF(กรอกข้อมูล!A132=0,\"\",กรอกข้อมูล!A132)","v":""}]
["",{"$nulls":11},{"$f":"IF(กรอกข้อมูล!A133=0,\"\",กรอกข้อมูล!A133)","v":""}]
["",{"$nulls":11},{"$f":"IF(กรอกข้อมูล!A134=0,\"\",กรอกข้อมูล!A134)","v":""}]
["",{"$nulls":11},{"$f":"IF(กรอกข้อมูล!A135=0,\"\",กรอกข้อมูล!A135)","v":""}]
["",{"$nulls":11},{"$f":"IF(กรอกข้อมูล!A136=0,\"\",กรอกข้อมูล!A136)","v":""}]
["",{"$nulls":11},{"$f":"IF(กรอกข้อมูล!A137=0,\"\",กรอกข้อมูล!A137)","v":""}]
["",{"$nulls":11},{"$f":"IF(กรอกข้อมูล!A138=0,\"\",กรอกข้อมูล!A138)","v":""}]
["",{"$nulls":11},{"$f":"IF(กรอกข้อมูล!A139=0,\"\",กรอกข้อมูล!A139)","v":""}]
["",{"$nulls":11},{"$f":"IF(กรอกข้อมูล!A140=0,\"\",กรอกข้อมูล!A140)","v":""}]
["",{"$nulls":11},{"$f":"IF(กรอกข้อมูล!A141=0,\"\",กรอกข้อมูล!A141)","v":""}]
["",{"$nulls":11},{"$f":"IF(กรอกข้อมูล!A142=0,\"\",กรอกข้อมูล!A142)","v":""}]
["",{"$nulls":11},{"$f":"IF(กรอกข้อมูล!A143=0,\"\",กรอกข้อมูล!A143)","v":""}]
["",{"$nulls":11},{"$f":"IF(กรอกข้อมูล!A144=0,\"\",กรอกข้อมูล!A144)","v":""}]
["",{"$nulls":11},{"$f":"IF(กรอกข้อมูล!A145=0,\"\",กรอกข้อมูล!A145)","v":""}]
["",{"$nulls":11},{"$f":"IF(กรอกข้อมูล!A146=0,\"\",กรอกข้อมูล!A146)","v":""}]
["",{"$nulls":11},{"$f":"IF(กรอกข้อมูล!A147=0,\"\",กรอกข้อมูล!A147)","v":""}]
["",{"$nulls":11},{"$f":"IF(กรอกข้อมูล!A148=0,\"\",กรอกข้อมูล!A148)","v":""}]
["",{"$nulls":11},{"$f":"IF(กรอกข้อมูล!A149=0,\"\",กรอกข้อมูล!A149)","v":""}]
["",{"$nulls":11},{"$f":"IF(กรอกข้อมูล!A150=0,\"\",กรอกข้อมูล!A150)","v":""}]
["",{"$nulls":11},{"$f":"IF(กรอกข้อมูล!A151=0,\"\",กรอกข้อมูล!A151)","v":""}]
["",{"$nulls":11},{"$f":"IF(กรอกข้อมูล!A152=0,\"\",กรอกข้อมูล!A152)","v":""}]
["",{"$nulls":11},{"$f":"IF(กรอกข้อมูล!A153=0,\"\",กรอกข้อมูล!A153)","v":""}]
["",{"$nulls":11},{"$f":"IF(กรอกข้อมูล!A154=0,\"\",กรอกข้อมูล!A154)","v":""}]
["",{"$nulls":11},{"$f":"IF(กรอกข้อมูล!A155=0,\"\",กรอกข้อมูล!A155)","v":""}]
["",{"$nulls":11},{"$f":"IF(กรอกข้อมูล!A156=0,\"\",กรอกข้อมูล!A156)","v":""}]
["",{"$nulls":11},{"$f":"IF(กรอกข้อมูล!A157=0,\"\",กรอกข้อมูล!A157)","v":""}]
["",{"$nulls":11},{"$f":"IF(กรอกข้อมูล!A158=0,\"\",กรอกข้อมูล!A158)","v":""}]
["",{"$nulls":11},{"$f":"IF(กรอกข้อมูล!A159=0,\"\",กรอกข้อมูล!A159)","v":""}]
["",{"$nulls":11},{"$f":"IF(กรอกข้อมูล!A160=0,\"\",กรอกข้อมูล!A160)","v":""}]
["",{"$nulls":11},{"$f":"IF(กรอกข้อมูล!A161=0,\"\",กรอกข้อมูล!A161)","v":""}]
["",{"$nulls":11},{"$f":"IF(กรอกข้อมูล!A162=0,\"\",กรอกข้อมูล!A162)","v":""}]
["",{"$nulls":11},{"$f":"IF(กรอกข้อมูล!A163=0,\"\",กรอกข้อมูล!A163)","v":""}]
["",{"$nulls":11},{"$f":"IF(กรอกข้อมูล!A164=0,\"\",กรอกข้อมูล!A164)","v":""}]
["",{"$nulls":11},{"$f":"IF(กรอกข้อมูล!A165=0,\"\",กรอกข้อมูล!A165)","v":""}]
["",{"$nulls":11},{"$f":"IF(กรอกข้อมูล!A166=0,\"\",กรอกข้อมูล!A166)","v":""}]
["",{"$nulls":11},{"$f":"IF(กรอกข้อมูล!A167=0,\"\",กรอกข้อมูล!A167)","v":""}]
["",{"$nulls":11},{"$f":"IF(กรอกข้อมูล!A168=0,\"\",กรอกข้อมูล!A168)","v":""}]
["",{"$nulls":11},{"$f":"IF(กรอกข้อมูล!A169=0,\"\",กรอกข้อมูล!A169)","v":""}]
["",{"$nulls":11},{"$f":"IF(กรอกข้อมูล!A170=0,\"\",กรอกข้อมูล!A170)","v":""}]
["",{"$nulls":11},{"$f":"IF(กรอกข้อมูล!A171=0,\"\",กรอกข้อมูล!A171)","v":""}]
["",{"$nulls":11},{"$f":"IF(กรอกข้อมูล!A172=0,\"\",กรอกข้อมูล!A172)","v":""}]
["",{"$nulls":11},{"$f":"IF(กรอกข้อมูล!A173=0,\"\",กรอกข้อมูล!A173)","v":""}]
["",{"$nulls":11},{"$f":"IF(กรอกข้อมูล!A174=0,\"\",กรอกข้อมูล!A174)","v":""}]
["",{"$nulls":11},{"$f":"IF(กรอกข้อมูล!A175=0,\"\",กรอกข้อมูล!A175)","v":""}]
["",{"$nulls":11},{"$f":"IF(กรอกข้อมูล!A176=0,\"\",กรอกข้อมูล!A176)","v":""}]
["",{"$nulls":11},{"$f":"IF(กรอกข้อมูล!A177=0,\"\",กรอกข้อมูล!A177)","v":""}]
["",{"$nulls":11},{"$f":"IF(กรอกข้อมูล!A178=0,\"\",กรอกข้อมูล!A178)","v":""}]
["",{"$nulls":11},{"$f":"IF(กรอกข้อมูล!A179=0,\"\",กรอกข้อมูล!A179)","v":""}]
["",{"$nulls":11},{"$f":"IF(กรอกข้อมูล!A180=0,\"\",กรอกข้อมูล!A180)","v":""}]
["",{"$nulls":11},{"$f":"IF(กรอกข้อมูล!A181=0,\"\",กรอกข้อมูล!A181)","v":""}]
["",{"$nulls":11},{"$f":"IF(กรอกข้อมูล!A182=0,\"\",กรอกข้อมูล!A182)","v":""}]
["",{"$nulls":11},{"$f":"IF(กรอกข้อมูล!A183=0,\"\",กรอกข้อมูล!A183)","v":""}]
["",{"$nulls":11},{"$f":"IF(กรอกข้อมูล!A184=0,\"\",กรอกข้อมูล!A184)","v":""}]
["",{"$nulls":11},{"$f":"IF(กรอกข้อมูล!A185=0,\"\",กรอกข้อมูล!A185)","v":""}]
["",{"$nulls":11},{"$f":"IF(กรอกข้อมูล!A186=0,\"\",กรอกข้อมูล!A186)","v":""}]
["",{"$nulls":11},{"$f":"IF(กรอกข้อมูล!A187=0,\"\",กรอกข้อมูล!A187)","v":""}]
["",{"$nulls":11},{"$f":"IF(กรอกข้อมูล!A188=0,\"\",กรอกข้อมูล!A188)","v":""}]
["",{"$nulls":11},{"$f":"IF(กรอกข้อมูล!A189=0,\"\",กรอกข้อมูล!A189)","v":""}]
["",{"$nulls":11},{"$f":"IF(กรอกข้อมูล!A190=0,\"\",กรอกข้อมูล!A190)","v":""}]
["",{"$nulls":11},{"$f":"IF(กรอกข้อมูล!A191=0,\"\",กรอกข้อมูล!A191)","v":""}]
["",{"$nulls":11},{"$f":"IF(กรอกข้อมูล!A192=0,\"\",กรอกข้อมูล!A192)","v":""}]
["",{"$nulls":11},{"$f":"IF(กรอกข้อมูล!A193=0,\"\",กรอกข้อมูล!A193)","v":""}]
[{"$f":"M193","v":""},{"$nulls":11},{"$f":"IF(กรอกข้อมูล!A194=0,\"\",กรอกข้อมูล!A194)","v":""}]
["",{"$nulls":11},{"$f":"IF(กรอกข้อมูล!A195=0,\"\",กรอกข้อมูล!A195)","v":""}]
["",{"$nulls":11},{"$f":"IF(กรอกข้อมูล!A196=0,\"\",กรอกข้อมูล!A196)","v":""}]
["",{"$nulls":11},{"$f":"IF(กรอกข้อมูล!A197=0,\"\",กรอกข้อมูล!A197)","v":""}]
["",{"$nulls":11},{"$f":"IF(กรอกข้อมูล!A198=0,\"\",กรอกข้อมูล!A198)","v":""}]
["",{"$nulls":11},{"$f":"IF(กรอกข้อมูล!A199=0,\"\",กรอกข้อมูล!A199)","v":""}]
["",{"$nulls":11},{"$f":"IF(กรอกข้อมูล!A200=0,\"\",กรอกข้อมูล!A200)","v":""}]
["",{"$nulls":11},{"$f":"IF(กรอกข้อมูล!A201=0,\"\",กรอกข้อมูล!A201)","v":""}]
["",{"$nulls":11},{"$f":"IF(กรอกข้อมูล!A202=0,\"\",กรอกข้อมูล!A202)","v":""}]
["",{"$nulls":11},{"$f":"IF(กรอกข้อมูล!A203=0,\"\",กรอกข้อมูล!A203)","v":""}]
["",{"$nulls":11},{"$f":"IF(กรอกข้อมูล!A204=0,\"\",กรอกข้อมูล!A204)","v":""}]
["",{"$nulls":11},{"$f":"IF(กรอกข้อมูล!A205=0,\"\",กรอกข้อมูล!A205)","v":""}]
["",{"$nulls":11},{"$f":"IF(กรอกข้อมูล!A206=0,\"\",กรอกข้อมูล!A206)","v":""}]
["",{"$nulls":11},{"$f":"IF(กรอกข้อมูล!A207=0,\"\",กรอกข้อมูล!A207)","v":""}]
["",{"$nulls":11},{"$f":"IF(กรอกข้อมูล!A208=0,\"\",กรอกข้อมูล!A208)","v":""}]
["",{"$nulls":11},{"$f":"IF(กรอกข้อมูล!A209=0,\"\",กรอกข้อมูล!A209)","v":""}]
["",{"$nulls":11},{"$f":"IF(กรอกข้อมูล!A210=0,\"\",กรอกข้อมูล!A210)","v":""}]
["",{"$nulls":11},{"$f":"IF(กรอกข้อมูล!A211=0,\"\",กรอกข้อมูล!A211)","v":""}]
["",{"$nulls":11},{"$f":"IF(กรอกข้อมูล!A212=0,\"\",กรอกข้อมูล!A212)","v":""}]
["",{"$nulls":11},{"$f":"IF(กรอกข้อมูล!A213=0,\"\",กรอกข้อมูล!A213)","v":""}]
["",{"$nulls":11},{"$f":"IF(กรอกข้อมูล!A214=0,\"\",กรอกข้อมูล!A214)","v":""}]
["",{"$nulls":11},{"$f":"IF(กรอกข้อมูล!A215=0,\"\",กรอกข้อมูล!A215)","v":""}]
["",{"$nulls":11},{"$f":"IF(กรอกข้อมูล!A216=0,\"\",กรอกข้อมูล!A216)","v":""}]
["",{"$nulls":11},{"$f":"IF(กรอกข้อมูล!A217=0,\"\",กรอกข้อมูล!A217)","v":""}]
["",{"$nulls":11},{"$f":"IF(กรอกข้อมูล!A218=0,\"\",กรอกข้อมูล!A218)","v":""}]
["",{"$nulls":11},{"$f":"IF(กรอกข้อมูล!A219=0,\"\",กรอกข้อมูล!A219)","v":""}]
["",{"$nulls":11},{"$f":"IF(กรอกข้อมูล!A220=0,\"\",กรอกข้อมูล!A220)","v":""}]
["",{"$nulls":11},{"$f":"IF(กรอกข้อมูล!A221=0,\"\",กรอกข้อมูล!A221)","v":""}]
["",{"$nulls":11},{"$f":"IF(กรอกข้อมูล!A222=0,\"\",กรอกข้อมูล!A222)","v":""}]
["",{"$nulls":11},{"$f":"IF(กรอกข้อมูล!A223=0,\"\",กรอกข้อมูล!A223)","v":""}]
["",{"$nulls":11},{"$f":"IF(กรอกข้อมูล!A224=0,\"\",กรอกข้อมูล!A224)","v":""}]
["",{"$nulls":11},{"$f":"IF(กรอกข้อมูล!A225=0,\"\",กรอกข้อมูล!A225)","v":""}]
["",{"$nulls":11},{"$f":"IF(กรอกข้อมูล!A226=0,\"\",กรอกข้อมูล!A226)","v":""}]
["",{"$nulls":11},{"$f":"IF(กรอกข้อมูล!A227=0,\"\",กรอกข้อมูล!A227)","v":""}]
["",{"$nulls":11},{"$f":"IF(กรอกข้อมูล!A228=0,\"\",กรอกข้อมูล!A228)","v":""}]
["",{"$nulls":11},{"$f":"IF(กรอกข้อมูล!A229=0,\"\",กรอกข้อมูล!A229)","v":""}]
["",{"$nulls":11},{"$f":"IF(กรอกข้อมูล!A230=0,\"\",กรอกข้อมูล!A230)","v":""}]
["",{"$nulls":11},{"$f":"IF(กรอกข้อมูล!A231=0,\"\",กรอกข้อมูล!A231)","v":""}]
["",{"$nulls":11},{"$f":"IF(กรอกข้อมูล!A232=0,\"\",กรอกข้อมูล!A232)","v":""}]
["",{"$nulls":11},{"$f":"IF(กรอกข้อมูล!A233=0,\"\",กรอกข้อมูล!A233)","v":""}]
["",{"$nulls":11},{"$f":"IF(กรอกข้อมูล!A234=0,\"\",กรอกข้อมูล!A234)","v":""}]
["",{"$nulls":11},{"$f":"IF(กรอกข้อมูล!A235=0,\"\",กรอกข้อมูล!A235)","v":""}]
["",{"$nulls":11},{"$f":"IF(กรอกข้อมูล!A236=0,\"\",กรอกข้อมูล!A236)","v":""}]
["",{"$nulls":11},{"$f":"IF(กรอกข้อมูล!A237=0,\"\",กรอกข้อมูล!A237)","v":""}]
["",{"$nulls":11},{"$f":"IF(กรอกข้อมูล!A238=0,\"\",กรอกข้อมูล!A238)","v":""}]
["",{"$nulls":11},{"$f":"IF(กรอกข้อมูล!A239=0,\"\",กรอกข้อมูล!A239)","v":""}]
["",{"$nulls":11},{"$f":"IF(กรอกข้อมูล!A240=0,\"\",กรอกข้อมูล!A240)","v":""}]
["",{"$nulls":11},{"$f":"IF(กรอกข้อมูล!A241=0,\"\",กรอกข้อมูล!A241)","v":""}]
["",{"$nulls":11},{"$f":"IF(กรอกข้อมูล!A242=0,\"\",กรอกข้อมูล!A242)","v":""}]
["",{"$nulls":11},{"$f":"IF(กรอกข้อมูล!A243=0,\"\",กรอกข้อมูล!A243)","v":""}]
["",{"$nulls":11},{"$f":"IF(กรอกข้อมูล!A244=0,\"\",กรอกข้อมูล!A244)","v":""}]
["",{"$nulls":11},{"$f":"IF(กรอกข้อมูล!A245=0,\"\",กรอกข้อมูล!A245)","v":""}]
["",{"$nulls":11},{"$f":"IF(กรอกข้อมูล!A246=0,\"\",กรอกข้อมูล!A246)","v":""}]
["",{"$nulls":11},{"$f":"IF(กรอกข้อมูล!A247=0,\"\",กรอกข้อมูล!A247)","v":""}]
["",{"$nulls":11},{"$f":"IF(กรอกข้อมูล!A248=0,\"\",กรอกข้อมูล!A248)","v":""}]
["",{"$nulls":11},{"$f":"IF(กรอกข้อมูล!A249=0,\"\",กรอกข้อมูล!A249)","v":""}]
["",{"$nulls":11},{"$f":"IF(กรอกข้อมูล!A250=0,\"\",กรอกข้อมูล!A250)","v":""}]
["",{"$nulls":11},{"$f":"IF(กรอกข้อมูล!A251=0,\"\",กรอกข้อมูล!A251)","v":""}]
["",{"$nulls":11},{"$f":"IF(กรอกข้อมูล!A252=0,\"\",กรอกข้อมูล!A252)","v":""}]
["",{"$nulls":11},{"$f":"IF(กรอกข้อมูล!A253=0,\"\",กรอกข้อมูล!A253)","v":""}]
["",{"$nulls":11},{"$f":"IF(กรอกข้อมูล!A254=0,\"\",กรอกข้อมูล!A254)","v":""}]
["",{"$nulls":11},{"$f":"IF(กรอกข้อมูล!A255=0,\"\",กรอกข้อมูล!A255)","v":""}]
["",{"$nulls":11},{"$f":"IF(กรอกข้อมูล!A256=0,\"\",กรอกข้อมูล!A256)","v":""}]
["",{"$nulls":11},{"$f":"IF(กรอกข้อมูล!A257=0,\"\",กรอกข้อมูล!A257)","v":""}]
[{"$f":"M257","v":""},{"$nulls":11},{"$f":"IF(กรอกข้อมูล!A258=0,\"\",กรอกข้อมูล!A258)","v":""}]
["",{"$nulls":11},{"$f":"IF(กรอกข้อมูล!A259=0,\"\",กรอกข้อมูล!A259)","v":""}]
["",{"$nulls":11},{"$f":"IF(กรอกข้อมูล!A260=0,\"\",กรอกข้อมูล!A260)","v":""}]
["",{"$nulls":11},{"$f":"IF(กรอกข้อมูล!A261=0,\"\",กรอกข้อมูล!A261)","v":""}]
["",{"$nulls":11},{"$f":"IF(กรอกข้อมูล!A262=0,\"\",กรอกข้อมูล!A262)","v":""}]
["",{"$nulls":11},{"$f":"IF(กรอกข้อมูล!A263=0,\"\",กรอกข้อมูล!A263)","v":""}]
["",{"$nulls":11},{"$f":"IF(กรอกข้อมูล!A264=0,\"\",กรอกข้อมูล!A264)","v":""}]
["",{"$nulls":11},{"$f":"IF(กรอกข้อมูล!A265=0,\"\",กรอกข้อมูล!A265)","v":""}]
["",{"$nulls":11},{"$f":"IF(กรอกข้อมูล!A266=0,\"\",กรอกข้อมูล!A266)","v":""}]
["",{"$nulls":11},{"$f":"IF(กรอกข้อมูล!A267=0,\"\",กรอกข้อมูล!A267)","v":""}]
["",{"$nulls":11},{"$f":"IF(กรอกข้อมูล!A268=0,\"\",กรอกข้อมูล!A268)","v":""}]
["",{"$nulls":11},{"$f":"IF(กรอกข้อมูล!A269=0,\"\",กรอกข้อมูล!A269)","v":""}]
["",{"$nulls":11},{"$f":"IF(กรอกข้อมูล!A270=0,\"\",กรอกข้อมูล!A270)","v":""}]
["",{"$nulls":11},{"$f":"IF(กรอกข้อมูล!A271=0,\"\",กรอกข้อมูล!A271)","v":""}]
["",{"$nulls":11},{"$f":"IF(กรอกข้อมูล!A272=0,\"\",กรอกข้อมูล!A272)","v":""}]
["",{"$nulls":11},{"$f":"IF(กรอกข้อมูล!A273=0,\"\",กรอกข้อมูล!A273)","v":""}]
["",{"$nulls":11},{"$f":"IF(กรอกข้อมูล!A274=0,\"\",กรอกข้อมูล!A274)","v":""}]
["",{"$nulls":11},{"$f":"IF(กรอกข้อมูล!A275=0,\"\",กรอกข้อมูล!A275)","v":""}]
["",{"$nulls":11},{"$f":"IF(กรอกข้อมูล!A276=0,\"\",กรอกข้อมูล!A276)","v":""}]
["",{"$nulls":11},{"$f":"IF(กรอกข้อมูล!A277=0,\"\",กรอกข้อมูล!A277)","v":""}]
["",{"$nulls":11},{"$f":"IF(กรอกข้อมูล!A278=0,\"\",กรอกข้อมูล!A278)","v":""}]
["",{"$nulls":11},{"$f":"IF(กรอกข้อมูล!A279=0,\"\",กรอกข้อมูล!A279)","v":""}]
["",{"$nulls":11},{"$f":"IF(กรอกข้อมูล!A280=0,\"\",กรอกข้อมูล!A280)","v":""}]
["",{"$nulls":11},{"$f":"IF(กรอกข้อมูล!A281=0,\"\",กรอกข้อมูล!A281)","v":""}]
["",{"$nulls":11},{"$f":"IF(กรอกข้อมูล!A282=0,\"\",กรอกข้อมูล!A282)","v":""}]
["",{"$nulls":11},{"$f":"IF(กรอกข้อมูล!A283=0,\"\",กรอกข้อมูล!A283)","v":""}]
["",{"$nulls":11},{"$f":"IF(กรอกข้อมูล!A284=0,\"\",กรอกข้อมูล!A284)","v":""}]
["",{"$nulls":11},{"$f":"IF(กรอกข้อมูล!A285=0,\"\",กรอกข้อมูล!A285)","v":""}]
["",{"$nulls":11},{"$f":"IF(กรอกข้อมูล!A286=0,\"\",กรอกข้อมูล!A286)","v":""}]
["",{"$nulls":11},{"$f":"IF(กรอกข้อมูล!A287=0,\"\",กรอกข้อมูล!A287)","v":""}]
["",{"$nulls":11},{"$f":"IF(กรอกข้อมูล!A288=0,\"\",กรอกข้อมูล!A288)","v":""}]
["",{"$nulls":11},{"$f":"IF(กรอกข้อมูล!A289=0,\"\",กรอกข้อมูล!A289)","v":""}]
["",{"$nulls":11},{"$f":"IF(กรอกข้อมูล!A290=0,\"\",กรอกข้อมูล!A290)","v":""}]
["",{"$nulls":11},{"$f":"IF(กรอกข้อมูล!A291=0,\"\",กรอกข้อมูล!A291)","v":""}]
["",{"$nulls":11},{"$f":"IF(กรอกข้อมูล!A292=0,\"\",กรอกข้อมูล!A292)","v":""}]
["",{"$nulls":11},{"$f":"IF(กรอกข้อมูล!A293=0,\"\",กรอกข้อมูล!A293)","v":""}]
["",{"$nulls":11},{"$f":"IF(กรอกข้อมูล!A294=0,\"\",กรอกข้อมูล!A294)","v":""}]
["",{"$nulls":11},{"$f":"IF(กรอกข้อมูล!A295=0,\"\",กรอกข้อมูล!A295)","v":""}]
["",{"$nulls":11},{"$f":"IF(กรอกข้อมูล!A296=0,\"\",กรอกข้อมูล!A296)","v":""}]
["",{"$nulls":11},{"$f":"IF(กรอกข้อมูล!A297=0,\"\",กรอกข้อมูล!A297)","v":""}]
["",{"$nulls":11},{"$f":"IF(กรอกข้อมูล!A298=0,\"\",กรอกข้อมูล!A298)","v":""}]
["",{"$nulls":11},{"$f":"IF(กรอกข้อมูล!A299=0,\"\",กรอกข้อมูล!A299)","v":""}]
["",{"$nulls":11},{"$f":"IF(กรอกข้อมูล!A300=0,\"\",กรอกข้อมูล!A300)","v":""}]
["",{"$nulls":11},{"$f":"IF(กรอกข้อมูล!A301=0,\"\",กรอกข้อมูล!A301)","v":""}]
["",{"$nulls":11},{"$f":"IF(กรอกข้อมูล!A302=0,\"\",กรอกข้อมูล!A302)","v":""}]
["",{"$nulls":11},{"$f":"IF(กรอกข้อมูล!A303=0,\"\",กรอกข้อมูล!A303)","v":""}]
["",{"$nulls":11},{"$f":"IF(กรอกข้อมูล!A304=0,\"\",กรอกข้อมูล!A304)","v":""}]
["",{"$nulls":11},{"$f":"IF(กรอกข้อมูล!A305=0,\"\",กรอกข้อมูล!A305)","v":""}]
["",{"$nulls":11},{"$f":"IF(กรอกข้อมูล!A306=0,\"\",กรอกข้อมูล!A306)","v":""}]
["",{"$nulls":11},{"$f":"IF(กรอกข้อมูล!A307=0,\"\",กรอกข้อมูล!A307)","v":""}]
["",{"$nulls":11},{"$f":"IF(กรอกข้อมูล!A308=0,\"\",กรอกข้อมูล!A308)","v":""}]
["",{"$nulls":11},{"$f":"IF(กรอกข้อมูล!A309=0,\"\",กรอกข้อมูล!A309)","v":""}]
["",{"$nulls":11},{"$f":"IF(กรอกข้อมูล!A310=0,\"\",กรอกข้อมูล!A310)","v":""}]
["",{"$nulls":11},{"$f":"IF(กรอกข้อมูล!A311=0,\"\",กรอกข้อมูล!A311)","v":""}]
["",{"$nulls":11},{"$f":"IF(กรอกข้อมูล!A312=0,\"\",กรอกข้อมูล!A312)","v":""}]
["",{"$nulls":11},{"$f":"IF(กรอกข้อมูล!A313=0,\"\",กรอกข้อมูล!A313)","v":""}]
["",{"$nulls":11},{"$f":"IF(กรอกข้อมูล!A314=0,\"\",กรอกข้อมูล!A314)","v":""}]
["",{"$nulls":11},{"$f":"IF(กรอกข้อมูล!A315=0,\"\",กรอกข้อมูล!A315)","v":""}]
["",{"$nulls":11},{"$f":"IF(กรอกข้อมูล!A316=0,\"\",กรอกข้อมูล!A316)","v":""}]
["",{"$nulls":11},{"$f":"IF(กรอกข้อมูล!A317=0,\"\",กรอกข้อมูล!A317)","v":""}]
["",{"$nulls":11},{"$f":"IF(กรอกข้อมูล!A318=0,\"\",กรอกข้อมูล!A318)","v":""}]
["",{"$nulls":11},{"$f":"IF(กรอกข้อมูล!A319=0,\"\",กรอกข้อมูล!A319)","v":""}]
["",{"$nulls":11},{"$f":"IF(กรอกข้อมูล!A320=0,\"\",กรอกข้อมูล!A320)","v":""}]
["",{"$nulls":11},{"$f":"IF(กรอกข้อมูล!A321=0,\"\",กรอกข้อมูล!A321)","v":""}]
[{"$f":"M321","v":""},{"$nulls":11},{"$f":"IF(กรอกข้อมูล!A322=0,\"\",กรอกข้อมูล!A322)","v":""}]
["",{"$nulls":11},{"$f":"IF(กรอกข้อมูล!A323=0,\"\",กรอกข้อมูล!A323)","v":""}]
["",{"$nulls":11},{"$f":"IF(กรอกข้อมูล!A324=0,\"\",กรอกข้อมูล!A324)","v":""}]
["",{"$nulls":11},{"$f":"IF(กรอกข้อมูล!A325=0,\"\",กรอกข้อมูล!A325)","v":""}]
["",{"$nulls":11},{"$f":"IF(กรอกข้อมูล!A326=0,\"\",กรอกข้อมูล!A326)","v":""}]
["",{"$nulls":11},{"$f":"IF(กรอกข้อมูล!A327=0,\"\",กรอกข้อมูล!A327)","v":""}]
["",{"$nulls":11},{"$f":"IF(กรอกข้อมูล!A328=0,\"\",กรอกข้อมูล!A328)","v":""}]
["",{"$nulls":11},{"$f":"IF(กรอกข้อมูล!A329=0,\"\",กรอกข้อมูล!A329)","v":""}]
["",{"$nulls":11},{"$f":"IF(กรอกข้อมูล!A330=0,\"\",กรอกข้อมูล!A330)","v":""}]
["",{"$nulls":11},{"$f":"IF(กรอกข้อมูล!A331=0,\"\",กรอกข้อมูล!A331)","v":""}]
["",{"$nulls":11},{"$f":"IF(กรอกข้อมูล!A332=0,\"\",กรอกข้อมูล!A332)","v":""}]
["",{"$nulls":11},{"$f":"IF(กรอกข้อมูล!A333=0,\"\",กรอกข้อมูล!A333)","v":""}]
["",{"$nulls":11},{"$f":"IF(กรอกข้อมูล!A334=0,\"\",กรอกข้อมูล!A334)","v":""}]
["",{"$nulls":11},{"$f":"IF(กรอกข้อมูล!A335=0,\"\",กรอกข้อมูล!A335)","v":""}]
["",{"$nulls":11},{"$f":"IF(กรอกข้อมูล!A336=0,\"\",กรอกข้อมูล!A336)","v":""}]
["",{"$nulls":11},{"$f":"IF(กรอกข้อมูล!A337=0,\"\",กรอกข้อมูล!A337)","v":""}]
["",{"$nulls":11},{"$f":"IF(กรอกข้อมูล!A338=0,\"\",กรอกข้อมูล!A338)","v":""}]
["",{"$nulls":11},{"$f":"IF(กรอกข้อมูล!A339=0,\"\",กรอกข้อมูล!A339)","v":""}]
["",{"$nulls":11},{"$f":"IF(กรอกข้อมูล!A340=0,\"\",กรอกข้อมูล!A340)","v":""}]
["",{"$nulls":11},{"$f":"IF(กรอกข้อมูล!A341=0,\"\",กรอกข้อมูล!A341)","v":""}]
["",{"$nulls":11},{"$f":"IF(กรอกข้อมูล!A342=0,\"\",กรอกข้อมูล!A342)","v":""}]
["",{"$nulls":11},{"$f":"IF(กรอกข้อมูล!A343=0,\"\",กรอกข้อมูล!A343)","v":""}]
["",{"$nulls":11},{"$f":"IF(กรอกข้อมูล!A344=0,\"\",กรอกข้อมูล!A344)","v":""}]
["",{"$nulls":11},{"$f":"IF(กรอกข้อมูล!A345=0,\"\",กรอกข้อมูล!A345)","v":""}]
["",{"$nulls":11},{"$f":"IF(กรอกข้อมูล!A346=0,\"\",กรอกข้อมูล!A346)","v":""}]
["",{"$nulls":11},{"$f":"IF(กรอกข้อมูล!A347=0,\"\",กรอกข้อมูล!A347)","v":""}]
["",{"$nulls":11},{"$f":"IF(กรอกข้อมูล!A348=0,\"\",กรอกข้อมูล!A348)","v":""}]
["",{"$nulls":11},{"$f":"IF(กรอกข้อมูล!A349=0,\"\",กรอกข้อมูล!A349)","v":""}]
["",{"$nulls":11},{"$f":"IF(กรอกข้อมูล!A350=0,\"\",กรอกข้อมูล!A350)","v":""}]
["",{"$nulls":11},{"$f":"IF(กรอกข้อมูล!A351=0,\"\",กรอกข้อมูล!A351)","v":""}]
["",{"$nulls":11},{"$f":"IF(กรอกข้อมูล!A352=0,\"\",กรอกข้อมูล!A352)","v":""}]
["",{"$nulls":11},{"$f":"IF(กรอกข้อมูล!A353=0,\"\",กรอกข้อมูล!A353)","v":""}]
["",{"$nulls":11},{"$f":"IF(กรอกข้อมูล!A354=0,\"\",กรอกข้อมูล!A354)","v":""}]
["",{"$nulls":11},{"$f":"IF(กรอกข้อมูล!A355=0,\"\",กรอกข้อมูล!A355)","v":""}]
["",{"$nulls":11},{"$f":"IF(กรอกข้อมูล!A356=0,\"\",กรอกข้อมูล!A356)","v":""}]
["",{"$nulls":11},{"$f":"IF(กรอกข้อมูล!A357=0,\"\",กรอกข้อมูล!A357)","v":""}]
["",{"$nulls":11},{"$f":"IF(กรอกข้อมูล!A358=0,\"\",กรอกข้อมูล!A358)","v":""}]
["",{"$nulls":11},{"$f":"IF(กรอกข้อมูล!A359=0,\"\",กรอกข้อมูล!A359)","v":""}]
["",{"$nulls":11},{"$f":"IF(กรอกข้อมูล!A360=0,\"\",กรอกข้อมูล!A360)","v":""}]
["",{"$nulls":11},{"$f":"IF(กรอกข้อมูล!A361=0,\"\",กรอกข้อมูล!A361)","v":""}]
["",{"$nulls":11},{"$f":"IF(กรอกข้อมูล!A362=0,\"\",กรอกข้อมูล!A362)","v":""}]
["",{"$nulls":11},{"$f":"IF(กรอกข้อมูล!A363=0,\"\",กรอกข้อมูล!A363)","v":""}]
["",{"$nulls":11},{"$f":"IF(กรอกข้อมูล!A364=0,\"\",กรอกข้อมูล!A364)","v":""}]
["",{"$nulls":11},{"$f":"IF(กรอกข้อมูล!A365=0,\"\",กรอกข้อมูล!A365)","v":""}]
["",{"$nulls":11},{"$f":"IF(กรอกข้อมูล!A366=0,\"\",กรอกข้อมูล!A366)","v":""}]
["",{"$nulls":11},{"$f":"IF(กรอกข้อมูล!A367=0,\"\",กรอกข้อมูล!A367)","v":""}]
["",{"$nulls":11},{"$f":"IF(กรอกข้อมูล!A368=0,\"\",กรอกข้อมูล!A368)","v":""}]
["",{"$nulls":11},{"$f":"IF(กรอกข้อมูล!A369=0,\"\",กรอกข้อมูล!A369)","v":""}]
["",{"$nulls":11},{"$f":"IF(กรอกข้อมูล!A370=0,\"\",กรอกข้อมูล!A370)","v":""}]
["",{"$nulls":11},{"$f":"IF(กรอกข้อมูล!A371=0,\"\",กรอกข้อมูล!A371)","v":""}]
["",{"$nulls":11},{"$f":"IF(กรอกข้อมูล!A372=0,\"\",กรอกข้อมูล!A372)","v":""}]
["",{"$nulls":11},{"$f":"IF(กรอกข้อมูล!A373=0,\"\",กรอกข้อมูล!A373)","v":""}]
["",{"$nulls":11},{"$f":"IF(กรอกข้อมูล!A374=0,\"\",กรอกข้อมูล!A374)","v":""}]
["",{"$nulls":11},{"$f":"IF(กรอกข้อมูล!A375=0,\"\",กรอกข้อมูล!A375)","v":""}]
["",{"$nulls":11},{"$f":"IF(กรอกข้อมูล!A376=0,\"\",กรอกข้อมูล!A376)","v":""}]
["",{"$nulls":11},{"$f":"IF(กรอกข้อมูล!A377=0,\"\",กรอกข้อมูล!A377)","v":""}]
["",{"$nulls":11},{"$f":"IF(กรอกข้อมูล!A378=0,\"\",กรอกข้อมูล!A378)","v":""}]
["",{"$nulls":11},{"$f":"IF(กรอกข้อมูล!A379=0,\"\",กรอกข้อมูล!A379)","v":""}]
["",{"$nulls":11},{"$f":"IF(กรอกข้อมูล!A380=0,\"\",กรอกข้อมูล!A380)","v":""}]
["",{"$nulls":11},{"$f":"IF(กรอกข้อมูล!A381=0,\"\",กรอกข้อมูล!A381)","v":""}]
["",{"$nulls":11},{"$f":"IF(กรอกข้อมูล!A382=0,\"\",กรอกข้อมูล!A382)","v":""}]
["",{"$nulls":11},{"$f":"IF(กรอกข้อมูล!A383=0,\"\",กรอกข้อมูล!A383)","v":""}]
["",{"$nulls":11},{"$f":"IF(กรอกข้อมูล!A384=0,\"\",กรอกข้อมูล!A384)","v":""}]
["",{"$nulls":11},{"$f":"IF(กรอกข้อมูล!A385=0,\"\",กรอกข้อมูล!A385)","v":""}]
[{"$f":"M385","v":""},{"$nulls":11},{"$f":"IF(กรอกข้อมูล!A386=0,\"\",กรอกข้อมูล!A386)","v":""}]
["",{"$nulls":11},{"$f":"IF(กรอกข้อมูล!A387=0,\"\",กรอกข้อมูล!A387)","v":""}]
["",{"$nulls":11},{"$f":"IF(กรอกข้อมูล!A388=0,\"\",กรอกข้อมูล!A388)","v":""}]
["",{"$nulls":11},{"$f":"IF(กรอกข้อมูล!A389=0,\"\",กรอกข้อมูล!A389)","v":""}]
["",{"$nulls":11},{"$f":"IF(กรอกข้อมูล!A390=0,\"\",กรอกข้อมูล!A390)","v":""}]
["",{"$nulls":11},{"$f":"IF(กรอกข้อมูล!A391=0,\"\",กรอกข้อมูล!A391)","v":""}]
["",{"$nulls":11},{"$f":"IF(กรอกข้อมูล!A392=0,\"\",กรอกข้อมูล!A392)","v":""}]
["",{"$nulls":11},{"$f":"IF(กรอกข้อมูล!A393=0,\"\",กรอกข้อมูล!A393)","v":""}]
["",{"$nulls":11},{"$f":"IF(กรอกข้อมูล!A394=0,\"\",กรอกข้อมูล!A394)","v":""}]
["",{"$nulls":11},{"$f":"IF(กรอกข้อมูล!A395=0,\"\",กรอกข้อมูล!A395)","v":""}]
["",{"$nulls":11},{"$f":"IF(กรอกข้อมูล!A396=0,\"\",กรอกข้อมูล!A396)","v":""}]
["",{"$nulls":11},{"$f":"IF(กรอกข้อมูล!A397=0,\"\",กรอกข้อมูล!A397)","v":""}]
["",{"$nulls":11},{"$f":"IF(กรอกข้อมูล!A398=0,\"\",กรอกข้อมูล!A398)","v":""}]
["",{"$nulls":11},{"$f":"IF(กรอกข้อมูล!A399=0,\"\",กรอกข้อมูล!A399)","v":""}]
["",{"$nulls":11},{"$f":"IF(กรอกข้อมูล!A400=0,\"\",กรอกข้อมูล!A400)","v":""}]
["",{"$nulls":11},{"$f":"IF(กรอกข้อมูล!A401=0,\"\",กรอกข้อมูล!A401)","v":""}]

{"sheet":"ไม่แจกแจง","index":4,"n_rows":408,"n_cols":21,"rows_kept":408,"cut":false,"hidden":true,"merged":[[0,7,0,8],[0,10,0,12],[0,14,0,15]]}
["ข้อมูล (X)","X-m","(X-m)2",{"$f":"กรอกข้อมูล!A1","v":"กรอกข้อมูล"},"X-m","(X-m)2",null,"ค่าเฉลี่ยเลขคณิต (Mean)",null,null,"ค่ามัธยฐาน (Median)",null,null,null,"ค่าฐานนิยม (Mode)",null,null,"ข้อมูล (X)","ความถี่ (f)","ข้อมูล","ความถี่"]
[{"$f":"D2","v":19},{"$f":"E2","v":-2.5799999999999983},{"$f":"F2","v":6.6563999999999908},{"$f":"IF(กรอกข้อมูล!A2=0,\"\",กรอกข้อมูล!A2)","v":19},{"$f":"IF(กรอกข้อมูล!A2=0,\"\",D2-I$6)","v":-2.5799999999999983},{"$f":"IF(กรอกข้อมูล!A2=0,\"\",E2^2)","v":6.6563999999999908},null,"ผลรวมข้อมูล =",{"$f":"$D$402","v":1079},{"$nulls":8},{"$f":"T2","v":12},{"$f":"U2","v":2},{"$f":"IF(กรอกข้อมูล!AS2>กรอกข้อมูล!AO$2,\"\",กรอกข้อมูล!AS2)","v":12},{"$f":"IF(กรอกข้อมูล!AS2>กรอกข้อมูล!AO$2,\"\",กรอกข้อมูล!AT2)","v":2}]
[24,2.4200000000000017,5.8564000000000078,{"$f":"IF(กรอกข้อมูล!A3=0,\"\",กรอกข้อมูล!A3)","v":24},{"$f":"IF(กรอกข้อมูล!A3=0,\"\",D3-I$6)","v":2.4200000000000017},{"$f":"IF(กรอกข้อมูล!A3=0,\"\",E3^2)","v":5.8564000000000078},null," =",{"$f":"$F$402","v":1154.1799999999996},null,"จำนวนข้อมูล =",{"$f":"กรอกข้อมูล!$AO$7","v":50},null,null,"ค่าความถี่สูงสุด =",{"$f":"กรอกข้อมูล!$AQ$33","v":6},null,13,1,{"$f":"IF(กรอกข้อมูล!AS3>กรอกข้อมูล!AO$2,\"\",กรอกข้อมูล!AS3)","v":13},{"$f":"IF(กรอกข้อมูล!AS3>กรอกข้อมูล!AO$2,\"\",กรอกข้อมูล!AT3)","v":1}]
[30,8.4200000000000017,70.896400000000028,{"$f":"IF(กรอกข้อมูล!A4=0,\"\",กรอกข้อมูล!A4)","v":30},{"$f":"IF(กรอกข้อมูล!A4=0,\"\",D4-I$6)","v":8.4200000000000017},{"$f":"IF(กรอกข้อมูล!A4=0,\"\",E4^2)","v":70.896400000000028},null,"n =",{"$f":"กรอกข้อมูล!$AO$7","v":50},null,"Med คี่ =","(N+1)/2 =",{"$f":"กรอกข้อมูล!$AR$31","v":0},null,"ตรงกับข้อมูล =",{"$f":"กรอกข้อมูล!$AQ$34","v":21},null,14,1,{"$f":"IF(กรอกข้อมูล!AS4>กรอกข้อมูล!AO$2,\"\",กรอกข้อมูล!AS4)","v":14},{"$f":"IF(กรอกข้อมูล!AS4>กรอกข้อมูล!AO$2,\"\",กรอกข้อมูล!AT4)","v":1}]
[14,-7.5799999999999983,57.456399999999974,{"$f":"IF(กรอกข้อมูล!A5=0,\"\",กรอกข้อมูล!A5)","v":14},{"$f":"IF(กรอกข้อมูล!A5=0,\"\",D5-I$6)","v":-7.5799999999999983},{"$f":"IF(กรอกข้อมูล!A5=0,\"\",E5^2)","v":57.456399999999974},null,"ค่าเฉลี่ยเลขคณิต ="," ผลรวม X/n ",null,"Med คู่ =","N/2 และ N/2 +1",null,null,"สำหรับข้อมูลที่มีความถี่มากที่สุดหลายค่า",null,null,15,2,{"$f":"IF(กรอกข้อมูล!AS5>กรอกข้อมูล!AO$2,\"\",กรอกข้อมูล!AS5)","v":15},{"$f":"IF(กรอกข้อมูล!AS5>กรอกข้อมูล!AO$2,\"\",กรอกข้อมูล!AT5)","v":2}]
[31,9.4200000000000017,88.736400000000032,{"$f":"IF(กรอกข้อมูล!A6=0,\"\",กรอกข้อมูล!A6)","v":31},{"$f":"IF(กรอกข้อมูล!A6=0,\"\",D6-I$6)","v":9.4200000000000017},{"$f":"IF(กรอกข้อมูล!A6=0,\"\",E6^2)","v":88.736400000000032},null,"Mean =",{"$f":"I2/I4","v":21.58},null,"N/2 =","ตรงกับตำแหน่งที่",{"$f":"กรอกข้อมูล!AQ28","v":25},null,"ให้ท่านเลือกด้วยตนเองจากตาราง =>",null,null,16,2,{"$f":"IF(กรอกข้อมูล!AS6>กรอกข้อมูล!AO$2,\"\",กรอกข้อมูล!AS6)","v":16},{"$f":"IF(กรอกข้อมูล!AS6>กรอกข้อมูล!AO$2,\"\",กรอกข้อมูล!AT6)","v":2}]
[12,-9.5799999999999983,91.776399999999967,{"$f":"IF(กรอกข้อมูล!A7=0,\"\",กรอกข้อมูล!A7)","v":12},{"$f":"IF(กรอกข้อมูล!A7=0,\"\",D7-I$6)","v":-9.5799999999999983},{"$f":"IF(กรอกข้อมูล!A7=0,\"\",E7^2)","v":91.776399999999967},null,"ประชากร",null,null,null,"ตรงกับข้อมูล =",{"$f":"กรอกข้อมูล!$AQ$29","v":21},null,"หรือถ้าต้องการใช้เป็นค่าเดียวให้ใช้สูตร",null,null,17,3,{"$f":"IF(กรอกข้อมูล!AS7>กรอกข้อมูล!AO$2,\"\",กรอกข้อมูล!AS7)","v":17},{"$f":"IF(กรอกข้อมูล!AS7>กรอกข้อมูล!AO$2,\"\",กรอกข้อมูล!AT7)","v":3}]
[29,7.4200000000000017,55.056400000000025,{"$f":"IF(กรอกข้อมูล!A8=0,\"\",กรอกข้อมูล!A8)","v":29},{"$f":"IF(กรอกข้อมูล!A8=0,\"\",D8-I$6)","v":7.4200000000000017},{"$f":"IF(กรอกข้อมูล!A8=0,\"\",E8^2)","v":55.056400000000025},null,"ส่วนเบี่ยงเบนมาตรฐาน =",{"$f":"SQRT(I3/I4)","v":4.8045395200789009},null,"N/2 +1 =","ตรงกับตำแหน่งที่",{"$f":"กรอกข้อมูล!AR28","v":26},null,"       Mode = 3(Median) - 2(Mean)",null,null,18,2,{"$f":"IF(กรอกข้อมูล!AS8>กรอกข้อมูล!AO$2,\"\",กรอกข้อมูล!AS8)","v":18},{"$f":"IF(กรอกข้อมูล!AS8>กรอกข้อมูล!AO$2,\"\",กรอกข้อมูล!AT8)","v":2}]
[26,4.4200000000000017,19.536400000000015,{"$f":"IF(กรอกข้อมูล!A9=0,\"\",กรอกข้อมูล!A9)","v":26},{"$f":"IF(กรอกข้อมูล!A9=0,\"\",D9-I$6)","v":4.4200000000000017},{"$f":"IF(กรอกข้อมูล!A9=0,\"\",E9^2)","v":19.536400000000015},null,"ความแปรปรวน =",{"$f":"I8^2","v":23.083599999999997},null,null,"ตรงกับข้อมูล =",{"$f":"กรอกข้อมูล!$AR$29","v":21},null,"Mode =",{"$f":"3*M11-2*I6","v":19.840000000000003},null,19,4,{"$f":"IF(กรอกข้อมูล!AS9>กรอกข้อมูล!AO$2,\"\",กรอกข้อมูล!AS9)","v":19},{"$f":"IF(กรอกข้อมูล!AS9>กรอกข้อมูล!AO$2,\"\",กรอกข้อมูล!AT9)","v":4}]
[23,1.4200000000000017,2.0164000000000049,{"$f":"IF(กรอกข้อมูล!A10=0,\"\",กรอกข้อมูล!A10)","v":23},{"$f":"IF(กรอกข้อมูล!A10=0,\"\",D10-I$6)","v":1.4200000000000017},{"$f":"IF(กรอกข้อมูล!A10=0,\"\",E10^2)","v":2.0164000000000049},null,"ตัวอย่าง",{"$nulls":9},20,3,{"$f":"IF(กรอกข้อมูล!AS10>กรอกข้อมูล!AO$2,\"\",กรอกข้อมูล!AS10)","v":20},{"$f":"IF(กรอกข้อมูล!AS10>กรอกข้อมูล!AO$2,\"\",กรอกข้อมูล!AT10)","v":3}]
[23,1.4200000000000017,2.0164000000000049,{"$f":"IF(กรอกข้อมูล!A11=0,\"\",กรอกข้อมูล!A11)","v":23},{"$f":"IF(กรอกข้อมูล!A11=0,\"\",D11-I$6)","v":1.4200000000000017},{"$f":"IF(กรอกข้อมูล!A11=0,\"\",E11^2)","v":2.0164000000000049},null,"ส่วนเบี่ยงเบนมาตรฐาน =",{"$f":"SQRT(I3/(I4-1))","v":4.8533178216093589},null,"แสดงว่าต้องใช้สูตรของ",{"$f":"กรอกข้อมูล!AP32","v":"Med คู่ ="},{"$f":"กรอกข้อมูล!AQ32","v":21},{"$nulls":4},21,6,{"$f":"IF(กรอกข้อมูล!AS11>กรอกข้อมูล!AO$2,\"\",กรอกข้อมูล!AS11)","v":21},{"$f":"IF(กรอกข้อมูล!AS11>กรอกข้อมูล!AO$2,\"\",กรอกข้อมูล!AT11)","v":6}]
[20,-1.5799999999999983,2.4963999999999946,{"$f":"IF(กรอกข้อมูล!A12=0,\"\",กรอกข้อมูล!A12)","v":20},{"$f":"IF(กรอกข้อมูล!A12=0,\"\",D12-I$6)","v":-1.5799999999999983},{"$f":"IF(กรอกข้อมูล!A12=0,\"\",E12^2)","v":2.4963999999999946},null,"ความแปรปรวน =",{"$f":"I11^2","v":23.554693877551014},null,"   (หมายเหตุ: ต้องใช้แผ่นงานเรียงข้อมูลก่อน)",{"$nulls":6},22,2,{"$f":"IF(กรอกข้อมูล!AS12>กรอกข้อมูล!AO$2,\"\",กรอกข้อมูล!AS12)","v":22},{"$f":"IF(กรอกข้อมูล!AS12>กรอกข้อมูล!AO$2,\"\",กรอกข้อมูล!AT12)","v":2}]
[25,3.4200000000000017,11.696400000000011,{"$f":"IF(กรอกข้อมูล!A13=0,\"\",กรอกข้อมูล!A13)","v":25},{"$f":"IF(กรอกข้อมูล!A13=0,\"\",D13-I$6)","v":3.4200000000000017},{"$f":"IF(กรอกข้อมูล!A13=0,\"\",E13^2)","v":11.696400000000011},{"$nulls":11},23,4,{"$f":"IF(กรอกข้อมูล!AS13>กรอกข้อมูล!AO$2,\"\",กรอกข้อมูล!AS13)","v":23},{"$f":"IF(กรอกข้อมูล!AS13>กรอกข้อมูล!AO$2,\"\",กรอกข้อมูล!AT13)","v":4}]
[17,-4.5799999999999983,20.976399999999984,{"$f":"IF(กรอกข้อมูล!A14=0,\"\",กรอกข้อมูล!A14)","v":17},{"$f":"IF(กรอกข้อมูล!A14=0,\"\",D14-I$6)","v":-4.5799999999999983},{"$f":"IF(กรอกข้อมูล!A14=0,\"\",E14^2)","v":20.976399999999984},null,"ถ้าใช้สูตรคำนวณของโปรแกรม Excel จะได้ผลลัพธ์ ดังนี้",{"$nulls":9},24,3,{"$f":"IF(กรอกข้อมูล!AS14>กรอกข้อมูล!AO$2,\"\",กรอกข้อมูล!AS14)","v":24},{"$f":"IF(กรอกข้อมูล!AS14>กรอกข้อมูล!AO$2,\"\",กรอกข้อมูล!AT14)","v":3}]
[15,-6.5799999999999983,43.296399999999977,{"$f":"IF(กรอกข้อมูล!A15=0,\"\",กรอกข้อมูล!A15)","v":15},{"$f":"IF(กรอกข้อมูล!A15=0,\"\",D15-I$6)","v":-6.5799999999999983},{"$f":"IF(กรอกข้อมูล!A15=0,\"\",E15^2)","v":43.296399999999977},null,{"$f":"กรอกข้อมูล!AN35","v":"Mean excel  ="},{"$f":"กรอกข้อมูล!AO35","v":21.58},null,{"$f":"กรอกข้อมูล!AN29","v":"Med excel ="},{"$f":"กรอกข้อมูล!AO29","v":21},null,null,{"$f":"กรอกข้อมูล!AN34","v":"Mod  excel  ="},{"$f":"กรอกข้อมูล!AO34","v":21},null,25,3,{"$f":"IF(กรอกข้อมูล!AS15>กรอกข้อมูล!AO$2,\"\",กรอกข้อมูล!AS15)","v":25},{"$f":"IF(กรอกข้อมูล!AS15>กรอกข้อมูล!AO$2,\"\",กรอกข้อมูล!AT15)","v":3}]
[22,0.42000000000000171,0.17640000000000144,{"$f":"IF(กรอกข้อมูล!A16=0,\"\",กรอกข้อมูล!A16)","v":22},{"$f":"IF(กรอกข้อมูล!A16=0,\"\",D16-I$6)","v":0.42000000000000171},{"$f":"IF(กรอกข้อมูล!A16=0,\"\",E16^2)","v":0.17640000000000144},{"$nulls":11},26,4,{"$f":"IF(กรอกข้อมูล!AS16>กรอกข้อมูล!AO$2,\"\",กรอกข้อมูล!AS16)","v":26},{"$f":"IF(กรอกข้อมูล!AS16>กรอกข้อมูล!AO$2,\"\",กรอกข้อมูล!AT16)","v":4}]
[28,6.4200000000000017,41.216400000000021,{"$f":"IF(กรอกข้อมูล!A17=0,\"\",กรอกข้อมูล!A17)","v":28},{"$f":"IF(กรอกข้อมูล!A17=0,\"\",D17-I$6)","v":6.4200000000000017},{"$f":"IF(กรอกข้อมูล!A17=0,\"\",E17^2)","v":41.216400000000021},{"$nulls":11},27,2,{"$f":"IF(กรอกข้อมูล!AS17>กรอกข้อมูล!AO$2,\"\",กรอกข้อมูล!AS17)","v":27},{"$f":"IF(กรอกข้อมูล!AS17>กรอกข้อมูล!AO$2,\"\",กรอกข้อมูล!AT17)","v":2}]
[12,-9.5799999999999983,91.776399999999967,{"$f":"IF(กรอกข้อมูล!A18=0,\"\",กรอกข้อมูล!A18)","v":12},{"$f":"IF(กรอกข้อมูล!A18=0,\"\",D18-I$6)","v":-9.5799999999999983},{"$f":"IF(กรอกข้อมูล!A18=0,\"\",E18^2)","v":91.776399999999967},{"$nulls":11},28,2,{"$f":"IF(กรอกข้อมูล!AS18>กรอกข้อมูล!AO$2,\"\",กรอกข้อมูล!AS18)","v":28},{"$f":"IF(กรอกข้อมูล!AS18>กรอกข้อมูล!AO$2,\"\",กรอกข้อมูล!AT18)","v":2}]
[27,5.4200000000000017,29.376400000000018,{"$f":"IF(กรอกข้อมูล!A19=0,\"\",กรอกข้อมูล!A19)","v":27},{"$f":"IF(กรอกข้อมูล!A19=0,\"\",D19-I$6)","v":5.4200000000000017},{"$f":"IF(กรอกข้อมูล!A19=0,\"\",E19^2)","v":29.376400000000018},{"$nulls":11},29,1,{"$f":"IF(กรอกข้อมูล!AS19>กรอกข้อมูล!AO$2,\"\",กรอกข้อมูล!AS19)","v":29},{"$f":"IF(กรอกข้อมูล!AS19>กรอกข้อมูล!AO$2,\"\",กรอกข้อมูล!AT19)","v":1}]
[19,-2.5799999999999983,6.6563999999999908,{"$f":"IF(กรอกข้อมูล!A20=0,\"\",กรอกข้อมูล!A20)","v":19},{"$f":"IF(กรอกข้อมูล!A20=0,\"\",D20-I$6)","v":-2.5799999999999983},{"$f":"IF(กรอกข้อมูล!A20=0,\"\",E20^2)","v":6.6563999999999908},{"$nulls":11},30,2,{"$f":"IF(กรอกข้อมูล!AS20>กรอกข้อมูล!AO$2,\"\",กรอกข้อมูล!AS20)","v":30},{"$f":"IF(กรอกข้อมูล!AS20>กรอกข้อมูล!AO$2,\"\",กรอกข้อมูล!AT20)","v":2}]
[26,4.4200000000000017,19.536400000000015,{"$f":"IF(กรอกข้อมูล!A21=0,\"\",กรอกข้อมูล!A21)","v":26},{"$f":"IF(กรอกข้อมูล!A21=0,\"\",D21-I$6)","v":4.4200000000000017},{"$f":"IF(กรอกข้อมูล!A21=0,\"\",E21^2)","v":19.536400000000015},{"$nulls":11},31,1,{"$f":"IF(กรอกข้อมูล!AS21>กรอกข้อมูล!AO$2,\"\",กรอกข้อมูล!AS21)","v":31},{"$f":"IF(กรอกข้อมูล!AS21>กรอกข้อมูล!AO$2,\"\",กรอกข้อมูล!AT21)","v":1}]
[25,3.4200000000000017,11.696400000000011,{"$f":"IF(กรอกข้อมูล!A22=0,\"\",กรอกข้อมูล!A22)","v":25},{"$f":"IF(กรอกข้อมูล!A22=0,\"\",D22-I$6)","v":3.4200000000000017},{"$f":"IF(กรอกข้อมูล!A22=0,\"\",E22^2)","v":11.696400000000011},{"$nulls":11},"","",{"$f":"IF(กรอกข้อมูล!AS22>กรอกข้อมูล!AO$2,\"\",กรอกข้อมูล!AS22)","v":""},{"$f":"IF(กรอกข้อมูล!AS22>กรอกข้อมูล!AO$2,\"\",กรอกข้อมูล!AT22)","v":""}]
[30,8.4200000000000017,70.896400000000028,{"$f":"IF(กรอกข้อมูล!A23=0,\"\",กรอกข้อมูล!A23)","v":30},{"$f":"IF(กรอกข้อมูล!A23=0,\"\",D23-I$6)","v":8.4200000000000017},{"$f":"IF(กรอกข้อมูล!A23=0,\"\",E23^2)","v":70.896400000000028},{"$nulls":11},"","",{"$f":"IF(กรอกข้อมูล!AS23>กรอกข้อมูล!AO$2,\"\",กรอกข้อมูล!AS23)","v":""},{"$f":"IF(กรอกข้อมูล!AS23>กรอกข้อมูล!AO$2,\"\",กรอกข้อมูล!AT23)","v":""}]
[15,-6.5799999999999983,43.296399999999977,{"$f":"IF(กรอกข้อมูล!A24=0,\"\",กรอกข้อมูล!A24)","v":15},{"$f":"IF(กรอกข้อมูล!A24=0,\"\",D24-I$6)","v":-6.5799999999999983},{"$f":"IF(กรอกข้อมูล!A24=0,\"\",E24^2)","v":43.296399999999977},{"$nulls":11},"","",{"$f":"IF(กรอกข้อมูล!AS24>กรอกข้อมูล!AO$2,\"\",กรอกข้อมูล!AS24)","v":""},{"$f":"IF(กรอกข้อมูล!AS24>กรอกข้อมูล!AO$2,\"\",กรอกข้อมูล!AT24)","v":""}]
[19,-2.5799999999999983,6.6563999999999908,{"$f":"IF(กรอกข้อมูล!A25=0,\"\",กรอกข้อมูล!A25)","v":19},{"$f":"IF(กรอกข้อมูล!A25=0,\"\",D25-I$6)","v":-2.5799999999999983},{"$f":"IF(กรอกข้อมูล!A25=0,\"\",E25^2)","v":6.6563999999999908},{"$nulls":11},"","",{"$f":"IF(กรอกข้อมูล!AS25>กรอกข้อมูล!AO$2,\"\",กรอกข้อมูล!AS25)","v":""},{"$f":"IF(กรอกข้อมูล!AS25>กรอกข้อมูล!AO$2,\"\",กรอกข้อมูล!AT25)","v":""}]
[19,-2.5799999999999983,6.6563999999999908,{"$f":"IF(กรอกข้อมูล!A26=0,\"\",กรอกข้อมูล!A26)","v":19},{"$f":"IF(กรอกข้อมูล!A26=0,\"\",D26-I$6)","v":-2.5799999999999983},{"$f":"IF(กรอกข้อมูล!A26=0,\"\",E26^2)","v":6.6563999999999908},{"$nulls":11},"","",{"$f":"IF(กรอกข้อมูล!AS26>กรอกข้อมูล!AO$2,\"\",กรอกข้อมูล!AS26)","v":""},{"$f":"IF(กรอกข้อมูล!AS26>กรอกข้อมูล!AO$2,\"\",กรอกข้อมูล!AT26)","v":""}]
[23,1.4200000000000017,2.0164000000000049,{"$f":"IF(กรอกข้อมูล!A27=0,\"\",กรอกข้อมูล!A27)","v":23},{"$f":"IF(กรอกข้อมูล!A27=0,\"\",D27-I$6)","v":1.4200000000000017},{"$f":"IF(กรอกข้อมูล!A27=0,\"\",E27^2)","v":2.0164000000000049},{"$nulls":11},"","",{"$f":"IF(กรอกข้อมูล!AS27>กรอกข้อมูล!AO$2,\"\",กรอกข้อมูล!AS27)","v":""},{"$f":"IF(กรอกข้อมูล!AS27>กรอกข้อมูล!AO$2,\"\",กรอกข้อมูล!AT27)","v":""}]
[22,0.42000000000000171,0.17640000000000144,{"$f":"IF(กรอกข้อมูล!A28=0,\"\",กรอกข้อมูล!A28)","v":22},{"$f":"IF(กรอกข้อมูล!A28=0,\"\",D28-I$6)","v":0.42000000000000171},{"$f":"IF(กรอกข้อมูล!A28=0,\"\",E28^2)","v":0.17640000000000144},{"$nulls":11},"","",{"$f":"IF(กรอกข้อมูล!AS28>กรอกข้อมูล!AO$2,\"\",กรอกข้อมูล!AS28)","v":""},{"$f":"IF(กรอกข้อมูล!AS28>กรอกข้อมูล!AO$2,\"\",กรอกข้อมูล!AT28)","v":""}]
[21,-0.57999999999999829,0.33639999999999803,{"$f":"IF(กรอกข้อมูล!A29=0,\"\",กรอกข้อมูล!A29)","v":21},{"$f":"IF(กรอกข้อมูล!A29=0,\"\",D29-I$6)","v":-0.57999999999999829},{"$f":"IF(กรอกข้อมูล!A29=0,\"\",E29^2)","v":0.33639999999999803},{"$nulls":11},"","",{"$f":"IF(กรอกข้อมูล!AS29>กรอกข้อมูล!AO$2,\"\",กรอกข้อมูล!AS29)","v":""},{"$f":"IF(กรอกข้อมูล!AS29>กรอกข้อมูล!AO$2,\"\",กรอกข้อมูล!AT29)","v":""}]
[21,-0.57999999999999829,0.33639999999999803,{"$f":"IF(กรอกข้อมูล!A30=0,\"\",กรอกข้อมูล!A30)","v":21},{"$f":"IF(กรอกข้อมูล!A30=0,\"\",D30-I$6)","v":-0.57999999999999829},{"$f":"IF(กรอกข้อมูล!A30=0,\"\",E30^2)","v":0.33639999999999803},{"$nulls":11},"","",{"$f":"IF(กรอกข้อมูล!AS30>กรอกข้อมูล!AO$2,\"\",กรอกข้อมูล!AS30)","v":""},{"$f":"IF(กรอกข้อมูล!AS30>กรอกข้อมูล!AO$2,\"\",กรอกข้อมูล!AT30)","v":""}]
[27,5.4200000000000017,29.376400000000018,{"$f":"IF(กรอกข้อมูล!A31=0,\"\",กรอกข้อมูล!A31)","v":27},{"$f":"IF(กรอกข้อมูล!A31=0,\"\",D31-I$6)","v":5.4200000000000017},{"$f":"IF(กรอกข้อมูล!A31=0,\"\",E31^2)","v":29.376400000000018},{"$nulls":11},"","",{"$f":"IF(กรอกข้อมูล!AS31>กรอกข้อมูล!AO$2,\"\",กรอกข้อมูล!AS31)","v":""},{"$f":"IF(กรอกข้อมูล!AS31>กรอกข้อมูล!AO$2,\"\",กรอกข้อมูล!AT31)","v":""}]
[16,-5.5799999999999983,31.136399999999981,{"$f":"IF(กรอกข้อมูล!A32=0,\"\",กรอกข้อมูล!A32)","v":16},{"$f":"IF(กรอกข้อมูล!A32=0,\"\",D32-I$6)","v":-5.5799999999999983},{"$f":"IF(กรอกข้อมูล!A32=0,\"\",E32^2)","v":31.136399999999981},{"$nulls":11},"","",{"$f":"IF(กรอกข้อมูล!AS32>กรอกข้อมูล!AO$2,\"\",กรอกข้อมูล!AS32)","v":""},{"$f":"IF(กรอกข้อมูล!AS32>กรอกข้อมูล!AO$2,\"\",กรอกข้อมูล!AT32)","v":""}]
[26,4.4200000000000017,19.536400000000015,{"$f":"IF(กรอกข้อมูล!A33=0,\"\",กรอกข้อมูล!A33)","v":26},{"$f":"IF(กรอกข้อมูล!A33=0,\"\",D33-I$6)","v":4.4200000000000017},{"$f":"IF(กรอกข้อมูล!A33=0,\"\",E33^2)","v":19.536400000000015},{"$nulls":11},"","",{"$f":"IF(กรอกข้อมูล!AS33>กรอกข้อมูล!AO$2,\"\",กรอกข้อมูล!AS33)","v":""},{"$f":"IF(กรอกข้อมูล!AS33>กรอกข้อมูล!AO$2,\"\",กรอกข้อมูล!AT33)","v":""}]
[26,4.4200000000000017,19.536400000000015,{"$f":"IF(กรอกข้อมูล!A34=0,\"\",กรอกข้อมูล!A34)","v":26},{"$f":"IF(กรอกข้อมูล!A34=0,\"\",D34-I$6)","v":4.4200000000000017},{"$f":"IF(กรอกข้อมูล!A34=0,\"\",E34^2)","v":19.536400000000015},{"$nulls":11},"","",{"$f":"IF(กรอกข้อมูล!AS34>กรอกข้อมูล!AO$2,\"\",กรอกข้อมูล!AS34)","v":""},{"$f":"IF(กรอกข้อมูล!AS34>กรอกข้อมูล!AO$2,\"\",กรอกข้อมูล!AT34)","v":""}]
[28,6.4200000000000017,41.216400000000021,{"$f":"IF(กรอกข้อมูล!A35=0,\"\",กรอกข้อมูล!A35)","v":28},{"$f":"IF(กรอกข้อมูล!A35=0,\"\",D35-I$6)","v":6.4200000000000017},{"$f":"IF(กรอกข้อมูล!A35=0,\"\",E35^2)","v":41.216400000000021},{"$nulls":11},"","",{"$f":"IF(กรอกข้อมูล!AS35>กรอกข้อมูล!AO$2,\"\",กรอกข้อมูล!AS35)","v":""},{"$f":"IF(กรอกข้อมูล!AS35>กรอกข้อมูล!AO$2,\"\",กรอกข้อมูล!AT35)","v":""}]
[21,-0.57999999999999829,0.33639999999999803,{"$f":"IF(กรอกข้อมูล!A36=0,\"\",กรอกข้อมูล!A36)","v":21},{"$f":"IF(กรอกข้อมูล!A36=0,\"\",D36-I$6)","v":-0.57999999999999829},{"$f":"IF(กรอกข้อมูล!A36=0,\"\",E36^2)","v":0.33639999999999803},{"$nulls":11},"","",{"$f":"IF(กรอกข้อมูล!AS36>กรอกข้อมูล!AO$2,\"\",กรอกข้อมูล!AS36)","v":""},{"$f":"IF(กรอกข้อมูล!AS36>กรอกข้อมูล!AO$2,\"\",กรอกข้อมูล!AT36)","v":""}]
[17,-4.5799999999999983,20.976399999999984,{"$f":"IF(กรอกข้อมูล!A37=0,\"\",กรอกข้อมูล!A37)","v":17},{"$f":"IF(กรอกข้อมูล!A37=0,\"\",D37-I$6)","v":-4.5799999999999983},{"$f":"IF(กรอกข้อมูล!A37=0,\"\",E37^2)","v":20.976399999999984},{"$nulls":11},"","",{"$f":"IF(กรอกข้อมูล!AS37>กรอกข้อมูล!AO$2,\"\",กรอกข้อมูล!AS37)","v":""},{"$f":"IF(กรอกข้อมูล!AS37>กรอกข้อมูล!AO$2,\"\",กรอกข้อมูล!AT37)","v":""}]
[13,-8.5799999999999983,73.61639999999997,{"$f":"IF(กรอกข้อมูล!A38=0,\"\",กรอกข้อมูล!A38)","v":13},{"$f":"IF(กรอกข้อมูล!A38=0,\"\",D38-I$6)","v":-8.5799999999999983},{"$f":"IF(กรอกข้อมูล!A38=0,\"\",E38^2)","v":73.61639999999997},{"$nulls":11},"","",{"$f":"IF(กรอกข้อมูล!AS38>กรอกข้อมูล!AO$2,\"\",กรอกข้อมูล!AS38)","v":""},{"$f":"IF(กรอกข้อมูล!AS38>กรอกข้อมูล!AO$2,\"\",กรอกข้อมูล!AT38)","v":""}]
[17,-4.5799999999999983,20.976399999999984,{"$f":"IF(กรอกข้อมูล!A39=0,\"\",กรอกข้อมูล!A39)","v":17},{"$f":"IF(กรอกข้อมูล!A39=0,\"\",D39-I$6)","v":-4.5799999999999983},{"$f":"IF(กรอกข้อมูล!A39=0,\"\",E39^2)","v":20.976399999999984},{"$nulls":11},"","",{"$f":"IF(กรอกข้อมูล!AS39>กรอกข้อมูล!AO$2,\"\",กรอกข้อมูล!AS39)","v":""},{"$f":"IF(กรอกข้อมูล!AS39>กรอกข้อมูล!AO$2,\"\",กรอกข้อมูล!AT39)","v":""}]
[24,2.4200000000000017,5.8564000000000078,{"$f":"IF(กรอกข้อมูล!A40=0,\"\",กรอกข้อมูล!A40)","v":24},{"$f":"IF(กรอกข้อมูล!A40=0,\"\",D40-I$6)","v":2.4200000000000017},{"$f":"IF(กรอกข้อมูล!A40=0,\"\",E40^2)","v":5.8564000000000078},{"$nulls":11},"","",{"$f":"IF(กรอกข้อมูล!AS40>กรอกข้อมูล!AO$2,\"\",กรอกข้อมูล!AS40)","v":""},{"$f":"IF(กรอกข้อมูล!AS40>กรอกข้อมูล!AO$2,\"\",กรอกข้อมูล!AT40)","v":""}]
[21,-0.57999999999999829,0.33639999999999803,{"$f":"IF(กรอกข้อมูล!A41=0,\"\",กรอกข้อมูล!A41)","v":21},{"$f":"IF(กรอกข้อมูล!A41=0,\"\",D41-I$6)","v":-0.57999999999999829},{"$f":"IF(กรอกข้อมูล!A41=0,\"\",E41^2)","v":0.33639999999999803},{"$nulls":11},"","",{"$f":"IF(กรอกข้อมูล!AS41>กรอกข้อมูล!AO$2,\"\",กรอกข้อมูล!AS41)","v":""},{"$f":"IF(กรอกข้อมูล!AS41>กรอกข้อมูล!AO$2,\"\",กรอกข้อมูล!AT41)","v":""}]
[20,-1.5799999999999983,2.4963999999999946,{"$f":"IF(กรอกข้อมูล!A42=0,\"\",กรอกข้อมูล!A42)","v":20},{"$f":"IF(กรอกข้อมูล!A42=0,\"\",D42-I$6)","v":-1.5799999999999983},{"$f":"IF(กรอกข้อมูล!A42=0,\"\",E42^2)","v":2.4963999999999946},{"$nulls":11},"","",{"$f":"IF(กรอกข้อมูล!AS42>กรอกข้อมูล!AO$2,\"\",กรอกข้อมูล!AS42)","v":""},{"$f":"IF(กรอกข้อมูล!AS42>กรอกข้อมูล!AO$2,\"\",กรอกข้อมูล!AT42)","v":""}]
[16,-5.5799999999999983,31.136399999999981,{"$f":"IF(กรอกข้อมูล!A43=0,\"\",กรอกข้อมูล!A43)","v":16},{"$f":"IF(กรอกข้อมูล!A43=0,\"\",D43-I$6)","v":-5.5799999999999983},{"$f":"IF(กรอกข้อมูล!A43=0,\"\",E43^2)","v":31.136399999999981},{"$nulls":11},"","",{"$f":"IF(กรอกข้อมูล!AS43>กรอกข้อมูล!AO$2,\"\",กรอกข้อมูล!AS43)","v":""},{"$f":"IF(กรอกข้อมูล!AS43>กรอกข้อมูล!AO$2,\"\",กรอกข้อมูล!AT43)","v":""}]
[20,-1.5799999999999983,2.4963999999999946,{"$f":"IF(กรอกข้อมูล!A44=0,\"\",กรอกข้อมูล!A44)","v":20},{"$f":"IF(กรอกข้อมูล!A44=0,\"\",D44-I$6)","v":-1.5799999999999983},{"$f":"IF(กรอกข้อมูล!A44=0,\"\",E44^2)","v":2.4963999999999946},{"$nulls":11},"","",{"$f":"IF(กรอกข้อมูล!AS44>กรอกข้อมูล!AO$2,\"\",กรอกข้อมูล!AS44)","v":""},{"$f":"IF(กรอกข้อมูล!AS44>กรอกข้อมูล!AO$2,\"\",กรอกข้อมูล!AT44)","v":""}]
[25,3.4200000000000017,11.696400000000011,{"$f":"IF(กรอกข้อมูล!A45=0,\"\",กรอกข้อมูล!A45)","v":25},{"$f":"IF(กรอกข้อมูล!A45=0,\"\",D45-I$6)","v":3.4200000000000017},{"$f":"IF(กรอกข้อมูล!A45=0,\"\",E45^2)","v":11.696400000000011},{"$nulls":11},"","",{"$f":"IF(กรอกข้อมูล!AS45>กรอกข้อมูล!AO$2,\"\",กรอกข้อมูล!AS45)","v":""},{"$f":"IF(กรอกข้อมูล!AS45>กรอกข้อมูล!AO$2,\"\",กรอกข้อมูล!AT45)","v":""}]
[21,-0.57999999999999829,0.33639999999999803,{"$f":"IF(กรอกข้อมูล!A46=0,\"\",กรอกข้อมูล!A46)","v":21},{"$f":"IF(กรอกข้อมูล!A46=0,\"\",D46-I$6)","v":-0.57999999999999829},{"$f":"IF(กรอกข้อมูล!A46=0,\"\",E46^2)","v":0.33639999999999803},{"$nulls":11},"","",{"$f":"IF(กรอกข้อมูล!AS46>กรอกข้อมูล!AO$2,\"\",กรอกข้อมูล!AS46)","v":""},{"$f":"IF(กรอกข้อมูล!AS46>กรอกข้อมูล!AO$2,\"\",กรอกข้อมูล!AT46)","v":""}]
[23,1.4200000000000017,2.0164000000000049,{"$f":"IF(กรอกข้อมูล!A47=0,\"\",กรอกข้อมูล!A47)","v":23},{"$f":"IF(กรอกข้อมูล!A47=0,\"\",D47-I$6)","v":1.4200000000000017},{"$f":"IF(กรอกข้อมูล!A47=0,\"\",E47^2)","v":2.0164000000000049},{"$nulls":11},"","",{"$f":"IF(กรอกข้อมูล!AS47>กรอกข้อมูล!AO$2,\"\",กรอกข้อมูล!AS47)","v":""},{"$f":"IF(กรอกข้อมูล!AS47>กรอกข้อมูล!AO$2,\"\",กรอกข้อมูล!AT47)","v":""}]
[24,2.4200000000000017,5.8564000000000078,{"$f":"IF(กรอกข้อมูล!A48=0,\"\",กรอกข้อมูล!A48)","v":24},{"$f":"IF(กรอกข้อมูล!A48=0,\"\",D48-I$6)","v":2.4200000000000017},{"$f":"IF(กรอกข้อมูล!A48=0,\"\",E48^2)","v":5.8564000000000078},{"$nulls":11},"","",{"$f":"IF(กรอกข้อมูล!AS48>กรอกข้อมูล!AO$2,\"\",กรอกข้อมูล!AS48)","v":""},{"$f":"IF(กรอกข้อมูล!AS48>กรอกข้อมูล!AO$2,\"\",กรอกข้อมูล!AT48)","v":""}]
[21,-0.57999999999999829,0.33639999999999803,{"$f":"IF(กรอกข้อมูล!A49=0,\"\",กรอกข้อมูล!A49)","v":21},{"$f":"IF(กรอกข้อมูล!A49=0,\"\",D49-I$6)","v":-0.57999999999999829},{"$f":"IF(กรอกข้อมูล!A49=0,\"\",E49^2)","v":0.33639999999999803},{"$nulls":11},"","",{"$f":"IF(กรอกข้อมูล!AS49>กรอกข้อมูล!AO$2,\"\",กรอกข้อมูล!AS49)","v":""},{"$f":"IF(กรอกข้อมูล!AS49>กรอกข้อมูล!AO$2,\"\",กรอกข้อมูล!AT49)","v":""}]
[18,-3.5799999999999983,12.816399999999987,{"$f":"IF(กรอกข้อมูล!A50=0,\"\",กรอกข้อมูล!A50)","v":18},{"$f":"IF(กรอกข้อมูล!A50=0,\"\",D50-I$6)","v":-3.5799999999999983},{"$f":"IF(กรอกข้อมูล!A50=0,\"\",E50^2)","v":12.816399999999987},{"$nulls":11},"","",{"$f":"IF(กรอกข้อมูล!AS50>กรอกข้อมูล!AO$2,\"\",กรอกข้อมูล!AS50)","v":""},{"$f":"IF(กรอกข้อมูล!AS50>กรอกข้อมูล!AO$2,\"\",กรอกข้อมูล!AT50)","v":""}]
[18,-3.5799999999999983,12.816399999999987,{"$f":"IF(กรอกข้อมูล!A51=0,\"\",กรอกข้อมูล!A51)","v":18},{"$f":"IF(กรอกข้อมูล!A51=0,\"\",D51-I$6)","v":-3.5799999999999983},{"$f":"IF(กรอกข้อมูล!A51=0,\"\",E51^2)","v":12.816399999999987},{"$nulls":11},"","",{"$f":"IF(กรอกข้อมูล!AS51>กรอกข้อมูล!AO$2,\"\",กรอกข้อมูล!AS51)","v":""},{"$f":"IF(กรอกข้อมูล!AS51>กรอกข้อมูล!AO$2,\"\",กรอกข้อมูล!AT51)","v":""}]
["","","",{"$f":"IF(กรอกข้อมูล!A52=0,\"\",กรอกข้อมูล!A52)","v":""},{"$f":"IF(กรอกข้อมูล!A52=0,\"\",D52-I$6)","v":""},{"$f":"IF(กรอกข้อมูล!A52=0,\"\",E52^2)","v":""},{"$nulls":11},"","",{"$f":"IF(กรอกข้อมูล!AS52>กรอกข้อมูล!AO$2,\"\",กรอกข้อมูล!AS52)","v":""},{"$f":"IF(กรอกข้อมูล!AS52>กรอกข้อมูล!AO$2,\"\",กรอกข้อมูล!AT52)","v":""}]
["","","",{"$f":"IF(กรอกข้อมูล!A53=0,\"\",กรอกข้อมูล!A53)","v":""},{"$f":"IF(กรอกข้อมูล!A53=0,\"\",D53-I$6)","v":""},{"$f":"IF(กรอกข้อมูล!A53=0,\"\",E53^2)","v":""},{"$nulls":11},"","",{"$f":"IF(กรอกข้อมูล!AS53>กรอกข้อมูล!AO$2,\"\",กรอกข้อมูล!AS53)","v":""},{"$f":"IF(กรอกข้อมูล!AS53>กรอกข้อมูล!AO$2,\"\",กรอกข้อมูล!AT53)","v":""}]
["","","",{"$f":"IF(กรอกข้อมูล!A54=0,\"\",กรอกข้อมูล!A54)","v":""},{"$f":"IF(กรอกข้อมูล!A54=0,\"\",D54-I$6)","v":""},{"$f":"IF(กรอกข้อมูล!A54=0,\"\",E54^2)","v":""},{"$nulls":11},"","",{"$f":"IF(กรอกข้อมูล!AS54>กรอกข้อมูล!AO$2,\"\",กรอกข้อมูล!AS54)","v":""},{"$f":"IF(กรอกข้อมูล!AS54>กรอกข้อมูล!AO$2,\"\",กรอกข้อมูล!AT54)","v":""}]
["","","",{"$f":"IF(กรอกข้อมูล!A55=0,\"\",กรอกข้อมูล!A55)","v":""},{"$f":"IF(กรอกข้อมูล!A55=0,\"\",D55-I$6)","v":""},{"$f":"IF(กรอกข้อมูล!A55=0,\"\",E55^2)","v":""},{"$nulls":11},"","",{"$f":"IF(กรอกข้อมูล!AS55>กรอกข้อมูล!AO$2,\"\",กรอกข้อมูล!AS55)","v":""},{"$f":"IF(กรอกข้อมูล!AS55>กรอกข้อมูล!AO$2,\"\",กรอกข้อมูล!AT55)","v":""}]
["","","",{"$f":"IF(กรอกข้อมูล!A56=0,\"\",กรอกข้อมูล!A56)","v":""},{"$f":"IF(กรอกข้อมูล!A56=0,\"\",D56-I$6)","v":""},{"$f":"IF(กรอกข้อมูล!A56=0,\"\",E56^2)","v":""},{"$nulls":11},"","",{"$f":"IF(กรอกข้อมูล!AS56>กรอกข้อมูล!AO$2,\"\",กรอกข้อมูล!AS56)","v":""},{"$f":"IF(กรอกข้อมูล!AS56>กรอกข้อมูล!AO$2,\"\",กรอกข้อมูล!AT56)","v":""}]
["","","",{"$f":"IF(กรอกข้อมูล!A57=0,\"\",กรอกข้อมูล!A57)","v":""},{"$f":"IF(กรอกข้อมูล!A57=0,\"\",D57-I$6)","v":""},{"$f":"IF(กรอกข้อมูล!A57=0,\"\",E57^2)","v":""},{"$nulls":11},"","",{"$f":"IF(กรอกข้อมูล!AS57>กรอกข้อมูล!AO$2,\"\",กรอกข้อมูล!AS57)","v":""},{"$f":"IF(กรอกข้อมูล!AS57>กรอกข้อมูล!AO$2,\"\",กรอกข้อมูล!AT57)","v":""}]
["","","",{"$f":"IF(กรอกข้อมูล!A58=0,\"\",กรอกข้อมูล!A58)","v":""},{"$f":"IF(กรอกข้อมูล!A58=0,\"\",D58-I$6)","v":""},{"$f":"IF(กรอกข้อมูล!A58=0,\"\",E58^2)","v":""},{"$nulls":11},"","",{"$f":"IF(กรอกข้อมูล!AS58>กรอกข้อมูล!AO$2,\"\",กรอกข้อมูล!AS58)","v":""},{"$f":"IF(กรอกข้อมูล!AS58>กรอกข้อมูล!AO$2,\"\",กรอกข้อมูล!AT58)","v":""}]
["","","",{"$f":"IF(กรอกข้อมูล!A59=0,\"\",กรอกข้อมูล!A59)","v":""},{"$f":"IF(กรอกข้อมูล!A59=0,\"\",D59-I$6)","v":""},{"$f":"IF(กรอกข้อมูล!A59=0,\"\",E59^2)","v":""},{"$nulls":11},"","",{"$f":"IF(กรอกข้อมูล!AS59>กรอกข้อมูล!AO$2,\"\",กรอกข้อมูล!AS59)","v":""},{"$f":"IF(กรอกข้อมูล!AS59>กรอกข้อมูล!AO$2,\"\",กรอกข้อมูล!AT59)","v":""}]
["","","",{"$f":"IF(กรอกข้อมูล!A60=0,\"\",กรอกข้อมูล!A60)","v":""},{"$f":"IF(กรอกข้อมูล!A60=0,\"\",D60-I$6)","v":""},{"$f":"IF(กรอกข้อมูล!A60=0,\"\",E60^2)","v":""},{"$nulls":11},"","",{"$f":"IF(กรอกข้อมูล!AS60>กรอกข้อมูล!AO$2,\"\",กรอกข้อมูล!AS60)","v":""},{"$f":"IF(กรอกข้อมูล!AS60>กรอกข้อมูล!AO$2,\"\",กรอกข้อมูล!AT60)","v":""}]
["","","",{"$f":"IF(กรอกข้อมูล!A61=0,\"\",กรอกข้อมูล!A61)","v":""},{"$f":"IF(กรอกข้อมูล!A61=0,\"\",D61-I$6)","v":""},{"$f":"IF(กรอกข้อมูล!A61=0,\"\",E61^2)","v":""},{"$nulls":11},"","",{"$f":"IF(กรอกข้อมูล!AS61>กรอกข้อมูล!AO$2,\"\",กรอกข้อมูล!AS61)","v":""},{"$f":"IF(กรอกข้อมูล!AS61>กรอกข้อมูล!AO$2,\"\",กรอกข้อมูล!AT61)","v":""}]
["","","",{"$f":"IF(กรอกข้อมูล!A62=0,\"\",กรอกข้อมูล!A62)","v":""},{"$f":"IF(กรอกข้อมูล!A62=0,\"\",D62-I$6)","v":""},{"$f":"IF(กรอกข้อมูล!A62=0,\"\",E62^2)","v":""},{"$nulls":11},"","",{"$f":"IF(กรอกข้อมูล!AS62>กรอกข้อมูล!AO$2,\"\",กรอกข้อมูล!AS62)","v":""},{"$f":"IF(กรอกข้อมูล!AS62>กรอกข้อมูล!AO$2,\"\",กรอกข้อมูล!AT62)","v":""}]
["","","",{"$f":"IF(กรอกข้อมูล!A63=0,\"\",กรอกข้อมูล!A63)","v":""},{"$f":"IF(กรอกข้อมูล!A63=0,\"\",D63-I$6)","v":""},{"$f":"IF(กรอกข้อมูล!A63=0,\"\",E63^2)","v":""},{"$nulls":11},"","",{"$f":"IF(กรอกข้อมูล!AS63>กรอกข้อมูล!AO$2,\"\",กรอกข้อมูล!AS63)","v":""},{"$f":"IF(กรอกข้อมูล!AS63>กรอกข้อมูล!AO$2,\"\",กรอกข้อมูล!AT63)","v":""}]
["","","",{"$f":"IF(กรอกข้อมูล!A64=0,\"\",กรอกข้อมูล!A64)","v":""},{"$f":"IF(กรอกข้อมูล!A64=0,\"\",D64-I$6)","v":""},{"$f":"IF(กรอกข้อมูล!A64=0,\"\",E64^2)","v":""},{"$nulls":11},"","",{"$f":"IF(กรอกข้อมูล!AS64>กรอกข้อมูล!AO$2,\"\",กรอกข้อมูล!AS64)","v":""},{"$f":"IF(กรอกข้อมูล!AS64>กรอกข้อมูล!AO$2,\"\",กรอกข้อมูล!AT64)","v":""}]
[{"$f":"D65","v":""},{"$f":"E65","v":""},{"$f":"F65","v":""},{"$f":"IF(กรอกข้อมูล!A65=0,\"\",กรอกข้อมูล!A65)","v":""},{"$f":"IF(กรอกข้อมูล!A65=0,\"\",D65-I$6)","v":""},{"$f":"IF(กรอกข้อมูล!A65=0,\"\",E65^2)","v":""},{"$nulls":11},"","",{"$f":"IF(กรอกข้อมูล!AS65>กรอกข้อมูล!AO$2,\"\",กรอกข้อมูล!AS65)","v":""},{"$f":"IF(กรอกข้อมูล!AS65>กรอกข้อมูล!AO$2,\"\",กรอกข้อมูล!AT65)","v":""}]
["","","",{"$f":"IF(กรอกข้อมูล!A66=0,\"\",กรอกข้อมูล!A66)","v":""},{"$f":"IF(กรอกข้อมูล!A66=0,\"\",D66-I$6)","v":""},{"$f":"IF(กรอกข้อมูล!A66=0,\"\",E66^2)","v":""},{"$nulls":11},{"$f":"T66","v":""},{"$f":"U66","v":""},{"$f":"IF(กรอกข้อมูล!AS66>กรอกข้อมูล!AO$2,\"\",กรอกข้อมูล!AS66)","v":""},{"$f":"IF(กรอกข้อมูล!AS66>กรอกข้อมูล!AO$2,\"\",กรอกข้อมูล!AT66)","v":""}]
["","","",{"$f":"IF(กรอกข้อมูล!A67=0,\"\",กรอกข้อมูล!A67)","v":""},{"$f":"IF(กรอกข้อมูล!A67=0,\"\",D67-I$6)","v":""},{"$f":"IF(กรอกข้อมูล!A67=0,\"\",E67^2)","v":""},{"$nulls":11},"","",{"$f":"IF(กรอกข้อมูล!AS67>กรอกข้อมูล!AO$2,\"\",กรอกข้อมูล!AS67)","v":""},{"$f":"IF(กรอกข้อมูล!AS67>กรอกข้อมูล!AO$2,\"\",กรอกข้อมูล!AT67)","v":""}]
["","","",{"$f":"IF(กรอกข้อมูล!A68=0,\"\",กรอกข้อมูล!A68)","v":""},{"$f":"IF(กรอกข้อมูล!A68=0,\"\",D68-I$6)","v":""},{"$f":"IF(กรอกข้อมูล!A68=0,\"\",E68^2)","v":""},{"$nulls":11},"","",{"$f":"IF(กรอกข้อมูล!AS68>กรอกข้อมูล!AO$2,\"\",กรอกข้อมูล!AS68)","v":""},{"$f":"IF(กรอกข้อมูล!AS68>กรอกข้อมูล!AO$2,\"\",กรอกข้อมูล!AT68)","v":""}]
["","","",{"$f":"IF(กรอกข้อมูล!A69=0,\"\",กรอกข้อมูล!A69)","v":""},{"$f":"IF(กรอกข้อมูล!A69=0,\"\",D69-I$6)","v":""},{"$f":"IF(กรอกข้อมูล!A69=0,\"\",E69^2)","v":""},{"$nulls":11},"","",{"$f":"IF(กรอกข้อมูล!AS69>กรอกข้อมูล!AO$2,\"\",กรอกข้อมูล!AS69)","v":""},{"$f":"IF(กรอกข้อมูล!AS69>กรอกข้อมูล!AO$2,\"\",กรอกข้อมูล!AT69)","v":""}]
["","","",{"$f":"IF(กรอกข้อมูล!A70=0,\"\",กรอกข้อมูล!A70)","v":""},{"$f":"IF(กรอกข้อมูล!A70=0,\"\",D70-I$6)","v":""},{"$f":"IF(กรอกข้อมูล!A70=0,\"\",E70^2)","v":""},{"$nulls":11},"","",{"$f":"IF(กรอกข้อมูล!AS70>กรอกข้อมูล!AO$2,\"\",กรอกข้อมูล!AS70)","v":""},{"$f":"IF(กรอกข้อมูล!AS70>กรอกข้อมูล!AO$2,\"\",กรอกข้อมูล!AT70)","v":""}]
["","","",{"$f":"IF(กรอกข้อมูล!A71=0,\"\",กรอกข้อมูล!A71)","v":""},{"$f":"IF(กรอกข้อมูล!A71=0,\"\",D71-I$6)","v":""},{"$f":"IF(กรอกข้อมูล!A71=0,\"\",E71^2)","v":""},{"$nulls":11},"","",{"$f":"IF(กรอกข้อมูล!AS71>กรอกข้อมูล!AO$2,\"\",กรอกข้อมูล!AS71)","v":""},{"$f":"IF(กรอกข้อมูล!AS71>กรอกข้อมูล!AO$2,\"\",กรอกข้อมูล!AT71)","v":""}]
["","","",{"$f":"IF(กรอกข้อมูล!A72=0,\"\",กรอกข้อมูล!A72)","v":""},{"$f":"IF(กรอกข้อมูล!A72=0,\"\",D72-I$6)","v":""},{"$f":"IF(กรอกข้อมูล!A72=0,\"\",E72^2)","v":""},{"$nulls":11},"","",{"$f":"IF(กรอกข้อมูล!AS72>กรอกข้อมูล!AO$2,\"\",กรอกข้อมูล!AS72)","v":""},{"$f":"IF(กรอกข้อมูล!AS72>กรอกข้อมูล!AO$2,\"\",กรอกข้อมูล!AT72)","v":""}]
["","","",{"$f":"IF(กรอกข้อมูล!A73=0,\"\",กรอกข้อมูล!A73)","v":""},{"$f":"IF(กรอกข้อมูล!A73=0,\"\",D73-I$6)","v":""},{"$f":"IF(กรอกข้อมูล!A73=0,\"\",E73^2)","v":""},{"$nulls":11},"","",{"$f":"IF(กรอกข้อมูล!AS73>กรอกข้อมูล!AO$2,\"\",กรอกข้อมูล!AS73)","v":""},{"$f":"IF(กรอกข้อมูล!AS73>กรอกข้อมูล!AO$2,\"\",กรอกข้อมูล!AT73)","v":""}]
["","","",{"$f":"IF(กรอกข้อมูล!A74=0,\"\",กรอกข้อมูล!A74)","v":""},{"$f":"IF(กรอกข้อมูล!A74=0,\"\",D74-I$6)","v":""},{"$f":"IF(กรอกข้อมูล!A74=0,\"\",E74^2)","v":""},{"$nulls":11},"","",{"$f":"IF(กรอกข้อมูล!AS74>กรอกข้อมูล!AO$2,\"\",กรอกข้อมูล!AS74)","v":""},{"$f":"IF(กรอกข้อมูล!AS74>กรอกข้อมูล!AO$2,\"\",กรอกข้อมูล!AT74)","v":""}]
["","","",{"$f":"IF(กรอกข้อมูล!A75=0,\"\",กรอกข้อมูล!A75)","v":""},{"$f":"IF(กรอกข้อมูล!A75=0,\"\",D75-I$6)","v":""},{"$f":"IF(กรอกข้อมูล!A75=0,\"\",E75^2)","v":""},{"$nulls":11},"","",{"$f":"IF(กรอกข้อมูล!AS75>กรอกข้อมูล!AO$2,\"\",กรอกข้อมูล!AS75)","v":""},{"$f":"IF(กรอกข้อมูล!AS75>กรอกข้อมูล!AO$2,\"\",กรอกข้อมูล!AT75)","v":""}]
["","","",{"$f":"IF(กรอกข้อมูล!A76=0,\"\",กรอกข้อมูล!A76)","v":""},{"$f":"IF(กรอกข้อมูล!A76=0,\"\",D76-I$6)","v":""},{"$f":"IF(กรอกข้อมูล!A76=0,\"\",E76^2)","v":""},{"$nulls":11},"","",{"$f":"IF(กรอกข้อมูล!AS76>กรอกข้อมูล!AO$2,\"\",กรอกข้อมูล!AS76)","v":""},{"$f":"IF(กรอกข้อมูล!AS76>กรอกข้อมูล!AO$2,\"\",กรอกข้อมูล!AT76)","v":""}]
["","","",{"$f":"IF(กรอกข้อมูล!A77=0,\"\",กรอกข้อมูล!A77)","v":""},{"$f":"IF(กรอกข้อมูล!A77=0,\"\",D77-I$6)","v":""},{"$f":"IF(กรอกข้อมูล!A77=0,\"\",E77^2)","v":""},{"$nulls":11},"","",{"$f":"IF(กรอกข้อมูล!AS77>กรอกข้อมูล!AO$2,\"\",กรอกข้อมูล!AS77)","v":""},{"$f":"IF(กรอกข้อมูล!AS77>กรอกข้อมูล!AO$2,\"\",กรอกข้อมูล!AT77)","v":""}]
["","","",{"$f":"IF(กรอกข้อมูล!A78=0,\"\",กรอกข้อมูล!A78)","v":""},{"$f":"IF(กรอกข้อมูล!A78=0,\"\",D78-I$6)","v":""},{"$f":"IF(กรอกข้อมูล!A78=0,\"\",E78^2)","v":""},{"$nulls":11},"","",{"$f":"IF(กรอกข้อมูล!AS78>กรอกข้อมูล!AO$2,\"\",กรอกข้อมูล!AS78)","v":""},{"$f":"IF(กรอกข้อมูล!AS78>กรอกข้อมูล!AO$2,\"\",กรอกข้อมูล!AT78)","v":""}]
["","","",{"$f":"IF(กรอกข้อมูล!A79=0,\"\",กรอกข้อมูล!A79)","v":""},{"$f":"IF(กรอกข้อมูล!A79=0,\"\",D79-I$6)","v":""},{"$f":"IF(กรอกข้อมูล!A79=0,\"\",E79^2)","v":""},{"$nulls":11},"","",{"$f":"IF(กรอกข้อมูล!AS79>กรอกข้อมูล!AO$2,\"\",กรอกข้อมูล!AS79)","v":""},{"$f":"IF(กรอกข้อมูล!AS79>กรอกข้อมูล!AO$2,\"\",กรอกข้อมูล!AT79)","v":""}]
["","","",{"$f":"IF(กรอกข้อมูล!A80=0,\"\",กรอกข้อมูล!A80)","v":""},{"$f":"IF(กรอกข้อมูล!A80=0,\"\",D80-I$6)","v":""},{"$f":"IF(กรอกข้อมูล!A80=0,\"\",E80^2)","v":""},{"$nulls":11},"","",{"$f":"IF(กรอกข้อมูล!AS80>กรอกข้อมูล!AO$2,\"\",กรอกข้อมูล!AS80)","v":""},{"$f":"IF(กรอกข้อมูล!AS80>กรอกข้อมูล!AO$2,\"\",กรอกข้อมูล!AT80)","v":""}]
["","","",{"$f":"IF(กรอกข้อมูล!A81=0,\"\",กรอกข้อมูล!A81)","v":""},{"$f":"IF(กรอกข้อมูล!A81=0,\"\",D81-I$6)","v":""},{"$f":"IF(กรอกข้อมูล!A81=0,\"\",E81^2)","v":""},{"$nulls":11},"","",{"$f":"IF(กรอกข้อมูล!AS81>กรอกข้อมูล!AO$2,\"\",กรอกข้อมูล!AS81)","v":""},{"$f":"IF(กรอกข้อมูล!AS81>กรอกข้อมูล!AO$2,\"\",กรอกข้อมูล!AT81)","v":""}]
["","","",{"$f":"IF(กรอกข้อมูล!A82=0,\"\",กรอกข้อมูล!A82)","v":""},{"$f":"IF(กรอกข้อมูล!A82=0,\"\",D82-I$6)","v":""},{"$f":"IF(กรอกข้อมูล!A82=0,\"\",E82^2)","v":""},{"$nulls":11},"","",{"$f":"IF(กรอกข้อมูล!AS82>กรอกข้อมูล!AO$2,\"\",กรอกข้อมูล!AS82)","v":""},{"$f":"IF(กรอกข้อมูล!AS82>กรอกข้อมูล!AO$2,\"\",กรอกข้อมูล!AT82)","v":""}]
["","","",{"$f":"IF(กรอกข้อมูล!A83=0,\"\",กรอกข้อมูล!A83)","v":""},{"$f":"IF(กรอกข้อมูล!A83=0,\"\",D83-I$6)","v":""},{"$f":"IF(กรอกข้อมูล!A83=0,\"\",E83^2)","v":""},{"$nulls":11},"","",{"$f":"IF(กรอกข้อมูล!AS83>กรอกข้อมูล!AO$2,\"\",กรอกข้อมูล!AS83)","v":""},{"$f":"IF(กรอกข้อมูล!AS83>กรอกข้อมูล!AO$2,\"\",กรอกข้อมูล!AT83)","v":""}]
["","","",{"$f":"IF(กรอกข้อมูล!A84=0,\"\",กรอกข้อมูล!A84)","v":""},{"$f":"IF(กรอกข้อมูล!A84=0,\"\",D84-I$6)","v":""},{"$f":"IF(กรอกข้อมูล!A84=0,\"\",E84^2)","v":""},{"$nulls":11},"","",{"$f":"IF(กรอกข้อมูล!AS84>กรอกข้อมูล!AO$2,\"\",กรอกข้อมูล!AS84)","v":""},{"$f":"IF(กรอกข้อมูล!AS84>กรอกข้อมูล!AO$2,\"\",กรอกข้อมูล!AT84)","v":""}]
["","","",{"$f":"IF(กรอกข้อมูล!A85=0,\"\",กรอกข้อมูล!A85)","v":""},{"$f":"IF(กรอกข้อมูล!A85=0,\"\",D85-I$6)","v":""},{"$f":"IF(กรอกข้อมูล!A85=0,\"\",E85^2)","v":""},{"$nulls":11},"","",{"$f":"IF(กรอกข้อมูล!AS85>กรอกข้อมูล!AO$2,\"\",กรอกข้อมูล!AS85)","v":""},{"$f":"IF(กรอกข้อมูล!AS85>กรอกข้อมูล!AO$2,\"\",กรอกข้อมูล!AT85)","v":""}]
["","","",{"$f":"IF(กรอกข้อมูล!A86=0,\"\",กรอกข้อมูล!A86)","v":""},{"$f":"IF(กรอกข้อมูล!A86=0,\"\",D86-I$6)","v":""},{"$f":"IF(กรอกข้อมูล!A86=0,\"\",E86^2)","v":""},{"$nulls":11},"","",{"$f":"IF(กรอกข้อมูล!AS86>กรอกข้อมูล!AO$2,\"\",กรอกข้อมูล!AS86)","v":""},{"$f":"IF(กรอกข้อมูล!AS86>กรอกข้อมูล!AO$2,\"\",กรอกข้อมูล!AT86)","v":""}]
["","","",{"$f":"IF(กรอกข้อมูล!A87=0,\"\",กรอกข้อมูล!A87)","v":""},{"$f":"IF(กรอกข้อมูล!A87=0,\"\",D87-I$6)","v":""},{"$f":"IF(กรอกข้อมูล!A87=0,\"\",E87^2)","v":""},{"$nulls":11},"","",{"$f":"IF(กรอกข้อมูล!AS87>กรอกข้อมูล!AO$2,\"\",กรอกข้อมูล!AS87)","v":""},{"$f":"IF(กรอกข้อมูล!AS87>กรอกข้อมูล!AO$2,\"\",กรอกข้อมูล!AT87)","v":""}]
["","","",{"$f":"IF(กรอกข้อมูล!A88=0,\"\",กรอกข้อมูล!A88)","v":""},{"$f":"IF(กรอกข้อมูล!A88=0,\"\",D88-I$6)","v":""},{"$f":"IF(กรอกข้อมูล!A88=0,\"\",E88^2)","v":""},{"$nulls":11},"","",{"$f":"IF(กรอกข้อมูล!AS88>กรอกข้อมูล!AO$2,\"\",กรอกข้อมูล!AS88)","v":""},{"$f":"IF(กรอกข้อมูล!AS88>กรอกข้อมูล!AO$2,\"\",กรอกข้อมูล!AT88)","v":""}]
["","","",{"$f":"IF(กรอกข้อมูล!A89=0,\"\",กรอกข้อมูล!A89)","v":""},{"$f":"IF(กรอกข้อมูล!A89=0,\"\",D89-I$6)","v":""},{"$f":"IF(กรอกข้อมูล!A89=0,\"\",E89^2)","v":""},{"$nulls":11},"","",{"$f":"IF(กรอกข้อมูล!AS89>กรอกข้อมูล!AO$2,\"\",กรอกข้อมูล!AS89)","v":""},{"$f":"IF(กรอกข้อมูล!AS89>กรอกข้อมูล!AO$2,\"\",กรอกข้อมูล!AT89)","v":""}]
["","","",{"$f":"IF(กรอกข้อมูล!A90=0,\"\",กรอกข้อมูล!A90)","v":""},{"$f":"IF(กรอกข้อมูล!A90=0,\"\",D90-I$6)","v":""},{"$f":"IF(กรอกข้อมูล!A90=0,\"\",E90^2)","v":""},{"$nulls":11},"","",{"$f":"IF(กรอกข้อมูล!AS90>กรอกข้อมูล!AO$2,\"\",กรอกข้อมูล!AS90)","v":""},{"$f":"IF(กรอกข้อมูล!AS90>กรอกข้อมูล!AO$2,\"\",กรอกข้อมูล!AT90)","v":""}]
["","","",{"$f":"IF(กรอกข้อมูล!A91=0,\"\",กรอกข้อมูล!A91)","v":""},{"$f":"IF(กรอกข้อมูล!A91=0,\"\",D91-I$6)","v":""},{"$f":"IF(กรอกข้อมูล!A91=0,\"\",E91^2)","v":""},{"$nulls":11},"","",{"$f":"IF(กรอกข้อมูล!AS91>กรอกข้อมูล!AO$2,\"\",กรอกข้อมูล!AS91)","v":""},{"$f":"IF(กรอกข้อมูล!AS91>กรอกข้อมูล!AO$2,\"\",กรอกข้อมูล!AT91)","v":""}]
["","","",{"$f":"IF(กรอกข้อมูล!A92=0,\"\",กรอกข้อมูล!A92)","v":""},{"$f":"IF(กรอกข้อมูล!A92=0,\"\",D92-I$6)","v":""},{"$f":"IF(กรอกข้อมูล!A92=0,\"\",E92^2)","v":""},{"$nulls":11},"","",{"$f":"IF(กรอกข้อมูล!AS92>กรอกข้อมูล!AO$2,\"\",กรอกข้อมูล!AS92)","v":""},{"$f":"IF(กรอกข้อมูล!AS92>กรอกข้อมูล!AO$2,\"\",กรอกข้อมูล!AT92)","v":""}]
["","","",{"$f":"IF(กรอกข้อมูล!A93=0,\"\",กรอกข้อมูล!A93)","v":""},{"$f":"IF(กรอกข้อมูล!A93=0,\"\",D93-I$6)","v":""},{"$f":"IF(กรอกข้อมูล!A93=0,\"\",E93^2)","v":""},{"$nulls":11},"","",{"$f":"IF(กรอกข้อมูล!AS93>กรอกข้อมูล!AO$2,\"\",กรอกข้อมูล!AS93)","v":""},{"$f":"IF(กรอกข้อมูล!AS93>กรอกข้อมูล!AO$2,\"\",กรอกข้อมูล!AT93)","v":""}]
["","","",{"$f":"IF(กรอกข้อมูล!A94=0,\"\",กรอกข้อมูล!A94)","v":""},{"$f":"IF(กรอกข้อมูล!A94=0,\"\",D94-I$6)","v":""},{"$f":"IF(กรอกข้อมูล!A94=0,\"\",E94^2)","v":""},{"$nulls":11},"","",{"$f":"IF(กรอกข้อมูล!AS94>กรอกข้อมูล!AO$2,\"\",กรอกข้อมูล!AS94)","v":""},{"$f":"IF(กรอกข้อมูล!AS94>กรอกข้อมูล!AO$2,\"\",กรอกข้อมูล!AT94)","v":""}]
["","","",{"$f":"IF(กรอกข้อมูล!A95=0,\"\",กรอกข้อมูล!A95)","v":""},{"$f":"IF(กรอกข้อมูล!A95=0,\"\",D95-I$6)","v":""},{"$f":"IF(กรอกข้อมูล!A95=0,\"\",E95^2)","v":""},{"$nulls":11},"","",{"$f":"IF(กรอกข้อมูล!AS95>กรอกข้อมูล!AO$2,\"\",กรอกข้อมูล!AS95)","v":""},{"$f":"IF(กรอกข้อมูล!AS95>กรอกข้อมูล!AO$2,\"\",กรอกข้อมูล!AT95)","v":""}]
["","","",{"$f":"IF(กรอกข้อมูล!A96=0,\"\",กรอกข้อมูล!A96)","v":""},{"$f":"IF(กรอกข้อมูล!A96=0,\"\",D96-I$6)","v":""},{"$f":"IF(กรอกข้อมูล!A96=0,\"\",E96^2)","v":""},{"$nulls":11},"","",{"$f":"IF(กรอกข้อมูล!AS96>กรอกข้อมูล!AO$2,\"\",กรอกข้อมูล!AS96)","v":""},{"$f":"IF(กรอกข้อมูล!AS96>กรอกข้อมูล!AO$2,\"\",กรอกข้อมูล!AT96)","v":""}]
["","","",{"$f":"IF(กรอกข้อมูล!A97=0,\"\",กรอกข้อมูล!A97)","v":""},{"$f":"IF(กรอกข้อมูล!A97=0,\"\",D97-I$6)","v":""},{"$f":"IF(กรอกข้อมูล!A97=0,\"\",E97^2)","v":""},{"$nulls":11},"","",{"$f":"IF(กรอกข้อมูล!AS97>กรอกข้อมูล!AO$2,\"\",กรอกข้อมูล!AS97)","v":""},{"$f":"IF(กรอกข้อมูล!AS97>กรอกข้อมูล!AO$2,\"\",กรอกข้อมูล!AT97)","v":""}]
["","","",{"$f":"IF(กรอกข้อมูล!A98=0,\"\",กรอกข้อมูล!A98)","v":""},{"$f":"IF(กรอกข้อมูล!A98=0,\"\",D98-I$6)","v":""},{"$f":"IF(กรอกข้อมูล!A98=0,\"\",E98^2)","v":""},{"$nulls":11},"","",{"$f":"IF(กรอกข้อมูล!AS98>กรอกข้อมูล!AO$2,\"\",กรอกข้อมูล!AS98)","v":""},{"$f":"IF(กรอกข้อมูล!AS98>กรอกข้อมูล!AO$2,\"\",กรอกข้อมูล!AT98)","v":""}]
["","","",{"$f":"IF(กรอกข้อมูล!A99=0,\"\",กรอกข้อมูล!A99)","v":""},{"$f":"IF(กรอกข้อมูล!A99=0,\"\",D99-I$6)","v":""},{"$f":"IF(กรอกข้อมูล!A99=0,\"\",E99^2)","v":""},{"$nulls":11},"","",{"$f":"IF(กรอกข้อมูล!AS99>กรอกข้อมูล!AO$2,\"\",กรอกข้อมูล!AS99)","v":""},{"$f":"IF(กรอกข้อมูล!AS99>กรอกข้อมูล!AO$2,\"\",กรอกข้อมูล!AT99)","v":""}]
["","","",{"$f":"IF(กรอกข้อมูล!A100=0,\"\",กรอกข้อมูล!A100)","v":""},{"$f":"IF(กรอกข้อมูล!A100=0,\"\",D100-I$6)","v":""},{"$f":"IF(กรอกข้อมูล!A100=0,\"\",E100^2)","v":""},{"$nulls":11},"","",{"$f":"IF(กรอกข้อมูล!AS100>กรอกข้อมูล!AO$2,\"\",กรอกข้อมูล!AS100)","v":""},{"$f":"IF(กรอกข้อมูล!AS100>กรอกข้อมูล!AO$2,\"\",กรอกข้อมูล!AT100)","v":""}]
["","","",{"$f":"IF(กรอกข้อมูล!A101=0,\"\",กรอกข้อมูล!A101)","v":""},{"$f":"IF(กรอกข้อมูล!A101=0,\"\",D101-I$6)","v":""},{"$f":"IF(กรอกข้อมูล!A101=0,\"\",E101^2)","v":""},{"$nulls":11},"","",{"$f":"IF(กรอกข้อมูล!AS101>กรอกข้อมูล!AO$2,\"\",กรอกข้อมูล!AS101)","v":""},{"$f":"IF(กรอกข้อมูล!AS101>กรอกข้อมูล!AO$2,\"\",กรอกข้อมูล!AT101)","v":""}]
["","","",{"$f":"IF(กรอกข้อมูล!A102=0,\"\",กรอกข้อมูล!A102)","v":""},{"$f":"IF(กรอกข้อมูล!A102=0,\"\",D102-I$6)","v":""},{"$f":"IF(กรอกข้อมูล!A102=0,\"\",E102^2)","v":""},{"$nulls":11},"","",{"$f":"IF(กรอกข้อมูล!AS102>กรอกข้อมูล!AO$2,\"\",กรอกข้อมูล!AS102)","v":""},{"$f":"IF(กรอกข้อมูล!AS102>กรอกข้อมูล!AO$2,\"\",กรอกข้อมูล!AT102)","v":""}]
["","","",{"$f":"IF(กรอกข้อมูล!A103=0,\"\",กรอกข้อมูล!A103)","v":""},{"$f":"IF(กรอกข้อมูล!A103=0,\"\",D103-I$6)","v":""},{"$f":"IF(กรอกข้อมูล!A103=0,\"\",E103^2)","v":""},{"$nulls":11},"","",{"$f":"IF(กรอกข้อมูล!AS103>กรอกข้อมูล!AO$2,\"\",กรอกข้อมูล!AS103)","v":""},{"$f":"IF(กรอกข้อมูล!AS103>กรอกข้อมูล!AO$2,\"\",กรอกข้อมูล!AT103)","v":""}]
["","","",{"$f":"IF(กรอกข้อมูล!A104=0,\"\",กรอกข้อมูล!A104)","v":""},{"$f":"IF(กรอกข้อมูล!A104=0,\"\",D104-I$6)","v":""},{"$f":"IF(กรอกข้อมูล!A104=0,\"\",E104^2)","v":""},{"$nulls":11},"","",{"$f":"IF(กรอกข้อมูล!AS104>กรอกข้อมูล!AO$2,\"\",กรอกข้อมูล!AS104)","v":""},{"$f":"IF(กรอกข้อมูล!AS104>กรอกข้อมูล!AO$2,\"\",กรอกข้อมูล!AT104)","v":""}]
["","","",{"$f":"IF(กรอกข้อมูล!A105=0,\"\",กรอกข้อมูล!A105)","v":""},{"$f":"IF(กรอกข้อมูล!A105=0,\"\",D105-I$6)","v":""},{"$f":"IF(กรอกข้อมูล!A105=0,\"\",E105^2)","v":""},{"$nulls":11},"","",{"$f":"IF(กรอกข้อมูล!AS105>กรอกข้อมูล!AO$2,\"\",กรอกข้อมูล!AS105)","v":""},{"$f":"IF(กรอกข้อมูล!AS105>กรอกข้อมูล!AO$2,\"\",กรอกข้อมูล!AT105)","v":""}]
["","","",{"$f":"IF(กรอกข้อมูล!A106=0,\"\",กรอกข้อมูล!A106)","v":""},{"$f":"IF(กรอกข้อมูล!A106=0,\"\",D106-I$6)","v":""},{"$f":"IF(กรอกข้อมูล!A106=0,\"\",E106^2)","v":""},{"$nulls":11},"","",{"$f":"IF(กรอกข้อมูล!AS106>กรอกข้อมูล!AO$2,\"\",กรอกข้อมูล!AS106)","v":""},{"$f":"IF(กรอกข้อมูล!AS106>กรอกข้อมูล!AO$2,\"\",กรอกข้อมูล!AT106)","v":""}]
["","","",{"$f":"IF(กรอกข้อมูล!A107=0,\"\",กรอกข้อมูล!A107)","v":""},{"$f":"IF(กรอกข้อมูล!A107=0,\"\",D107-I$6)","v":""},{"$f":"IF(กรอกข้อมูล!A107=0,\"\",E107^2)","v":""},{"$nulls":11},"","",{"$f":"IF(กรอกข้อมูล!AS107>กรอกข้อมูล!AO$2,\"\",กรอกข้อมูล!AS107)","v":""},{"$f":"IF(กรอกข้อมูล!AS107>กรอกข้อมูล!AO$2,\"\",กรอกข้อมูล!AT107)","v":""}]
["","","",{"$f":"IF(กรอกข้อมูล!A108=0,\"\",กรอกข้อมูล!A108)","v":""},{"$f":"IF(กรอกข้อมูล!A108=0,\"\",D108-I$6)","v":""},{"$f":"IF(กรอกข้อมูล!A108=0,\"\",E108^2)","v":""},{"$nulls":11},"","",{"$f":"IF(กรอกข้อมูล!AS108>กรอกข้อมูล!AO$2,\"\",กรอกข้อมูล!AS108)","v":""},{"$f":"IF(กรอกข้อมูล!AS108>กรอกข้อมูล!AO$2,\"\",กรอกข้อมูล!AT108)","v":""}]
["","","",{"$f":"IF(กรอกข้อมูล!A109=0,\"\",กรอกข้อมูล!A109)","v":""},{"$f":"IF(กรอกข้อมูล!A109=0,\"\",D109-I$6)","v":""},{"$f":"IF(กรอกข้อมูล!A109=0,\"\",E109^2)","v":""},{"$nulls":11},"","",{"$f":"IF(กรอกข้อมูล!AS109>กรอกข้อมูล!AO$2,\"\",กรอกข้อมูล!AS109)","v":""},{"$f":"IF(กรอกข้อมูล!AS109>กรอกข้อมูล!AO$2,\"\",กรอกข้อมูล!AT109)","v":""}]
["","","",{"$f":"IF(กรอกข้อมูล!A110=0,\"\",กรอกข้อมูล!A110)","v":""},{"$f":"IF(กรอกข้อมูล!A110=0,\"\",D110-I$6)","v":""},{"$f":"IF(กรอกข้อมูล!A110=0,\"\",E110^2)","v":""},{"$nulls":11},"","",{"$f":"IF(กรอกข้อมูล!AS110>กรอกข้อมูล!AO$2,\"\",กรอกข้อมูล!AS110)","v":""},{"$f":"IF(กรอกข้อมูล!AS110>กรอกข้อมูล!AO$2,\"\",กรอกข้อมูล!AT110)","v":""}]
["","","",{"$f":"IF(กรอกข้อมูล!A111=0,\"\",กรอกข้อมูล!A111)","v":""},{"$f":"IF(กรอกข้อมูล!A111=0,\"\",D111-I$6)","v":""},{"$f":"IF(กรอกข้อมูล!A111=0,\"\",E111^2)","v":""},{"$nulls":11},"","",{"$f":"IF(กรอกข้อมูล!AS111>กรอกข้อมูล!AO$2,\"\",กรอกข้อมูล!AS111)","v":""},{"$f":"IF(กรอกข้อมูล!AS111>กรอกข้อมูล!AO$2,\"\",กรอกข้อมูล!AT111)","v":""}]
["","","",{"$f":"IF(กรอกข้อมูล!A112=0,\"\",กรอกข้อมูล!A112)","v":""},{"$f":"IF(กรอกข้อมูล!A112=0,\"\",D112-I$6)","v":""},{"$f":"IF(กรอกข้อมูล!A112=0,\"\",E112^2)","v":""},{"$nulls":11},"","",{"$f":"IF(กรอกข้อมูล!AS112>กรอกข้อมูล!AO$2,\"\",กรอกข้อมูล!AS112)","v":""},{"$f":"IF(กรอกข้อมูล!AS112>กรอกข้อมูล!AO$2,\"\",กรอกข้อมูล!AT112)","v":""}]
["","","",{"$f":"IF(กรอกข้อมูล!A113=0,\"\",กรอกข้อมูล!A113)","v":""},{"$f":"IF(กรอกข้อมูล!A113=0,\"\",D113-I$6)","v":""},{"$f":"IF(กรอกข้อมูล!A113=0,\"\",E113^2)","v":""},{"$nulls":11},"","",{"$f":"IF(กรอกข้อมูล!AS113>กรอกข้อมูล!AO$2,\"\",กรอกข้อมูล!AS113)","v":""},{"$f":"IF(กรอกข้อมูล!AS113>กรอกข้อมูล!AO$2,\"\",กรอกข้อมูล!AT113)","v":""}]
["","","",{"$f":"IF(กรอกข้อมูล!A114=0,\"\",กรอกข้อมูล!A114)","v":""},{"$f":"IF(กรอกข้อมูล!A114=0,\"\",D114-I$6)","v":""},{"$f":"IF(กรอกข้อมูล!A114=0,\"\",E114^2)","v":""},{"$nulls":11},"","",{"$f":"IF(กรอกข้อมูล!AS114>กรอกข้อมูล!AO$2,\"\",กรอกข้อมูล!AS114)","v":""},{"$f":"IF(กรอกข้อมูล!AS114>กรอกข้อมูล!AO$2,\"\",กรอกข้อมูล!AT114)","v":""}]
["","","",{"$f":"IF(กรอกข้อมูล!A115=0,\"\",กรอกข้อมูล!A115)","v":""},{"$f":"IF(กรอกข้อมูล!A115=0,\"\",D115-I$6)","v":""},{"$f":"IF(กรอกข้อมูล!A115=0,\"\",E115^2)","v":""},{"$nulls":11},"","",{"$f":"IF(กรอกข้อมูล!AS115>กรอกข้อมูล!AO$2,\"\",กรอกข้อมูล!AS115)","v":""},{"$f":"IF(กรอกข้อมูล!AS115>กรอกข้อมูล!AO$2,\"\",กรอกข้อมูล!AT115)","v":""}]
["","","",{"$f":"IF(กรอกข้อมูล!A116=0,\"\",กรอกข้อมูล!A116)","v":""},{"$f":"IF(กรอกข้อมูล!A116=0,\"\",D116-I$6)","v":""},{"$f":"IF(กรอกข้อมูล!A116=0,\"\",E116^2)","v":""},{"$nulls":11},"","",{"$f":"IF(กรอกข้อมูล!AS116>กรอกข้อมูล!AO$2,\"\",กรอกข้อมูล!AS116)","v":""},{"$f":"IF(กรอกข้อมูล!AS116>กรอกข้อมูล!AO$2,\"\",กรอกข้อมูล!AT116)","v":""}]
["","","",{"$f":"IF(กรอกข้อมูล!A117=0,\"\",กรอกข้อมูล!A117)","v":""},{"$f":"IF(กรอกข้อมูล!A117=0,\"\",D117-I$6)","v":""},{"$f":"IF(กรอกข้อมูล!A117=0,\"\",E117^2)","v":""},{"$nulls":11},"","",{"$f":"IF(กรอกข้อมูล!AS117>กรอกข้อมูล!AO$2,\"\",กรอกข้อมูล!AS117)","v":""},{"$f":"IF(กรอกข้อมูล!AS117>กรอกข้อมูล!AO$2,\"\",กรอกข้อมูล!AT117)","v":""}]
["","","",{"$f":"IF(กรอกข้อมูล!A118=0,\"\",กรอกข้อมูล!A118)","v":""},{"$f":"IF(กรอกข้อมูล!A118=0,\"\",D118-I$6)","v":""},{"$f":"IF(กรอกข้อมูล!A118=0,\"\",E118^2)","v":""},{"$nulls":11},"","",{"$f":"IF(กรอกข้อมูล!AS118>กรอกข้อมูล!AO$2,\"\",กรอกข้อมูล!AS118)","v":""},{"$f":"IF(กรอกข้อมูล!AS118>กรอกข้อมูล!AO$2,\"\",กรอกข้อมูล!AT118)","v":""}]
["","","",{"$f":"IF(กรอกข้อมูล!A119=0,\"\",กรอกข้อมูล!A119)","v":""},{"$f":"IF(กรอกข้อมูล!A119=0,\"\",D119-I$6)","v":""},{"$f":"IF(กรอกข้อมูล!A119=0,\"\",E119^2)","v":""},{"$nulls":11},"","",{"$f":"IF(กรอกข้อมูล!AS119>กรอกข้อมูล!AO$2,\"\",กรอกข้อมูล!AS119)","v":""},{"$f":"IF(กรอกข้อมูล!AS119>กรอกข้อมูล!AO$2,\"\",กรอกข้อมูล!AT119)","v":""}]
["","","",{"$f":"IF(กรอกข้อมูล!A120=0,\"\",กรอกข้อมูล!A120)","v":""},{"$f":"IF(กรอกข้อมูล!A120=0,\"\",D120-I$6)","v":""},{"$f":"IF(กรอกข้อมูล!A120=0,\"\",E120^2)","v":""},{"$nulls":11},"","",{"$f":"IF(กรอกข้อมูล!AS120>กรอกข้อมูล!AO$2,\"\",กรอกข้อมูล!AS120)","v":""},{"$f":"IF(กรอกข้อมูล!AS120>กรอกข้อมูล!AO$2,\"\",กรอกข้อมูล!AT120)","v":""}]
["","","",{"$f":"IF(กรอกข้อมูล!A121=0,\"\",กรอกข้อมูล!A121)","v":""},{"$f":"IF(กรอกข้อมูล!A121=0,\"\",D121-I$6)","v":""},{"$f":"IF(กรอกข้อมูล!A121=0,\"\",E121^2)","v":""},{"$nulls":11},"","",{"$f":"IF(กรอกข้อมูล!AS121>กรอกข้อมูล!AO$2,\"\",กรอกข้อมูล!AS121)","v":""},{"$f":"IF(กรอกข้อมูล!AS121>กรอกข้อมูล!AO$2,\"\",กรอกข้อมูล!AT121)","v":""}]
["","","",{"$f":"IF(กรอกข้อมูล!A122=0,\"\",กรอกข้อมูล!A122)","v":""},{"$f":"IF(กรอกข้อมูล!A122=0,\"\",D122-I$6)","v":""},{"$f":"IF(กรอกข้อมูล!A122=0,\"\",E122^2)","v":""},{"$nulls":11},"","",{"$f":"IF(กรอกข้อมูล!AS122>กรอกข้อมูล!AO$2,\"\",กรอกข้อมูล!AS122)","v":""},{"$f":"IF(กรอกข้อมูล!AS122>กรอกข้อมูล!AO$2,\"\",กรอกข้อมูล!AT122)","v":""}]
["","","",{"$f":"IF(กรอกข้อมูล!A123=0,\"\",กรอกข้อมูล!A123)","v":""},{"$f":"IF(กรอกข้อมูล!A123=0,\"\",D123-I$6)","v":""},{"$f":"IF(กรอกข้อมูล!A123=0,\"\",E123^2)","v":""},{"$nulls":11},"","",{"$f":"IF(กรอกข้อมูล!AS123>กรอกข้อมูล!AO$2,\"\",กรอกข้อมูล!AS123)","v":""},{"$f":"IF(กรอกข้อมูล!AS123>กรอกข้อมูล!AO$2,\"\",กรอกข้อมูล!AT123)","v":""}]
["","","",{"$f":"IF(กรอกข้อมูล!A124=0,\"\",กรอกข้อมูล!A124)","v":""},{"$f":"IF(กรอกข้อมูล!A124=0,\"\",D124-I$6)","v":""},{"$f":"IF(กรอกข้อมูล!A124=0,\"\",E124^2)","v":""},{"$nulls":11},"","",{"$f":"IF(กรอกข้อมูล!AS124>กรอกข้อมูล!AO$2,\"\",กรอกข้อมูล!AS124)","v":""},{"$f":"IF(กรอกข้อมูล!AS124>กรอกข้อมูล!AO$2,\"\",กรอกข้อมูล!AT124)","v":""}]
["","","",{"$f":"IF(กรอกข้อมูล!A125=0,\"\",กรอกข้อมูล!A125)","v":""},{"$f":"IF(กรอกข้อมูล!A125=0,\"\",D125-I$6)","v":""},{"$f":"IF(กรอกข้อมูล!A125=0,\"\",E125^2)","v":""},{"$nulls":11},"","",{"$f":"IF(กรอกข้อมูล!AS125>กรอกข้อมูล!AO$2,\"\",กรอกข้อมูล!AS125)","v":""},{"$f":"IF(กรอกข้อมูล!AS125>กรอกข้อมูล!AO$2,\"\",กรอกข้อมูล!AT125)","v":""}]
["","","",{"$f":"IF(กรอกข้อมูล!A126=0,\"\",กรอกข้อมูล!A126)","v":""},{"$f":"IF(กรอกข้อมูล!A126=0,\"\",D126-I$6)","v":""},{"$f":"IF(กรอกข้อมูล!A126=0,\"\",E126^2)","v":""},{"$nulls":11},"","",{"$f":"IF(กรอกข้อมูล!AS126>กรอกข้อมูล!AO$2,\"\",กรอกข้อมูล!AS126)","v":""},{"$f":"IF(กรอกข้อมูล!AS126>กรอกข้อมูล!AO$2,\"\",กรอกข้อมูล!AT126)","v":""}]
["","","",{"$f":"IF(กรอกข้อมูล!A127=0,\"\",กรอกข้อมูล!A127)","v":""},{"$f":"IF(กรอกข้อมูล!A127=0,\"\",D127-I$6)","v":""},{"$f":"IF(กรอกข้อมูล!A127=0,\"\",E127^2)","v":""},{"$nulls":11},"","",{"$f":"IF(กรอกข้อมูล!AS127>กรอกข้อมูล!AO$2,\"\",กรอกข้อมูล!AS127)","v":""},{"$f":"IF(กรอกข้อมูล!AS127>กรอกข้อมูล!AO$2,\"\",กรอกข้อมูล!AT127)","v":""}]
["","","",{"$f":"IF(กรอกข้อมูล!A128=0,\"\",กรอกข้อมูล!A128)","v":""},{"$f":"IF(กรอกข้อมูล!A128=0,\"\",D128-I$6)","v":""},{"$f":"IF(กรอกข้อมูล!A128=0,\"\",E128^2)","v":""},{"$nulls":11},"","",{"$f":"IF(กรอกข้อมูล!AS128>กรอกข้อมูล!AO$2,\"\",กรอกข้อมูล!AS128)","v":""},{"$f":"IF(กรอกข้อมูล!AS128>กรอกข้อมูล!AO$2,\"\",กรอกข้อมูล!AT128)","v":""}]
[{"$f":"D129","v":""},{"$f":"E129","v":""},{"$f":"F129","v":""},{"$f":"IF(กรอกข้อมูล!A129=0,\"\",กรอกข้อมูล!A129)","v":""},{"$f":"IF(กรอกข้อมูล!A129=0,\"\",D129-I$6)","v":""},{"$f":"IF(กรอกข้อมูล!A129=0,\"\",E129^2)","v":""},{"$nulls":11},"","",{"$f":"IF(กรอกข้อมูล!AS129>กรอกข้อมูล!AO$2,\"\",กรอกข้อมูล!AS129)","v":""},{"$f":"IF(กรอกข้อมูล!AS129>กรอกข้อมูล!AO$2,\"\",กรอกข้อมูล!AT129)","v":""}]
["","","",{"$f":"IF(กรอกข้อมูล!A130=0,\"\",กรอกข้อมูล!A130)","v":""},{"$f":"IF(กรอกข้อมูล!A130=0,\"\",D130-I$6)","v":""},{"$f":"IF(กรอกข้อมูล!A130=0,\"\",E130^2)","v":""},{"$nulls":11},{"$f":"T130","v":""},{"$f":"U130","v":""},{"$f":"IF(กรอกข้อมูล!AS130>กรอกข้อมูล!AO$2,\"\",กรอกข้อมูล!AS130)","v":""},{"$f":"IF(กรอกข้อมูล!AS130>กรอกข้อมูล!AO$2,\"\",กรอกข้อมูล!AT130)","v":""}]
["","","",{"$f":"IF(กรอกข้อมูล!A131=0,\"\",กรอกข้อมูล!A131)","v":""},{"$f":"IF(กรอกข้อมูล!A131=0,\"\",D131-I$6)","v":""},{"$f":"IF(กรอกข้อมูล!A131=0,\"\",E131^2)","v":""},{"$nulls":11},"","",{"$f":"IF(กรอกข้อมูล!AS131>กรอกข้อมูล!AO$2,\"\",กรอกข้อมูล!AS131)","v":""},{"$f":"IF(กรอกข้อมูล!AS131>กรอกข้อมูล!AO$2,\"\",กรอกข้อมูล!AT131)","v":""}]
["","","",{"$f":"IF(กรอกข้อมูล!A132=0,\"\",กรอกข้อมูล!A132)","v":""},{"$f":"IF(กรอกข้อมูล!A132=0,\"\",D132-I$6)","v":""},{"$f":"IF(กรอกข้อมูล!A132=0,\"\",E132^2)","v":""},{"$nulls":11},"","",{"$f":"IF(กรอกข้อมูล!AS132>กรอกข้อมูล!AO$2,\"\",กรอกข้อมูล!AS132)","v":""},{"$f":"IF(กรอกข้อมูล!AS132>กรอกข้อมูล!AO$2,\"\",กรอกข้อมูล!AT132)","v":""}]
["","","",{"$f":"IF(กรอกข้อมูล!A133=0,\"\",กรอกข้อมูล!A133)","v":""},{"$f":"IF(กรอกข้อมูล!A133=0,\"\",D133-I$6)","v":""},{"$f":"IF(กรอกข้อมูล!A133=0,\"\",E133^2)","v":""},{"$nulls":11},"","",{"$f":"IF(กรอกข้อมูล!AS133>กรอกข้อมูล!AO$2,\"\",กรอกข้อมูล!AS133)","v":""},{"$f":"IF(กรอกข้อมูล!AS133>กรอกข้อมูล!AO$2,\"\",กรอกข้อมูล!AT133)","v":""}]
["","","",{"$f":"IF(กรอกข้อมูล!A134=0,\"\",กรอกข้อมูล!A134)","v":""},{"$f":"IF(กรอกข้อมูล!A134=0,\"\",D134-I$6)","v":""},{"$f":"IF(กรอกข้อมูล!A134=0,\"\",E134^2)","v":""},{"$nulls":11},"","",{"$f":"IF(กรอกข้อมูล!AS134>กรอกข้อมูล!AO$2,\"\",กรอกข้อมูล!AS134)","v":""},{"$f":"IF(กรอกข้อมูล!AS134>กรอกข้อมูล!AO$2,\"\",กรอกข้อมูล!AT134)","v":""}]
["","","",{"$f":"IF(กรอกข้อมูล!A135=0,\"\",กรอกข้อมูล!A135)","v":""},{"$f":"IF(กรอกข้อมูล!A135=0,\"\",D135-I$6)","v":""},{"$f":"IF(กรอกข้อมูล!A135=0,\"\",E135^2)","v":""},{"$nulls":11},"","",{"$f":"IF(กรอกข้อมูล!AS135>กรอกข้อมูล!AO$2,\"\",กรอกข้อมูล!AS135)","v":""},{"$f":"IF(กรอกข้อมูล!AS135>กรอกข้อมูล!AO$2,\"\",กรอกข้อมูล!AT135)","v":""}]
["","","",{"$f":"IF(กรอกข้อมูล!A136=0,\"\",กรอกข้อมูล!A136)","v":""},{"$f":"IF(กรอกข้อมูล!A136=0,\"\",D136-I$6)","v":""},{"$f":"IF(กรอกข้อมูล!A136=0,\"\",E136^2)","v":""},{"$nulls":11},"","",{"$f":"IF(กรอกข้อมูล!AS136>กรอกข้อมูล!AO$2,\"\",กรอกข้อมูล!AS136)","v":""},{"$f":"IF(กรอกข้อมูล!AS136>กรอกข้อมูล!AO$2,\"\",กรอกข้อมูล!AT136)","v":""}]
["","","",{"$f":"IF(กรอกข้อมูล!A137=0,\"\",กรอกข้อมูล!A137)","v":""},{"$f":"IF(กรอกข้อมูล!A137=0,\"\",D137-I$6)","v":""},{"$f":"IF(กรอกข้อมูล!A137=0,\"\",E137^2)","v":""},{"$nulls":11},"","",{"$f":"IF(กรอกข้อมูล!AS137>กรอกข้อมูล!AO$2,\"\",กรอกข้อมูล!AS137)","v":""},{"$f":"IF(กรอกข้อมูล!AS137>กรอกข้อมูล!AO$2,\"\",กรอกข้อมูล!AT137)","v":""}]
["","","",{"$f":"IF(กรอกข้อมูล!A138=0,\"\",กรอกข้อมูล!A138)","v":""},{"$f":"IF(กรอกข้อมูล!A138=0,\"\",D138-I$6)","v":""},{"$f":"IF(กรอกข้อมูล!A138=0,\"\",E138^2)","v":""},{"$nulls":11},"","",{"$f":"IF(กรอกข้อมูล!AS138>กรอกข้อมูล!AO$2,\"\",กรอกข้อมูล!AS138)","v":""},{"$f":"IF(กรอกข้อมูล!AS138>กรอกข้อมูล!AO$2,\"\",กรอกข้อมูล!AT138)","v":""}]
["","","",{"$f":"IF(กรอกข้อมูล!A139=0,\"\",กรอกข้อมูล!A139)","v":""},{"$f":"IF(กรอกข้อมูล!A139=0,\"\",D139-I$6)","v":""},{"$f":"IF(กรอกข้อมูล!A139=0,\"\",E139^2)","v":""},{"$nulls":11},"","",{"$f":"IF(กรอกข้อมูล!AS139>กรอกข้อมูล!AO$2,\"\",กรอกข้อมูล!AS139)","v":""},{"$f":"IF(กรอกข้อมูล!AS139>กรอกข้อมูล!AO$2,\"\",กรอกข้อมูล!AT139)","v":""}]
["","","",{"$f":"IF(กรอกข้อมูล!A140=0,\"\",กรอกข้อมูล!A140)","v":""},{"$f":"IF(กรอกข้อมูล!A140=0,\"\",D140-I$6)","v":""},{"$f":"IF(กรอกข้อมูล!A140=0,\"\",E140^2)","v":""},{"$nulls":11},"","",{"$f":"IF(กรอกข้อมูล!AS140>กรอกข้อมูล!AO$2,\"\",กรอกข้อมูล!AS140)","v":""},{"$f":"IF(กรอกข้อมูล!AS140>กรอกข้อมูล!AO$2,\"\",กรอกข้อมูล!AT140)","v":""}]
["","","",{"$f":"IF(กรอกข้อมูล!A141=0,\"\",กรอกข้อมูล!A141)","v":""},{"$f":"IF(กรอกข้อมูล!A141=0,\"\",D141-I$6)","v":""},{"$f":"IF(กรอกข้อมูล!A141=0,\"\",E141^2)","v":""},{"$nulls":11},"","",{"$f":"IF(กรอกข้อมูล!AS141>กรอกข้อมูล!AO$2,\"\",กรอกข้อมูล!AS141)","v":""},{"$f":"IF(กรอกข้อมูล!AS141>กรอกข้อมูล!AO$2,\"\",กรอกข้อมูล!AT141)","v":""}]
["","","",{"$f":"IF(กรอกข้อมูล!A142=0,\"\",กรอกข้อมูล!A142)","v":""},{"$f":"IF(กรอกข้อมูล!A142=0,\"\",D142-I$6)","v":""},{"$f":"IF(กรอกข้อมูล!A142=0,\"\",E142^2)","v":""},{"$nulls":11},"","",{"$f":"IF(กรอกข้อมูล!AS142>กรอกข้อมูล!AO$2,\"\",กรอกข้อมูล!AS142)","v":""},{"$f":"IF(กรอกข้อมูล!AS142>กรอกข้อมูล!AO$2,\"\",กรอกข้อมูล!AT142)","v":""}]
["","","",{"$f":"IF(กรอกข้อมูล!A143=0,\"\",กรอกข้อมูล!A143)","v":""},{"$f":"IF(กรอกข้อมูล!A143=0,\"\",D143-I$6)","v":""},{"$f":"IF(กรอกข้อมูล!A143=0,\"\",E143^2)","v":""},{"$nulls":11},"","",{"$f":"IF(กรอกข้อมูล!AS143>กรอกข้อมูล!AO$2,\"\",กรอกข้อมูล!AS143)","v":""},{"$f":"IF(กรอกข้อมูล!AS143>กรอกข้อมูล!AO$2,\"\",กรอกข้อมูล!AT143)","v":""}]
["","","",{"$f":"IF(กรอกข้อมูล!A144=0,\"\",กรอกข้อมูล!A144)","v":""},{"$f":"IF(กรอกข้อมูล!A144=0,\"\",D144-I$6)","v":""},{"$f":"IF(กรอกข้อมูล!A144=0,\"\",E144^2)","v":""},{"$nulls":11},"","",{"$f":"IF(กรอกข้อมูล!AS144>กรอกข้อมูล!AO$2,\"\",กรอกข้อมูล!AS144)","v":""},{"$f":"IF(กรอกข้อมูล!AS144>กรอกข้อมูล!AO$2,\"\",กรอกข้อมูล!AT144)","v":""}]
["","","",{"$f":"IF(กรอกข้อมูล!A145=0,\"\",กรอกข้อมูล!A145)","v":""},{"$f":"IF(กรอกข้อมูล!A145=0,\"\",D145-I$6)","v":""},{"$f":"IF(กรอกข้อมูล!A145=0,\"\",E145^2)","v":""},{"$nulls":11},"","",{"$f":"IF(กรอกข้อมูล!AS145>กรอกข้อมูล!AO$2,\"\",กรอกข้อมูล!AS145)","v":""},{"$f":"IF(กรอกข้อมูล!AS145>กรอกข้อมูล!AO$2,\"\",กรอกข้อมูล!AT145)","v":""}]
["","","",{"$f":"IF(กรอกข้อมูล!A146=0,\"\",กรอกข้อมูล!A146)","v":""},{"$f":"IF(กรอกข้อมูล!A146=0,\"\",D146-I$6)","v":""},{"$f":"IF(กรอกข้อมูล!A146=0,\"\",E146^2)","v":""},{"$nulls":11},"","",{"$f":"IF(กรอกข้อมูล!AS146>กรอกข้อมูล!AO$2,\"\",กรอกข้อมูล!AS146)","v":""},{"$f":"IF(กรอกข้อมูล!AS146>กรอกข้อมูล!AO$2,\"\",กรอกข้อมูล!AT146)","v":""}]
["","","",{"$f":"IF(กรอกข้อมูล!A147=0,\"\",กรอกข้อมูล!A147)","v":""},{"$f":"IF(กรอกข้อมูล!A147=0,\"\",D147-I$6)","v":""},{"$f":"IF(กรอกข้อมูล!A147=0,\"\",E147^2)","v":""},{"$nulls":11},"","",{"$f":"IF(กรอกข้อมูล!AS147>กรอกข้อมูล!AO$2,\"\",กรอกข้อมูล!AS147)","v":""},{"$f":"IF(กรอกข้อมูล!AS147>กรอกข้อมูล!AO$2,\"\",กรอกข้อมูล!AT147)","v":""}]
["","","",{"$f":"IF(กรอกข้อมูล!A148=0,\"\",กรอกข้อมูล!A148)","v":""},{"$f":"IF(กรอกข้อมูล!A148=0,\"\",D148-I$6)","v":""},{"$f":"IF(กรอกข้อมูล!A148=0,\"\",E148^2)","v":""},{"$nulls":11},"","",{"$f":"IF(กรอกข้อมูล!AS148>กรอกข้อมูล!AO$2,\"\",กรอกข้อมูล!AS148)","v":""},{"$f":"IF(กรอกข้อมูล!AS148>กรอกข้อมูล!AO$2,\"\",กรอกข้อมูล!AT148)","v":""}]
["","","",{"$f":"IF(กรอกข้อมูล!A149=0,\"\",กรอกข้อมูล!A149)","v":""},{"$f":"IF(กรอกข้อมูล!A149=0,\"\",D149-I$6)","v":""},{"$f":"IF(กรอกข้อมูล!A149=0,\"\",E149^2)","v":""},{"$nulls":11},"","",{"$f":"IF(กรอกข้อมูล!AS149>กรอกข้อมูล!AO$2,\"\",กรอกข้อมูล!AS149)","v":""},{"$f":"IF(กรอกข้อมูล!AS149>กรอกข้อมูล!AO$2,\"\",กรอกข้อมูล!AT149)","v":""}]
["","","",{"$f":"IF(กรอกข้อมูล!A150=0,\"\",กรอกข้อมูล!A150)","v":""},{"$f":"IF(กรอกข้อมูล!A150=0,\"\",D150-I$6)","v":""},{"$f":"IF(กรอกข้อมูล!A150=0,\"\",E150^2)","v":""},{"$nulls":11},"","",{"$f":"IF(กรอกข้อมูล!AS150>กรอกข้อมูล!AO$2,\"\",กรอกข้อมูล!AS150)","v":""},{"$f":"IF(กรอกข้อมูล!AS150>กรอกข้อมูล!AO$2,\"\",กรอกข้อมูล!AT150)","v":""}]
["","","",{"$f":"IF(กรอกข้อมูล!A151=0,\"\",กรอกข้อมูล!A151)","v":""},{"$f":"IF(กรอกข้อมูล!A151=0,\"\",D151-I$6)","v":""},{"$f":"IF(กรอกข้อมูล!A151=0,\"\",E151^2)","v":""},{"$nulls":11},"","",{"$f":"IF(กรอกข้อมูล!AS151>กรอกข้อมูล!AO$2,\"\",กรอกข้อมูล!AS151)","v":""},{"$f":"IF(กรอกข้อมูล!AS151>กรอกข้อมูล!AO$2,\"\",กรอกข้อมูล!AT151)","v":""}]
["","","",{"$f":"IF(กรอกข้อมูล!A152=0,\"\",กรอกข้อมูล!A152)","v":""},{"$f":"IF(กรอกข้อมูล!A152=0,\"\",D152-I$6)","v":""},{"$f":"IF(กรอกข้อมูล!A152=0,\"\",E152^2)","v":""},{"$nulls":11},"","",{"$f":"IF(กรอกข้อมูล!AS152>กรอกข้อมูล!AO$2,\"\",กรอกข้อมูล!AS152)","v":""},{"$f":"IF(กรอกข้อมูล!AS152>กรอกข้อมูล!AO$2,\"\",กรอกข้อมูล!AT152)","v":""}]
["","","",{"$f":"IF(กรอกข้อมูล!A153=0,\"\",กรอกข้อมูล!A153)","v":""},{"$f":"IF(กรอกข้อมูล!A153=0,\"\",D153-I$6)","v":""},{"$f":"IF(กรอกข้อมูล!A153=0,\"\",E153^2)","v":""},{"$nulls":11},"","",{"$f":"IF(กรอกข้อมูล!AS153>กรอกข้อมูล!AO$2,\"\",กรอกข้อมูล!AS153)","v":""},{"$f":"IF(กรอกข้อมูล!AS153>กรอกข้อมูล!AO$2,\"\",กรอกข้อมูล!AT153)","v":""}]
["","","",{"$f":"IF(กรอกข้อมูล!A154=0,\"\",กรอกข้อมูล!A154)","v":""},{"$f":"IF(กรอกข้อมูล!A154=0,\"\",D154-I$6)","v":""},{"$f":"IF(กรอกข้อมูล!A154=0,\"\",E154^2)","v":""},{"$nulls":11},"","",{"$f":"IF(กรอกข้อมูล!AS154>กรอกข้อมูล!AO$2,\"\",กรอกข้อมูล!AS154)","v":""},{"$f":"IF(กรอกข้อมูล!AS154>กรอกข้อมูล!AO$2,\"\",กรอกข้อมูล!AT154)","v":""}]
["","","",{"$f":"IF(กรอกข้อมูล!A155=0,\"\",กรอกข้อมูล!A155)","v":""},{"$f":"IF(กรอกข้อมูล!A155=0,\"\",D155-I$6)","v":""},{"$f":"IF(กรอกข้อมูล!A155=0,\"\",E155^2)","v":""},{"$nulls":11},"","",{"$f":"IF(กรอกข้อมูล!AS155>กรอกข้อมูล!AO$2,\"\",กรอกข้อมูล!AS155)","v":""},{"$f":"IF(กรอกข้อมูล!AS155>กรอกข้อมูล!AO$2,\"\",กรอกข้อมูล!AT155)","v":""}]
["","","",{"$f":"IF(กรอกข้อมูล!A156=0,\"\",กรอกข้อมูล!A156)","v":""},{"$f":"IF(กรอกข้อมูล!A156=0,\"\",D156-I$6)","v":""},{"$f":"IF(กรอกข้อมูล!A156=0,\"\",E156^2)","v":""},{"$nulls":11},"","",{"$f":"IF(กรอกข้อมูล!AS156>กรอกข้อมูล!AO$2,\"\",กรอกข้อมูล!AS156)","v":""},{"$f":"IF(กรอกข้อมูล!AS156>กรอกข้อมูล!AO$2,\"\",กรอกข้อมูล!AT156)","v":""}]
["","","",{"$f":"IF(กรอกข้อมูล!A157=0,\"\",กรอกข้อมูล!A157)","v":""},{"$f":"IF(กรอกข้อมูล!A157=0,\"\",D157-I$6)","v":""},{"$f":"IF(กรอกข้อมูล!A157=0,\"\",E157^2)","v":""},{"$nulls":11},"","",{"$f":"IF(กรอกข้อมูล!AS157>กรอกข้อมูล!AO$2,\"\",กรอกข้อมูล!AS157)","v":""},{"$f":"IF(กรอกข้อมูล!AS157>กรอกข้อมูล!AO$2,\"\",กรอกข้อมูล!AT157)","v":""}]
["","","",{"$f":"IF(กรอกข้อมูล!A158=0,\"\",กรอกข้อมูล!A158)","v":""},{"$f":"IF(กรอกข้อมูล!A158=0,\"\",D158-I$6)","v":""},{"$f":"IF(กรอกข้อมูล!A158=0,\"\",E158^2)","v":""},{"$nulls":11},"","",{"$f":"IF(กรอกข้อมูล!AS158>กรอกข้อมูล!AO$2,\"\",กรอกข้อมูล!AS158)","v":""},{"$f":"IF(กรอกข้อมูล!AS158>กรอกข้อมูล!AO$2,\"\",กรอกข้อมูล!AT158)","v":""}]
["","","",{"$f":"IF(กรอกข้อมูล!A159=0,\"\",กรอกข้อมูล!A159)","v":""},{"$f":"IF(กรอกข้อมูล!A159=0,\"\",D159-I$6)","v":""},{"$f":"IF(กรอกข้อมูล!A159=0,\"\",E159^2)","v":""},{"$nulls":11},"","",{"$f":"IF(กรอกข้อมูล!AS159>กรอกข้อมูล!AO$2,\"\",กรอกข้อมูล!AS159)","v":""},{"$f":"IF(กรอกข้อมูล!AS159>กรอกข้อมูล!AO$2,\"\",กรอกข้อมูล!AT159)","v":""}]
["","","",{"$f":"IF(กรอกข้อมูล!A160=0,\"\",กรอกข้อมูล!A160)","v":""},{"$f":"IF(กรอกข้อมูล!A160=0,\"\",D160-I$6)","v":""},{"$f":"IF(กรอกข้อมูล!A160=0,\"\",E160^2)","v":""},{"$nulls":11},"","",{"$f":"IF(กรอกข้อมูล!AS160>กรอกข้อมูล!AO$2,\"\",กรอกข้อมูล!AS160)","v":""},{"$f":"IF(กรอกข้อมูล!AS160>กรอกข้อมูล!AO$2,\"\",กรอกข้อมูล!AT160)","v":""}]
["","","",{"$f":"IF(กรอกข้อมูล!A161=0,\"\",กรอกข้อมูล!A161)","v":""},{"$f":"IF(กรอกข้อมูล!A161=0,\"\",D161-I$6)","v":""},{"$f":"IF(กรอกข้อมูล!A161=0,\"\",E161^2)","v":""},{"$nulls":11},"","",{"$f":"IF(กรอกข้อมูล!AS161>กรอกข้อมูล!AO$2,\"\",กรอกข้อมูล!AS161)","v":""},{"$f":"IF(กรอกข้อมูล!AS161>กรอกข้อมูล!AO$2,\"\",กรอกข้อมูล!AT161)","v":""}]
["","","",{"$f":"IF(กรอกข้อมูล!A162=0,\"\",กรอกข้อมูล!A162)","v":""},{"$f":"IF(กรอกข้อมูล!A162=0,\"\",D162-I$6)","v":""},{"$f":"IF(กรอกข้อมูล!A162=0,\"\",E162^2)","v":""},{"$nulls":11},"","",{"$f":"IF(กรอกข้อมูล!AS162>กรอกข้อมูล!AO$2,\"\",กรอกข้อมูล!AS162)","v":""},{"$f":"IF(กรอกข้อมูล!AS162>กรอกข้อมูล!AO$2,\"\",กรอกข้อมูล!AT162)","v":""}]
["","","",{"$f":"IF(กรอกข้อมูล!A163=0,\"\",กรอกข้อมูล!A163)","v":""},{"$f":"IF(กรอกข้อมูล!A163=0,\"\",D163-I$6)","v":""},{"$f":"IF(กรอกข้อมูล!A163=0,\"\",E163^2)","v":""},{"$nulls":11},"","",{"$f":"IF(กรอกข้อมูล!AS163>กรอกข้อมูล!AO$2,\"\",กรอกข้อมูล!AS163)","v":""},{"$f":"IF(กรอกข้อมูล!AS163>กรอกข้อมูล!AO$2,\"\",กรอกข้อมูล!AT163)","v":""}]
["","","",{"$f":"IF(กรอกข้อมูล!A164=0,\"\",กรอกข้อมูล!A164)","v":""},{"$f":"IF(กรอกข้อมูล!A164=0,\"\",D164-I$6)","v":""},{"$f":"IF(กรอกข้อมูล!A164=0,\"\",E164^2)","v":""},{"$nulls":11},"","",{"$f":"IF(กรอกข้อมูล!AS164>กรอกข้อมูล!AO$2,\"\",กรอกข้อมูล!AS164)","v":""},{"$f":"IF(กรอกข้อมูล!AS164>กรอกข้อมูล!AO$2,\"\",กรอกข้อมูล!AT164)","v":""}]
["","","",{"$f":"IF(กรอกข้อมูล!A165=0,\"\",กรอกข้อมูล!A165)","v":""},{"$f":"IF(กรอกข้อมูล!A165=0,\"\",D165-I$6)","v":""},{"$f":"IF(กรอกข้อมูล!A165=0,\"\",E165^2)","v":""},{"$nulls":11},"","",{"$f":"IF(กรอกข้อมูล!AS165>กรอกข้อมูล!AO$2,\"\",กรอกข้อมูล!AS165)","v":""},{"$f":"IF(กรอกข้อมูล!AS165>กรอกข้อมูล!AO$2,\"\",กรอกข้อมูล!AT165)","v":""}]
["","","",{"$f":"IF(กรอกข้อมูล!A166=0,\"\",กรอกข้อมูล!A166)","v":""},{"$f":"IF(กรอกข้อมูล!A166=0,\"\",D166-I$6)","v":""},{"$f":"IF(กรอกข้อมูล!A166=0,\"\",E166^2)","v":""},{"$nulls":11},"","",{"$f":"IF(กรอกข้อมูล!AS166>กรอกข้อมูล!AO$2,\"\",กรอกข้อมูล!AS166)","v":""},{"$f":"IF(กรอกข้อมูล!AS166>กรอกข้อมูล!AO$2,\"\",กรอกข้อมูล!AT166)","v":""}]
["","","",{"$f":"IF(กรอกข้อมูล!A167=0,\"\",กรอกข้อมูล!A167)","v":""},{"$f":"IF(กรอกข้อมูล!A167=0,\"\",D167-I$6)","v":""},{"$f":"IF(กรอกข้อมูล!A167=0,\"\",E167^2)","v":""},{"$nulls":11},"","",{"$f":"IF(กรอกข้อมูล!AS167>กรอกข้อมูล!AO$2,\"\",กรอกข้อมูล!AS167)","v":""},{"$f":"IF(กรอกข้อมูล!AS167>กรอกข้อมูล!AO$2,\"\",กรอกข้อมูล!AT167)","v":""}]
["","","",{"$f":"IF(กรอกข้อมูล!A168=0,\"\",กรอกข้อมูล!A168)","v":""},{"$f":"IF(กรอกข้อมูล!A168=0,\"\",D168-I$6)","v":""},{"$f":"IF(กรอกข้อมูล!A168=0,\"\",E168^2)","v":""},{"$nulls":11},"","",{"$f":"IF(กรอกข้อมูล!AS168>กรอกข้อมูล!AO$2,\"\",กรอกข้อมูล!AS168)","v":""},{"$f":"IF(กรอกข้อมูล!AS168>กรอกข้อมูล!AO$2,\"\",กรอกข้อมูล!AT168)","v":""}]
["","","",{"$f":"IF(กรอกข้อมูล!A169=0,\"\",กรอกข้อมูล!A169)","v":""},{"$f":"IF(กรอกข้อมูล!A169=0,\"\",D169-I$6)","v":""},{"$f":"IF(กรอกข้อมูล!A169=0,\"\",E169^2)","v":""},{"$nulls":11},"","",{"$f":"IF(กรอกข้อมูล!AS169>กรอกข้อมูล!AO$2,\"\",กรอกข้อมูล!AS169)","v":""},{"$f":"IF(กรอกข้อมูล!AS169>กรอกข้อมูล!AO$2,\"\",กรอกข้อมูล!AT169)","v":""}]
["","","",{"$f":"IF(กรอกข้อมูล!A170=0,\"\",กรอกข้อมูล!A170)","v":""},{"$f":"IF(กรอกข้อมูล!A170=0,\"\",D170-I$6)","v":""},{"$f":"IF(กรอกข้อมูล!A170=0,\"\",E170^2)","v":""},{"$nulls":11},"","",{"$f":"IF(กรอกข้อมูล!AS170>กรอกข้อมูล!AO$2,\"\",กรอกข้อมูล!AS170)","v":""},{"$f":"IF(กรอกข้อมูล!AS170>กรอกข้อมูล!AO$2,\"\",กรอกข้อมูล!AT170)","v":""}]
["","","",{"$f":"IF(กรอกข้อมูล!A171=0,\"\",กรอกข้อมูล!A171)","v":""},{"$f":"IF(กรอกข้อมูล!A171=0,\"\",D171-I$6)","v":""},{"$f":"IF(กรอกข้อมูล!A171=0,\"\",E171^2)","v":""},{"$nulls":11},"","",{"$f":"IF(กรอกข้อมูล!AS171>กรอกข้อมูล!AO$2,\"\",กรอกข้อมูล!AS171)","v":""},{"$f":"IF(กรอกข้อมูล!AS171>กรอกข้อมูล!AO$2,\"\",กรอกข้อมูล!AT171)","v":""}]
["","","",{"$f":"IF(กรอกข้อมูล!A172=0,\"\",กรอกข้อมูล!A172)","v":""},{"$f":"IF(กรอกข้อมูล!A172=0,\"\",D172-I$6)","v":""},{"$f":"IF(กรอกข้อมูล!A172=0,\"\",E172^2)","v":""},{"$nulls":11},"","",{"$f":"IF(กรอกข้อมูล!AS172>กรอกข้อมูล!AO$2,\"\",กรอกข้อมูล!AS172)","v":""},{"$f":"IF(กรอกข้อมูล!AS172>กรอกข้อมูล!AO$2,\"\",กรอกข้อมูล!AT172)","v":""}]
["","","",{"$f":"IF(กรอกข้อมูล!A173=0,\"\",กรอกข้อมูล!A173)","v":""},{"$f":"IF(กรอกข้อมูล!A173=0,\"\",D173-I$6)","v":""},{"$f":"IF(กรอกข้อมูล!A173=0,\"\",E173^2)","v":""},{"$nulls":11},"","",{"$f":"IF(กรอกข้อมูล!AS173>กรอกข้อมูล!AO$2,\"\",กรอกข้อมูล!AS173)","v":""},{"$f":"IF(กรอกข้อมูล!AS173>กรอกข้อมูล!AO$2,\"\",กรอกข้อมูล!AT173)","v":""}]
["","","",{"$f":"IF(กรอกข้อมูล!A174=0,\"\",กรอกข้อมูล!A174)","v":""},{"$f":"IF(กรอกข้อมูล!A174=0,\"\",D174-I$6)","v":""},{"$f":"IF(กรอกข้อมูล!A174=0,\"\",E174^2)","v":""},{"$nulls":11},"","",{"$f":"IF(กรอกข้อมูล!AS174>กรอกข้อมูล!AO$2,\"\",กรอกข้อมูล!AS174)","v":""},{"$f":"IF(กรอกข้อมูล!AS174>กรอกข้อมูล!AO$2,\"\",กรอกข้อมูล!AT174)","v":""}]
["","","",{"$f":"IF(กรอกข้อมูล!A175=0,\"\",กรอกข้อมูล!A175)","v":""},{"$f":"IF(กรอกข้อมูล!A175=0,\"\",D175-I$6)","v":""},{"$f":"IF(กรอกข้อมูล!A175=0,\"\",E175^2)","v":""},{"$nulls":11},"","",{"$f":"IF(กรอกข้อมูล!AS175>กรอกข้อมูล!AO$2,\"\",กรอกข้อมูล!AS175)","v":""},{"$f":"IF(กรอกข้อมูล!AS175>กรอกข้อมูล!AO$2,\"\",กรอกข้อมูล!AT175)","v":""}]
["","","",{"$f":"IF(กรอกข้อมูล!A176=0,\"\",กรอกข้อมูล!A176)","v":""},{"$f":"IF(กรอกข้อมูล!A176=0,\"\",D176-I$6)","v":""},{"$f":"IF(กรอกข้อมูล!A176=0,\"\",E176^2)","v":""},{"$nulls":11},"","",{"$f":"IF(กรอกข้อมูล!AS176>กรอกข้อมูล!AO$2,\"\",กรอกข้อมูล!AS176)","v":""},{"$f":"IF(กรอกข้อมูล!AS176>กรอกข้อมูล!AO$2,\"\",กรอกข้อมูล!AT176)","v":""}]
["","","",{"$f":"IF(กรอกข้อมูล!A177=0,\"\",กรอกข้อมูล!A177)","v":""},{"$f":"IF(กรอกข้อมูล!A177=0,\"\",D177-I$6)","v":""},{"$f":"IF(กรอกข้อมูล!A177=0,\"\",E177^2)","v":""},{"$nulls":11},"","",{"$f":"IF(กรอกข้อมูล!AS177>กรอกข้อมูล!AO$2,\"\",กรอกข้อมูล!AS177)","v":""},{"$f":"IF(กรอกข้อมูล!AS177>กรอกข้อมูล!AO$2,\"\",กรอกข้อมูล!AT177)","v":""}]
["","","",{"$f":"IF(กรอกข้อมูล!A178=0,\"\",กรอกข้อมูล!A178)","v":""},{"$f":"IF(กรอกข้อมูล!A178=0,\"\",D178-I$6)","v":""},{"$f":"IF(กรอกข้อมูล!A178=0,\"\",E178^2)","v":""},{"$nulls":11},"","",{"$f":"IF(กรอกข้อมูล!AS178>กรอกข้อมูล!AO$2,\"\",กรอกข้อมูล!AS178)","v":""},{"$f":"IF(กรอกข้อมูล!AS178>กรอกข้อมูล!AO$2,\"\",กรอกข้อมูล!AT178)","v":""}]
["","","",{"$f":"IF(กรอกข้อมูล!A179=0,\"\",กรอกข้อมูล!A179)","v":""},{"$f":"IF(กรอกข้อมูล!A179=0,\"\",D179-I$6)","v":""},{"$f":"IF(กรอกข้อมูล!A179=0,\"\",E179^2)","v":""},{"$nulls":11},"","",{"$f":"IF(กรอกข้อมูล!AS179>กรอกข้อมูล!AO$2,\"\",กรอกข้อมูล!AS179)","v":""},{"$f":"IF(กรอกข้อมูล!AS179>กรอกข้อมูล!AO$2,\"\",กรอกข้อมูล!AT179)","v":""}]
["","","",{"$f":"IF(กรอกข้อมูล!A180=0,\"\",กรอกข้อมูล!A180)","v":""},{"$f":"IF(กรอกข้อมูล!A180=0,\"\",D180-I$6)","v":""},{"$f":"IF(กรอกข้อมูล!A180=0,\"\",E180^2)","v":""},{"$nulls":11},"","",{"$f":"IF(กรอกข้อมูล!AS180>กรอกข้อมูล!AO$2,\"\",กรอกข้อมูล!AS180)","v":""},{"$f":"IF(กรอกข้อมูล!AS180>กรอกข้อมูล!AO$2,\"\",กรอกข้อมูล!AT180)","v":""}]
["","","",{"$f":"IF(กรอกข้อมูล!A181=0,\"\",กรอกข้อมูล!A181)","v":""},{"$f":"IF(กรอกข้อมูล!A181=0,\"\",D181-I$6)","v":""},{"$f":"IF(กรอกข้อมูล!A181=0,\"\",E181^2)","v":""},{"$nulls":11},"","",{"$f":"IF(กรอกข้อมูล!AS181>กรอกข้อมูล!AO$2,\"\",กรอกข้อมูล!AS181)","v":""},{"$f":"IF(กรอกข้อมูล!AS181>กรอกข้อมูล!AO$2,\"\",กรอกข้อมูล!AT181)","v":""}]
["","","",{"$f":"IF(กรอกข้อมูล!A182=0,\"\",กรอกข้อมูล!A182)","v":""},{"$f":"IF(กรอกข้อมูล!A182=0,\"\",D182-I$6)","v":""},{"$f":"IF(กรอกข้อมูล!A182=0,\"\",E182^2)","v":""},{"$nulls":11},"","",{"$f":"IF(กรอกข้อมูล!AS182>กรอกข้อมูล!AO$2,\"\",กรอกข้อมูล!AS182)","v":""},{"$f":"IF(กรอกข้อมูล!AS182>กรอกข้อมูล!AO$2,\"\",กรอกข้อมูล!AT182)","v":""}]
["","","",{"$f":"IF(กรอกข้อมูล!A183=0,\"\",กรอกข้อมูล!A183)","v":""},{"$f":"IF(กรอกข้อมูล!A183=0,\"\",D183-I$6)","v":""},{"$f":"IF(กรอกข้อมูล!A183=0,\"\",E183^2)","v":""},{"$nulls":11},"","",{"$f":"IF(กรอกข้อมูล!AS183>กรอกข้อมูล!AO$2,\"\",กรอกข้อมูล!AS183)","v":""},{"$f":"IF(กรอกข้อมูล!AS183>กรอกข้อมูล!AO$2,\"\",กรอกข้อมูล!AT183)","v":""}]
["","","",{"$f":"IF(กรอกข้อมูล!A184=0,\"\",กรอกข้อมูล!A184)","v":""},{"$f":"IF(กรอกข้อมูล!A184=0,\"\",D184-I$6)","v":""},{"$f":"IF(กรอกข้อมูล!A184=0,\"\",E184^2)","v":""},{"$nulls":11},"","",{"$f":"IF(กรอกข้อมูล!AS184>กรอกข้อมูล!AO$2,\"\",กรอกข้อมูล!AS184)","v":""},{"$f":"IF(กรอกข้อมูล!AS184>กรอกข้อมูล!AO$2,\"\",กรอกข้อมูล!AT184)","v":""}]
["","","",{"$f":"IF(กรอกข้อมูล!A185=0,\"\",กรอกข้อมูล!A185)","v":""},{"$f":"IF(กรอกข้อมูล!A185=0,\"\",D185-I$6)","v":""},{"$f":"IF(กรอกข้อมูล!A185=0,\"\",E185^2)","v":""},{"$nulls":11},"","",{"$f":"IF(กรอกข้อมูล!AS185>กรอกข้อมูล!AO$2,\"\",กรอกข้อมูล!AS185)","v":""},{"$f":"IF(กรอกข้อมูล!AS185>กรอกข้อมูล!AO$2,\"\",กรอกข้อมูล!AT185)","v":""}]
["","","",{"$f":"IF(กรอกข้อมูล!A186=0,\"\",กรอกข้อมูล!A186)","v":""},{"$f":"IF(กรอกข้อมูล!A186=0,\"\",D186-I$6)","v":""},{"$f":"IF(กรอกข้อมูล!A186=0,\"\",E186^2)","v":""},{"$nulls":11},"","",{"$f":"IF(กรอกข้อมูล!AS186>กรอกข้อมูล!AO$2,\"\",กรอกข้อมูล!AS186)","v":""},{"$f":"IF(กรอกข้อมูล!AS186>กรอกข้อมูล!AO$2,\"\",กรอกข้อมูล!AT186)","v":""}]
["","","",{"$f":"IF(กรอกข้อมูล!A187=0,\"\",กรอกข้อมูล!A187)","v":""},{"$f":"IF(กรอกข้อมูล!A187=0,\"\",D187-I$6)","v":""},{"$f":"IF(กรอกข้อมูล!A187=0,\"\",E187^2)","v":""},{"$nulls":11},"","",{"$f":"IF(กรอกข้อมูล!AS187>กรอกข้อมูล!AO$2,\"\",กรอกข้อมูล!AS187)","v":""},{"$f":"IF(กรอกข้อมูล!AS187>กรอกข้อมูล!AO$2,\"\",กรอกข้อมูล!AT187)","v":""}]
["","","",{"$f":"IF(กรอกข้อมูล!A188=0,\"\",กรอกข้อมูล!A188)","v":""},{"$f":"IF(กรอกข้อมูล!A188=0,\"\",D188-I$6)","v":""},{"$f":"IF(กรอกข้อมูล!A188=0,\"\",E188^2)","v":""},{"$nulls":11},"","",{"$f":"IF(กรอกข้อมูล!AS188>กรอกข้อมูล!AO$2,\"\",กรอกข้อมูล!AS188)","v":""},{"$f":"IF(กรอกข้อมูล!AS188>กรอกข้อมูล!AO$2,\"\",กรอกข้อมูล!AT188)","v":""}]
["","","",{"$f":"IF(กรอกข้อมูล!A189=0,\"\",กรอกข้อมูล!A189)","v":""},{"$f":"IF(กรอกข้อมูล!A189=0,\"\",D189-I$6)","v":""},{"$f":"IF(กรอกข้อมูล!A189=0,\"\",E189^2)","v":""},{"$nulls":11},"","",{"$f":"IF(กรอกข้อมูล!AS189>กรอกข้อมูล!AO$2,\"\",กรอกข้อมูล!AS189)","v":""},{"$f":"IF(กรอกข้อมูล!AS189>กรอกข้อมูล!AO$2,\"\",กรอกข้อมูล!AT189)","v":""}]
["","","",{"$f":"IF(กรอกข้อมูล!A190=0,\"\",กรอกข้อมูล!A190)","v":""},{"$f":"IF(กรอกข้อมูล!A190=0,\"\",D190-I$6)","v":""},{"$f":"IF(กรอกข้อมูล!A190=0,\"\",E190^2)","v":""},{"$nulls":11},"","",{"$f":"IF(กรอกข้อมูล!AS190>กรอกข้อมูล!AO$2,\"\",กรอกข้อมูล!AS190)","v":""},{"$f":"IF(กรอกข้อมูล!AS190>กรอกข้อมูล!AO$2,\"\",กรอกข้อมูล!AT190)","v":""}]
["","","",{"$f":"IF(กรอกข้อมูล!A191=0,\"\",กรอกข้อมูล!A191)","v":""},{"$f":"IF(กรอกข้อมูล!A191=0,\"\",D191-I$6)","v":""},{"$f":"IF(กรอกข้อมูล!A191=0,\"\",E191^2)","v":""},{"$nulls":11},"","",{"$f":"IF(กรอกข้อมูล!AS191>กรอกข้อมูล!AO$2,\"\",กรอกข้อมูล!AS191)","v":""},{"$f":"IF(กรอกข้อมูล!AS191>กรอกข้อมูล!AO$2,\"\",กรอกข้อมูล!AT191)","v":""}]
["","","",{"$f":"IF(กรอกข้อมูล!A192=0,\"\",กรอกข้อมูล!A192)","v":""},{"$f":"IF(กรอกข้อมูล!A192=0,\"\",D192-I$6)","v":""},{"$f":"IF(กรอกข้อมูล!A192=0,\"\",E192^2)","v":""},{"$nulls":11},"","",{"$f":"IF(กรอกข้อมูล!AS192>กรอกข้อมูล!AO$2,\"\",กรอกข้อมูล!AS192)","v":""},{"$f":"IF(กรอกข้อมูล!AS192>กรอกข้อมูล!AO$2,\"\",กรอกข้อมูล!AT192)","v":""}]
[{"$f":"D193","v":""},{"$f":"E193","v":""},{"$f":"F193","v":""},{"$f":"IF(กรอกข้อมูล!A193=0,\"\",กรอกข้อมูล!A193)","v":""},{"$f":"IF(กรอกข้อมูล!A193=0,\"\",D193-I$6)","v":""},{"$f":"IF(กรอกข้อมูล!A193=0,\"\",E193^2)","v":""},{"$nulls":11},"","",{"$f":"IF(กรอกข้อมูล!AS193>กรอกข้อมูล!AO$2,\"\",กรอกข้อมูล!AS193)","v":""},{"$f":"IF(กรอกข้อมูล!AS193>กรอกข้อมูล!AO$2,\"\",กรอกข้อมูล!AT193)","v":""}]
["","","",{"$f":"IF(กรอกข้อมูล!A194=0,\"\",กรอกข้อมูล!A194)","v":""},{"$f":"IF(กรอกข้อมูล!A194=0,\"\",D194-I$6)","v":""},{"$f":"IF(กรอกข้อมูล!A194=0,\"\",E194^2)","v":""},{"$nulls":11},{"$f":"T194","v":""},{"$f":"U194","v":""},{"$f":"IF(กรอกข้อมูล!AS194>กรอกข้อมูล!AO$2,\"\",กรอกข้อมูล!AS194)","v":""},{"$f":"IF(กรอกข้อมูล!AS194>กรอกข้อมูล!AO$2,\"\",กรอกข้อมูล!AT194)","v":""}]
["","","",{"$f":"IF(กรอกข้อมูล!A195=0,\"\",กรอกข้อมูล!A195)","v":""},{"$f":"IF(กรอกข้อมูล!A195=0,\"\",D195-I$6)","v":""},{"$f":"IF(กรอกข้อมูล!A195=0,\"\",E195^2)","v":""},{"$nulls":11},"","",{"$f":"IF(กรอกข้อมูล!AS195>กรอกข้อมูล!AO$2,\"\",กรอกข้อมูล!AS195)","v":""},{"$f":"IF(กรอกข้อมูล!AS195>กรอกข้อมูล!AO$2,\"\",กรอกข้อมูล!AT195)","v":""}]
["","","",{"$f":"IF(กรอกข้อมูล!A196=0,\"\",กรอกข้อมูล!A196)","v":""},{"$f":"IF(กรอกข้อมูล!A196=0,\"\",D196-I$6)","v":""},{"$f":"IF(กรอกข้อมูล!A196=0,\"\",E196^2)","v":""},{"$nulls":11},"","",{"$f":"IF(กรอกข้อมูล!AS196>กรอกข้อมูล!AO$2,\"\",กรอกข้อมูล!AS196)","v":""},{"$f":"IF(กรอกข้อมูล!AS196>กรอกข้อมูล!AO$2,\"\",กรอกข้อมูล!AT196)","v":""}]
["","","",{"$f":"IF(กรอกข้อมูล!A197=0,\"\",กรอกข้อมูล!A197)","v":""},{"$f":"IF(กรอกข้อมูล!A197=0,\"\",D197-I$6)","v":""},{"$f":"IF(กรอกข้อมูล!A197=0,\"\",E197^2)","v":""},{"$nulls":11},"","",{"$f":"IF(กรอกข้อมูล!AS197>กรอกข้อมูล!AO$2,\"\",กรอกข้อมูล!AS197)","v":""},{"$f":"IF(กรอกข้อมูล!AS197>กรอกข้อมูล!AO$2,\"\",กรอกข้อมูล!AT197)","v":""}]
["","","",{"$f":"IF(กรอกข้อมูล!A198=0,\"\",กรอกข้อมูล!A198)","v":""},{"$f":"IF(กรอกข้อมูล!A198=0,\"\",D198-I$6)","v":""},{"$f":"IF(กรอกข้อมูล!A198=0,\"\",E198^2)","v":""},{"$nulls":11},"","",{"$f":"IF(กรอกข้อมูล!AS198>กรอกข้อมูล!AO$2,\"\",กรอกข้อมูล!AS198)","v":""},{"$f":"IF(กรอกข้อมูล!AS198>กรอกข้อมูล!AO$2,\"\",กรอกข้อมูล!AT198)","v":""}]
["","","",{"$f":"IF(กรอกข้อมูล!A199=0,\"\",กรอกข้อมูล!A199)","v":""},{"$f":"IF(กรอกข้อมูล!A199=0,\"\",D199-I$6)","v":""},{"$f":"IF(กรอกข้อมูล!A199=0,\"\",E199^2)","v":""},{"$nulls":11},"","",{"$f":"IF(กรอกข้อมูล!AS199>กรอกข้อมูล!AO$2,\"\",กรอกข้อมูล!AS199)","v":""},{"$f":"IF(กรอกข้อมูล!AS199>กรอกข้อมูล!AO$2,\"\",กรอกข้อมูล!AT199)","v":""}]
["","","",{"$f":"IF(กรอกข้อมูล!A200=0,\"\",กรอกข้อมูล!A200)","v":""},{"$f":"IF(กรอกข้อมูล!A200=0,\"\",D200-I$6)","v":""},{"$f":"IF(กรอกข้อมูล!A200=0,\"\",E200^2)","v":""},{"$nulls":11},"","",{"$f":"IF(กรอกข้อมูล!AS200>กรอกข้อมูล!AO$2,\"\",กรอกข้อมูล!AS200)","v":""},{"$f":"IF(กรอกข้อมูล!AS200>กรอกข้อมูล!AO$2,\"\",กรอกข้อมูล!AT200)","v":""}]
["","","",{"$f":"IF(กรอกข้อมูล!A201=0,\"\",กรอกข้อมูล!A201)","v":""},{"$f":"IF(กรอกข้อมูล!A201=0,\"\",D201-I$6)","v":""},{"$f":"IF(กรอกข้อมูล!A201=0,\"\",E201^2)","v":""},{"$nulls":11},"","",{"$f":"IF(กรอกข้อมูล!AS201>กรอกข้อมูล!AO$2,\"\",กรอกข้อมูล!AS201)","v":""},{"$f":"IF(กรอกข้อมูล!AS201>กรอกข้อมูล!AO$2,\"\",กรอกข้อมูล!AT201)","v":""}]
["","","",{"$f":"IF(กรอกข้อมูล!A202=0,\"\",กรอกข้อมูล!A202)","v":""},{"$f":"IF(กรอกข้อมูล!A202=0,\"\",D202-I$6)","v":""},{"$f":"IF(กรอกข้อมูล!A202=0,\"\",E202^2)","v":""},{"$nulls":11},"","",{"$f":"IF(กรอกข้อมูล!AS202>กรอกข้อมูล!AO$2,\"\",กรอกข้อมูล!AS202)","v":""},{"$f":"IF(กรอกข้อมูล!AS202>กรอกข้อมูล!AO$2,\"\",กรอกข้อมูล!AT202)","v":""}]
["","","",{"$f":"IF(กรอกข้อมูล!A203=0,\"\",กรอกข้อมูล!A203)","v":""},{"$f":"IF(กรอกข้อมูล!A203=0,\"\",D203-I$6)","v":""},{"$f":"IF(กรอกข้อมูล!A203=0,\"\",E203^2)","v":""},{"$nulls":11},"","",{"$f":"IF(กรอกข้อมูล!AS203>กรอกข้อมูล!AO$2,\"\",กรอกข้อมูล!AS203)","v":""},{"$f":"IF(กรอกข้อมูล!AS203>กรอกข้อมูล!AO$2,\"\",กรอกข้อมูล!AT203)","v":""}]
["","","",{"$f":"IF(กรอกข้อมูล!A204=0,\"\",กรอกข้อมูล!A204)","v":""},{"$f":"IF(กรอกข้อมูล!A204=0,\"\",D204-I$6)","v":""},{"$f":"IF(กรอกข้อมูล!A204=0,\"\",E204^2)","v":""},{"$nulls":11},"","",{"$f":"IF(กรอกข้อมูล!AS204>กรอกข้อมูล!AO$2,\"\",กรอกข้อมูล!AS204)","v":""},{"$f":"IF(กรอกข้อมูล!AS204>กรอกข้อมูล!AO$2,\"\",กรอกข้อมูล!AT204)","v":""}]
["","","",{"$f":"IF(กรอกข้อมูล!A205=0,\"\",กรอกข้อมูล!A205)","v":""},{"$f":"IF(กรอกข้อมูล!A205=0,\"\",D205-I$6)","v":""},{"$f":"IF(กรอกข้อมูล!A205=0,\"\",E205^2)","v":""},{"$nulls":11},"","",{"$f":"IF(กรอกข้อมูล!AS205>กรอกข้อมูล!AO$2,\"\",กรอกข้อมูล!AS205)","v":""},{"$f":"IF(กรอกข้อมูล!AS205>กรอกข้อมูล!AO$2,\"\",กรอกข้อมูล!AT205)","v":""}]
["","","",{"$f":"IF(กรอกข้อมูล!A206=0,\"\",กรอกข้อมูล!A206)","v":""},{"$f":"IF(กรอกข้อมูล!A206=0,\"\",D206-I$6)","v":""},{"$f":"IF(กรอกข้อมูล!A206=0,\"\",E206^2)","v":""},{"$nulls":11},"","",{"$f":"IF(กรอกข้อมูล!AS206>กรอกข้อมูล!AO$2,\"\",กรอกข้อมูล!AS206)","v":""},{"$f":"IF(กรอกข้อมูล!AS206>กรอกข้อมูล!AO$2,\"\",กรอกข้อมูล!AT206)","v":""}]
["","","",{"$f":"IF(กรอกข้อมูล!A207=0,\"\",กรอกข้อมูล!A207)","v":""},{"$f":"IF(กรอกข้อมูล!A207=0,\"\",D207-I$6)","v":""},{"$f":"IF(กรอกข้อมูล!A207=0,\"\",E207^2)","v":""},{"$nulls":11},"","",{"$f":"IF(กรอกข้อมูล!AS207>กรอกข้อมูล!AO$2,\"\",กรอกข้อมูล!AS207)","v":""},{"$f":"IF(กรอกข้อมูล!AS207>กรอกข้อมูล!AO$2,\"\",กรอกข้อมูล!AT207)","v":""}]
["","","",{"$f":"IF(กรอกข้อมูล!A208=0,\"\",กรอกข้อมูล!A208)","v":""},{"$f":"IF(กรอกข้อมูล!A208=0,\"\",D208-I$6)","v":""},{"$f":"IF(กรอกข้อมูล!A208=0,\"\",E208^2)","v":""},{"$nulls":11},"","",{"$f":"IF(กรอกข้อมูล!AS208>กรอกข้อมูล!AO$2,\"\",กรอกข้อมูล!AS208)","v":""},{"$f":"IF(กรอกข้อมูล!AS208>กรอกข้อมูล!AO$2,\"\",กรอกข้อมูล!AT208)","v":""}]
["","","",{"$f":"IF(กรอกข้อมูล!A209=0,\"\",กรอกข้อมูล!A209)","v":""},{"$f":"IF(กรอกข้อมูล!A209=0,\"\",D209-I$6)","v":""},{"$f":"IF(กรอกข้อมูล!A209=0,\"\",E209^2)","v":""},{"$nulls":11},"","",{"$f":"IF(กรอกข้อมูล!AS209>กรอกข้อมูล!AO$2,\"\",กรอกข้อมูล!AS209)","v":""},{"$f":"IF(กรอกข้อมูล!AS209>กรอกข้อมูล!AO$2,\"\",กรอกข้อมูล!AT209)","v":""}]
["","","",{"$f":"IF(กรอกข้อมูล!A210=0,\"\",กรอกข้อมูล!A210)","v":""},{"$f":"IF(กรอกข้อมูล!A210=0,\"\",D210-I$6)","v":""},{"$f":"IF(กรอกข้อมูล!A210=0,\"\",E210^2)","v":""},{"$nulls":11},"","",{"$f":"IF(กรอกข้อมูล!AS210>กรอกข้อมูล!AO$2,\"\",กรอกข้อมูล!AS210)","v":""},{"$f":"IF(กรอกข้อมูล!AS210>กรอกข้อมูล!AO$2,\"\",กรอกข้อมูล!AT210)","v":""}]
["","","",{"$f":"IF(กรอกข้อมูล!A211=0,\"\",กรอกข้อมูล!A211)","v":""},{"$f":"IF(กรอกข้อมูล!A211=0,\"\",D211-I$6)","v":""},{"$f":"IF(กรอกข้อมูล!A211=0,\"\",E211^2)","v":""},{"$nulls":11},"","",{"$f":"IF(กรอกข้อมูล!AS211>กรอกข้อมูล!AO$2,\"\",กรอกข้อมูล!AS211)","v":""},{"$f":"IF(กรอกข้อมูล!AS211>กรอกข้อมูล!AO$2,\"\",กรอกข้อมูล!AT211)","v":""}]
["","","",{"$f":"IF(กรอกข้อมูล!A212=0,\"\",กรอกข้อมูล!A212)","v":""},{"$f":"IF(กรอกข้อมูล!A212=0,\"\",D212-I$6)","v":""},{"$f":"IF(กรอกข้อมูล!A212=0,\"\",E212^2)","v":""},{"$nulls":11},"","",{"$f":"IF(กรอกข้อมูล!AS212>กรอกข้อมูล!AO$2,\"\",กรอกข้อมูล!AS212)","v":""},{"$f":"IF(กรอกข้อมูล!AS212>กรอกข้อมูล!AO$2,\"\",กรอกข้อมูล!AT212)","v":""}]
["","","",{"$f":"IF(กรอกข้อมูล!A213=0,\"\",กรอกข้อมูล!A213)","v":""},{"$f":"IF(กรอกข้อมูล!A213=0,\"\",D213-I$6)","v":""},{"$f":"IF(กรอกข้อมูล!A213=0,\"\",E213^2)","v":""},{"$nulls":11},"","",{"$f":"IF(กรอกข้อมูล!AS213>กรอกข้อมูล!AO$2,\"\",กรอกข้อมูล!AS213)","v":""},{"$f":"IF(กรอกข้อมูล!AS213>กรอกข้อมูล!AO$2,\"\",กรอกข้อมูล!AT213)","v":""}]
["","","",{"$f":"IF(กรอกข้อมูล!A214=0,\"\",กรอกข้อมูล!A214)","v":""},{"$f":"IF(กรอกข้อมูล!A214=0,\"\",D214-I$6)","v":""},{"$f":"IF(กรอกข้อมูล!A214=0,\"\",E214^2)","v":""},{"$nulls":11},"","",{"$f":"IF(กรอกข้อมูล!AS214>กรอกข้อมูล!AO$2,\"\",กรอกข้อมูล!AS214)","v":""},{"$f":"IF(กรอกข้อมูล!AS214>กรอกข้อมูล!AO$2,\"\",กรอกข้อมูล!AT214)","v":""}]
["","","",{"$f":"IF(กรอกข้อมูล!A215=0,\"\",กรอกข้อมูล!A215)","v":""},{"$f":"IF(กรอกข้อมูล!A215=0,\"\",D215-I$6)","v":""},{"$f":"IF(กรอกข้อมูล!A215=0,\"\",E215^2)","v":""},{"$nulls":11},"","",{"$f":"IF(กรอกข้อมูล!AS215>กรอกข้อมูล!AO$2,\"\",กรอกข้อมูล!AS215)","v":""},{"$f":"IF(กรอกข้อมูล!AS215>กรอกข้อมูล!AO$2,\"\",กรอกข้อมูล!AT215)","v":""}]
["","","",{"$f":"IF(กรอกข้อมูล!A216=0,\"\",กรอกข้อมูล!A216)","v":""},{"$f":"IF(กรอกข้อมูล!A216=0,\"\",D216-I$6)","v":""},{"$f":"IF(กรอกข้อมูล!A216=0,\"\",E216^2)","v":""},{"$nulls":11},"","",{"$f":"IF(กรอกข้อมูล!AS216>กรอกข้อมูล!AO$2,\"\",กรอกข้อมูล!AS216)","v":""},{"$f":"IF(กรอกข้อมูล!AS216>กรอกข้อมูล!AO$2,\"\",กรอกข้อมูล!AT216)","v":""}]
["","","",{"$f":"IF(กรอกข้อมูล!A217=0,\"\",กรอกข้อมูล!A217)","v":""},{"$f":"IF(กรอกข้อมูล!A217=0,\"\",D217-I$6)","v":""},{"$f":"IF(กรอกข้อมูล!A217=0,\"\",E217^2)","v":""},{"$nulls":11},"","",{"$f":"IF(กรอกข้อมูล!AS217>กรอกข้อมูล!AO$2,\"\",กรอกข้อมูล!AS217)","v":""},{"$f":"IF(กรอกข้อมูล!AS217>กรอกข้อมูล!AO$2,\"\",กรอกข้อมูล!AT217)","v":""}]
["","","",{"$f":"IF(กรอกข้อมูล!A218=0,\"\",กรอกข้อมูล!A218)","v":""},{"$f":"IF(กรอกข้อมูล!A218=0,\"\",D218-I$6)","v":""},{"$f":"IF(กรอกข้อมูล!A218=0,\"\",E218^2)","v":""},{"$nulls":11},"","",{"$f":"IF(กรอกข้อมูล!AS218>กรอกข้อมูล!AO$2,\"\",กรอกข้อมูล!AS218)","v":""},{"$f":"IF(กรอกข้อมูล!AS218>กรอกข้อมูล!AO$2,\"\",กรอกข้อมูล!AT218)","v":""}]
["","","",{"$f":"IF(กรอกข้อมูล!A219=0,\"\",กรอกข้อมูล!A219)","v":""},{"$f":"IF(กรอกข้อมูล!A219=0,\"\",D219-I$6)","v":""},{"$f":"IF(กรอกข้อมูล!A219=0,\"\",E219^2)","v":""},{"$nulls":11},"","",{"$f":"IF(กรอกข้อมูล!AS219>กรอกข้อมูล!AO$2,\"\",กรอกข้อมูล!AS219)","v":""},{"$f":"IF(กรอกข้อมูล!AS219>กรอกข้อมูล!AO$2,\"\",กรอกข้อมูล!AT219)","v":""}]
["","","",{"$f":"IF(กรอกข้อมูล!A220=0,\"\",กรอกข้อมูล!A220)","v":""},{"$f":"IF(กรอกข้อมูล!A220=0,\"\",D220-I$6)","v":""},{"$f":"IF(กรอกข้อมูล!A220=0,\"\",E220^2)","v":""},{"$nulls":11},"","",{"$f":"IF(กรอกข้อมูล!AS220>กรอกข้อมูล!AO$2,\"\",กรอกข้อมูล!AS220)","v":""},{"$f":"IF(กรอกข้อมูล!AS220>กรอกข้อมูล!AO$2,\"\",กรอกข้อมูล!AT220)","v":""}]
["","","",{"$f":"IF(กรอกข้อมูล!A221=0,\"\",กรอกข้อมูล!A221)","v":""},{"$f":"IF(กรอกข้อมูล!A221=0,\"\",D221-I$6)","v":""},{"$f":"IF(กรอกข้อมูล!A221=0,\"\",E221^2)","v":""},{"$nulls":11},"","",{"$f":"IF(กรอกข้อมูล!AS221>กรอกข้อมูล!AO$2,\"\",กรอกข้อมูล!AS221)","v":""},{"$f":"IF(กรอกข้อมูล!AS221>กรอกข้อมูล!AO$2,\"\",กรอกข้อมูล!AT221)","v":""}]
["","","",{"$f":"IF(กรอกข้อมูล!A222=0,\"\",กรอกข้อมูล!A222)","v":""},{"$f":"IF(กรอกข้อมูล!A222=0,\"\",D222-I$6)","v":""},{"$f":"IF(กรอกข้อมูล!A222=0,\"\",E222^2)","v":""},{"$nulls":11},"","",{"$f":"IF(กรอกข้อมูล!AS222>กรอกข้อมูล!AO$2,\"\",กรอกข้อมูล!AS222)","v":""},{"$f":"IF(กรอกข้อมูล!AS222>กรอกข้อมูล!AO$2,\"\",กรอกข้อมูล!AT222)","v":""}]
["","","",{"$f":"IF(กรอกข้อมูล!A223=0,\"\",กรอกข้อมูล!A223)","v":""},{"$f":"IF(กรอกข้อมูล!A223=0,\"\",D223-I$6)","v":""},{"$f":"IF(กรอกข้อมูล!A223=0,\"\",E223^2)","v":""},{"$nulls":11},"","",{"$f":"IF(กรอกข้อมูล!AS223>กรอกข้อมูล!AO$2,\"\",กรอกข้อมูล!AS223)","v":""},{"$f":"IF(กรอกข้อมูล!AS223>กรอกข้อมูล!AO$2,\"\",กรอกข้อมูล!AT223)","v":""}]
["","","",{"$f":"IF(กรอกข้อมูล!A224=0,\"\",กรอกข้อมูล!A224)","v":""},{"$f":"IF(กรอกข้อมูล!A224=0,\"\",D224-I$6)","v":""},{"$f":"IF(กรอกข้อมูล!A224=0,\"\",E224^2)","v":""},{"$nulls":11},"","",{"$f":"IF(กรอกข้อมูล!AS224>กรอกข้อมูล!AO$2,\"\",กรอกข้อมูล!AS224)","v":""},{"$f":"IF(กรอกข้อมูล!AS224>กรอกข้อมูล!AO$2,\"\",กรอกข้อมูล!AT224)","v":""}]
["","","",{"$f":"IF(กรอกข้อมูล!A225=0,\"\",กรอกข้อมูล!A225)","v":""},{"$f":"IF(กรอกข้อมูล!A225=0,\"\",D225-I$6)","v":""},{"$f":"IF(กรอกข้อมูล!A225=0,\"\",E225^2)","v":""},{"$nulls":11},"","",{"$f":"IF(กรอกข้อมูล!AS225>กรอกข้อมูล!AO$2,\"\",กรอกข้อมูล!AS225)","v":""},{"$f":"IF(กรอกข้อมูล!AS225>กรอกข้อมูล!AO$2,\"\",กรอกข้อมูล!AT225)","v":""}]
["","","",{"$f":"IF(กรอกข้อมูล!A226=0,\"\",กรอกข้อมูล!A226)","v":""},{"$f":"IF(กรอกข้อมูล!A226=0,\"\",D226-I$6)","v":""},{"$f":"IF(กรอกข้อมูล!A226=0,\"\",E226^2)","v":""},{"$nulls":11},"","",{"$f":"IF(กรอกข้อมูล!AS226>กรอกข้อมูล!AO$2,\"\",กรอกข้อมูล!AS226)","v":""},{"$f":"IF(กรอกข้อมูล!AS226>กรอกข้อมูล!AO$2,\"\",กรอกข้อมูล!AT226)","v":""}]
["","","",{"$f":"IF(กรอกข้อมูล!A227=0,\"\",กรอกข้อมูล!A227)","v":""},{"$f":"IF(กรอกข้อมูล!A227=0,\"\",D227-I$6)","v":""},{"$f":"IF(กรอกข้อมูล!A227=0,\"\",E227^2)","v":""},{"$nulls":11},"","",{"$f":"IF(กรอกข้อมูล!AS227>กรอกข้อมูล!AO$2,\"\",กรอกข้อมูล!AS227)","v":""},{"$f":"IF(กรอกข้อมูล!AS227>กรอกข้อมูล!AO$2,\"\",กรอกข้อมูล!AT227)","v":""}]
["","","",{"$f":"IF(กรอกข้อมูล!A228=0,\"\",กรอกข้อมูล!A228)","v":""},{"$f":"IF(กรอกข้อมูล!A228=0,\"\",D228-I$6)","v":""},{"$f":"IF(กรอกข้อมูล!A228=0,\"\",E228^2)","v":""},{"$nulls":11},"","",{"$f":"IF(กรอกข้อมูล!AS228>กรอกข้อมูล!AO$2,\"\",กรอกข้อมูล!AS228)","v":""},{"$f":"IF(กรอกข้อมูล!AS228>กรอกข้อมูล!AO$2,\"\",กรอกข้อมูล!AT228)","v":""}]
["","","",{"$f":"IF(กรอกข้อมูล!A229=0,\"\",กรอกข้อมูล!A229)","v":""},{"$f":"IF(กรอกข้อมูล!A229=0,\"\",D229-I$6)","v":""},{"$f":"IF(กรอกข้อมูล!A229=0,\"\",E229^2)","v":""},{"$nulls":11},"","",{"$f":"IF(กรอกข้อมูล!AS229>กรอกข้อมูล!AO$2,\"\",กรอกข้อมูล!AS229)","v":""},{"$f":"IF(กรอกข้อมูล!AS229>กรอกข้อมูล!AO$2,\"\",กรอกข้อมูล!AT229)","v":""}]
["","","",{"$f":"IF(กรอกข้อมูล!A230=0,\"\",กรอกข้อมูล!A230)","v":""},{"$f":"IF(กรอกข้อมูล!A230=0,\"\",D230-I$6)","v":""},{"$f":"IF(กรอกข้อมูล!A230=0,\"\",E230^2)","v":""},{"$nulls":11},"","",{"$f":"IF(กรอกข้อมูล!AS230>กรอกข้อมูล!AO$2,\"\",กรอกข้อมูล!AS230)","v":""},{"$f":"IF(กรอกข้อมูล!AS230>กรอกข้อมูล!AO$2,\"\",กรอกข้อมูล!AT230)","v":""}]
["","","",{"$f":"IF(กรอกข้อมูล!A231=0,\"\",กรอกข้อมูล!A231)","v":""},{"$f":"IF(กรอกข้อมูล!A231=0,\"\",D231-I$6)","v":""},{"$f":"IF(กรอกข้อมูล!A231=0,\"\",E231^2)","v":""},{"$nulls":11},"","",{"$f":"IF(กรอกข้อมูล!AS231>กรอกข้อมูล!AO$2,\"\",กรอกข้อมูล!AS231)","v":""},{"$f":"IF(กรอกข้อมูล!AS231>กรอกข้อมูล!AO$2,\"\",กรอกข้อมูล!AT231)","v":""}]
["","","",{"$f":"IF(กรอกข้อมูล!A232=0,\"\",กรอกข้อมูล!A232)","v":""},{"$f":"IF(กรอกข้อมูล!A232=0,\"\",D232-I$6)","v":""},{"$f":"IF(กรอกข้อมูล!A232=0,\"\",E232^2)","v":""},{"$nulls":11},"","",{"$f":"IF(กรอกข้อมูล!AS232>กรอกข้อมูล!AO$2,\"\",กรอกข้อมูล!AS232)","v":""},{"$f":"IF(กรอกข้อมูล!AS232>กรอกข้อมูล!AO$2,\"\",กรอกข้อมูล!AT232)","v":""}]
["","","",{"$f":"IF(กรอกข้อมูล!A233=0,\"\",กรอกข้อมูล!A233)","v":""},{"$f":"IF(กรอกข้อมูล!A233=0,\"\",D233-I$6)","v":""},{"$f":"IF(กรอกข้อมูล!A233=0,\"\",E233^2)","v":""},{"$nulls":11},"","",{"$f":"IF(กรอกข้อมูล!AS233>กรอกข้อมูล!AO$2,\"\",กรอกข้อมูล!AS233)","v":""},{"$f":"IF(กรอกข้อมูล!AS233>กรอกข้อมูล!AO$2,\"\",กรอกข้อมูล!AT233)","v":""}]
["","","",{"$f":"IF(กรอกข้อมูล!A234=0,\"\",กรอกข้อมูล!A234)","v":""},{"$f":"IF(กรอกข้อมูล!A234=0,\"\",D234-I$6)","v":""},{"$f":"IF(กรอกข้อมูล!A234=0,\"\",E234^2)","v":""},{"$nulls":11},"","",{"$f":"IF(กรอกข้อมูล!AS234>กรอกข้อมูล!AO$2,\"\",กรอกข้อมูล!AS234)","v":""},{"$f":"IF(กรอกข้อมูล!AS234>กรอกข้อมูล!AO$2,\"\",กรอกข้อมูล!AT234)","v":""}]
["","","",{"$f":"IF(กรอกข้อมูล!A235=0,\"\",กรอกข้อมูล!A235)","v":""},{"$f":"IF(กรอกข้อมูล!A235=0,\"\",D235-I$6)","v":""},{"$f":"IF(กรอกข้อมูล!A235=0,\"\",E235^2)","v":""},{"$nulls":11},"","",{"$f":"IF(กรอกข้อมูล!AS235>กรอกข้อมูล!AO$2,\"\",กรอกข้อมูล!AS235)","v":""},{"$f":"IF(กรอกข้อมูล!AS235>กรอกข้อมูล!AO$2,\"\",กรอกข้อมูล!AT235)","v":""}]
["","","",{"$f":"IF(กรอกข้อมูล!A236=0,\"\",กรอกข้อมูล!A236)","v":""},{"$f":"IF(กรอกข้อมูล!A236=0,\"\",D236-I$6)","v":""},{"$f":"IF(กรอกข้อมูล!A236=0,\"\",E236^2)","v":""},{"$nulls":11},"","",{"$f":"IF(กรอกข้อมูล!AS236>กรอกข้อมูล!AO$2,\"\",กรอกข้อมูล!AS236)","v":""},{"$f":"IF(กรอกข้อมูล!AS236>กรอกข้อมูล!AO$2,\"\",กรอกข้อมูล!AT236)","v":""}]
["","","",{"$f":"IF(กรอกข้อมูล!A237=0,\"\",กรอกข้อมูล!A237)","v":""},{"$f":"IF(กรอกข้อมูล!A237=0,\"\",D237-I$6)","v":""},{"$f":"IF(กรอกข้อมูล!A237=0,\"\",E237^2)","v":""},{"$nulls":11},"","",{"$f":"IF(กรอกข้อมูล!AS237>กรอกข้อมูล!AO$2,\"\",กรอกข้อมูล!AS237)","v":""},{"$f":"IF(กรอกข้อมูล!AS237>กรอกข้อมูล!AO$2,\"\",กรอกข้อมูล!AT237)","v":""}]
["","","",{"$f":"IF(กรอกข้อมูล!A238=0,\"\",กรอกข้อมูล!A238)","v":""},{"$f":"IF(กรอกข้อมูล!A238=0,\"\",D238-I$6)","v":""},{"$f":"IF(กรอกข้อมูล!A238=0,\"\",E238^2)","v":""},{"$nulls":11},"","",{"$f":"IF(กรอกข้อมูล!AS238>กรอกข้อมูล!AO$2,\"\",กรอกข้อมูล!AS238)","v":""},{"$f":"IF(กรอกข้อมูล!AS238>กรอกข้อมูล!AO$2,\"\",กรอกข้อมูล!AT238)","v":""}]
["","","",{"$f":"IF(กรอกข้อมูล!A239=0,\"\",กรอกข้อมูล!A239)","v":""},{"$f":"IF(กรอกข้อมูล!A239=0,\"\",D239-I$6)","v":""},{"$f":"IF(กรอกข้อมูล!A239=0,\"\",E239^2)","v":""},{"$nulls":11},"","",{"$f":"IF(กรอกข้อมูล!AS239>กรอกข้อมูล!AO$2,\"\",กรอกข้อมูล!AS239)","v":""},{"$f":"IF(กรอกข้อมูล!AS239>กรอกข้อมูล!AO$2,\"\",กรอกข้อมูล!AT239)","v":""}]
["","","",{"$f":"IF(กรอกข้อมูล!A240=0,\"\",กรอกข้อมูล!A240)","v":""},{"$f":"IF(กรอกข้อมูล!A240=0,\"\",D240-I$6)","v":""},{"$f":"IF(กรอกข้อมูล!A240=0,\"\",E240^2)","v":""},{"$nulls":11},"","",{"$f":"IF(กรอกข้อมูล!AS240>กรอกข้อมูล!AO$2,\"\",กรอกข้อมูล!AS240)","v":""},{"$f":"IF(กรอกข้อมูล!AS240>กรอกข้อมูล!AO$2,\"\",กรอกข้อมูล!AT240)","v":""}]
["","","",{"$f":"IF(กรอกข้อมูล!A241=0,\"\",กรอกข้อมูล!A241)","v":""},{"$f":"IF(กรอกข้อมูล!A241=0,\"\",D241-I$6)","v":""},{"$f":"IF(กรอกข้อมูล!A241=0,\"\",E241^2)","v":""},{"$nulls":11},"","",{"$f":"IF(กรอกข้อมูล!AS241>กรอกข้อมูล!AO$2,\"\",กรอกข้อมูล!AS241)","v":""},{"$f":"IF(กรอกข้อมูล!AS241>กรอกข้อมูล!AO$2,\"\",กรอกข้อมูล!AT241)","v":""}]
["","","",{"$f":"IF(กรอกข้อมูล!A242=0,\"\",กรอกข้อมูล!A242)","v":""},{"$f":"IF(กรอกข้อมูล!A242=0,\"\",D242-I$6)","v":""},{"$f":"IF(กรอกข้อมูล!A242=0,\"\",E242^2)","v":""},{"$nulls":11},"","",{"$f":"IF(กรอกข้อมูล!AS242>กรอกข้อมูล!AO$2,\"\",กรอกข้อมูล!AS242)","v":""},{"$f":"IF(กรอกข้อมูล!AS242>กรอกข้อมูล!AO$2,\"\",กรอกข้อมูล!AT242)","v":""}]
["","","",{"$f":"IF(กรอกข้อมูล!A243=0,\"\",กรอกข้อมูล!A243)","v":""},{"$f":"IF(กรอกข้อมูล!A243=0,\"\",D243-I$6)","v":""},{"$f":"IF(กรอกข้อมูล!A243=0,\"\",E243^2)","v":""},{"$nulls":11},"","",{"$f":"IF(กรอกข้อมูล!AS243>กรอกข้อมูล!AO$2,\"\",กรอกข้อมูล!AS243)","v":""},{"$f":"IF(กรอกข้อมูล!AS243>กรอกข้อมูล!AO$2,\"\",กรอกข้อมูล!AT243)","v":""}]
["","","",{"$f":"IF(กรอกข้อมูล!A244=0,\"\",กรอกข้อมูล!A244)","v":""},{"$f":"IF(กรอกข้อมูล!A244=0,\"\",D244-I$6)","v":""},{"$f":"IF(กรอกข้อมูล!A244=0,\"\",E244^2)","v":""},{"$nulls":11},"","",{"$f":"IF(กรอกข้อมูล!AS244>กรอกข้อมูล!AO$2,\"\",กรอกข้อมูล!AS244)","v":""},{"$f":"IF(กรอกข้อมูล!AS244>กรอกข้อมูล!AO$2,\"\",กรอกข้อมูล!AT244)","v":""}]
["","","",{"$f":"IF(กรอกข้อมูล!A245=0,\"\",กรอกข้อมูล!A245)","v":""},{"$f":"IF(กรอกข้อมูล!A245=0,\"\",D245-I$6)","v":""},{"$f":"IF(กรอกข้อมูล!A245=0,\"\",E245^2)","v":""},{"$nulls":11},"","",{"$f":"IF(กรอกข้อมูล!AS245>กรอกข้อมูล!AO$2,\"\",กรอกข้อมูล!AS245)","v":""},{"$f":"IF(กรอกข้อมูล!AS245>กรอกข้อมูล!AO$2,\"\",กรอกข้อมูล!AT245)","v":""}]
["","","",{"$f":"IF(กรอกข้อมูล!A246=0,\"\",กรอกข้อมูล!A246)","v":""},{"$f":"IF(กรอกข้อมูล!A246=0,\"\",D246-I$6)","v":""},{"$f":"IF(กรอกข้อมูล!A246=0,\"\",E246^2)","v":""},{"$nulls":11},"","",{"$f":"IF(กรอกข้อมูล!AS246>กรอกข้อมูล!AO$2,\"\",กรอกข้อมูล!AS246)","v":""},{"$f":"IF(กรอกข้อมูล!AS246>กรอกข้อมูล!AO$2,\"\",กรอกข้อมูล!AT246)","v":""}]
["","","",{"$f":"IF(กรอกข้อมูล!A247=0,\"\",กรอกข้อมูล!A247)","v":""},{"$f":"IF(กรอกข้อมูล!A247=0,\"\",D247-I$6)","v":""},{"$f":"IF(กรอกข้อมูล!A247=0,\"\",E247^2)","v":""},{"$nulls":11},"","",{"$f":"IF(กรอกข้อมูล!AS247>กรอกข้อมูล!AO$2,\"\",กรอกข้อมูล!AS247)","v":""},{"$f":"IF(กรอกข้อมูล!AS247>กรอกข้อมูล!AO$2,\"\",กรอกข้อมูล!AT247)","v":""}]
["","","",{"$f":"IF(กรอกข้อมูล!A248=0,\"\",กรอกข้อมูล!A248)","v":""},{"$f":"IF(กรอกข้อมูล!A248=0,\"\",D248-I$6)","v":""},{"$f":"IF(กรอกข้อมูล!A248=0,\"\",E248^2)","v":""},{"$nulls":11},"","",{"$f":"IF(กรอกข้อมูล!AS248>กรอกข้อมูล!AO$2,\"\",กรอกข้อมูล!AS248)","v":""},{"$f":"IF(กรอกข้อมูล!AS248>กรอกข้อมูล!AO$2,\"\",กรอกข้อมูล!AT248)","v":""}]
["","","",{"$f":"IF(กรอกข้อมูล!A249=0,\"\",กรอกข้อมูล!A249)","v":""},{"$f":"IF(กรอกข้อมูล!A249=0,\"\",D249-I$6)","v":""},{"$f":"IF(กรอกข้อมูล!A249=0,\"\",E249^2)","v":""},{"$nulls":11},"","",{"$f":"IF(กรอกข้อมูล!AS249>กรอกข้อมูล!AO$2,\"\",กรอกข้อมูล!AS249)","v":""},{"$f":"IF(กรอกข้อมูล!AS249>กรอกข้อมูล!AO$2,\"\",กรอกข้อมูล!AT249)","v":""}]
["","","",{"$f":"IF(กรอกข้อมูล!A250=0,\"\",กรอกข้อมูล!A250)","v":""},{"$f":"IF(กรอกข้อมูล!A250=0,\"\",D250-I$6)","v":""},{"$f":"IF(กรอกข้อมูล!A250=0,\"\",E250^2)","v":""},{"$nulls":11},"","",{"$f":"IF(กรอกข้อมูล!AS250>กรอกข้อมูล!AO$2,\"\",กรอกข้อมูล!AS250)","v":""},{"$f":"IF(กรอกข้อมูล!AS250>กรอกข้อมูล!AO$2,\"\",กรอกข้อมูล!AT250)","v":""}]
["","","",{"$f":"IF(กรอกข้อมูล!A251=0,\"\",กรอกข้อมูล!A251)","v":""},{"$f":"IF(กรอกข้อมูล!A251=0,\"\",D251-I$6)","v":""},{"$f":"IF(กรอกข้อมูล!A251=0,\"\",E251^2)","v":""},{"$nulls":11},"","",{"$f":"IF(กรอกข้อมูล!AS251>กรอกข้อมูล!AO$2,\"\",กรอกข้อมูล!AS251)","v":""},{"$f":"IF(กรอกข้อมูล!AS251>กรอกข้อมูล!AO$2,\"\",กรอกข้อมูล!AT251)","v":""}]
["","","",{"$f":"IF(กรอกข้อมูล!A252=0,\"\",กรอกข้อมูล!A252)","v":""},{"$f":"IF(กรอกข้อมูล!A252=0,\"\",D252-I$6)","v":""},{"$f":"IF(กรอกข้อมูล!A252=0,\"\",E252^2)","v":""},{"$nulls":11},"","",{"$f":"IF(กรอกข้อมูล!AS252>กรอกข้อมูล!AO$2,\"\",กรอกข้อมูล!AS252)","v":""},{"$f":"IF(กรอกข้อมูล!AS252>กรอกข้อมูล!AO$2,\"\",กรอกข้อมูล!AT252)","v":""}]
["","","",{"$f":"IF(กรอกข้อมูล!A253=0,\"\",กรอกข้อมูล!A253)","v":""},{"$f":"IF(กรอกข้อมูล!A253=0,\"\",D253-I$6)","v":""},{"$f":"IF(กรอกข้อมูล!A253=0,\"\",E253^2)","v":""},{"$nulls":11},"","",{"$f":"IF(กรอกข้อมูล!AS253>กรอกข้อมูล!AO$2,\"\",กรอกข้อมูล!AS253)","v":""},{"$f":"IF(กรอกข้อมูล!AS253>กรอกข้อมูล!AO$2,\"\",กรอกข้อมูล!AT253)","v":""}]
["","","",{"$f":"IF(กรอกข้อมูล!A254=0,\"\",กรอกข้อมูล!A254)","v":""},{"$f":"IF(กรอกข้อมูล!A254=0,\"\",D254-I$6)","v":""},{"$f":"IF(กรอกข้อมูล!A254=0,\"\",E254^2)","v":""},{"$nulls":11},"","",{"$f":"IF(กรอกข้อมูล!AS254>กรอกข้อมูล!AO$2,\"\",กรอกข้อมูล!AS254)","v":""},{"$f":"IF(กรอกข้อมูล!AS254>กรอกข้อมูล!AO$2,\"\",กรอกข้อมูล!AT254)","v":""}]
["","","",{"$f":"IF(กรอกข้อมูล!A255=0,\"\",กรอกข้อมูล!A255)","v":""},{"$f":"IF(กรอกข้อมูล!A255=0,\"\",D255-I$6)","v":""},{"$f":"IF(กรอกข้อมูล!A255=0,\"\",E255^2)","v":""},{"$nulls":11},"","",{"$f":"IF(กรอกข้อมูล!AS255>กรอกข้อมูล!AO$2,\"\",กรอกข้อมูล!AS255)","v":""},{"$f":"IF(กรอกข้อมูล!AS255>กรอกข้อมูล!AO$2,\"\",กรอกข้อมูล!AT255)","v":""}]
["","","",{"$f":"IF(กรอกข้อมูล!A256=0,\"\",กรอกข้อมูล!A256)","v":""},{"$f":"IF(กรอกข้อมูล!A256=0,\"\",D256-I$6)","v":""},{"$f":"IF(กรอกข้อมูล!A256=0,\"\",E256^2)","v":""},{"$nulls":11},"","",{"$f":"IF(กรอกข้อมูล!AS256>กรอกข้อมูล!AO$2,\"\",กรอกข้อมูล!AS256)","v":""},{"$f":"IF(กรอกข้อมูล!AS256>กรอกข้อมูล!AO$2,\"\",กรอกข้อมูล!AT256)","v":""}]
[{"$f":"D257","v":""},{"$f":"E257","v":""},{"$f":"F257","v":""},{"$f":"IF(กรอกข้อมูล!A257=0,\"\",กรอกข้อมูล!A257)","v":""},{"$f":"IF(กรอกข้อมูล!A257=0,\"\",D257-I$6)","v":""},{"$f":"IF(กรอกข้อมูล!A257=0,\"\",E257^2)","v":""},{"$nulls":11},"","",{"$f":"IF(กรอกข้อมูล!AS257>กรอกข้อมูล!AO$2,\"\",กรอกข้อมูล!AS257)","v":""},{"$f":"IF(กรอกข้อมูล!AS257>กรอกข้อมูล!AO$2,\"\",กรอกข้อมูล!AT257)","v":""}]
["","","",{"$f":"IF(กรอกข้อมูล!A258=0,\"\",กรอกข้อมูล!A258)","v":""},{"$f":"IF(กรอกข้อมูล!A258=0,\"\",D258-I$6)","v":""},{"$f":"IF(กรอกข้อมูล!A258=0,\"\",E258^2)","v":""},{"$nulls":11},{"$f":"T258","v":""},{"$f":"U258","v":""},{"$f":"IF(กรอกข้อมูล!AS258>กรอกข้อมูล!AO$2,\"\",กรอกข้อมูล!AS258)","v":""},{"$f":"IF(กรอกข้อมูล!AS258>กรอกข้อมูล!AO$2,\"\",กรอกข้อมูล!AT258)","v":""}]
["","","",{"$f":"IF(กรอกข้อมูล!A259=0,\"\",กรอกข้อมูล!A259)","v":""},{"$f":"IF(กรอกข้อมูล!A259=0,\"\",D259-I$6)","v":""},{"$f":"IF(กรอกข้อมูล!A259=0,\"\",E259^2)","v":""},{"$nulls":11},"","",{"$f":"IF(กรอกข้อมูล!AS259>กรอกข้อมูล!AO$2,\"\",กรอกข้อมูล!AS259)","v":""},{"$f":"IF(กรอกข้อมูล!AS259>กรอกข้อมูล!AO$2,\"\",กรอกข้อมูล!AT259)","v":""}]
["","","",{"$f":"IF(กรอกข้อมูล!A260=0,\"\",กรอกข้อมูล!A260)","v":""},{"$f":"IF(กรอกข้อมูล!A260=0,\"\",D260-I$6)","v":""},{"$f":"IF(กรอกข้อมูล!A260=0,\"\",E260^2)","v":""},{"$nulls":11},"","",{"$f":"IF(กรอกข้อมูล!AS260>กรอกข้อมูล!AO$2,\"\",กรอกข้อมูล!AS260)","v":""},{"$f":"IF(กรอกข้อมูล!AS260>กรอกข้อมูล!AO$2,\"\",กรอกข้อมูล!AT260)","v":""}]
["","","",{"$f":"IF(กรอกข้อมูล!A261=0,\"\",กรอกข้อมูล!A261)","v":""},{"$f":"IF(กรอกข้อมูล!A261=0,\"\",D261-I$6)","v":""},{"$f":"IF(กรอกข้อมูล!A261=0,\"\",E261^2)","v":""},{"$nulls":11},"","",{"$f":"IF(กรอกข้อมูล!AS261>กรอกข้อมูล!AO$2,\"\",กรอกข้อมูล!AS261)","v":""},{"$f":"IF(กรอกข้อมูล!AS261>กรอกข้อมูล!AO$2,\"\",กรอกข้อมูล!AT261)","v":""}]
["","","",{"$f":"IF(กรอกข้อมูล!A262=0,\"\",กรอกข้อมูล!A262)","v":""},{"$f":"IF(กรอกข้อมูล!A262=0,\"\",D262-I$6)","v":""},{"$f":"IF(กรอกข้อมูล!A262=0,\"\",E262^2)","v":""},{"$nulls":11},"","",{"$f":"IF(กรอกข้อมูล!AS262>กรอกข้อมูล!AO$2,\"\",กรอกข้อมูล!AS262)","v":""},{"$f":"IF(กรอกข้อมูล!AS262>กรอกข้อมูล!AO$2,\"\",กรอกข้อมูล!AT262)","v":""}]
["","","",{"$f":"IF(กรอกข้อมูล!A263=0,\"\",กรอกข้อมูล!A263)","v":""},{"$f":"IF(กรอกข้อมูล!A263=0,\"\",D263-I$6)","v":""},{"$f":"IF(กรอกข้อมูล!A263=0,\"\",E263^2)","v":""},{"$nulls":11},"","",{"$f":"IF(กรอกข้อมูล!AS263>กรอกข้อมูล!AO$2,\"\",กรอกข้อมูล!AS263)","v":""},{"$f":"IF(กรอกข้อมูล!AS263>กรอกข้อมูล!AO$2,\"\",กรอกข้อมูล!AT263)","v":""}]
["","","",{"$f":"IF(กรอกข้อมูล!A264=0,\"\",กรอกข้อมูล!A264)","v":""},{"$f":"IF(กรอกข้อมูล!A264=0,\"\",D264-I$6)","v":""},{"$f":"IF(กรอกข้อมูล!A264=0,\"\",E264^2)","v":""},{"$nulls":11},"","",{"$f":"IF(กรอกข้อมูล!AS264>กรอกข้อมูล!AO$2,\"\",กรอกข้อมูล!AS264)","v":""},{"$f":"IF(กรอกข้อมูล!AS264>กรอกข้อมูล!AO$2,\"\",กรอกข้อมูล!AT264)","v":""}]
["","","",{"$f":"IF(กรอกข้อมูล!A265=0,\"\",กรอกข้อมูล!A265)","v":""},{"$f":"IF(กรอกข้อมูล!A265=0,\"\",D265-I$6)","v":""},{"$f":"IF(กรอกข้อมูล!A265=0,\"\",E265^2)","v":""},{"$nulls":11},"","",{"$f":"IF(กรอกข้อมูล!AS265>กรอกข้อมูล!AO$2,\"\",กรอกข้อมูล!AS265)","v":""},{"$f":"IF(กรอกข้อมูล!AS265>กรอกข้อมูล!AO$2,\"\",กรอกข้อมูล!AT265)","v":""}]
["","","",{"$f":"IF(กรอกข้อมูล!A266=0,\"\",กรอกข้อมูล!A266)","v":""},{"$f":"IF(กรอกข้อมูล!A266=0,\"\",D266-I$6)","v":""},{"$f":"IF(กรอกข้อมูล!A266=0,\"\",E266^2)","v":""},{"$nulls":11},"","",{"$f":"IF(กรอกข้อมูล!AS266>กรอกข้อมูล!AO$2,\"\",กรอกข้อมูล!AS266)","v":""},{"$f":"IF(กรอกข้อมูล!AS266>กรอกข้อมูล!AO$2,\"\",กรอกข้อมูล!AT266)","v":""}]
["","","",{"$f":"IF(กรอกข้อมูล!A267=0,\"\",กรอกข้อมูล!A267)","v":""},{"$f":"IF(กรอกข้อมูล!A267=0,\"\",D267-I$6)","v":""},{"$f":"IF(กรอกข้อมูล!A267=0,\"\",E267^2)","v":""},{"$nulls":11},"","",{"$f":"IF(กรอกข้อมูล!AS267>กรอกข้อมูล!AO$2,\"\",กรอกข้อมูล!AS267)","v":""},{"$f":"IF(กรอกข้อมูล!AS267>กรอกข้อมูล!AO$2,\"\",กรอกข้อมูล!AT267)","v":""}]
["","","",{"$f":"IF(กรอกข้อมูล!A268=0,\"\",กรอกข้อมูล!A268)","v":""},{"$f":"IF(กรอกข้อมูล!A268=0,\"\",D268-I$6)","v":""},{"$f":"IF(กรอกข้อมูล!A268=0,\"\",E268^2)","v":""},{"$nulls":11},"","",{"$f":"IF(กรอกข้อมูล!AS268>กรอกข้อมูล!AO$2,\"\",กรอกข้อมูล!AS268)","v":""},{"$f":"IF(กรอกข้อมูล!AS268>กรอกข้อมูล!AO$2,\"\",กรอกข้อมูล!AT268)","v":""}]
["","","",{"$f":"IF(กรอกข้อมูล!A269=0,\"\",กรอกข้อมูล!A269)","v":""},{"$f":"IF(กรอกข้อมูล!A269=0,\"\",D269-I$6)","v":""},{"$f":"IF(กรอกข้อมูล!A269=0,\"\",E269^2)","v":""},{"$nulls":11},"","",{"$f":"IF(กรอกข้อมูล!AS269>กรอกข้อมูล!AO$2,\"\",กรอกข้อมูล!AS269)","v":""},{"$f":"IF(กรอกข้อมูล!AS269>กรอกข้อมูล!AO$2,\"\",กรอกข้อมูล!AT269)","v":""}]
["","","",{"$f":"IF(กรอกข้อมูล!A270=0,\"\",กรอกข้อมูล!A270)","v":""},{"$f":"IF(กรอกข้อมูล!A270=0,\"\",D270-I$6)","v":""},{"$f":"IF(กรอกข้อมูล!A270=0,\"\",E270^2)","v":""},{"$nulls":11},"","",{"$f":"IF(กรอกข้อมูล!AS270>กรอกข้อมูล!AO$2,\"\",กรอกข้อมูล!AS270)","v":""},{"$f":"IF(กรอกข้อมูล!AS270>กรอกข้อมูล!AO$2,\"\",กรอกข้อมูล!AT270)","v":""}]
["","","",{"$f":"IF(กรอกข้อมูล!A271=0,\"\",กรอกข้อมูล!A271)","v":""},{"$f":"IF(กรอกข้อมูล!A271=0,\"\",D271-I$6)","v":""},{"$f":"IF(กรอกข้อมูล!A271=0,\"\",E271^2)","v":""},{"$nulls":11},"","",{"$f":"IF(กรอกข้อมูล!AS271>กรอกข้อมูล!AO$2,\"\",กรอกข้อมูล!AS271)","v":""},{"$f":"IF(กรอกข้อมูล!AS271>กรอกข้อมูล!AO$2,\"\",กรอกข้อมูล!AT271)","v":""}]
["","","",{"$f":"IF(กรอกข้อมูล!A272=0,\"\",กรอกข้อมูล!A272)","v":""},{"$f":"IF(กรอกข้อมูล!A272=0,\"\",D272-I$6)","v":""},{"$f":"IF(กรอกข้อมูล!A272=0,\"\",E272^2)","v":""},{"$nulls":11},"","",{"$f":"IF(กรอกข้อมูล!AS272>กรอกข้อมูล!AO$2,\"\",กรอกข้อมูล!AS272)","v":""},{"$f":"IF(กรอกข้อมูล!AS272>กรอกข้อมูล!AO$2,\"\",กรอกข้อมูล!AT272)","v":""}]
["","","",{"$f":"IF(กรอกข้อมูล!A273=0,\"\",กรอกข้อมูล!A273)","v":""},{"$f":"IF(กรอกข้อมูล!A273=0,\"\",D273-I$6)","v":""},{"$f":"IF(กรอกข้อมูล!A273=0,\"\",E273^2)","v":""},{"$nulls":11},"","",{"$f":"IF(กรอกข้อมูล!AS273>กรอกข้อมูล!AO$2,\"\",กรอกข้อมูล!AS273)","v":""},{"$f":"IF(กรอกข้อมูล!AS273>กรอกข้อมูล!AO$2,\"\",กรอกข้อมูล!AT273)","v":""}]
["","","",{"$f":"IF(กรอกข้อมูล!A274=0,\"\",กรอกข้อมูล!A274)","v":""},{"$f":"IF(กรอกข้อมูล!A274=0,\"\",D274-I$6)","v":""},{"$f":"IF(กรอกข้อมูล!A274=0,\"\",E274^2)","v":""},{"$nulls":11},"","",{"$f":"IF(กรอกข้อมูล!AS274>กรอกข้อมูล!AO$2,\"\",กรอกข้อมูล!AS274)","v":""},{"$f":"IF(กรอกข้อมูล!AS274>กรอกข้อมูล!AO$2,\"\",กรอกข้อมูล!AT274)","v":""}]
["","","",{"$f":"IF(กรอกข้อมูล!A275=0,\"\",กรอกข้อมูล!A275)","v":""},{"$f":"IF(กรอกข้อมูล!A275=0,\"\",D275-I$6)","v":""},{"$f":"IF(กรอกข้อมูล!A275=0,\"\",E275^2)","v":""},{"$nulls":11},"","",{"$f":"IF(กรอกข้อมูล!AS275>กรอกข้อมูล!AO$2,\"\",กรอกข้อมูล!AS275)","v":""},{"$f":"IF(กรอกข้อมูล!AS275>กรอกข้อมูล!AO$2,\"\",กรอกข้อมูล!AT275)","v":""}]
["","","",{"$f":"IF(กรอกข้อมูล!A276=0,\"\",กรอกข้อมูล!A276)","v":""},{"$f":"IF(กรอกข้อมูล!A276=0,\"\",D276-I$6)","v":""},{"$f":"IF(กรอกข้อมูล!A276=0,\"\",E276^2)","v":""},{"$nulls":11},"","",{"$f":"IF(กรอกข้อมูล!AS276>กรอกข้อมูล!AO$2,\"\",กรอกข้อมูล!AS276)","v":""},{"$f":"IF(กรอกข้อมูล!AS276>กรอกข้อมูล!AO$2,\"\",กรอกข้อมูล!AT276)","v":""}]
["","","",{"$f":"IF(กรอกข้อมูล!A277=0,\"\",กรอกข้อมูล!A277)","v":""},{"$f":"IF(กรอกข้อมูล!A277=0,\"\",D277-I$6)","v":""},{"$f":"IF(กรอกข้อมูล!A277=0,\"\",E277^2)","v":""},{"$nulls":11},"","",{"$f":"IF(กรอกข้อมูล!AS277>กรอกข้อมูล!AO$2,\"\",กรอกข้อมูล!AS277)","v":""},{"$f":"IF(กรอกข้อมูล!AS277>กรอกข้อมูล!AO$2,\"\",กรอกข้อมูล!AT277)","v":""}]
["","","",{"$f":"IF(กรอกข้อมูล!A278=0,\"\",กรอกข้อมูล!A278)","v":""},{"$f":"IF(กรอกข้อมูล!A278=0,\"\",D278-I$6)","v":""},{"$f":"IF(กรอกข้อมูล!A278=0,\"\",E278^2)","v":""},{"$nulls":11},"","",{"$f":"IF(กรอกข้อมูล!AS278>กรอกข้อมูล!AO$2,\"\",กรอกข้อมูล!AS278)","v":""},{"$f":"IF(กรอกข้อมูล!AS278>กรอกข้อมูล!AO$2,\"\",กรอกข้อมูล!AT278)","v":""}]
["","","",{"$f":"IF(กรอกข้อมูล!A279=0,\"\",กรอกข้อมูล!A279)","v":""},{"$f":"IF(กรอกข้อมูล!A279=0,\"\",D279-I$6)","v":""},{"$f":"IF(กรอกข้อมูล!A279=0,\"\",E279^2)","v":""},{"$nulls":11},"","",{"$f":"IF(กรอกข้อมูล!AS279>กรอกข้อมูล!AO$2,\"\",กรอกข้อมูล!AS279)","v":""},{"$f":"IF(กรอกข้อมูล!AS279>กรอกข้อมูล!AO$2,\"\",กรอกข้อมูล!AT279)","v":""}]
["","","",{"$f":"IF(กรอกข้อมูล!A280=0,\"\",กรอกข้อมูล!A280)","v":""},{"$f":"IF(กรอกข้อมูล!A280=0,\"\",D280-I$6)","v":""},{"$f":"IF(กรอกข้อมูล!A280=0,\"\",E280^2)","v":""},{"$nulls":11},"","",{"$f":"IF(กรอกข้อมูล!AS280>กรอกข้อมูล!AO$2,\"\",กรอกข้อมูล!AS280)","v":""},{"$f":"IF(กรอกข้อมูล!AS280>กรอกข้อมูล!AO$2,\"\",กรอกข้อมูล!AT280)","v":""}]
["","","",{"$f":"IF(กรอกข้อมูล!A281=0,\"\",กรอกข้อมูล!A281)","v":""},{"$f":"IF(กรอกข้อมูล!A281=0,\"\",D281-I$6)","v":""},{"$f":"IF(กรอกข้อมูล!A281=0,\"\",E281^2)","v":""},{"$nulls":11},"","",{"$f":"IF(กรอกข้อมูล!AS281>กรอกข้อมูล!AO$2,\"\",กรอกข้อมูล!AS281)","v":""},{"$f":"IF(กรอกข้อมูล!AS281>กรอกข้อมูล!AO$2,\"\",กรอกข้อมูล!AT281)","v":""}]
["","","",{"$f":"IF(กรอกข้อมูล!A282=0,\"\",กรอกข้อมูล!A282)","v":""},{"$f":"IF(กรอกข้อมูล!A282=0,\"\",D282-I$6)","v":""},{"$f":"IF(กรอกข้อมูล!A282=0,\"\",E282^2)","v":""},{"$nulls":11},"","",{"$f":"IF(กรอกข้อมูล!AS282>กรอกข้อมูล!AO$2,\"\",กรอกข้อมูล!AS282)","v":""},{"$f":"IF(กรอกข้อมูล!AS282>กรอกข้อมูล!AO$2,\"\",กรอกข้อมูล!AT282)","v":""}]
["","","",{"$f":"IF(กรอกข้อมูล!A283=0,\"\",กรอกข้อมูล!A283)","v":""},{"$f":"IF(กรอกข้อมูล!A283=0,\"\",D283-I$6)","v":""},{"$f":"IF(กรอกข้อมูล!A283=0,\"\",E283^2)","v":""},{"$nulls":11},"","",{"$f":"IF(กรอกข้อมูล!AS283>กรอกข้อมูล!AO$2,\"\",กรอกข้อมูล!AS283)","v":""},{"$f":"IF(กรอกข้อมูล!AS283>กรอกข้อมูล!AO$2,\"\",กรอกข้อมูล!AT283)","v":""}]
["","","",{"$f":"IF(กรอกข้อมูล!A284=0,\"\",กรอกข้อมูล!A284)","v":""},{"$f":"IF(กรอกข้อมูล!A284=0,\"\",D284-I$6)","v":""},{"$f":"IF(กรอกข้อมูล!A284=0,\"\",E284^2)","v":""},{"$nulls":11},"","",{"$f":"IF(กรอกข้อมูล!AS284>กรอกข้อมูล!AO$2,\"\",กรอกข้อมูล!AS284)","v":""},{"$f":"IF(กรอกข้อมูล!AS284>กรอกข้อมูล!AO$2,\"\",กรอกข้อมูล!AT284)","v":""}]
["","","",{"$f":"IF(กรอกข้อมูล!A285=0,\"\",กรอกข้อมูล!A285)","v":""},{"$f":"IF(กรอกข้อมูล!A285=0,\"\",D285-I$6)","v":""},{"$f":"IF(กรอกข้อมูล!A285=0,\"\",E285^2)","v":""},{"$nulls":11},"","",{"$f":"IF(กรอกข้อมูล!AS285>กรอกข้อมูล!AO$2,\"\",กรอกข้อมูล!AS285)","v":""},{"$f":"IF(กรอกข้อมูล!AS285>กรอกข้อมูล!AO$2,\"\",กรอกข้อมูล!AT285)","v":""}]
["","","",{"$f":"IF(กรอกข้อมูล!A286=0,\"\",กรอกข้อมูล!A286)","v":""},{"$f":"IF(กรอกข้อมูล!A286=0,\"\",D286-I$6)","v":""},{"$f":"IF(กรอกข้อมูล!A286=0,\"\",E286^2)","v":""},{"$nulls":11},"","",{"$f":"IF(กรอกข้อมูล!AS286>กรอกข้อมูล!AO$2,\"\",กรอกข้อมูล!AS286)","v":""},{"$f":"IF(กรอกข้อมูล!AS286>กรอกข้อมูล!AO$2,\"\",กรอกข้อมูล!AT286)","v":""}]
["","","",{"$f":"IF(กรอกข้อมูล!A287=0,\"\",กรอกข้อมูล!A287)","v":""},{"$f":"IF(กรอกข้อมูล!A287=0,\"\",D287-I$6)","v":""},{"$f":"IF(กรอกข้อมูล!A287=0,\"\",E287^2)","v":""},{"$nulls":11},"","",{"$f":"IF(กรอกข้อมูล!AS287>กรอกข้อมูล!AO$2,\"\",กรอกข้อมูล!AS287)","v":""},{"$f":"IF(กรอกข้อมูล!AS287>กรอกข้อมูล!AO$2,\"\",กรอกข้อมูล!AT287)","v":""}]
["","","",{"$f":"IF(กรอกข้อมูล!A288=0,\"\",กรอกข้อมูล!A288)","v":""},{"$f":"IF(กรอกข้อมูล!A288=0,\"\",D288-I$6)","v":""},{"$f":"IF(กรอกข้อมูล!A288=0,\"\",E288^2)","v":""},{"$nulls":11},"","",{"$f":"IF(กรอกข้อมูล!AS288>กรอกข้อมูล!AO$2,\"\",กรอกข้อมูล!AS288)","v":""},{"$f":"IF(กรอกข้อมูล!AS288>กรอกข้อมูล!AO$2,\"\",กรอกข้อมูล!AT288)","v":""}]
["","","",{"$f":"IF(กรอกข้อมูล!A289=0,\"\",กรอกข้อมูล!A289)","v":""},{"$f":"IF(กรอกข้อมูล!A289=0,\"\",D289-I$6)","v":""},{"$f":"IF(กรอกข้อมูล!A289=0,\"\",E289^2)","v":""},{"$nulls":11},"","",{"$f":"IF(กรอกข้อมูล!AS289>กรอกข้อมูล!AO$2,\"\",กรอกข้อมูล!AS289)","v":""},{"$f":"IF(กรอกข้อมูล!AS289>กรอกข้อมูล!AO$2,\"\",กรอกข้อมูล!AT289)","v":""}]
["","","",{"$f":"IF(กรอกข้อมูล!A290=0,\"\",กรอกข้อมูล!A290)","v":""},{"$f":"IF(กรอกข้อมูล!A290=0,\"\",D290-I$6)","v":""},{"$f":"IF(กรอกข้อมูล!A290=0,\"\",E290^2)","v":""},{"$nulls":11},"","",{"$f":"IF(กรอกข้อมูล!AS290>กรอกข้อมูล!AO$2,\"\",กรอกข้อมูล!AS290)","v":""},{"$f":"IF(กรอกข้อมูล!AS290>กรอกข้อมูล!AO$2,\"\",กรอกข้อมูล!AT290)","v":""}]
["","","",{"$f":"IF(กรอกข้อมูล!A291=0,\"\",กรอกข้อมูล!A291)","v":""},{"$f":"IF(กรอกข้อมูล!A291=0,\"\",D291-I$6)","v":""},{"$f":"IF(กรอกข้อมูล!A291=0,\"\",E291^2)","v":""},{"$nulls":11},"","",{"$f":"IF(กรอกข้อมูล!AS291>กรอกข้อมูล!AO$2,\"\",กรอกข้อมูล!AS291)","v":""},{"$f":"IF(กรอกข้อมูล!AS291>กรอกข้อมูล!AO$2,\"\",กรอกข้อมูล!AT291)","v":""}]
["","","",{"$f":"IF(กรอกข้อมูล!A292=0,\"\",กรอกข้อมูล!A292)","v":""},{"$f":"IF(กรอกข้อมูล!A292=0,\"\",D292-I$6)","v":""},{"$f":"IF(กรอกข้อมูล!A292=0,\"\",E292^2)","v":""},{"$nulls":11},"","",{"$f":"IF(กรอกข้อมูล!AS292>กรอกข้อมูล!AO$2,\"\",กรอกข้อมูล!AS292)","v":""},{"$f":"IF(กรอกข้อมูล!AS292>กรอกข้อมูล!AO$2,\"\",กรอกข้อมูล!AT292)","v":""}]
["","","",{"$f":"IF(กรอกข้อมูล!A293=0,\"\",กรอกข้อมูล!A293)","v":""},{"$f":"IF(กรอกข้อมูล!A293=0,\"\",D293-I$6)","v":""},{"$f":"IF(กรอกข้อมูล!A293=0,\"\",E293^2)","v":""},{"$nulls":11},"","",{"$f":"IF(กรอกข้อมูล!AS293>กรอกข้อมูล!AO$2,\"\",กรอกข้อมูล!AS293)","v":""},{"$f":"IF(กรอกข้อมูล!AS293>กรอกข้อมูล!AO$2,\"\",กรอกข้อมูล!AT293)","v":""}]
["","","",{"$f":"IF(กรอกข้อมูล!A294=0,\"\",กรอกข้อมูล!A294)","v":""},{"$f":"IF(กรอกข้อมูล!A294=0,\"\",D294-I$6)","v":""},{"$f":"IF(กรอกข้อมูล!A294=0,\"\",E294^2)","v":""},{"$nulls":11},"","",{"$f":"IF(กรอกข้อมูล!AS294>กรอกข้อมูล!AO$2,\"\",กรอกข้อมูล!AS294)","v":""},{"$f":"IF(กรอกข้อมูล!AS294>กรอกข้อมูล!AO$2,\"\",กรอกข้อมูล!AT294)","v":""}]
["","","",{"$f":"IF(กรอกข้อมูล!A295=0,\"\",กรอกข้อมูล!A295)","v":""},{"$f":"IF(กรอกข้อมูล!A295=0,\"\",D295-I$6)","v":""},{"$f":"IF(กรอกข้อมูล!A295=0,\"\",E295^2)","v":""},{"$nulls":11},"","",{"$f":"IF(กรอกข้อมูล!AS295>กรอกข้อมูล!AO$2,\"\",กรอกข้อมูล!AS295)","v":""},{"$f":"IF(กรอกข้อมูล!AS295>กรอกข้อมูล!AO$2,\"\",กรอกข้อมูล!AT295)","v":""}]
["","","",{"$f":"IF(กรอกข้อมูล!A296=0,\"\",กรอกข้อมูล!A296)","v":""},{"$f":"IF(กรอกข้อมูล!A296=0,\"\",D296-I$6)","v":""},{"$f":"IF(กรอกข้อมูล!A296=0,\"\",E296^2)","v":""},{"$nulls":11},"","",{"$f":"IF(กรอกข้อมูล!AS296>กรอกข้อมูล!AO$2,\"\",กรอกข้อมูล!AS296)","v":""},{"$f":"IF(กรอกข้อมูล!AS296>กรอกข้อมูล!AO$2,\"\",กรอกข้อมูล!AT296)","v":""}]
["","","",{"$f":"IF(กรอกข้อมูล!A297=0,\"\",กรอกข้อมูล!A297)","v":""},{"$f":"IF(กรอกข้อมูล!A297=0,\"\",D297-I$6)","v":""},{"$f":"IF(กรอกข้อมูล!A297=0,\"\",E297^2)","v":""},{"$nulls":11},"","",{"$f":"IF(กรอกข้อมูล!AS297>กรอกข้อมูล!AO$2,\"\",กรอกข้อมูล!AS297)","v":""},{"$f":"IF(กรอกข้อมูล!AS297>กรอกข้อมูล!AO$2,\"\",กรอกข้อมูล!AT297)","v":""}]
["","","",{"$f":"IF(กรอกข้อมูล!A298=0,\"\",กรอกข้อมูล!A298)","v":""},{"$f":"IF(กรอกข้อมูล!A298=0,\"\",D298-I$6)","v":""},{"$f":"IF(กรอกข้อมูล!A298=0,\"\",E298^2)","v":""},{"$nulls":11},"","",{"$f":"IF(กรอกข้อมูล!AS298>กรอกข้อมูล!AO$2,\"\",กรอกข้อมูล!AS298)","v":""},{"$f":"IF(กรอกข้อมูล!AS298>กรอกข้อมูล!AO$2,\"\",กรอกข้อมูล!AT298)","v":""}]
["","","",{"$f":"IF(กรอกข้อมูล!A299=0,\"\",กรอกข้อมูล!A299)","v":""},{"$f":"IF(กรอกข้อมูล!A299=0,\"\",D299-I$6)","v":""},{"$f":"IF(กรอกข้อมูล!A299=0,\"\",E299^2)","v":""},{"$nulls":11},"","",{"$f":"IF(กรอกข้อมูล!AS299>กรอกข้อมูล!AO$2,\"\",กรอกข้อมูล!AS299)","v":""},{"$f":"IF(กรอกข้อมูล!AS299>กรอกข้อมูล!AO$2,\"\",กรอกข้อมูล!AT299)","v":""}]
["","","",{"$f":"IF(กรอกข้อมูล!A300=0,\"\",กรอกข้อมูล!A300)","v":""},{"$f":"IF(กรอกข้อมูล!A300=0,\"\",D300-I$6)","v":""},{"$f":"IF(กรอกข้อมูล!A300=0,\"\",E300^2)","v":""},{"$nulls":11},"","",{"$f":"IF(กรอกข้อมูล!AS300>กรอกข้อมูล!AO$2,\"\",กรอกข้อมูล!AS300)","v":""},{"$f":"IF(กรอกข้อมูล!AS300>กรอกข้อมูล!AO$2,\"\",กรอกข้อมูล!AT300)","v":""}]
["","","",{"$f":"IF(กรอกข้อมูล!A301=0,\"\",กรอกข้อมูล!A301)","v":""},{"$f":"IF(กรอกข้อมูล!A301=0,\"\",D301-I$6)","v":""},{"$f":"IF(กรอกข้อมูล!A301=0,\"\",E301^2)","v":""},{"$nulls":11},"","",{"$f":"IF(กรอกข้อมูล!AS301>กรอกข้อมูล!AO$2,\"\",กรอกข้อมูล!AS301)","v":""},{"$f":"IF(กรอกข้อมูล!AS301>กรอกข้อมูล!AO$2,\"\",กรอกข้อมูล!AT301)","v":""}]
["","","",{"$f":"IF(กรอกข้อมูล!A302=0,\"\",กรอกข้อมูล!A302)","v":""},{"$f":"IF(กรอกข้อมูล!A302=0,\"\",D302-I$6)","v":""},{"$f":"IF(กรอกข้อมูล!A302=0,\"\",E302^2)","v":""},{"$nulls":11},"","",{"$f":"IF(กรอกข้อมูล!AS302>กรอกข้อมูล!AO$2,\"\",กรอกข้อมูล!AS302)","v":""},{"$f":"IF(กรอกข้อมูล!AS302>กรอกข้อมูล!AO$2,\"\",กรอกข้อมูล!AT302)","v":""}]
["","","",{"$f":"IF(กรอกข้อมูล!A303=0,\"\",กรอกข้อมูล!A303)","v":""},{"$f":"IF(กรอกข้อมูล!A303=0,\"\",D303-I$6)","v":""},{"$f":"IF(กรอกข้อมูล!A303=0,\"\",E303^2)","v":""},{"$nulls":11},"","",{"$f":"IF(กรอกข้อมูล!AS303>กรอกข้อมูล!AO$2,\"\",กรอกข้อมูล!AS303)","v":""},{"$f":"IF(กรอกข้อมูล!AS303>กรอกข้อมูล!AO$2,\"\",กรอกข้อมูล!AT303)","v":""}]
["","","",{"$f":"IF(กรอกข้อมูล!A304=0,\"\",กรอกข้อมูล!A304)","v":""},{"$f":"IF(กรอกข้อมูล!A304=0,\"\",D304-I$6)","v":""},{"$f":"IF(กรอกข้อมูล!A304=0,\"\",E304^2)","v":""},{"$nulls":11},"","",{"$f":"IF(กรอกข้อมูล!AS304>กรอกข้อมูล!AO$2,\"\",กรอกข้อมูล!AS304)","v":""},{"$f":"IF(กรอกข้อมูล!AS304>กรอกข้อมูล!AO$2,\"\",กรอกข้อมูล!AT304)","v":""}]
["","","",{"$f":"IF(กรอกข้อมูล!A305=0,\"\",กรอกข้อมูล!A305)","v":""},{"$f":"IF(กรอกข้อมูล!A305=0,\"\",D305-I$6)","v":""},{"$f":"IF(กรอกข้อมูล!A305=0,\"\",E305^2)","v":""},{"$nulls":11},"","",{"$f":"IF(กรอกข้อมูล!AS305>กรอกข้อมูล!AO$2,\"\",กรอกข้อมูล!AS305)","v":""},{"$f":"IF(กรอกข้อมูล!AS305>กรอกข้อมูล!AO$2,\"\",กรอกข้อมูล!AT305)","v":""}]
["","","",{"$f":"IF(กรอกข้อมูล!A306=0,\"\",กรอกข้อมูล!A306)","v":""},{"$f":"IF(กรอกข้อมูล!A306=0,\"\",D306-I$6)","v":""},{"$f":"IF(กรอกข้อมูล!A306=0,\"\",E306^2)","v":""},{"$nulls":11},"","",{"$f":"IF(กรอกข้อมูล!AS306>กรอกข้อมูล!AO$2,\"\",กรอกข้อมูล!AS306)","v":""},{"$f":"IF(กรอกข้อมูล!AS306>กรอกข้อมูล!AO$2,\"\",กรอกข้อมูล!AT306)","v":""}]
["","","",{"$f":"IF(กรอกข้อมูล!A307=0,\"\",กรอกข้อมูล!A307)","v":""},{"$f":"IF(กรอกข้อมูล!A307=0,\"\",D307-I$6)","v":""},{"$f":"IF(กรอกข้อมูล!A307=0,\"\",E307^2)","v":""},{"$nulls":11},"","",{"$f":"IF(กรอกข้อมูล!AS307>กรอกข้อมูล!AO$2,\"\",กรอกข้อมูล!AS307)","v":""},{"$f":"IF(กรอกข้อมูล!AS307>กรอกข้อมูล!AO$2,\"\",กรอกข้อมูล!AT307)","v":""}]
["","","",{"$f":"IF(กรอกข้อมูล!A308=0,\"\",กรอกข้อมูล!A308)","v":""},{"$f":"IF(กรอกข้อมูล!A308=0,\"\",D308-I$6)","v":""},{"$f":"IF(กรอกข้อมูล!A308=0,\"\",E308^2)","v":""},{"$nulls":11},"","",{"$f":"IF(กรอกข้อมูล!AS308>กรอกข้อมูล!AO$2,\"\",กรอกข้อมูล!AS308)","v":""},{"$f":"IF(กรอกข้อมูล!AS308>กรอกข้อมูล!AO$2,\"\",กรอกข้อมูล!AT308)","v":""}]
["","","",{"$f":"IF(กรอกข้อมูล!A309=0,\"\",กรอกข้อมูล!A309)","v":""},{"$f":"IF(กรอกข้อมูล!A309=0,\"\",D309-I$6)","v":""},{"$f":"IF(กรอกข้อมูล!A309=0,\"\",E309^2)","v":""},{"$nulls":11},"","",{"$f":"IF(กรอกข้อมูล!AS309>กรอกข้อมูล!AO$2,\"\",กรอกข้อมูล!AS309)","v":""},{"$f":"IF(กรอกข้อมูล!AS309>กรอกข้อมูล!AO$2,\"\",กรอกข้อมูล!AT309)","v":""}]
["","","",{"$f":"IF(กรอกข้อมูล!A310=0,\"\",กรอกข้อมูล!A310)","v":""},{"$f":"IF(กรอกข้อมูล!A310=0,\"\",D310-I$6)","v":""},{"$f":"IF(กรอกข้อมูล!A310=0,\"\",E310^2)","v":""},{"$nulls":11},"","",{"$f":"IF(กรอกข้อมูล!AS310>กรอกข้อมูล!AO$2,\"\",กรอกข้อมูล!AS310)","v":""},{"$f":"IF(กรอกข้อมูล!AS310>กรอกข้อมูล!AO$2,\"\",กรอกข้อมูล!AT310)","v":""}]
["","","",{"$f":"IF(กรอกข้อมูล!A311=0,\"\",กรอกข้อมูล!A311)","v":""},{"$f":"IF(กรอกข้อมูล!A311=0,\"\",D311-I$6)","v":""},{"$f":"IF(กรอกข้อมูล!A311=0,\"\",E311^2)","v":""},{"$nulls":11},"","",{"$f":"IF(กรอกข้อมูล!AS311>กรอกข้อมูล!AO$2,\"\",กรอกข้อมูล!AS311)","v":""},{"$f":"IF(กรอกข้อมูล!AS311>กรอกข้อมูล!AO$2,\"\",กรอกข้อมูล!AT311)","v":""}]
["","","",{"$f":"IF(กรอกข้อมูล!A312=0,\"\",กรอกข้อมูล!A312)","v":""},{"$f":"IF(กรอกข้อมูล!A312=0,\"\",D312-I$6)","v":""},{"$f":"IF(กรอกข้อมูล!A312=0,\"\",E312^2)","v":""},{"$nulls":11},"","",{"$f":"IF(กรอกข้อมูล!AS312>กรอกข้อมูล!AO$2,\"\",กรอกข้อมูล!AS312)","v":""},{"$f":"IF(กรอกข้อมูล!AS312>กรอกข้อมูล!AO$2,\"\",กรอกข้อมูล!AT312)","v":""}]
["","","",{"$f":"IF(กรอกข้อมูล!A313=0,\"\",กรอกข้อมูล!A313)","v":""},{"$f":"IF(กรอกข้อมูล!A313=0,\"\",D313-I$6)","v":""},{"$f":"IF(กรอกข้อมูล!A313=0,\"\",E313^2)","v":""},{"$nulls":11},"","",{"$f":"IF(กรอกข้อมูล!AS313>กรอกข้อมูล!AO$2,\"\",กรอกข้อมูล!AS313)","v":""},{"$f":"IF(กรอกข้อมูล!AS313>กรอกข้อมูล!AO$2,\"\",กรอกข้อมูล!AT313)","v":""}]
["","","",{"$f":"IF(กรอกข้อมูล!A314=0,\"\",กรอกข้อมูล!A314)","v":""},{"$f":"IF(กรอกข้อมูล!A314=0,\"\",D314-I$6)","v":""},{"$f":"IF(กรอกข้อมูล!A314=0,\"\",E314^2)","v":""},{"$nulls":11},"","",{"$f":"IF(กรอกข้อมูล!AS314>กรอกข้อมูล!AO$2,\"\",กรอกข้อมูล!AS314)","v":""},{"$f":"IF(กรอกข้อมูล!AS314>กรอกข้อมูล!AO$2,\"\",กรอกข้อมูล!AT314)","v":""}]
["","","",{"$f":"IF(กรอกข้อมูล!A315=0,\"\",กรอกข้อมูล!A315)","v":""},{"$f":"IF(กรอกข้อมูล!A315=0,\"\",D315-I$6)","v":""},{"$f":"IF(กรอกข้อมูล!A315=0,\"\",E315^2)","v":""},{"$nulls":11},"","",{"$f":"IF(กรอกข้อมูล!AS315>กรอกข้อมูล!AO$2,\"\",กรอกข้อมูล!AS315)","v":""},{"$f":"IF(กรอกข้อมูล!AS315>กรอกข้อมูล!AO$2,\"\",กรอกข้อมูล!AT315)","v":""}]
["","","",{"$f":"IF(กรอกข้อมูล!A316=0,\"\",กรอกข้อมูล!A316)","v":""},{"$f":"IF(กรอกข้อมูล!A316=0,\"\",D316-I$6)","v":""},{"$f":"IF(กรอกข้อมูล!A316=0,\"\",E316^2)","v":""},{"$nulls":11},"","",{"$f":"IF(กรอกข้อมูล!AS316>กรอกข้อมูล!AO$2,\"\",กรอกข้อมูล!AS316)","v":""},{"$f":"IF(กรอกข้อมูล!AS316>กรอกข้อมูล!AO$2,\"\",กรอกข้อมูล!AT316)","v":""}]
["","","",{"$f":"IF(กรอกข้อมูล!A317=0,\"\",กรอกข้อมูล!A317)","v":""},{"$f":"IF(กรอกข้อมูล!A317=0,\"\",D317-I$6)","v":""},{"$f":"IF(กรอกข้อมูล!A317=0,\"\",E317^2)","v":""},{"$nulls":11},"","",{"$f":"IF(กรอกข้อมูล!AS317>กรอกข้อมูล!AO$2,\"\",กรอกข้อมูล!AS317)","v":""},{"$f":"IF(กรอกข้อมูล!AS317>กรอกข้อมูล!AO$2,\"\",กรอกข้อมูล!AT317)","v":""}]
["","","",{"$f":"IF(กรอกข้อมูล!A318=0,\"\",กรอกข้อมูล!A318)","v":""},{"$f":"IF(กรอกข้อมูล!A318=0,\"\",D318-I$6)","v":""},{"$f":"IF(กรอกข้อมูล!A318=0,\"\",E318^2)","v":""},{"$nulls":11},"","",{"$f":"IF(กรอกข้อมูล!AS318>กรอกข้อมูล!AO$2,\"\",กรอกข้อมูล!AS318)","v":""},{"$f":"IF(กรอกข้อมูล!AS318>กรอกข้อมูล!AO$2,\"\",กรอกข้อมูล!AT318)","v":""}]
["","","",{"$f":"IF(กรอกข้อมูล!A319=0,\"\",กรอกข้อมูล!A319)","v":""},{"$f":"IF(กรอกข้อมูล!A319=0,\"\",D319-I$6)","v":""},{"$f":"IF(กรอกข้อมูล!A319=0,\"\",E319^2)","v":""},{"$nulls":11},"","",{"$f":"IF(กรอกข้อมูล!AS319>กรอกข้อมูล!AO$2,\"\",กรอกข้อมูล!AS319)","v":""},{"$f":"IF(กรอกข้อมูล!AS319>กรอกข้อมูล!AO$2,\"\",กรอกข้อมูล!AT319)","v":""}]
["","","",{"$f":"IF(กรอกข้อมูล!A320=0,\"\",กรอกข้อมูล!A320)","v":""},{"$f":"IF(กรอกข้อมูล!A320=0,\"\",D320-I$6)","v":""},{"$f":"IF(กรอกข้อมูล!A320=0,\"\",E320^2)","v":""},{"$nulls":11},"","",{"$f":"IF(กรอกข้อมูล!AS320>กรอกข้อมูล!AO$2,\"\",กรอกข้อมูล!AS320)","v":""},{"$f":"IF(กรอกข้อมูล!AS320>กรอกข้อมูล!AO$2,\"\",กรอกข้อมูล!AT320)","v":""}]
[{"$f":"D321","v":""},{"$f":"E321","v":""},{"$f":"F321","v":""},{"$f":"IF(กรอกข้อมูล!A321=0,\"\",กรอกข้อมูล!A321)","v":""},{"$f":"IF(กรอกข้อมูล!A321=0,\"\",D321-I$6)","v":""},{"$f":"IF(กรอกข้อมูล!A321=0,\"\",E321^2)","v":""},{"$nulls":11},"","",{"$f":"IF(กรอกข้อมูล!AS321>กรอกข้อมูล!AO$2,\"\",กรอกข้อมูล!AS321)","v":""},{"$f":"IF(กรอกข้อมูล!AS321>กรอกข้อมูล!AO$2,\"\",กรอกข้อมูล!AT321)","v":""}]
["","","",{"$f":"IF(กรอกข้อมูล!A322=0,\"\",กรอกข้อมูล!A322)","v":""},{"$f":"IF(กรอกข้อมูล!A322=0,\"\",D322-I$6)","v":""},{"$f":"IF(กรอกข้อมูล!A322=0,\"\",E322^2)","v":""},{"$nulls":11},{"$f":"T322","v":""},{"$f":"U322","v":""},{"$f":"IF(กรอกข้อมูล!AS322>กรอกข้อมูล!AO$2,\"\",กรอกข้อมูล!AS322)","v":""},{"$f":"IF(กรอกข้อมูล!AS322>กรอกข้อมูล!AO$2,\"\",กรอกข้อมูล!AT322)","v":""}]
["","","",{"$f":"IF(กรอกข้อมูล!A323=0,\"\",กรอกข้อมูล!A323)","v":""},{"$f":"IF(กรอกข้อมูล!A323=0,\"\",D323-I$6)","v":""},{"$f":"IF(กรอกข้อมูล!A323=0,\"\",E323^2)","v":""},{"$nulls":11},"","",{"$f":"IF(กรอกข้อมูล!AS323>กรอกข้อมูล!AO$2,\"\",กรอกข้อมูล!AS323)","v":""},{"$f":"IF(กรอกข้อมูล!AS323>กรอกข้อมูล!AO$2,\"\",กรอกข้อมูล!AT323)","v":""}]
["","","",{"$f":"IF(กรอกข้อมูล!A324=0,\"\",กรอกข้อมูล!A324)","v":""},{"$f":"IF(กรอกข้อมูล!A324=0,\"\",D324-I$6)","v":""},{"$f":"IF(กรอกข้อมูล!A324=0,\"\",E324^2)","v":""},{"$nulls":11},"","",{"$f":"IF(กรอกข้อมูล!AS324>กรอกข้อมูล!AO$2,\"\",กรอกข้อมูล!AS324)","v":""},{"$f":"IF(กรอกข้อมูล!AS324>กรอกข้อมูล!AO$2,\"\",กรอกข้อมูล!AT324)","v":""}]
["","","",{"$f":"IF(กรอกข้อมูล!A325=0,\"\",กรอกข้อมูล!A325)","v":""},{"$f":"IF(กรอกข้อมูล!A325=0,\"\",D325-I$6)","v":""},{"$f":"IF(กรอกข้อมูล!A325=0,\"\",E325^2)","v":""},{"$nulls":11},"","",{"$f":"IF(กรอกข้อมูล!AS325>กรอกข้อมูล!AO$2,\"\",กรอกข้อมูล!AS325)","v":""},{"$f":"IF(กรอกข้อมูล!AS325>กรอกข้อมูล!AO$2,\"\",กรอกข้อมูล!AT325)","v":""}]
["","","",{"$f":"IF(กรอกข้อมูล!A326=0,\"\",กรอกข้อมูล!A326)","v":""},{"$f":"IF(กรอกข้อมูล!A326=0,\"\",D326-I$6)","v":""},{"$f":"IF(กรอกข้อมูล!A326=0,\"\",E326^2)","v":""},{"$nulls":11},"","",{"$f":"IF(กรอกข้อมูล!AS326>กรอกข้อมูล!AO$2,\"\",กรอกข้อมูล!AS326)","v":""},{"$f":"IF(กรอกข้อมูล!AS326>กรอกข้อมูล!AO$2,\"\",กรอกข้อมูล!AT326)","v":""}]
["","","",{"$f":"IF(กรอกข้อมูล!A327=0,\"\",กรอกข้อมูล!A327)","v":""},{"$f":"IF(กรอกข้อมูล!A327=0,\"\",D327-I$6)","v":""},{"$f":"IF(กรอกข้อมูล!A327=0,\"\",E327^2)","v":""},{"$nulls":11},"","",{"$f":"IF(กรอกข้อมูล!AS327>กรอกข้อมูล!AO$2,\"\",กรอกข้อมูล!AS327)","v":""},{"$f":"IF(กรอกข้อมูล!AS327>กรอกข้อมูล!AO$2,\"\",กรอกข้อมูล!AT327)","v":""}]
["","","",{"$f":"IF(กรอกข้อมูล!A328=0,\"\",กรอกข้อมูล!A328)","v":""},{"$f":"IF(กรอกข้อมูล!A328=0,\"\",D328-I$6)","v":""},{"$f":"IF(กรอกข้อมูล!A328=0,\"\",E328^2)","v":""},{"$nulls":11},"","",{"$f":"IF(กรอกข้อมูล!AS328>กรอกข้อมูล!AO$2,\"\",กรอกข้อมูล!AS328)","v":""},{"$f":"IF(กรอกข้อมูล!AS328>กรอกข้อมูล!AO$2,\"\",กรอกข้อมูล!AT328)","v":""}]
["","","",{"$f":"IF(กรอกข้อมูล!A329=0,\"\",กรอกข้อมูล!A329)","v":""},{"$f":"IF(กรอกข้อมูล!A329=0,\"\",D329-I$6)","v":""},{"$f":"IF(กรอกข้อมูล!A329=0,\"\",E329^2)","v":""},{"$nulls":11},"","",{"$f":"IF(กรอกข้อมูล!AS329>กรอกข้อมูล!AO$2,\"\",กรอกข้อมูล!AS329)","v":""},{"$f":"IF(กรอกข้อมูล!AS329>กรอกข้อมูล!AO$2,\"\",กรอกข้อมูล!AT329)","v":""}]
["","","",{"$f":"IF(กรอกข้อมูล!A330=0,\"\",กรอกข้อมูล!A330)","v":""},{"$f":"IF(กรอกข้อมูล!A330=0,\"\",D330-I$6)","v":""},{"$f":"IF(กรอกข้อมูล!A330=0,\"\",E330^2)","v":""},{"$nulls":11},"","",{"$f":"IF(กรอกข้อมูล!AS330>กรอกข้อมูล!AO$2,\"\",กรอกข้อมูล!AS330)","v":""},{"$f":"IF(กรอกข้อมูล!AS330>กรอกข้อมูล!AO$2,\"\",กรอกข้อมูล!AT330)","v":""}]
["","","",{"$f":"IF(กรอกข้อมูล!A331=0,\"\",กรอกข้อมูล!A331)","v":""},{"$f":"IF(กรอกข้อมูล!A331=0,\"\",D331-I$6)","v":""},{"$f":"IF(กรอกข้อมูล!A331=0,\"\",E331^2)","v":""},{"$nulls":11},"","",{"$f":"IF(กรอกข้อมูล!AS331>กรอกข้อมูล!AO$2,\"\",กรอกข้อมูล!AS331)","v":""},{"$f":"IF(กรอกข้อมูล!AS331>กรอกข้อมูล!AO$2,\"\",กรอกข้อมูล!AT331)","v":""}]
["","","",{"$f":"IF(กรอกข้อมูล!A332=0,\"\",กรอกข้อมูล!A332)","v":""},{"$f":"IF(กรอกข้อมูล!A332=0,\"\",D332-I$6)","v":""},{"$f":"IF(กรอกข้อมูล!A332=0,\"\",E332^2)","v":""},{"$nulls":11},"","",{"$f":"IF(กรอกข้อมูล!AS332>กรอกข้อมูล!AO$2,\"\",กรอกข้อมูล!AS332)","v":""},{"$f":"IF(กรอกข้อมูล!AS332>กรอกข้อมูล!AO$2,\"\",กรอกข้อมูล!AT332)","v":""}]
["","","",{"$f":"IF(กรอกข้อมูล!A333=0,\"\",กรอกข้อมูล!A333)","v":""},{"$f":"IF(กรอกข้อมูล!A333=0,\"\",D333-I$6)","v":""},{"$f":"IF(กรอกข้อมูล!A333=0,\"\",E333^2)","v":""},{"$nulls":11},"","",{"$f":"IF(กรอกข้อมูล!AS333>กรอกข้อมูล!AO$2,\"\",กรอกข้อมูล!AS333)","v":""},{"$f":"IF(กรอกข้อมูล!AS333>กรอกข้อมูล!AO$2,\"\",กรอกข้อมูล!AT333)","v":""}]
["","","",{"$f":"IF(กรอกข้อมูล!A334=0,\"\",กรอกข้อมูล!A334)","v":""},{"$f":"IF(กรอกข้อมูล!A334=0,\"\",D334-I$6)","v":""},{"$f":"IF(กรอกข้อมูล!A334=0,\"\",E334^2)","v":""},{"$nulls":11},"","",{"$f":"IF(กรอกข้อมูล!AS334>กรอกข้อมูล!AO$2,\"\",กรอกข้อมูล!AS334)","v":""},{"$f":"IF(กรอกข้อมูล!AS334>กรอกข้อมูล!AO$2,\"\",กรอกข้อมูล!AT334)","v":""}]
["","","",{"$f":"IF(กรอกข้อมูล!A335=0,\"\",กรอกข้อมูล!A335)","v":""},{"$f":"IF(กรอกข้อมูล!A335=0,\"\",D335-I$6)","v":""},{"$f":"IF(กรอกข้อมูล!A335=0,\"\",E335^2)","v":""},{"$nulls":11},"","",{"$f":"IF(กรอกข้อมูล!AS335>กรอกข้อมูล!AO$2,\"\",กรอกข้อมูล!AS335)","v":""},{"$f":"IF(กรอกข้อมูล!AS335>กรอกข้อมูล!AO$2,\"\",กรอกข้อมูล!AT335)","v":""}]
["","","",{"$f":"IF(กรอกข้อมูล!A336=0,\"\",กรอกข้อมูล!A336)","v":""},{"$f":"IF(กรอกข้อมูล!A336=0,\"\",D336-I$6)","v":""},{"$f":"IF(กรอกข้อมูล!A336=0,\"\",E336^2)","v":""},{"$nulls":11},"","",{"$f":"IF(กรอกข้อมูล!AS336>กรอกข้อมูล!AO$2,\"\",กรอกข้อมูล!AS336)","v":""},{"$f":"IF(กรอกข้อมูล!AS336>กรอกข้อมูล!AO$2,\"\",กรอกข้อมูล!AT336)","v":""}]
["","","",{"$f":"IF(กรอกข้อมูล!A337=0,\"\",กรอกข้อมูล!A337)","v":""},{"$f":"IF(กรอกข้อมูล!A337=0,\"\",D337-I$6)","v":""},{"$f":"IF(กรอกข้อมูล!A337=0,\"\",E337^2)","v":""},{"$nulls":11},"","",{"$f":"IF(กรอกข้อมูล!AS337>กรอกข้อมูล!AO$2,\"\",กรอกข้อมูล!AS337)","v":""},{"$f":"IF(กรอกข้อมูล!AS337>กรอกข้อมูล!AO$2,\"\",กรอกข้อมูล!AT337)","v":""}]
["","","",{"$f":"IF(กรอกข้อมูล!A338=0,\"\",กรอกข้อมูล!A338)","v":""},{"$f":"IF(กรอกข้อมูล!A338=0,\"\",D338-I$6)","v":""},{"$f":"IF(กรอกข้อมูล!A338=0,\"\",E338^2)","v":""},{"$nulls":11},"","",{"$f":"IF(กรอกข้อมูล!AS338>กรอกข้อมูล!AO$2,\"\",กรอกข้อมูล!AS338)","v":""},{"$f":"IF(กรอกข้อมูล!AS338>กรอกข้อมูล!AO$2,\"\",กรอกข้อมูล!AT338)","v":""}]
["","","",{"$f":"IF(กรอกข้อมูล!A339=0,\"\",กรอกข้อมูล!A339)","v":""},{"$f":"IF(กรอกข้อมูล!A339=0,\"\",D339-I$6)","v":""},{"$f":"IF(กรอกข้อมูล!A339=0,\"\",E339^2)","v":""},{"$nulls":11},"","",{"$f":"IF(กรอกข้อมูล!AS339>กรอกข้อมูล!AO$2,\"\",กรอกข้อมูล!AS339)","v":""},{"$f":"IF(กรอกข้อมูล!AS339>กรอกข้อมูล!AO$2,\"\",กรอกข้อมูล!AT339)","v":""}]
["","","",{"$f":"IF(กรอกข้อมูล!A340=0,\"\",กรอกข้อมูล!A340)","v":""},{"$f":"IF(กรอกข้อมูล!A340=0,\"\",D340-I$6)","v":""},{"$f":"IF(กรอกข้อมูล!A340=0,\"\",E340^2)","v":""},{"$nulls":11},"","",{"$f":"IF(กรอกข้อมูล!AS340>กรอกข้อมูล!AO$2,\"\",กรอกข้อมูล!AS340)","v":""},{"$f":"IF(กรอกข้อมูล!AS340>กรอกข้อมูล!AO$2,\"\",กรอกข้อมูล!AT340)","v":""}]
["","","",{"$f":"IF(กรอกข้อมูล!A341=0,\"\",กรอกข้อมูล!A341)","v":""},{"$f":"IF(กรอกข้อมูล!A341=0,\"\",D341-I$6)","v":""},{"$f":"IF(กรอกข้อมูล!A341=0,\"\",E341^2)","v":""},{"$nulls":11},"","",{"$f":"IF(กรอกข้อมูล!AS341>กรอกข้อมูล!AO$2,\"\",กรอกข้อมูล!AS341)","v":""},{"$f":"IF(กรอกข้อมูล!AS341>กรอกข้อมูล!AO$2,\"\",กรอกข้อมูล!AT341)","v":""}]
["","","",{"$f":"IF(กรอกข้อมูล!A342=0,\"\",กรอกข้อมูล!A342)","v":""},{"$f":"IF(กรอกข้อมูล!A342=0,\"\",D342-I$6)","v":""},{"$f":"IF(กรอกข้อมูล!A342=0,\"\",E342^2)","v":""},{"$nulls":11},"","",{"$f":"IF(กรอกข้อมูล!AS342>กรอกข้อมูล!AO$2,\"\",กรอกข้อมูล!AS342)","v":""},{"$f":"IF(กรอกข้อมูล!AS342>กรอกข้อมูล!AO$2,\"\",กรอกข้อมูล!AT342)","v":""}]
["","","",{"$f":"IF(กรอกข้อมูล!A343=0,\"\",กรอกข้อมูล!A343)","v":""},{"$f":"IF(กรอกข้อมูล!A343=0,\"\",D343-I$6)","v":""},{"$f":"IF(กรอกข้อมูล!A343=0,\"\",E343^2)","v":""},{"$nulls":11},"","",{"$f":"IF(กรอกข้อมูล!AS343>กรอกข้อมูล!AO$2,\"\",กรอกข้อมูล!AS343)","v":""},{"$f":"IF(กรอกข้อมูล!AS343>กรอกข้อมูล!AO$2,\"\",กรอกข้อมูล!AT343)","v":""}]
["","","",{"$f":"IF(กรอกข้อมูล!A344=0,\"\",กรอกข้อมูล!A344)","v":""},{"$f":"IF(กรอกข้อมูล!A344=0,\"\",D344-I$6)","v":""},{"$f":"IF(กรอกข้อมูล!A344=0,\"\",E344^2)","v":""},{"$nulls":11},"","",{"$f":"IF(กรอกข้อมูล!AS344>กรอกข้อมูล!AO$2,\"\",กรอกข้อมูล!AS344)","v":""},{"$f":"IF(กรอกข้อมูล!AS344>กรอกข้อมูล!AO$2,\"\",กรอกข้อมูล!AT344)","v":""}]
["","","",{"$f":"IF(กรอกข้อมูล!A345=0,\"\",กรอกข้อมูล!A345)","v":""},{"$f":"IF(กรอกข้อมูล!A345=0,\"\",D345-I$6)","v":""},{"$f":"IF(กรอกข้อมูล!A345=0,\"\",E345^2)","v":""},{"$nulls":11},"","",{"$f":"IF(กรอกข้อมูล!AS345>กรอกข้อมูล!AO$2,\"\",กรอกข้อมูล!AS345)","v":""},{"$f":"IF(กรอกข้อมูล!AS345>กรอกข้อมูล!AO$2,\"\",กรอกข้อมูล!AT345)","v":""}]
["","","",{"$f":"IF(กรอกข้อมูล!A346=0,\"\",กรอกข้อมูล!A346)","v":""},{"$f":"IF(กรอกข้อมูล!A346=0,\"\",D346-I$6)","v":""},{"$f":"IF(กรอกข้อมูล!A346=0,\"\",E346^2)","v":""},{"$nulls":11},"","",{"$f":"IF(กรอกข้อมูล!AS346>กรอกข้อมูล!AO$2,\"\",กรอกข้อมูล!AS346)","v":""},{"$f":"IF(กรอกข้อมูล!AS346>กรอกข้อมูล!AO$2,\"\",กรอกข้อมูล!AT346)","v":""}]
["","","",{"$f":"IF(กรอกข้อมูล!A347=0,\"\",กรอกข้อมูล!A347)","v":""},{"$f":"IF(กรอกข้อมูล!A347=0,\"\",D347-I$6)","v":""},{"$f":"IF(กรอกข้อมูล!A347=0,\"\",E347^2)","v":""},{"$nulls":11},"","",{"$f":"IF(กรอกข้อมูล!AS347>กรอกข้อมูล!AO$2,\"\",กรอกข้อมูล!AS347)","v":""},{"$f":"IF(กรอกข้อมูล!AS347>กรอกข้อมูล!AO$2,\"\",กรอกข้อมูล!AT347)","v":""}]
["","","",{"$f":"IF(กรอกข้อมูล!A348=0,\"\",กรอกข้อมูล!A348)","v":""},{"$f":"IF(กรอกข้อมูล!A348=0,\"\",D348-I$6)","v":""},{"$f":"IF(กรอกข้อมูล!A348=0,\"\",E348^2)","v":""},{"$nulls":11},"","",{"$f":"IF(กรอกข้อมูล!AS348>กรอกข้อมูล!AO$2,\"\",กรอกข้อมูล!AS348)","v":""},{"$f":"IF(กรอกข้อมูล!AS348>กรอกข้อมูล!AO$2,\"\",กรอกข้อมูล!AT348)","v":""}]
["","","",{"$f":"IF(กรอกข้อมูล!A349=0,\"\",กรอกข้อมูล!A349)","v":""},{"$f":"IF(กรอกข้อมูล!A349=0,\"\",D349-I$6)","v":""},{"$f":"IF(กรอกข้อมูล!A349=0,\"\",E349^2)","v":""},{"$nulls":11},"","",{"$f":"IF(กรอกข้อมูล!AS349>กรอกข้อมูล!AO$2,\"\",กรอกข้อมูล!AS349)","v":""},{"$f":"IF(กรอกข้อมูล!AS349>กรอกข้อมูล!AO$2,\"\",กรอกข้อมูล!AT349)","v":""}]
["","","",{"$f":"IF(กรอกข้อมูล!A350=0,\"\",กรอกข้อมูล!A350)","v":""},{"$f":"IF(กรอกข้อมูล!A350=0,\"\",D350-I$6)","v":""},{"$f":"IF(กรอกข้อมูล!A350=0,\"\",E350^2)","v":""},{"$nulls":11},"","",{"$f":"IF(กรอกข้อมูล!AS350>กรอกข้อมูล!AO$2,\"\",กรอกข้อมูล!AS350)","v":""},{"$f":"IF(กรอกข้อมูล!AS350>กรอกข้อมูล!AO$2,\"\",กรอกข้อมูล!AT350)","v":""}]
["","","",{"$f":"IF(กรอกข้อมูล!A351=0,\"\",กรอกข้อมูล!A351)","v":""},{"$f":"IF(กรอกข้อมูล!A351=0,\"\",D351-I$6)","v":""},{"$f":"IF(กรอกข้อมูล!A351=0,\"\",E351^2)","v":""},{"$nulls":11},"","",{"$f":"IF(กรอกข้อมูล!AS351>กรอกข้อมูล!AO$2,\"\",กรอกข้อมูล!AS351)","v":""},{"$f":"IF(กรอกข้อมูล!AS351>กรอกข้อมูล!AO$2,\"\",กรอกข้อมูล!AT351)","v":""}]
["","","",{"$f":"IF(กรอกข้อมูล!A352=0,\"\",กรอกข้อมูล!A352)","v":""},{"$f":"IF(กรอกข้อมูล!A352=0,\"\",D352-I$6)","v":""},{"$f":"IF(กรอกข้อมูล!A352=0,\"\",E352^2)","v":""},{"$nulls":11},"","",{"$f":"IF(กรอกข้อมูล!AS352>กรอกข้อมูล!AO$2,\"\",กรอกข้อมูล!AS352)","v":""},{"$f":"IF(กรอกข้อมูล!AS352>กรอกข้อมูล!AO$2,\"\",กรอกข้อมูล!AT352)","v":""}]
["","","",{"$f":"IF(กรอกข้อมูล!A353=0,\"\",กรอกข้อมูล!A353)","v":""},{"$f":"IF(กรอกข้อมูล!A353=0,\"\",D353-I$6)","v":""},{"$f":"IF(กรอกข้อมูล!A353=0,\"\",E353^2)","v":""},{"$nulls":11},"","",{"$f":"IF(กรอกข้อมูล!AS353>กรอกข้อมูล!AO$2,\"\",กรอกข้อมูล!AS353)","v":""},{"$f":"IF(กรอกข้อมูล!AS353>กรอกข้อมูล!AO$2,\"\",กรอกข้อมูล!AT353)","v":""}]
["","","",{"$f":"IF(กรอกข้อมูล!A354=0,\"\",กรอกข้อมูล!A354)","v":""},{"$f":"IF(กรอกข้อมูล!A354=0,\"\",D354-I$6)","v":""},{"$f":"IF(กรอกข้อมูล!A354=0,\"\",E354^2)","v":""},{"$nulls":11},"","",{"$f":"IF(กรอกข้อมูล!AS354>กรอกข้อมูล!AO$2,\"\",กรอกข้อมูล!AS354)","v":""},{"$f":"IF(กรอกข้อมูล!AS354>กรอกข้อมูล!AO$2,\"\",กรอกข้อมูล!AT354)","v":""}]
["","","",{"$f":"IF(กรอกข้อมูล!A355=0,\"\",กรอกข้อมูล!A355)","v":""},{"$f":"IF(กรอกข้อมูล!A355=0,\"\",D355-I$6)","v":""},{"$f":"IF(กรอกข้อมูล!A355=0,\"\",E355^2)","v":""},{"$nulls":11},"","",{"$f":"IF(กรอกข้อมูล!AS355>กรอกข้อมูล!AO$2,\"\",กรอกข้อมูล!AS355)","v":""},{"$f":"IF(กรอกข้อมูล!AS355>กรอกข้อมูล!AO$2,\"\",กรอกข้อมูล!AT355)","v":""}]
["","","",{"$f":"IF(กรอกข้อมูล!A356=0,\"\",กรอกข้อมูล!A356)","v":""},{"$f":"IF(กรอกข้อมูล!A356=0,\"\",D356-I$6)","v":""},{"$f":"IF(กรอกข้อมูล!A356=0,\"\",E356^2)","v":""},{"$nulls":11},"","",{"$f":"IF(กรอกข้อมูล!AS356>กรอกข้อมูล!AO$2,\"\",กรอกข้อมูล!AS356)","v":""},{"$f":"IF(กรอกข้อมูล!AS356>กรอกข้อมูล!AO$2,\"\",กรอกข้อมูล!AT356)","v":""}]
["","","",{"$f":"IF(กรอกข้อมูล!A357=0,\"\",กรอกข้อมูล!A357)","v":""},{"$f":"IF(กรอกข้อมูล!A357=0,\"\",D357-I$6)","v":""},{"$f":"IF(กรอกข้อมูล!A357=0,\"\",E357^2)","v":""},{"$nulls":11},"","",{"$f":"IF(กรอกข้อมูล!AS357>กรอกข้อมูล!AO$2,\"\",กรอกข้อมูล!AS357)","v":""},{"$f":"IF(กรอกข้อมูล!AS357>กรอกข้อมูล!AO$2,\"\",กรอกข้อมูล!AT357)","v":""}]
["","","",{"$f":"IF(กรอกข้อมูล!A358=0,\"\",กรอกข้อมูล!A358)","v":""},{"$f":"IF(กรอกข้อมูล!A358=0,\"\",D358-I$6)","v":""},{"$f":"IF(กรอกข้อมูล!A358=0,\"\",E358^2)","v":""},{"$nulls":11},"","",{"$f":"IF(กรอกข้อมูล!AS358>กรอกข้อมูล!AO$2,\"\",กรอกข้อมูล!AS358)","v":""},{"$f":"IF(กรอกข้อมูล!AS358>กรอกข้อมูล!AO$2,\"\",กรอกข้อมูล!AT358)","v":""}]
["","","",{"$f":"IF(กรอกข้อมูล!A359=0,\"\",กรอกข้อมูล!A359)","v":""},{"$f":"IF(กรอกข้อมูล!A359=0,\"\",D359-I$6)","v":""},{"$f":"IF(กรอกข้อมูล!A359=0,\"\",E359^2)","v":""},{"$nulls":11},"","",{"$f":"IF(กรอกข้อมูล!AS359>กรอกข้อมูล!AO$2,\"\",กรอกข้อมูล!AS359)","v":""},{"$f":"IF(กรอกข้อมูล!AS359>กรอกข้อมูล!AO$2,\"\",กรอกข้อมูล!AT359)","v":""}]
["","","",{"$f":"IF(กรอกข้อมูล!A360=0,\"\",กรอกข้อมูล!A360)","v":""},{"$f":"IF(กรอกข้อมูล!A360=0,\"\",D360-I$6)","v":""},{"$f":"IF(กรอกข้อมูล!A360=0,\"\",E360^2)","v":""},{"$nulls":11},"","",{"$f":"IF(กรอกข้อมูล!AS360>กรอกข้อมูล!AO$2,\"\",กรอกข้อมูล!AS360)","v":""},{"$f":"IF(กรอกข้อมูล!AS360>กรอกข้อมูล!AO$2,\"\",กรอกข้อมูล!AT360)","v":""}]
["","","",{"$f":"IF(กรอกข้อมูล!A361=0,\"\",กรอกข้อมูล!A361)","v":""},{"$f":"IF(กรอกข้อมูล!A361=0,\"\",D361-I$6)","v":""},{"$f":"IF(กรอกข้อมูล!A361=0,\"\",E361^2)","v":""},{"$nulls":11},"","",{"$f":"IF(กรอกข้อมูล!AS361>กรอกข้อมูล!AO$2,\"\",กรอกข้อมูล!AS361)","v":""},{"$f":"IF(กรอกข้อมูล!AS361>กรอกข้อมูล!AO$2,\"\",กรอกข้อมูล!AT361)","v":""}]
["","","",{"$f":"IF(กรอกข้อมูล!A362=0,\"\",กรอกข้อมูล!A362)","v":""},{"$f":"IF(กรอกข้อมูล!A362=0,\"\",D362-I$6)","v":""},{"$f":"IF(กรอกข้อมูล!A362=0,\"\",E362^2)","v":""},{"$nulls":11},"","",{"$f":"IF(กรอกข้อมูล!AS362>กรอกข้อมูล!AO$2,\"\",กรอกข้อมูล!AS362)","v":""},{"$f":"IF(กรอกข้อมูล!AS362>กรอกข้อมูล!AO$2,\"\",กรอกข้อมูล!AT362)","v":""}]
["","","",{"$f":"IF(กรอกข้อมูล!A363=0,\"\",กรอกข้อมูล!A363)","v":""},{"$f":"IF(กรอกข้อมูล!A363=0,\"\",D363-I$6)","v":""},{"$f":"IF(กรอกข้อมูล!A363=0,\"\",E363^2)","v":""},{"$nulls":11},"","",{"$f":"IF(กรอกข้อมูล!AS363>กรอกข้อมูล!AO$2,\"\",กรอกข้อมูล!AS363)","v":""},{"$f":"IF(กรอกข้อมูล!AS363>กรอกข้อมูล!AO$2,\"\",กรอกข้อมูล!AT363)","v":""}]
["","","",{"$f":"IF(กรอกข้อมูล!A364=0,\"\",กรอกข้อมูล!A364)","v":""},{"$f":"IF(กรอกข้อมูล!A364=0,\"\",D364-I$6)","v":""},{"$f":"IF(กรอกข้อมูล!A364=0,\"\",E364^2)","v":""},{"$nulls":11},"","",{"$f":"IF(กรอกข้อมูล!AS364>กรอกข้อมูล!AO$2,\"\",กรอกข้อมูล!AS364)","v":""},{"$f":"IF(กรอกข้อมูล!AS364>กรอกข้อมูล!AO$2,\"\",กรอกข้อมูล!AT364)","v":""}]
["","","",{"$f":"IF(กรอกข้อมูล!A365=0,\"\",กรอกข้อมูล!A365)","v":""},{"$f":"IF(กรอกข้อมูล!A365=0,\"\",D365-I$6)","v":""},{"$f":"IF(กรอกข้อมูล!A365=0,\"\",E365^2)","v":""},{"$nulls":11},"","",{"$f":"IF(กรอกข้อมูล!AS365>กรอกข้อมูล!AO$2,\"\",กรอกข้อมูล!AS365)","v":""},{"$f":"IF(กรอกข้อมูล!AS365>กรอกข้อมูล!AO$2,\"\",กรอกข้อมูล!AT365)","v":""}]
["","","",{"$f":"IF(กรอกข้อมูล!A366=0,\"\",กรอกข้อมูล!A366)","v":""},{"$f":"IF(กรอกข้อมูล!A366=0,\"\",D366-I$6)","v":""},{"$f":"IF(กรอกข้อมูล!A366=0,\"\",E366^2)","v":""},{"$nulls":11},"","",{"$f":"IF(กรอกข้อมูล!AS366>กรอกข้อมูล!AO$2,\"\",กรอกข้อมูล!AS366)","v":""},{"$f":"IF(กรอกข้อมูล!AS366>กรอกข้อมูล!AO$2,\"\",กรอกข้อมูล!AT366)","v":""}]
["","","",{"$f":"IF(กรอกข้อมูล!A367=0,\"\",กรอกข้อมูล!A367)","v":""},{"$f":"IF(กรอกข้อมูล!A367=0,\"\",D367-I$6)","v":""},{"$f":"IF(กรอกข้อมูล!A367=0,\"\",E367^2)","v":""},{"$nulls":11},"","",{"$f":"IF(กรอกข้อมูล!AS367>กรอกข้อมูล!AO$2,\"\",กรอกข้อมูล!AS367)","v":""},{"$f":"IF(กรอกข้อมูล!AS367>กรอกข้อมูล!AO$2,\"\",กรอกข้อมูล!AT367)","v":""}]
["","","",{"$f":"IF(กรอกข้อมูล!A368=0,\"\",กรอกข้อมูล!A368)","v":""},{"$f":"IF(กรอกข้อมูล!A368=0,\"\",D368-I$6)","v":""},{"$f":"IF(กรอกข้อมูล!A368=0,\"\",E368^2)","v":""},{"$nulls":11},"","",{"$f":"IF(กรอกข้อมูล!AS368>กรอกข้อมูล!AO$2,\"\",กรอกข้อมูล!AS368)","v":""},{"$f":"IF(กรอกข้อมูล!AS368>กรอกข้อมูล!AO$2,\"\",กรอกข้อมูล!AT368)","v":""}]
["","","",{"$f":"IF(กรอกข้อมูล!A369=0,\"\",กรอกข้อมูล!A369)","v":""},{"$f":"IF(กรอกข้อมูล!A369=0,\"\",D369-I$6)","v":""},{"$f":"IF(กรอกข้อมูล!A369=0,\"\",E369^2)","v":""},{"$nulls":11},"","",{"$f":"IF(กรอกข้อมูล!AS369>กรอกข้อมูล!AO$2,\"\",กรอกข้อมูล!AS369)","v":""},{"$f":"IF(กรอกข้อมูล!AS369>กรอกข้อมูล!AO$2,\"\",กรอกข้อมูล!AT369)","v":""}]
["","","",{"$f":"IF(กรอกข้อมูล!A370=0,\"\",กรอกข้อมูล!A370)","v":""},{"$f":"IF(กรอกข้อมูล!A370=0,\"\",D370-I$6)","v":""},{"$f":"IF(กรอกข้อมูล!A370=0,\"\",E370^2)","v":""},{"$nulls":11},"","",{"$f":"IF(กรอกข้อมูล!AS370>กรอกข้อมูล!AO$2,\"\",กรอกข้อมูล!AS370)","v":""},{"$f":"IF(กรอกข้อมูล!AS370>กรอกข้อมูล!AO$2,\"\",กรอกข้อมูล!AT370)","v":""}]
["","","",{"$f":"IF(กรอกข้อมูล!A371=0,\"\",กรอกข้อมูล!A371)","v":""},{"$f":"IF(กรอกข้อมูล!A371=0,\"\",D371-I$6)","v":""},{"$f":"IF(กรอกข้อมูล!A371=0,\"\",E371^2)","v":""},{"$nulls":11},"","",{"$f":"IF(กรอกข้อมูล!AS371>กรอกข้อมูล!AO$2,\"\",กรอกข้อมูล!AS371)","v":""},{"$f":"IF(กรอกข้อมูล!AS371>กรอกข้อมูล!AO$2,\"\",กรอกข้อมูล!AT371)","v":""}]
["","","",{"$f":"IF(กรอกข้อมูล!A372=0,\"\",กรอกข้อมูล!A372)","v":""},{"$f":"IF(กรอกข้อมูล!A372=0,\"\",D372-I$6)","v":""},{"$f":"IF(กรอกข้อมูล!A372=0,\"\",E372^2)","v":""},{"$nulls":11},"","",{"$f":"IF(กรอกข้อมูล!AS372>กรอกข้อมูล!AO$2,\"\",กรอกข้อมูล!AS372)","v":""},{"$f":"IF(กรอกข้อมูล!AS372>กรอกข้อมูล!AO$2,\"\",กรอกข้อมูล!AT372)","v":""}]
["","","",{"$f":"IF(กรอกข้อมูล!A373=0,\"\",กรอกข้อมูล!A373)","v":""},{"$f":"IF(กรอกข้อมูล!A373=0,\"\",D373-I$6)","v":""},{"$f":"IF(กรอกข้อมูล!A373=0,\"\",E373^2)","v":""},{"$nulls":11},"","",{"$f":"IF(กรอกข้อมูล!AS373>กรอกข้อมูล!AO$2,\"\",กรอกข้อมูล!AS373)","v":""},{"$f":"IF(กรอกข้อมูล!AS373>กรอกข้อมูล!AO$2,\"\",กรอกข้อมูล!AT373)","v":""}]
["","","",{"$f":"IF(กรอกข้อมูล!A374=0,\"\",กรอกข้อมูล!A374)","v":""},{"$f":"IF(กรอกข้อมูล!A374=0,\"\",D374-I$6)","v":""},{"$f":"IF(กรอกข้อมูล!A374=0,\"\",E374^2)","v":""},{"$nulls":11},"","",{"$f":"IF(กรอกข้อมูล!AS374>กรอกข้อมูล!AO$2,\"\",กรอกข้อมูล!AS374)","v":""},{"$f":"IF(กรอกข้อมูล!AS374>กรอกข้อมูล!AO$2,\"\",กรอกข้อมูล!AT374)","v":""}]
["","","",{"$f":"IF(กรอกข้อมูล!A375=0,\"\",กรอกข้อมูล!A375)","v":""},{"$f":"IF(กรอกข้อมูล!A375=0,\"\",D375-I$6)","v":""},{"$f":"IF(กรอกข้อมูล!A375=0,\"\",E375^2)","v":""},{"$nulls":11},"","",{"$f":"IF(กรอกข้อมูล!AS375>กรอกข้อมูล!AO$2,\"\",กรอกข้อมูล!AS375)","v":""},{"$f":"IF(กรอกข้อมูล!AS375>กรอกข้อมูล!AO$2,\"\",กรอกข้อมูล!AT375)","v":""}]
["","","",{"$f":"IF(กรอกข้อมูล!A376=0,\"\",กรอกข้อมูล!A376)","v":""},{"$f":"IF(กรอกข้อมูล!A376=0,\"\",D376-I$6)","v":""},{"$f":"IF(กรอกข้อมูล!A376=0,\"\",E376^2)","v":""},{"$nulls":11},"","",{"$f":"IF(กรอกข้อมูล!AS376>กรอกข้อมูล!AO$2,\"\",กรอกข้อมูล!AS376)","v":""},{"$f":"IF(กรอกข้อมูล!AS376>กรอกข้อมูล!AO$2,\"\",กรอกข้อมูล!AT376)","v":""}]
["","","",{"$f":"IF(กรอกข้อมูล!A377=0,\"\",กรอกข้อมูล!A377)","v":""},{"$f":"IF(กรอกข้อมูล!A377=0,\"\",D377-I$6)","v":""},{"$f":"IF(กรอกข้อมูล!A377=0,\"\",E377^2)","v":""},{"$nulls":11},"","",{"$f":"IF(กรอกข้อมูล!AS377>กรอกข้อมูล!AO$2,\"\",กรอกข้อมูล!AS377)","v":""},{"$f":"IF(กรอกข้อมูล!AS377>กรอกข้อมูล!AO$2,\"\",กรอกข้อมูล!AT377)","v":""}]
["","","",{"$f":"IF(กรอกข้อมูล!A378=0,\"\",กรอกข้อมูล!A378)","v":""},{"$f":"IF(กรอกข้อมูล!A378=0,\"\",D378-I$6)","v":""},{"$f":"IF(กรอกข้อมูล!A378=0,\"\",E378^2)","v":""},{"$nulls":11},"","",{"$f":"IF(กรอกข้อมูล!AS378>กรอกข้อมูล!AO$2,\"\",กรอกข้อมูล!AS378)","v":""},{"$f":"IF(กรอกข้อมูล!AS378>กรอกข้อมูล!AO$2,\"\",กรอกข้อมูล!AT378)","v":""}]
["","","",{"$f":"IF(กรอกข้อมูล!A379=0,\"\",กรอกข้อมูล!A379)","v":""},{"$f":"IF(กรอกข้อมูล!A379=0,\"\",D379-I$6)","v":""},{"$f":"IF(กรอกข้อมูล!A379=0,\"\",E379^2)","v":""},{"$nulls":11},"","",{"$f":"IF(กรอกข้อมูล!AS379>กรอกข้อมูล!AO$2,\"\",กรอกข้อมูล!AS379)","v":""},{"$f":"IF(กรอกข้อมูล!AS379>กรอกข้อมูล!AO$2,\"\",กรอกข้อมูล!AT379)","v":""}]
["","","",{"$f":"IF(กรอกข้อมูล!A380=0,\"\",กรอกข้อมูล!A380)","v":""},{"$f":"IF(กรอกข้อมูล!A380=0,\"\",D380-I$6)","v":""},{"$f":"IF(กรอกข้อมูล!A380=0,\"\",E380^2)","v":""},{"$nulls":11},"","",{"$f":"IF(กรอกข้อมูล!AS380>กรอกข้อมูล!AO$2,\"\",กรอกข้อมูล!AS380)","v":""},{"$f":"IF(กรอกข้อมูล!AS380>กรอกข้อมูล!AO$2,\"\",กรอกข้อมูล!AT380)","v":""}]
["","","",{"$f":"IF(กรอกข้อมูล!A381=0,\"\",กรอกข้อมูล!A381)","v":""},{"$f":"IF(กรอกข้อมูล!A381=0,\"\",D381-I$6)","v":""},{"$f":"IF(กรอกข้อมูล!A381=0,\"\",E381^2)","v":""},{"$nulls":11},"","",{"$f":"IF(กรอกข้อมูล!AS381>กรอกข้อมูล!AO$2,\"\",กรอกข้อมูล!AS381)","v":""},{"$f":"IF(กรอกข้อมูล!AS381>กรอกข้อมูล!AO$2,\"\",กรอกข้อมูล!AT381)","v":""}]
["","","",{"$f":"IF(กรอกข้อมูล!A382=0,\"\",กรอกข้อมูล!A382)","v":""},{"$f":"IF(กรอกข้อมูล!A382=0,\"\",D382-I$6)","v":""},{"$f":"IF(กรอกข้อมูล!A382=0,\"\",E382^2)","v":""},{"$nulls":11},"","",{"$f":"IF(กรอกข้อมูล!AS382>กรอกข้อมูล!AO$2,\"\",กรอกข้อมูล!AS382)","v":""},{"$f":"IF(กรอกข้อมูล!AS382>กรอกข้อมูล!AO$2,\"\",กรอกข้อมูล!AT382)","v":""}]
["","","",{"$f":"IF(กรอกข้อมูล!A383=0,\"\",กรอกข้อมูล!A383)","v":""},{"$f":"IF(กรอกข้อมูล!A383=0,\"\",D383-I$6)","v":""},{"$f":"IF(กรอกข้อมูล!A383=0,\"\",E383^2)","v":""},{"$nulls":11},"","",{"$f":"IF(กรอกข้อมูล!AS383>กรอกข้อมูล!AO$2,\"\",กรอกข้อมูล!AS383)","v":""},{"$f":"IF(กรอกข้อมูล!AS383>กรอกข้อมูล!AO$2,\"\",กรอกข้อมูล!AT383)","v":""}]
["","","",{"$f":"IF(กรอกข้อมูล!A384=0,\"\",กรอกข้อมูล!A384)","v":""},{"$f":"IF(กรอกข้อมูล!A384=0,\"\",D384-I$6)","v":""},{"$f":"IF(กรอกข้อมูล!A384=0,\"\",E384^2)","v":""},{"$nulls":11},"","",{"$f":"IF(กรอกข้อมูล!AS384>กรอกข้อมูล!AO$2,\"\",กรอกข้อมูล!AS384)","v":""},{"$f":"IF(กรอกข้อมูล!AS384>กรอกข้อมูล!AO$2,\"\",กรอกข้อมูล!AT384)","v":""}]
[{"$f":"D385","v":""},{"$f":"E385","v":""},{"$f":"F385","v":""},{"$f":"IF(กรอกข้อมูล!A385=0,\"\",กรอกข้อมูล!A385)","v":""},{"$f":"IF(กรอกข้อมูล!A385=0,\"\",D385-I$6)","v":""},{"$f":"IF(กรอกข้อมูล!A385=0,\"\",E385^2)","v":""},{"$nulls":11},"","",{"$f":"IF(กรอกข้อมูล!AS385>กรอกข้อมูล!AO$2,\"\",กรอกข้อมูล!AS385)","v":""},{"$f":"IF(กรอกข้อมูล!AS385>กรอกข้อมูล!AO$2,\"\",กรอกข้อมูล!AT385)","v":""}]
["","","",{"$f":"IF(กรอกข้อมูล!A386=0,\"\",กรอกข้อมูล!A386)","v":""},{"$f":"IF(กรอกข้อมูล!A386=0,\"\",D386-I$6)","v":""},{"$f":"IF(กรอกข้อมูล!A386=0,\"\",E386^2)","v":""},{"$nulls":11},{"$f":"T386","v":""},{"$f":"U386","v":""},{"$f":"IF(กรอกข้อมูล!AS386>กรอกข้อมูล!AO$2,\"\",กรอกข้อมูล!AS386)","v":""},{"$f":"IF(กรอกข้อมูล!AS386>กรอกข้อมูล!AO$2,\"\",กรอกข้อมูล!AT386)","v":""}]
["","","",{"$f":"IF(กรอกข้อมูล!A387=0,\"\",กรอกข้อมูล!A387)","v":""},{"$f":"IF(กรอกข้อมูล!A387=0,\"\",D387-I$6)","v":""},{"$f":"IF(กรอกข้อมูล!A387=0,\"\",E387^2)","v":""},{"$nulls":11},"","",{"$f":"IF(กรอกข้อมูล!AS387>กรอกข้อมูล!AO$2,\"\",กรอกข้อมูล!AS387)","v":""},{"$f":"IF(กรอกข้อมูล!AS387>กรอกข้อมูล!AO$2,\"\",กรอกข้อมูล!AT387)","v":""}]
["","","",{"$f":"IF(กรอกข้อมูล!A388=0,\"\",กรอกข้อมูล!A388)","v":""},{"$f":"IF(กรอกข้อมูล!A388=0,\"\",D388-I$6)","v":""},{"$f":"IF(กรอกข้อมูล!A388=0,\"\",E388^2)","v":""},{"$nulls":11},"","",{"$f":"IF(กรอกข้อมูล!AS388>กรอกข้อมูล!AO$2,\"\",กรอกข้อมูล!AS388)","v":""},{"$f":"IF(กรอกข้อมูล!AS388>กรอกข้อมูล!AO$2,\"\",กรอกข้อมูล!AT388)","v":""}]
["","","",{"$f":"IF(กรอกข้อมูล!A389=0,\"\",กรอกข้อมูล!A389)","v":""},{"$f":"IF(กรอกข้อมูล!A389=0,\"\",D389-I$6)","v":""},{"$f":"IF(กรอกข้อมูล!A389=0,\"\",E389^2)","v":""},{"$nulls":11},"","",{"$f":"IF(กรอกข้อมูล!AS389>กรอกข้อมูล!AO$2,\"\",กรอกข้อมูล!AS389)","v":""},{"$f":"IF(กรอกข้อมูล!AS389>กรอกข้อมูล!AO$2,\"\",กรอกข้อมูล!AT389)","v":""}]
["","","",{"$f":"IF(กรอกข้อมูล!A390=0,\"\",กรอกข้อมูล!A390)","v":""},{"$f":"IF(กรอกข้อมูล!A390=0,\"\",D390-I$6)","v":""},{"$f":"IF(กรอกข้อมูล!A390=0,\"\",E390^2)","v":""},{"$nulls":11},"","",{"$f":"IF(กรอกข้อมูล!AS390>กรอกข้อมูล!AO$2,\"\",กรอกข้อมูล!AS390)","v":""},{"$f":"IF(กรอกข้อมูล!AS390>กรอกข้อมูล!AO$2,\"\",กรอกข้อมูล!AT390)","v":""}]
["","","",{"$f":"IF(กรอกข้อมูล!A391=0,\"\",กรอกข้อมูล!A391)","v":""},{"$f":"IF(กรอกข้อมูล!A391=0,\"\",D391-I$6)","v":""},{"$f":"IF(กรอกข้อมูล!A391=0,\"\",E391^2)","v":""},{"$nulls":11},"","",{"$f":"IF(กรอกข้อมูล!AS391>กรอกข้อมูล!AO$2,\"\",กรอกข้อมูล!AS391)","v":""},{"$f":"IF(กรอกข้อมูล!AS391>กรอกข้อมูล!AO$2,\"\",กรอกข้อมูล!AT391)","v":""}]
["","","",{"$f":"IF(กรอกข้อมูล!A392=0,\"\",กรอกข้อมูล!A392)","v":""},{"$f":"IF(กรอกข้อมูล!A392=0,\"\",D392-I$6)","v":""},{"$f":"IF(กรอกข้อมูล!A392=0,\"\",E392^2)","v":""},{"$nulls":11},"","",{"$f":"IF(กรอกข้อมูล!AS392>กรอกข้อมูล!AO$2,\"\",กรอกข้อมูล!AS392)","v":""},{"$f":"IF(กรอกข้อมูล!AS392>กรอกข้อมูล!AO$2,\"\",กรอกข้อมูล!AT392)","v":""}]
["","","",{"$f":"IF(กรอกข้อมูล!A393=0,\"\",กรอกข้อมูล!A393)","v":""},{"$f":"IF(กรอกข้อมูล!A393=0,\"\",D393-I$6)","v":""},{"$f":"IF(กรอกข้อมูล!A393=0,\"\",E393^2)","v":""},{"$nulls":11},"","",{"$f":"IF(กรอกข้อมูล!AS393>กรอกข้อมูล!AO$2,\"\",กรอกข้อมูล!AS393)","v":""},{"$f":"IF(กรอกข้อมูล!AS393>กรอกข้อมูล!AO$2,\"\",กรอกข้อมูล!AT393)","v":""}]
["","","",{"$f":"IF(กรอกข้อมูล!A394=0,\"\",กรอกข้อมูล!A394)","v":""},{"$f":"IF(กรอกข้อมูล!A394=0,\"\",D394-I$6)","v":""},{"$f":"IF(กรอกข้อมูล!A394=0,\"\",E394^2)","v":""},{"$nulls":11},"","",{"$f":"IF(กรอกข้อมูล!AS394>กรอกข้อมูล!AO$2,\"\",กรอกข้อมูล!AS394)","v":""},{"$f":"IF(กรอกข้อมูล!AS394>กรอกข้อมูล!AO$2,\"\",กรอกข้อมูล!AT394)","v":""}]
["","","",{"$f":"IF(กรอกข้อมูล!A395=0,\"\",กรอกข้อมูล!A395)","v":""},{"$f":"IF(กรอกข้อมูล!A395=0,\"\",D395-I$6)","v":""},{"$f":"IF(กรอกข้อมูล!A395=0,\"\",E395^2)","v":""},{"$nulls":11},"","",{"$f":"IF(กรอกข้อมูล!AS395>กรอกข้อมูล!AO$2,\"\",กรอกข้อมูล!AS395)","v":""},{"$f":"IF(กรอกข้อมูล!AS395>กรอกข้อมูล!AO$2,\"\",กรอกข้อมูล!AT395)","v":""}]
["","","",{"$f":"IF(กรอกข้อมูล!A396=0,\"\",กรอกข้อมูล!A396)","v":""},{"$f":"IF(กรอกข้อมูล!A396=0,\"\",D396-I$6)","v":""},{"$f":"IF(กรอกข้อมูล!A396=0,\"\",E396^2)","v":""},{"$nulls":11},"","",{"$f":"IF(กรอกข้อมูล!AS396>กรอกข้อมูล!AO$2,\"\",กรอกข้อมูล!AS396)","v":""},{"$f":"IF(กรอกข้อมูล!AS396>กรอกข้อมูล!AO$2,\"\",กรอกข้อมูล!AT396)","v":""}]
["","","",{"$f":"IF(กรอกข้อมูล!A397=0,\"\",กรอกข้อมูล!A397)","v":""},{"$f":"IF(กรอกข้อมูล!A397=0,\"\",D397-I$6)","v":""},{"$f":"IF(กรอกข้อมูล!A397=0,\"\",E397^2)","v":""},{"$nulls":11},"","",{"$f":"IF(กรอกข้อมูล!AS397>กรอกข้อมูล!AO$2,\"\",กรอกข้อมูล!AS397)","v":""},{"$f":"IF(กรอกข้อมูล!AS397>กรอกข้อมูล!AO$2,\"\",กรอกข้อมูล!AT397)","v":""}]
["","","",{"$f":"IF(กรอกข้อมูล!A398=0,\"\",กรอกข้อมูล!A398)","v":""},{"$f":"IF(กรอกข้อมูล!A398=0,\"\",D398-I$6)","v":""},{"$f":"IF(กรอกข้อมูล!A398=0,\"\",E398^2)","v":""},{"$nulls":11},"","",{"$f":"IF(กรอกข้อมูล!AS398>กรอกข้อมูล!AO$2,\"\",กรอกข้อมูล!AS398)","v":""},{"$f":"IF(กรอกข้อมูล!AS398>กรอกข้อมูล!AO$2,\"\",กรอกข้อมูล!AT398)","v":""}]
["","","",{"$f":"IF(กรอกข้อมูล!A399=0,\"\",กรอกข้อมูล!A399)","v":""},{"$f":"IF(กรอกข้อมูล!A399=0,\"\",D399-I$6)","v":""},{"$f":"IF(กรอกข้อมูล!A399=0,\"\",E399^2)","v":""},{"$nulls":11},"","",{"$f":"IF(กรอกข้อมูล!AS399>กรอกข้อมูล!AO$2,\"\",กรอกข้อมูล!AS399)","v":""},{"$f":"IF(กรอกข้อมูล!AS399>กรอกข้อมูล!AO$2,\"\",กรอกข้อมูล!AT399)","v":""}]
["","","",{"$f":"IF(กรอกข้อมูล!A400=0,\"\",กรอกข้อมูล!A400)","v":""},{"$f":"IF(กรอกข้อมูล!A400=0,\"\",D400-I$6)","v":""},{"$f":"IF(กรอกข้อมูล!A400=0,\"\",E400^2)","v":""},{"$nulls":11},"","",{"$f":"IF(กรอกข้อมูล!AS400>กรอกข้อมูล!AO$2,\"\",กรอกข้อมูล!AS400)","v":""},{"$f":"IF(กรอกข้อมูล!AS400>กรอกข้อมูล!AO$2,\"\",กรอกข้อมูล!AT400)","v":""}]
["","","",{"$f":"IF(กรอกข้อมูล!A401=0,\"\",กรอกข้อมูล!A401)","v":""},{"$f":"IF(กรอกข้อมูล!A401=0,\"\",D401-I$6)","v":""},{"$f":"IF(กรอกข้อมูล!A401=0,\"\",E401^2)","v":""},{"$nulls":11},"","",{"$f":"IF(กรอกข้อมูล!AS401>กรอกข้อมูล!AO$2,\"\",กรอกข้อมูล!AS401)","v":""},{"$f":"IF(กรอกข้อมูล!AS401>กรอกข้อมูล!AO$2,\"\",กรอกข้อมูล!AT401)","v":""}]
[1079,8.5265128291212022E-14,1154.1799999999996,{"$f":"SUM(D2:D401)","v":1079},{"$f":"SUM(E2:E401)","v":8.5265128291212022E-14},{"$f":"SUM(F2:F401)","v":1154.1799999999996},{"$nulls":9},"ผลรวม ",null,430,50,{"$f":"SUM(T2:T401)","v":430},{"$f":"SUM(U2:U401)","v":50}]
[{"$nulls":15},"M.D."]
[null,null,null,{"$f":"SQRT(F402/I4)","v":4.8045395200789009}]
[null,null,null,{"$f":"F402/I4","v":23.083599999999993}]
[]
[null,null,null,{"$f":"SQRT(F402/(I4-1))","v":4.8533178216093589}]
[null,null,null,{"$f":"F402/(I4-1)","v":23.554693877551014}]

{"sheet":"แจกแจง I=0","index":5,"n_rows":403,"n_cols":19,"rows_kept":403,"cut":false,"hidden":true,"merged":[[0,7,0,10]]}
["ข้อมูล (X)","ความถี่ (f)","ความถี่สะสม (F)","fX",null,null,null,"ค่าเฉลี่ยเลขคณิต (Mean) แบบแจกแจงความถี่ที่ไม่มีอันตรภาคชั้น",{"$nulls":4},"ข้อมูล","ความถี่","ความถี่สะสม","fX"]
[{"$f":"M2","v":12},{"$f":"N2","v":2},{"$f":"O2","v":2},{"$f":"P2","v":4},{"$f":"R2","v":14.559999999999999},{"$f":"S2","v":29.119999999999997},{"$nulls":6},{"$f":"IF(กรอกข้อมูล!AS2>กรอกข้อมูล!AO$2,\"\",กรอกข้อมูล!AS2)","v":12},{"$f":"IF(กรอกข้อมูล!AS2>กรอกข้อมูล!AO$2,\"\",กรอกข้อมูล!AT2)","v":2},{"$f":"IF(กรอกข้อมูล!AS2>กรอกข้อมูล!AO$2,\"\",กรอกข้อมูล!AU2)","v":2},{"$f":"IF(กรอกข้อมูล!AS2>กรอกข้อมูล!AO$2,\"\",N2*O2)","v":4},{"$f":"IF(กรอกข้อมูล!AS2>กรอกข้อมูล!AO$2,\"\",ABS(M2-I$6))","v":14.559999999999999},{"$f":"IF(N2=0,0,Q2)","v":14.559999999999999},{"$f":"IF(กรอกข้อมูล!AS2>กรอกข้อมูล!AO$2,\"\",N2*Q2)","v":29.119999999999997}]
[13,1,3,3,13.559999999999999,13.559999999999999,null,"ผลรวม fX =",{"$f":"$D$402","v":1328},null,null,null,{"$f":"IF(กรอกข้อมูล!AS3>กรอกข้อมูล!AO$2,\"\",กรอกข้อมูล!AS3)","v":13},{"$f":"IF(กรอกข้อมูล!AS3>กรอกข้อมูล!AO$2,\"\",กรอกข้อมูล!AT3)","v":1},{"$f":"IF(กรอกข้อมูล!AS3>กรอกข้อมูล!AO$2,\"\",กรอกข้อมูล!AU3)","v":3},{"$f":"IF(กรอกข้อมูล!AS3>กรอกข้อมูล!AO$2,\"\",N3*O3)","v":3},{"$f":"IF(กรอกข้อมูล!AS3>กรอกข้อมูล!AO$2,\"\",ABS(M3-I$6))","v":13.559999999999999},{"$f":"IF(N3=0,0,Q3)","v":13.559999999999999},{"$f":"IF(กรอกข้อมูล!AS3>กรอกข้อมูล!AO$2,\"\",N3*Q3)","v":13.559999999999999}]
[14,1,4,4,12.559999999999999,12.559999999999999,null,"n =",{"$f":"กรอกข้อมูล!$AO$7","v":50},null,null,null,{"$f":"IF(กรอกข้อมูล!AS4>กรอกข้อมูล!AO$2,\"\",กรอกข้อมูล!AS4)","v":14},{"$f":"IF(กรอกข้อมูล!AS4>กรอกข้อมูล!AO$2,\"\",กรอกข้อมูล!AT4)","v":1},{"$f":"IF(กรอกข้อมูล!AS4>กรอกข้อมูล!AO$2,\"\",กรอกข้อมูล!AU4)","v":4},{"$f":"IF(กรอกข้อมูล!AS4>กรอกข้อมูล!AO$2,\"\",N4*O4)","v":4},{"$f":"IF(กรอกข้อมูล!AS4>กรอกข้อมูล!AO$2,\"\",ABS(M4-I$6))","v":12.559999999999999},12.559999999999999,{"$f":"IF(กรอกข้อมูล!AS4>กรอกข้อมูล!AO$2,\"\",N4*Q4)","v":12.559999999999999}]
[15,2,6,12,11.559999999999999,23.119999999999997,null,"ค่าเฉลี่ย ="," ผลรวม fX/n ",null,null,null,{"$f":"IF(กรอกข้อมูล!AS5>กรอกข้อมูล!AO$2,\"\",กรอกข้อมูล!AS5)","v":15},{"$f":"IF(กรอกข้อมูล!AS5>กรอกข้อมูล!AO$2,\"\",กรอกข้อมูล!AT5)","v":2},{"$f":"IF(กรอกข้อมูล!AS5>กรอกข้อมูล!AO$2,\"\",กรอกข้อมูล!AU5)","v":6},{"$f":"IF(กรอกข้อมูล!AS5>กรอกข้อมูล!AO$2,\"\",N5*O5)","v":12},{"$f":"IF(กรอกข้อมูล!AS5>กรอกข้อมูล!AO$2,\"\",ABS(M5-I$6))","v":11.559999999999999},11.559999999999999,{"$f":"IF(กรอกข้อมูล!AS5>กรอกข้อมูล!AO$2,\"\",N5*Q5)","v":23.119999999999997}]
[16,2,8,16,10.559999999999999,21.119999999999997,null,"ค่าเฉลี่ย =",{"$f":"I3/I4","v":26.56},null,null,null,{"$f":"IF(กรอกข้อมูล!AS6>กรอกข้อมูล!AO$2,\"\",กรอกข้อมูล!AS6)","v":16},{"$f":"IF(กรอกข้อมูล!AS6>กรอกข้อมูล!AO$2,\"\",กรอกข้อมูล!AT6)","v":2},{"$f":"IF(กรอกข้อมูล!AS6>กรอกข้อมูล!AO$2,\"\",กรอกข้อมูล!AU6)","v":8},{"$f":"IF(กรอกข้อมูล!AS6>กรอกข้อมูล!AO$2,\"\",N6*O6)","v":16},{"$f":"IF(กรอกข้อมูล!AS6>กรอกข้อมูล!AO$2,\"\",ABS(M6-I$6))","v":10.559999999999999},10.559999999999999,{"$f":"IF(กรอกข้อมูล!AS6>กรอกข้อมูล!AO$2,\"\",N6*Q6)","v":21.119999999999997}]
[17,3,11,33,9.5599999999999987,28.679999999999996,null,null,{"$f":"$E$402","v":125.60000000000001},null,null,null,{"$f":"IF(กรอกข้อมูล!AS7>กรอกข้อมูล!AO$2,\"\",กรอกข้อมูล!AS7)","v":17},{"$f":"IF(กรอกข้อมูล!AS7>กรอกข้อมูล!AO$2,\"\",กรอกข้อมูล!AT7)","v":3},{"$f":"IF(กรอกข้อมูล!AS7>กรอกข้อมูล!AO$2,\"\",กรอกข้อมูล!AU7)","v":11},{"$f":"IF(กรอกข้อมูล!AS7>กรอกข้อมูล!AO$2,\"\",N7*O7)","v":33},{"$f":"IF(กรอกข้อมูล!AS7>กรอกข้อมูล!AO$2,\"\",ABS(M7-I$6))","v":9.5599999999999987},9.5599999999999987,{"$f":"IF(กรอกข้อมูล!AS7>กรอกข้อมูล!AO$2,\"\",N7*Q7)","v":28.679999999999996}]
[18,2,13,26,8.5599999999999987,17.119999999999997,null,null,{"$f":"$F$402","v":284.03999999999996},null,null,null,{"$f":"IF(กรอกข้อมูล!AS8>กรอกข้อมูล!AO$2,\"\",กรอกข้อมูล!AS8)","v":18},{"$f":"IF(กรอกข้อมูล!AS8>กรอกข้อมูล!AO$2,\"\",กรอกข้อมูล!AT8)","v":2},{"$f":"IF(กรอกข้อมูล!AS8>กรอกข้อมูล!AO$2,\"\",กรอกข้อมูล!AU8)","v":13},{"$f":"IF(กรอกข้อมูล!AS8>กรอกข้อมูล!AO$2,\"\",N8*O8)","v":26},{"$f":"IF(กรอกข้อมูล!AS8>กรอกข้อมูล!AO$2,\"\",ABS(M8-I$6))","v":8.5599999999999987},8.5599999999999987,{"$f":"IF(กรอกข้อมูล!AS8>กรอกข้อมูล!AO$2,\"\",N8*Q8)","v":17.119999999999997}]
[19,4,17,68,7.5599999999999987,30.239999999999995,null,"ค่าเบี่ยงเบนเฉลี่ย (M.D.) =",null,{"$f":"I8/I4","v":5.6807999999999996},null,null,{"$f":"IF(กรอกข้อมูล!AS9>กรอกข้อมูล!AO$2,\"\",กรอกข้อมูล!AS9)","v":19},{"$f":"IF(กรอกข้อมูล!AS9>กรอกข้อมูล!AO$2,\"\",กรอกข้อมูล!AT9)","v":4},{"$f":"IF(กรอกข้อมูล!AS9>กรอกข้อมูล!AO$2,\"\",กรอกข้อมูล!AU9)","v":17},{"$f":"IF(กรอกข้อมูล!AS9>กรอกข้อมูล!AO$2,\"\",N9*O9)","v":68},{"$f":"IF(กรอกข้อมูล!AS9>กรอกข้อมูล!AO$2,\"\",ABS(M9-I$6))","v":7.5599999999999987},7.5599999999999987,{"$f":"IF(กรอกข้อมูล!AS9>กรอกข้อมูล!AO$2,\"\",N9*Q9)","v":30.239999999999995}]
[20,3,20,60,6.5599999999999987,19.679999999999996,{"$nulls":6},{"$f":"IF(กรอกข้อมูล!AS10>กรอกข้อมูล!AO$2,\"\",กรอกข้อมูล!AS10)","v":20},{"$f":"IF(กรอกข้อมูล!AS10>กรอกข้อมูล!AO$2,\"\",กรอกข้อมูล!AT10)","v":3},{"$f":"IF(กรอกข้อมูล!AS10>กรอกข้อมูล!AO$2,\"\",กรอกข้อมูล!AU10)","v":20},{"$f":"IF(กรอกข้อมูล!AS10>กรอกข้อมูล!AO$2,\"\",N10*O10)","v":60},{"$f":"IF(กรอกข้อมูล!AS10>กรอกข้อมูล!AO$2,\"\",ABS(M10-I$6))","v":6.5599999999999987},6.5599999999999987,{"$f":"IF(กรอกข้อมูล!AS10>กรอกข้อมูล!AO$2,\"\",N10*Q10)","v":19.679999999999996}]
[21,6,26,156,5.5599999999999987,33.359999999999992,{"$nulls":6},{"$f":"IF(กรอกข้อมูล!AS11>กรอกข้อมูล!AO$2,\"\",กรอกข้อมูล!AS11)","v":21},{"$f":"IF(กรอกข้อมูล!AS11>กรอกข้อมูล!AO$2,\"\",กรอกข้อมูล!AT11)","v":6},{"$f":"IF(กรอกข้อมูล!AS11>กรอกข้อมูล!AO$2,\"\",กรอกข้อมูล!AU11)","v":26},{"$f":"IF(กรอกข้อมูล!AS11>กรอกข้อมูล!AO$2,\"\",N11*O11)","v":156},{"$f":"IF(กรอกข้อมูล!AS11>กรอกข้อมูล!AO$2,\"\",ABS(M11-I$6))","v":5.5599999999999987},5.5599999999999987,{"$f":"IF(กรอกข้อมูล!AS11>กรอกข้อมูล!AO$2,\"\",N11*Q11)","v":33.359999999999992}]
[22,2,28,56,4.5599999999999987,9.1199999999999974,{"$nulls":6},{"$f":"IF(กรอกข้อมูล!AS12>กรอกข้อมูล!AO$2,\"\",กรอกข้อมูล!AS12)","v":22},{"$f":"IF(กรอกข้อมูล!AS12>กรอกข้อมูล!AO$2,\"\",กรอกข้อมูล!AT12)","v":2},{"$f":"IF(กรอกข้อมูล!AS12>กรอกข้อมูล!AO$2,\"\",กรอกข้อมูล!AU12)","v":28},{"$f":"IF(กรอกข้อมูล!AS12>กรอกข้อมูล!AO$2,\"\",N12*O12)","v":56},{"$f":"IF(กรอกข้อมูล!AS12>กรอกข้อมูล!AO$2,\"\",ABS(M12-I$6))","v":4.5599999999999987},4.5599999999999987,{"$f":"IF(กรอกข้อมูล!AS12>กรอกข้อมูล!AO$2,\"\",N12*Q12)","v":9.1199999999999974}]
[23,4,32,128,3.5599999999999987,14.239999999999995,{"$nulls":6},{"$f":"IF(กรอกข้อมูล!AS13>กรอกข้อมูล!AO$2,\"\",กรอกข้อมูล!AS13)","v":23},{"$f":"IF(กรอกข้อมูล!AS13>กรอกข้อมูล!AO$2,\"\",กรอกข้อมูล!AT13)","v":4},{"$f":"IF(กรอกข้อมูล!AS13>กรอกข้อมูล!AO$2,\"\",กรอกข้อมูล!AU13)","v":32},{"$f":"IF(กรอกข้อมูล!AS13>กรอกข้อมูล!AO$2,\"\",N13*O13)","v":128},{"$f":"IF(กรอกข้อมูล!AS13>กรอกข้อมูล!AO$2,\"\",ABS(M13-I$6))","v":3.5599999999999987},3.5599999999999987,{"$f":"IF(กรอกข้อมูล!AS13>กรอกข้อมูล!AO$2,\"\",N13*Q13)","v":14.239999999999995}]
[24,3,35,105,2.5599999999999987,7.6799999999999962,{"$nulls":6},{"$f":"IF(กรอกข้อมูล!AS14>กรอกข้อมูล!AO$2,\"\",กรอกข้อมูล!AS14)","v":24},{"$f":"IF(กรอกข้อมูล!AS14>กรอกข้อมูล!AO$2,\"\",กรอกข้อมูล!AT14)","v":3},{"$f":"IF(กรอกข้อมูล!AS14>กรอกข้อมูล!AO$2,\"\",กรอกข้อมูล!AU14)","v":35},{"$f":"IF(กรอกข้อมูล!AS14>กรอกข้อมูล!AO$2,\"\",N14*O14)","v":105},{"$f":"IF(กรอกข้อมูล!AS14>กรอกข้อมูล!AO$2,\"\",ABS(M14-I$6))","v":2.5599999999999987},2.5599999999999987,{"$f":"IF(กรอกข้อมูล!AS14>กรอกข้อมูล!AO$2,\"\",N14*Q14)","v":7.6799999999999962}]
[25,3,38,114,1.5599999999999987,4.6799999999999962,{"$nulls":6},{"$f":"IF(กรอกข้อมูล!AS15>กรอกข้อมูล!AO$2,\"\",กรอกข้อมูล!AS15)","v":25},{"$f":"IF(กรอกข้อมูล!AS15>กรอกข้อมูล!AO$2,\"\",กรอกข้อมูล!AT15)","v":3},{"$f":"IF(กรอกข้อมูล!AS15>กรอกข้อมูล!AO$2,\"\",กรอกข้อมูล!AU15)","v":38},{"$f":"IF(กรอกข้อมูล!AS15>กรอกข้อมูล!AO$2,\"\",N15*O15)","v":114},{"$f":"IF(กรอกข้อมูล!AS15>กรอกข้อมูล!AO$2,\"\",ABS(M15-I$6))","v":1.5599999999999987},1.5599999999999987,{"$f":"IF(กรอกข้อมูล!AS15>กรอกข้อมูล!AO$2,\"\",N15*Q15)","v":4.6799999999999962}]
[26,4,42,168,0.55999999999999872,2.2399999999999949,{"$nulls":6},{"$f":"IF(กรอกข้อมูล!AS16>กรอกข้อมูล!AO$2,\"\",กรอกข้อมูล!AS16)","v":26},{"$f":"IF(กรอกข้อมูล!AS16>กรอกข้อมูล!AO$2,\"\",กรอกข้อมูล!AT16)","v":4},{"$f":"IF(กรอกข้อมูล!AS16>กรอกข้อมูล!AO$2,\"\",กรอกข้อมูล!AU16)","v":42},{"$f":"IF(กรอกข้อมูล!AS16>กรอกข้อมูล!AO$2,\"\",N16*O16)","v":168},{"$f":"IF(กรอกข้อมูล!AS16>กรอกข้อมูล!AO$2,\"\",ABS(M16-I$6))","v":0.55999999999999872},0.55999999999999872,{"$f":"IF(กรอกข้อมูล!AS16>กรอกข้อมูล!AO$2,\"\",N16*Q16)","v":2.2399999999999949}]
[27,2,44,88,0.44000000000000128,0.88000000000000256,{"$nulls":6},{"$f":"IF(กรอกข้อมูล!AS17>กรอกข้อมูล!AO$2,\"\",กรอกข้อมูล!AS17)","v":27},{"$f":"IF(กรอกข้อมูล!AS17>กรอกข้อมูล!AO$2,\"\",กรอกข้อมูล!AT17)","v":2},{"$f":"IF(กรอกข้อมูล!AS17>กรอกข้อมูล!AO$2,\"\",กรอกข้อมูล!AU17)","v":44},{"$f":"IF(กรอกข้อมูล!AS17>กรอกข้อมูล!AO$2,\"\",N17*O17)","v":88},{"$f":"IF(กรอกข้อมูล!AS17>กรอกข้อมูล!AO$2,\"\",ABS(M17-I$6))","v":0.44000000000000128},0.44000000000000128,{"$f":"IF(กรอกข้อมูล!AS17>กรอกข้อมูล!AO$2,\"\",N17*Q17)","v":0.88000000000000256}]
[28,2,46,92,1.4400000000000013,2.8800000000000026,{"$nulls":6},{"$f":"IF(กรอกข้อมูล!AS18>กรอกข้อมูล!AO$2,\"\",กรอกข้อมูล!AS18)","v":28},{"$f":"IF(กรอกข้อมูล!AS18>กรอกข้อมูล!AO$2,\"\",กรอกข้อมูล!AT18)","v":2},{"$f":"IF(กรอกข้อมูล!AS18>กรอกข้อมูล!AO$2,\"\",กรอกข้อมูล!AU18)","v":46},{"$f":"IF(กรอกข้อมูล!AS18>กรอกข้อมูล!AO$2,\"\",N18*O18)","v":92},{"$f":"IF(กรอกข้อมูล!AS18>กรอกข้อมูล!AO$2,\"\",ABS(M18-I$6))","v":1.4400000000000013},1.4400000000000013,{"$f":"IF(กรอกข้อมูล!AS18>กรอกข้อมูล!AO$2,\"\",N18*Q18)","v":2.8800000000000026}]
[29,1,47,47,2.4400000000000013,2.4400000000000013,{"$nulls":6},{"$f":"IF(กรอกข้อมูล!AS19>กรอกข้อมูล!AO$2,\"\",กรอกข้อมูล!AS19)","v":29},{"$f":"IF(กรอกข้อมูล!AS19>กรอกข้อมูล!AO$2,\"\",กรอกข้อมูล!AT19)","v":1},{"$f":"IF(กรอกข้อมูล!AS19>กรอกข้อมูล!AO$2,\"\",กรอกข้อมูล!AU19)","v":47},{"$f":"IF(กรอกข้อมูล!AS19>กรอกข้อมูล!AO$2,\"\",N19*O19)","v":47},{"$f":"IF(กรอกข้อมูล!AS19>กรอกข้อมูล!AO$2,\"\",ABS(M19-I$6))","v":2.4400000000000013},2.4400000000000013,{"$f":"IF(กรอกข้อมูล!AS19>กรอกข้อมูล!AO$2,\"\",N19*Q19)","v":2.4400000000000013}]
[30,2,49,98,3.4400000000000013,6.8800000000000026,{"$nulls":6},{"$f":"IF(กรอกข้อมูล!AS20>กรอกข้อมูล!AO$2,\"\",กรอกข้อมูล!AS20)","v":30},{"$f":"IF(กรอกข้อมูล!AS20>กรอกข้อมูล!AO$2,\"\",กรอกข้อมูล!AT20)","v":2},{"$f":"IF(กรอกข้อมูล!AS20>กรอกข้อมูล!AO$2,\"\",กรอกข้อมูล!AU20)","v":49},{"$f":"IF(กรอกข้อมูล!AS20>กรอกข้อมูล!AO$2,\"\",N20*O20)","v":98},{"$f":"IF(กรอกข้อมูล!AS20>กรอกข้อมูล!AO$2,\"\",ABS(M20-I$6))","v":3.4400000000000013},3.4400000000000013,{"$f":"IF(กรอกข้อมูล!AS20>กรอกข้อมูล!AO$2,\"\",N20*Q20)","v":6.8800000000000026}]
[31,1,50,50,4.4400000000000013,4.4400000000000013,{"$nulls":6},{"$f":"IF(กรอกข้อมูล!AS21>กรอกข้อมูล!AO$2,\"\",กรอกข้อมูล!AS21)","v":31},{"$f":"IF(กรอกข้อมูล!AS21>กรอกข้อมูล!AO$2,\"\",กรอกข้อมูล!AT21)","v":1},{"$f":"IF(กรอกข้อมูล!AS21>กรอกข้อมูล!AO$2,\"\",กรอกข้อมูล!AU21)","v":50},{"$f":"IF(กรอกข้อมูล!AS21>กรอกข้อมูล!AO$2,\"\",N21*O21)","v":50},{"$f":"IF(กรอกข้อมูล!AS21>กรอกข้อมูล!AO$2,\"\",ABS(M21-I$6))","v":4.4400000000000013},4.4400000000000013,{"$f":"IF(กรอกข้อมูล!AS21>กรอกข้อมูล!AO$2,\"\",N21*Q21)","v":4.4400000000000013}]
["","","","","","",{"$nulls":6},{"$f":"IF(กรอกข้อมูล!AS22>กรอกข้อมูล!AO$2,\"\",กรอกข้อมูล!AS22)","v":""},{"$f":"IF(กรอกข้อมูล!AS22>กรอกข้อมูล!AO$2,\"\",กรอกข้อมูล!AT22)","v":""},{"$f":"IF(กรอกข้อมูล!AS22>กรอกข้อมูล!AO$2,\"\",กรอกข้อมูล!AU22)","v":""},{"$f":"IF(กรอกข้อมูล!AS22>กรอกข้อมูล!AO$2,\"\",N22*O22)","v":""},{"$f":"IF(กรอกข้อมูล!AS22>กรอกข้อมูล!AO$2,\"\",ABS(M22-I$6))","v":""},"",{"$f":"IF(กรอกข้อมูล!AS22>กรอกข้อมูล!AO$2,\"\",N22*Q22)","v":""}]
["","","","","","",{"$nulls":6},{"$f":"IF(กรอกข้อมูล!AS23>กรอกข้อมูล!AO$2,\"\",กรอกข้อมูล!AS23)","v":""},{"$f":"IF(กรอกข้อมูล!AS23>กรอกข้อมูล!AO$2,\"\",กรอกข้อมูล!AT23)","v":""},{"$f":"IF(กรอกข้อมูล!AS23>กรอกข้อมูล!AO$2,\"\",กรอกข้อมูล!AU23)","v":""},{"$f":"IF(กรอกข้อมูล!AS23>กรอกข้อมูล!AO$2,\"\",N23*O23)","v":""},{"$f":"IF(กรอกข้อมูล!AS23>กรอกข้อมูล!AO$2,\"\",ABS(M23-I$6))","v":""},"",{"$f":"IF(กรอกข้อมูล!AS23>กรอกข้อมูล!AO$2,\"\",N23*Q23)","v":""}]
["","","","","","",{"$nulls":6},{"$f":"IF(กรอกข้อมูล!AS24>กรอกข้อมูล!AO$2,\"\",กรอกข้อมูล!AS24)","v":""},{"$f":"IF(กรอกข้อมูล!AS24>กรอกข้อมูล!AO$2,\"\",กรอกข้อมูล!AT24)","v":""},{"$f":"IF(กรอกข้อมูล!AS24>กรอกข้อมูล!AO$2,\"\",กรอกข้อมูล!AU24)","v":""},{"$f":"IF(กรอกข้อมูล!AS24>กรอกข้อมูล!AO$2,\"\",N24*O24)","v":""},{"$f":"IF(กรอกข้อมูล!AS24>กรอกข้อมูล!AO$2,\"\",ABS(M24-I$6))","v":""},"",{"$f":"IF(กรอกข้อมูล!AS24>กรอกข้อมูล!AO$2,\"\",N24*Q24)","v":""}]
["","","","","","",{"$nulls":6},{"$f":"IF(กรอกข้อมูล!AS25>กรอกข้อมูล!AO$2,\"\",กรอกข้อมูล!AS25)","v":""},{"$f":"IF(กรอกข้อมูล!AS25>กรอกข้อมูล!AO$2,\"\",กรอกข้อมูล!AT25)","v":""},{"$f":"IF(กรอกข้อมูล!AS25>กรอกข้อมูล!AO$2,\"\",กรอกข้อมูล!AU25)","v":""},{"$f":"IF(กรอกข้อมูล!AS25>กรอกข้อมูล!AO$2,\"\",N25*O25)","v":""},{"$f":"IF(กรอกข้อมูล!AS25>กรอกข้อมูล!AO$2,\"\",ABS(M25-I$6))","v":""},"",{"$f":"IF(กรอกข้อมูล!AS25>กรอกข้อมูล!AO$2,\"\",N25*Q25)","v":""}]
["","","","","","",{"$nulls":6},{"$f":"IF(กรอกข้อมูล!AS26>กรอกข้อมูล!AO$2,\"\",กรอกข้อมูล!AS26)","v":""},{"$f":"IF(กรอกข้อมูล!AS26>กรอกข้อมูล!AO$2,\"\",กรอกข้อมูล!AT26)","v":""},{"$f":"IF(กรอกข้อมูล!AS26>กรอกข้อมูล!AO$2,\"\",กรอกข้อมูล!AU26)","v":""},{"$f":"IF(กรอกข้อมูล!AS26>กรอกข้อมูล!AO$2,\"\",N26*O26)","v":""},{"$f":"IF(กรอกข้อมูล!AS26>กรอกข้อมูล!AO$2,\"\",ABS(M26-I$6))","v":""},"",{"$f":"IF(กรอกข้อมูล!AS26>กรอกข้อมูล!AO$2,\"\",N26*Q26)","v":""}]
["","","","","","",{"$nulls":6},{"$f":"IF(กรอกข้อมูล!AS27>กรอกข้อมูล!AO$2,\"\",กรอกข้อมูล!AS27)","v":""},{"$f":"IF(กรอกข้อมูล!AS27>กรอกข้อมูล!AO$2,\"\",กรอกข้อมูล!AT27)","v":""},{"$f":"IF(กรอกข้อมูล!AS27>กรอกข้อมูล!AO$2,\"\",กรอกข้อมูล!AU27)","v":""},{"$f":"IF(กรอกข้อมูล!AS27>กรอกข้อมูล!AO$2,\"\",N27*O27)","v":""},{"$f":"IF(กรอกข้อมูล!AS27>กรอกข้อมูล!AO$2,\"\",ABS(M27-I$6))","v":""},"",{"$f":"IF(กรอกข้อมูล!AS27>กรอกข้อมูล!AO$2,\"\",N27*Q27)","v":""}]
["","","","","","",{"$nulls":6},{"$f":"IF(กรอกข้อมูล!AS28>กรอกข้อมูล!AO$2,\"\",กรอกข้อมูล!AS28)","v":""},{"$f":"IF(กรอกข้อมูล!AS28>กรอกข้อมูล!AO$2,\"\",กรอกข้อมูล!AT28)","v":""},{"$f":"IF(กรอกข้อมูล!AS28>กรอกข้อมูล!AO$2,\"\",กรอกข้อมูล!AU28)","v":""},{"$f":"IF(กรอกข้อมูล!AS28>กรอกข้อมูล!AO$2,\"\",N28*O28)","v":""},{"$f":"IF(กรอกข้อมูล!AS28>กรอกข้อมูล!AO$2,\"\",ABS(M28-I$6))","v":""},"",{"$f":"IF(กรอกข้อมูล!AS28>กรอกข้อมูล!AO$2,\"\",N28*Q28)","v":""}]
["","","","","","",{"$nulls":6},{"$f":"IF(กรอกข้อมูล!AS29>กรอกข้อมูล!AO$2,\"\",กรอกข้อมูล!AS29)","v":""},{"$f":"IF(กรอกข้อมูล!AS29>กรอกข้อมูล!AO$2,\"\",กรอกข้อมูล!AT29)","v":""},{"$f":"IF(กรอกข้อมูล!AS29>กรอกข้อมูล!AO$2,\"\",กรอกข้อมูล!AU29)","v":""},{"$f":"IF(กรอกข้อมูล!AS29>กรอกข้อมูล!AO$2,\"\",N29*O29)","v":""},{"$f":"IF(กรอกข้อมูล!AS29>กรอกข้อมูล!AO$2,\"\",ABS(M29-I$6))","v":""},"",{"$f":"IF(กรอกข้อมูล!AS29>กรอกข้อมูล!AO$2,\"\",N29*Q29)","v":""}]
["","","","","","",{"$nulls":6},{"$f":"IF(กรอกข้อมูล!AS30>กรอกข้อมูล!AO$2,\"\",กรอกข้อมูล!AS30)","v":""},{"$f":"IF(กรอกข้อมูล!AS30>กรอกข้อมูล!AO$2,\"\",กรอกข้อมูล!AT30)","v":""},{"$f":"IF(กรอกข้อมูล!AS30>กรอกข้อมูล!AO$2,\"\",กรอกข้อมูล!AU30)","v":""},{"$f":"IF(กรอกข้อมูล!AS30>กรอกข้อมูล!AO$2,\"\",N30*O30)","v":""},{"$f":"IF(กรอกข้อมูล!AS30>กรอกข้อมูล!AO$2,\"\",ABS(M30-I$6))","v":""},"",{"$f":"IF(กรอกข้อมูล!AS30>กรอกข้อมูล!AO$2,\"\",N30*Q30)","v":""}]
["","","","","","",{"$nulls":6},{"$f":"IF(กรอกข้อมูล!AS31>กรอกข้อมูล!AO$2,\"\",กรอกข้อมูล!AS31)","v":""},{"$f":"IF(กรอกข้อมูล!AS31>กรอกข้อมูล!AO$2,\"\",กรอกข้อมูล!AT31)","v":""},{"$f":"IF(กรอกข้อมูล!AS31>กรอกข้อมูล!AO$2,\"\",กรอกข้อมูล!AU31)","v":""},{"$f":"IF(กรอกข้อมูล!AS31>กรอกข้อมูล!AO$2,\"\",N31*O31)","v":""},{"$f":"IF(กรอกข้อมูล!AS31>กรอกข้อมูล!AO$2,\"\",ABS(M31-I$6))","v":""},"",{"$f":"IF(กรอกข้อมูล!AS31>กรอกข้อมูล!AO$2,\"\",N31*Q31)","v":""}]
["","","","","","",{"$nulls":6},{"$f":"IF(กรอกข้อมูล!AS32>กรอกข้อมูล!AO$2,\"\",กรอกข้อมูล!AS32)","v":""},{"$f":"IF(กรอกข้อมูล!AS32>กรอกข้อมูล!AO$2,\"\",กรอกข้อมูล!AT32)","v":""},{"$f":"IF(กรอกข้อมูล!AS32>กรอกข้อมูล!AO$2,\"\",กรอกข้อมูล!AU32)","v":""},{"$f":"IF(กรอกข้อมูล!AS32>กรอกข้อมูล!AO$2,\"\",N32*O32)","v":""},{"$f":"IF(กรอกข้อมูล!AS32>กรอกข้อมูล!AO$2,\"\",ABS(M32-I$6))","v":""},"",{"$f":"IF(กรอกข้อมูล!AS32>กรอกข้อมูล!AO$2,\"\",N32*Q32)","v":""}]
["","","","","","",{"$nulls":6},{"$f":"IF(กรอกข้อมูล!AS33>กรอกข้อมูล!AO$2,\"\",กรอกข้อมูล!AS33)","v":""},{"$f":"IF(กรอกข้อมูล!AS33>กรอกข้อมูล!AO$2,\"\",กรอกข้อมูล!AT33)","v":""},{"$f":"IF(กรอกข้อมูล!AS33>กรอกข้อมูล!AO$2,\"\",กรอกข้อมูล!AU33)","v":""},{"$f":"IF(กรอกข้อมูล!AS33>กรอกข้อมูล!AO$2,\"\",N33*O33)","v":""},{"$f":"IF(กรอกข้อมูล!AS33>กรอกข้อมูล!AO$2,\"\",ABS(M33-I$6))","v":""},"",{"$f":"IF(กรอกข้อมูล!AS33>กรอกข้อมูล!AO$2,\"\",N33*Q33)","v":""}]
["","","","","","",{"$nulls":6},{"$f":"IF(กรอกข้อมูล!AS34>กรอกข้อมูล!AO$2,\"\",กรอกข้อมูล!AS34)","v":""},{"$f":"IF(กรอกข้อมูล!AS34>กรอกข้อมูล!AO$2,\"\",กรอกข้อมูล!AT34)","v":""},{"$f":"IF(กรอกข้อมูล!AS34>กรอกข้อมูล!AO$2,\"\",กรอกข้อมูล!AU34)","v":""},{"$f":"IF(กรอกข้อมูล!AS34>กรอกข้อมูล!AO$2,\"\",N34*O34)","v":""},{"$f":"IF(กรอกข้อมูล!AS34>กรอกข้อมูล!AO$2,\"\",ABS(M34-I$6))","v":""},"",{"$f":"IF(กรอกข้อมูล!AS34>กรอกข้อมูล!AO$2,\"\",N34*Q34)","v":""}]
["","","","","","",{"$nulls":6},{"$f":"IF(กรอกข้อมูล!AS35>กรอกข้อมูล!AO$2,\"\",กรอกข้อมูล!AS35)","v":""},{"$f":"IF(กรอกข้อมูล!AS35>กรอกข้อมูล!AO$2,\"\",กรอกข้อมูล!AT35)","v":""},{"$f":"IF(กรอกข้อมูล!AS35>กรอกข้อมูล!AO$2,\"\",กรอกข้อมูล!AU35)","v":""},{"$f":"IF(กรอกข้อมูล!AS35>กรอกข้อมูล!AO$2,\"\",N35*O35)","v":""},{"$f":"IF(กรอกข้อมูล!AS35>กรอกข้อมูล!AO$2,\"\",ABS(M35-I$6))","v":""},"",{"$f":"IF(กรอกข้อมูล!AS35>กรอกข้อมูล!AO$2,\"\",N35*Q35)","v":""}]
["","","","","","",{"$nulls":6},{"$f":"IF(กรอกข้อมูล!AS36>กรอกข้อมูล!AO$2,\"\",กรอกข้อมูล!AS36)","v":""},{"$f":"IF(กรอกข้อมูล!AS36>กรอกข้อมูล!AO$2,\"\",กรอกข้อมูล!AT36)","v":""},{"$f":"IF(กรอกข้อมูล!AS36>กรอกข้อมูล!AO$2,\"\",กรอกข้อมูล!AU36)","v":""},{"$f":"IF(กรอกข้อมูล!AS36>กรอกข้อมูล!AO$2,\"\",N36*O36)","v":""},{"$f":"IF(กรอกข้อมูล!AS36>กรอกข้อมูล!AO$2,\"\",ABS(M36-I$6))","v":""},"",{"$f":"IF(กรอกข้อมูล!AS36>กรอกข้อมูล!AO$2,\"\",N36*Q36)","v":""}]
["","","","","","",{"$nulls":6},{"$f":"IF(กรอกข้อมูล!AS37>กรอกข้อมูล!AO$2,\"\",กรอกข้อมูล!AS37)","v":""},{"$f":"IF(กรอกข้อมูล!AS37>กรอกข้อมูล!AO$2,\"\",กรอกข้อมูล!AT37)","v":""},{"$f":"IF(กรอกข้อมูล!AS37>กรอกข้อมูล!AO$2,\"\",กรอกข้อมูล!AU37)","v":""},{"$f":"IF(กรอกข้อมูล!AS37>กรอกข้อมูล!AO$2,\"\",N37*O37)","v":""},{"$f":"IF(กรอกข้อมูล!AS37>กรอกข้อมูล!AO$2,\"\",ABS(M37-I$6))","v":""},"",{"$f":"IF(กรอกข้อมูล!AS37>กรอกข้อมูล!AO$2,\"\",N37*Q37)","v":""}]
["","","","","","",{"$nulls":6},{"$f":"IF(กรอกข้อมูล!AS38>กรอกข้อมูล!AO$2,\"\",กรอกข้อมูล!AS38)","v":""},{"$f":"IF(กรอกข้อมูล!AS38>กรอกข้อมูล!AO$2,\"\",กรอกข้อมูล!AT38)","v":""},{"$f":"IF(กรอกข้อมูล!AS38>กรอกข้อมูล!AO$2,\"\",กรอกข้อมูล!AU38)","v":""},{"$f":"IF(กรอกข้อมูล!AS38>กรอกข้อมูล!AO$2,\"\",N38*O38)","v":""},{"$f":"IF(กรอกข้อมูล!AS38>กรอกข้อมูล!AO$2,\"\",ABS(M38-I$6))","v":""},"",{"$f":"IF(กรอกข้อมูล!AS38>กรอกข้อมูล!AO$2,\"\",N38*Q38)","v":""}]
["","","","","","",{"$nulls":6},{"$f":"IF(กรอกข้อมูล!AS39>กรอกข้อมูล!AO$2,\"\",กรอกข้อมูล!AS39)","v":""},{"$f":"IF(กรอกข้อมูล!AS39>กรอกข้อมูล!AO$2,\"\",กรอกข้อมูล!AT39)","v":""},{"$f":"IF(กรอกข้อมูล!AS39>กรอกข้อมูล!AO$2,\"\",กรอกข้อมูล!AU39)","v":""},{"$f":"IF(กรอกข้อมูล!AS39>กรอกข้อมูล!AO$2,\"\",N39*O39)","v":""},{"$f":"IF(กรอกข้อมูล!AS39>กรอกข้อมูล!AO$2,\"\",ABS(M39-I$6))","v":""},"",{"$f":"IF(กรอกข้อมูล!AS39>กรอกข้อมูล!AO$2,\"\",N39*Q39)","v":""}]
["","","","","","",{"$nulls":6},{"$f":"IF(กรอกข้อมูล!AS40>กรอกข้อมูล!AO$2,\"\",กรอกข้อมูล!AS40)","v":""},{"$f":"IF(กรอกข้อมูล!AS40>กรอกข้อมูล!AO$2,\"\",กรอกข้อมูล!AT40)","v":""},{"$f":"IF(กรอกข้อมูล!AS40>กรอกข้อมูล!AO$2,\"\",กรอกข้อมูล!AU40)","v":""},{"$f":"IF(กรอกข้อมูล!AS40>กรอกข้อมูล!AO$2,\"\",N40*O40)","v":""},{"$f":"IF(กรอกข้อมูล!AS40>กรอกข้อมูล!AO$2,\"\",ABS(M40-I$6))","v":""},"",{"$f":"IF(กรอกข้อมูล!AS40>กรอกข้อมูล!AO$2,\"\",N40*Q40)","v":""}]
["","","","","","",{"$nulls":6},{"$f":"IF(กรอกข้อมูล!AS41>กรอกข้อมูล!AO$2,\"\",กรอกข้อมูล!AS41)","v":""},{"$f":"IF(กรอกข้อมูล!AS41>กรอกข้อมูล!AO$2,\"\",กรอกข้อมูล!AT41)","v":""},{"$f":"IF(กรอกข้อมูล!AS41>กรอกข้อมูล!AO$2,\"\",กรอกข้อมูล!AU41)","v":""},{"$f":"IF(กรอกข้อมูล!AS41>กรอกข้อมูล!AO$2,\"\",N41*O41)","v":""},{"$f":"IF(กรอกข้อมูล!AS41>กรอกข้อมูล!AO$2,\"\",ABS(M41-I$6))","v":""},"",{"$f":"IF(กรอกข้อมูล!AS41>กรอกข้อมูล!AO$2,\"\",N41*Q41)","v":""}]
["","","","","","",{"$nulls":6},{"$f":"IF(กรอกข้อมูล!AS42>กรอกข้อมูล!AO$2,\"\",กรอกข้อมูล!AS42)","v":""},{"$f":"IF(กรอกข้อมูล!AS42>กรอกข้อมูล!AO$2,\"\",กรอกข้อมูล!AT42)","v":""},{"$f":"IF(กรอกข้อมูล!AS42>กรอกข้อมูล!AO$2,\"\",กรอกข้อมูล!AU42)","v":""},{"$f":"IF(กรอกข้อมูล!AS42>กรอกข้อมูล!AO$2,\"\",N42*O42)","v":""},{"$f":"IF(กรอกข้อมูล!AS42>กรอกข้อมูล!AO$2,\"\",ABS(M42-I$6))","v":""},"",{"$f":"IF(กรอกข้อมูล!AS42>กรอกข้อมูล!AO$2,\"\",N42*Q42)","v":""}]
["","","","","","",{"$nulls":6},{"$f":"IF(กรอกข้อมูล!AS43>กรอกข้อมูล!AO$2,\"\",กรอกข้อมูล!AS43)","v":""},{"$f":"IF(กรอกข้อมูล!AS43>กรอกข้อมูล!AO$2,\"\",กรอกข้อมูล!AT43)","v":""},{"$f":"IF(กรอกข้อมูล!AS43>กรอกข้อมูล!AO$2,\"\",กรอกข้อมูล!AU43)","v":""},{"$f":"IF(กรอกข้อมูล!AS43>กรอกข้อมูล!AO$2,\"\",N43*O43)","v":""},{"$f":"IF(กรอกข้อมูล!AS43>กรอกข้อมูล!AO$2,\"\",ABS(M43-I$6))","v":""},"",{"$f":"IF(กรอกข้อมูล!AS43>กรอกข้อมูล!AO$2,\"\",N43*Q43)","v":""}]
["","","","","","",{"$nulls":6},{"$f":"IF(กรอกข้อมูล!AS44>กรอกข้อมูล!AO$2,\"\",กรอกข้อมูล!AS44)","v":""},{"$f":"IF(กรอกข้อมูล!AS44>กรอกข้อมูล!AO$2,\"\",กรอกข้อมูล!AT44)","v":""},{"$f":"IF(กรอกข้อมูล!AS44>กรอกข้อมูล!AO$2,\"\",กรอกข้อมูล!AU44)","v":""},{"$f":"IF(กรอกข้อมูล!AS44>กรอกข้อมูล!AO$2,\"\",N44*O44)","v":""},{"$f":"IF(กรอกข้อมูล!AS44>กรอกข้อมูล!AO$2,\"\",ABS(M44-I$6))","v":""},"",{"$f":"IF(กรอกข้อมูล!AS44>กรอกข้อมูล!AO$2,\"\",N44*Q44)","v":""}]
["","","","","","",{"$nulls":6},{"$f":"IF(กรอกข้อมูล!AS45>กรอกข้อมูล!AO$2,\"\",กรอกข้อมูล!AS45)","v":""},{"$f":"IF(กรอกข้อมูล!AS45>กรอกข้อมูล!AO$2,\"\",กรอกข้อมูล!AT45)","v":""},{"$f":"IF(กรอกข้อมูล!AS45>กรอกข้อมูล!AO$2,\"\",กรอกข้อมูล!AU45)","v":""},{"$f":"IF(กรอกข้อมูล!AS45>กรอกข้อมูล!AO$2,\"\",N45*O45)","v":""},{"$f":"IF(กรอกข้อมูล!AS45>กรอกข้อมูล!AO$2,\"\",ABS(M45-I$6))","v":""},"",{"$f":"IF(กรอกข้อมูล!AS45>กรอกข้อมูล!AO$2,\"\",N45*Q45)","v":""}]
["","","","","","",{"$nulls":6},{"$f":"IF(กรอกข้อมูล!AS46>กรอกข้อมูล!AO$2,\"\",กรอกข้อมูล!AS46)","v":""},{"$f":"IF(กรอกข้อมูล!AS46>กรอกข้อมูล!AO$2,\"\",กรอกข้อมูล!AT46)","v":""},{"$f":"IF(กรอกข้อมูล!AS46>กรอกข้อมูล!AO$2,\"\",กรอกข้อมูล!AU46)","v":""},{"$f":"IF(กรอกข้อมูล!AS46>กรอกข้อมูล!AO$2,\"\",N46*O46)","v":""},{"$f":"IF(กรอกข้อมูล!AS46>กรอกข้อมูล!AO$2,\"\",ABS(M46-I$6))","v":""},"",{"$f":"IF(กรอกข้อมูล!AS46>กรอกข้อมูล!AO$2,\"\",N46*Q46)","v":""}]
["","","","","","",{"$nulls":6},{"$f":"IF(กรอกข้อมูล!AS47>กรอกข้อมูล!AO$2,\"\",กรอกข้อมูล!AS47)","v":""},{"$f":"IF(กรอกข้อมูล!AS47>กรอกข้อมูล!AO$2,\"\",กรอกข้อมูล!AT47)","v":""},{"$f":"IF(กรอกข้อมูล!AS47>กรอกข้อมูล!AO$2,\"\",กรอกข้อมูล!AU47)","v":""},{"$f":"IF(กรอกข้อมูล!AS47>กรอกข้อมูล!AO$2,\"\",N47*O47)","v":""},{"$f":"IF(กรอกข้อมูล!AS47>กรอกข้อมูล!AO$2,\"\",ABS(M47-I$6))","v":""},"",{"$f":"IF(กรอกข้อมูล!AS47>กรอกข้อมูล!AO$2,\"\",N47*Q47)","v":""}]
["","","","","","",{"$nulls":6},{"$f":"IF(กรอกข้อมูล!AS48>กรอกข้อมูล!AO$2,\"\",กรอกข้อมูล!AS48)","v":""},{"$f":"IF(กรอกข้อมูล!AS48>กรอกข้อมูล!AO$2,\"\",กรอกข้อมูล!AT48)","v":""},{"$f":"IF(กรอกข้อมูล!AS48>กรอกข้อมูล!AO$2,\"\",กรอกข้อมูล!AU48)","v":""},{"$f":"IF(กรอกข้อมูล!AS48>กรอกข้อมูล!AO$2,\"\",N48*O48)","v":""},{"$f":"IF(กรอกข้อมูล!AS48>กรอกข้อมูล!AO$2,\"\",ABS(M48-I$6))","v":""},"",{"$f":"IF(กรอกข้อมูล!AS48>กรอกข้อมูล!AO$2,\"\",N48*Q48)","v":""}]
["","","","","","",{"$nulls":6},{"$f":"IF(กรอกข้อมูล!AS49>กรอกข้อมูล!AO$2,\"\",กรอกข้อมูล!AS49)","v":""},{"$f":"IF(กรอกข้อมูล!AS49>กรอกข้อมูล!AO$2,\"\",กรอกข้อมูล!AT49)","v":""},{"$f":"IF(กรอกข้อมูล!AS49>กรอกข้อมูล!AO$2,\"\",กรอกข้อมูล!AU49)","v":""},{"$f":"IF(กรอกข้อมูล!AS49>กรอกข้อมูล!AO$2,\"\",N49*O49)","v":""},{"$f":"IF(กรอกข้อมูล!AS49>กรอกข้อมูล!AO$2,\"\",ABS(M49-I$6))","v":""},"",{"$f":"IF(กรอกข้อมูล!AS49>กรอกข้อมูล!AO$2,\"\",N49*Q49)","v":""}]
["","","","","","",{"$nulls":6},{"$f":"IF(กรอกข้อมูล!AS50>กรอกข้อมูล!AO$2,\"\",กรอกข้อมูล!AS50)","v":""},{"$f":"IF(กรอกข้อมูล!AS50>กรอกข้อมูล!AO$2,\"\",กรอกข้อมูล!AT50)","v":""},{"$f":"IF(กรอกข้อมูล!AS50>กรอกข้อมูล!AO$2,\"\",กรอกข้อมูล!AU50)","v":""},{"$f":"IF(กรอกข้อมูล!AS50>กรอกข้อมูล!AO$2,\"\",N50*O50)","v":""},{"$f":"IF(กรอกข้อมูล!AS50>กรอกข้อมูล!AO$2,\"\",ABS(M50-I$6))","v":""},"",{"$f":"IF(กรอกข้อมูล!AS50>กรอกข้อมูล!AO$2,\"\",N50*Q50)","v":""}]
["","","","","","",{"$nulls":6},{"$f":"IF(กรอกข้อมูล!AS51>กรอกข้อมูล!AO$2,\"\",กรอกข้อมูล!AS51)","v":""},{"$f":"IF(กรอกข้อมูล!AS51>กรอกข้อมูล!AO$2,\"\",กรอกข้อมูล!AT51)","v":""},{"$f":"IF(กรอกข้อมูล!AS51>กรอกข้อมูล!AO$2,\"\",กรอกข้อมูล!AU51)","v":""},{"$f":"IF(กรอกข้อมูล!AS51>กรอกข้อมูล!AO$2,\"\",N51*O51)","v":""},{"$f":"IF(กรอกข้อมูล!AS51>กรอกข้อมูล!AO$2,\"\",ABS(M51-I$6))","v":""},"",{"$f":"IF(กรอกข้อมูล!AS51>กรอกข้อมูล!AO$2,\"\",N51*Q51)","v":""}]
["","","","","","",{"$nulls":6},{"$f":"IF(กรอกข้อมูล!AS52>กรอกข้อมูล!AO$2,\"\",กรอกข้อมูล!AS52)","v":""},{"$f":"IF(กรอกข้อมูล!AS52>กรอกข้อมูล!AO$2,\"\",กรอกข้อมูล!AT52)","v":""},{"$f":"IF(กรอกข้อมูล!AS52>กรอกข้อมูล!AO$2,\"\",กรอกข้อมูล!AU52)","v":""},{"$f":"IF(กรอกข้อมูล!AS52>กรอกข้อมูล!AO$2,\"\",N52*O52)","v":""},{"$f":"IF(กรอกข้อมูล!AS52>กรอกข้อมูล!AO$2,\"\",ABS(M52-I$6))","v":""},"",{"$f":"IF(กรอกข้อมูล!AS52>กรอกข้อมูล!AO$2,\"\",N52*Q52)","v":""}]
["","","","","","",{"$nulls":6},{"$f":"IF(กรอกข้อมูล!AS53>กรอกข้อมูล!AO$2,\"\",กรอกข้อมูล!AS53)","v":""},{"$f":"IF(กรอกข้อมูล!AS53>กรอกข้อมูล!AO$2,\"\",กรอกข้อมูล!AT53)","v":""},{"$f":"IF(กรอกข้อมูล!AS53>กรอกข้อมูล!AO$2,\"\",กรอกข้อมูล!AU53)","v":""},{"$f":"IF(กรอกข้อมูล!AS53>กรอกข้อมูล!AO$2,\"\",N53*O53)","v":""},{"$f":"IF(กรอกข้อมูล!AS53>กรอกข้อมูล!AO$2,\"\",ABS(M53-I$6))","v":""},"",{"$f":"IF(กรอกข้อมูล!AS53>กรอกข้อมูล!AO$2,\"\",N53*Q53)","v":""}]
["","","","","","",{"$nulls":6},{"$f":"IF(กรอกข้อมูล!AS54>กรอกข้อมูล!AO$2,\"\",กรอกข้อมูล!AS54)","v":""},{"$f":"IF(กรอกข้อมูล!AS54>กรอกข้อมูล!AO$2,\"\",กรอกข้อมูล!AT54)","v":""},{"$f":"IF(กรอกข้อมูล!AS54>กรอกข้อมูล!AO$2,\"\",กรอกข้อมูล!AU54)","v":""},{"$f":"IF(กรอกข้อมูล!AS54>กรอกข้อมูล!AO$2,\"\",N54*O54)","v":""},{"$f":"IF(กรอกข้อมูล!AS54>กรอกข้อมูล!AO$2,\"\",ABS(M54-I$6))","v":""},"",{"$f":"IF(กรอกข้อมูล!AS54>กรอกข้อมูล!AO$2,\"\",N54*Q54)","v":""}]
["","","","","","",{"$nulls":6},{"$f":"IF(กรอกข้อมูล!AS55>กรอกข้อมูล!AO$2,\"\",กรอกข้อมูล!AS55)","v":""},{"$f":"IF(กรอกข้อมูล!AS55>กรอกข้อมูล!AO$2,\"\",กรอกข้อมูล!AT55)","v":""},{"$f":"IF(กรอกข้อมูล!AS55>กรอกข้อมูล!AO$2,\"\",กรอกข้อมูล!AU55)","v":""},{"$f":"IF(กรอกข้อมูล!AS55>กรอกข้อมูล!AO$2,\"\",N55*O55)","v":""},{"$f":"IF(กรอกข้อมูล!AS55>กรอกข้อมูล!AO$2,\"\",ABS(M55-I$6))","v":""},"",{"$f":"IF(กรอกข้อมูล!AS55>กรอกข้อมูล!AO$2,\"\",N55*Q55)","v":""}]
["","","","","","",{"$nulls":6},{"$f":"IF(กรอกข้อมูล!AS56>กรอกข้อมูล!AO$2,\"\",กรอกข้อมูล!AS56)","v":""},{"$f":"IF(กรอกข้อมูล!AS56>กรอกข้อมูล!AO$2,\"\",กรอกข้อมูล!AT56)","v":""},{"$f":"IF(กรอกข้อมูล!AS56>กรอกข้อมูล!AO$2,\"\",กรอกข้อมูล!AU56)","v":""},{"$f":"IF(กรอกข้อมูล!AS56>กรอกข้อมูล!AO$2,\"\",N56*O56)","v":""},{"$f":"IF(กรอกข้อมูล!AS56>กรอกข้อมูล!AO$2,\"\",ABS(M56-I$6))","v":""},"",{"$f":"IF(กรอกข้อมูล!AS56>กรอกข้อมูล!AO$2,\"\",N56*Q56)","v":""}]
["","","","","","",{"$nulls":6},{"$f":"IF(กรอกข้อมูล!AS57>กรอกข้อมูล!AO$2,\"\",กรอกข้อมูล!AS57)","v":""},{"$f":"IF(กรอกข้อมูล!AS57>กรอกข้อมูล!AO$2,\"\",กรอกข้อมูล!AT57)","v":""},{"$f":"IF(กรอกข้อมูล!AS57>กรอกข้อมูล!AO$2,\"\",กรอกข้อมูล!AU57)","v":""},{"$f":"IF(กรอกข้อมูล!AS57>กรอกข้อมูล!AO$2,\"\",N57*O57)","v":""},{"$f":"IF(กรอกข้อมูล!AS57>กรอกข้อมูล!AO$2,\"\",ABS(M57-I$6))","v":""},"",{"$f":"IF(กรอกข้อมูล!AS57>กรอกข้อมูล!AO$2,\"\",N57*Q57)","v":""}]
["","","","","","",{"$nulls":6},{"$f":"IF(กรอกข้อมูล!AS58>กรอกข้อมูล!AO$2,\"\",กรอกข้อมูล!AS58)","v":""},{"$f":"IF(กรอกข้อมูล!AS58>กรอกข้อมูล!AO$2,\"\",กรอกข้อมูล!AT58)","v":""},{"$f":"IF(กรอกข้อมูล!AS58>กรอกข้อมูล!AO$2,\"\",กรอกข้อมูล!AU58)","v":""},{"$f":"IF(กรอกข้อมูล!AS58>กรอกข้อมูล!AO$2,\"\",N58*O58)","v":""},{"$f":"IF(กรอกข้อมูล!AS58>กรอกข้อมูล!AO$2,\"\",ABS(M58-I$6))","v":""},"",{"$f":"IF(กรอกข้อมูล!AS58>กรอกข้อมูล!AO$2,\"\",N58*Q58)","v":""}]
["","","","","","",{"$nulls":6},{"$f":"IF(กรอกข้อมูล!AS59>กรอกข้อมูล!AO$2,\"\",กรอกข้อมูล!AS59)","v":""},{"$f":"IF(กรอกข้อมูล!AS59>กรอกข้อมูล!AO$2,\"\",กรอกข้อมูล!AT59)","v":""},{"$f":"IF(กรอกข้อมูล!AS59>กรอกข้อมูล!AO$2,\"\",กรอกข้อมูล!AU59)","v":""},{"$f":"IF(กรอกข้อมูล!AS59>กรอกข้อมูล!AO$2,\"\",N59*O59)","v":""},{"$f":"IF(กรอกข้อมูล!AS59>กรอกข้อมูล!AO$2,\"\",ABS(M59-I$6))","v":""},"",{"$f":"IF(กรอกข้อมูล!AS59>กรอกข้อมูล!AO$2,\"\",N59*Q59)","v":""}]
["","","","","","",{"$nulls":6},{"$f":"IF(กรอกข้อมูล!AS60>กรอกข้อมูล!AO$2,\"\",กรอกข้อมูล!AS60)","v":""},{"$f":"IF(กรอกข้อมูล!AS60>กรอกข้อมูล!AO$2,\"\",กรอกข้อมูล!AT60)","v":""},{"$f":"IF(กรอกข้อมูล!AS60>กรอกข้อมูล!AO$2,\"\",กรอกข้อมูล!AU60)","v":""},{"$f":"IF(กรอกข้อมูล!AS60>กรอกข้อมูล!AO$2,\"\",N60*O60)","v":""},{"$f":"IF(กรอกข้อมูล!AS60>กรอกข้อมูล!AO$2,\"\",ABS(M60-I$6))","v":""},"",{"$f":"IF(กรอกข้อมูล!AS60>กรอกข้อมูล!AO$2,\"\",N60*Q60)","v":""}]
["","","","","","",{"$nulls":6},{"$f":"IF(กรอกข้อมูล!AS61>กรอกข้อมูล!AO$2,\"\",กรอกข้อมูล!AS61)","v":""},{"$f":"IF(กรอกข้อมูล!AS61>กรอกข้อมูล!AO$2,\"\",กรอกข้อมูล!AT61)","v":""},{"$f":"IF(กรอกข้อมูล!AS61>กรอกข้อมูล!AO$2,\"\",กรอกข้อมูล!AU61)","v":""},{"$f":"IF(กรอกข้อมูล!AS61>กรอกข้อมูล!AO$2,\"\",N61*O61)","v":""},{"$f":"IF(กรอกข้อมูล!AS61>กรอกข้อมูล!AO$2,\"\",ABS(M61-I$6))","v":""},"",{"$f":"IF(กรอกข้อมูล!AS61>กรอกข้อมูล!AO$2,\"\",N61*Q61)","v":""}]
["","","","","","",{"$nulls":6},{"$f":"IF(กรอกข้อมูล!AS62>กรอกข้อมูล!AO$2,\"\",กรอกข้อมูล!AS62)","v":""},{"$f":"IF(กรอกข้อมูล!AS62>กรอกข้อมูล!AO$2,\"\",กรอกข้อมูล!AT62)","v":""},{"$f":"IF(กรอกข้อมูล!AS62>กรอกข้อมูล!AO$2,\"\",กรอกข้อมูล!AU62)","v":""},{"$f":"IF(กรอกข้อมูล!AS62>กรอกข้อมูล!AO$2,\"\",N62*O62)","v":""},{"$f":"IF(กรอกข้อมูล!AS62>กรอกข้อมูล!AO$2,\"\",ABS(M62-I$6))","v":""},"",{"$f":"IF(กรอกข้อมูล!AS62>กรอกข้อมูล!AO$2,\"\",N62*Q62)","v":""}]
["","","","","","",{"$nulls":6},{"$f":"IF(กรอกข้อมูล!AS63>กรอกข้อมูล!AO$2,\"\",กรอกข้อมูล!AS63)","v":""},{"$f":"IF(กรอกข้อมูล!AS63>กรอกข้อมูล!AO$2,\"\",กรอกข้อมูล!AT63)","v":""},{"$f":"IF(กรอกข้อมูล!AS63>กรอกข้อมูล!AO$2,\"\",กรอกข้อมูล!AU63)","v":""},{"$f":"IF(กรอกข้อมูล!AS63>กรอกข้อมูล!AO$2,\"\",N63*O63)","v":""},{"$f":"IF(กรอกข้อมูล!AS63>กรอกข้อมูล!AO$2,\"\",ABS(M63-I$6))","v":""},"",{"$f":"IF(กรอกข้อมูล!AS63>กรอกข้อมูล!AO$2,\"\",N63*Q63)","v":""}]
["","","","","","",{"$nulls":6},{"$f":"IF(กรอกข้อมูล!AS64>กรอกข้อมูล!AO$2,\"\",กรอกข้อมูล!AS64)","v":""},{"$f":"IF(กรอกข้อมูล!AS64>กรอกข้อมูล!AO$2,\"\",กรอกข้อมูล!AT64)","v":""},{"$f":"IF(กรอกข้อมูล!AS64>กรอกข้อมูล!AO$2,\"\",กรอกข้อมูล!AU64)","v":""},{"$f":"IF(กรอกข้อมูล!AS64>กรอกข้อมูล!AO$2,\"\",N64*O64)","v":""},{"$f":"IF(กรอกข้อมูล!AS64>กรอกข้อมูล!AO$2,\"\",ABS(M64-I$6))","v":""},"",{"$f":"IF(กรอกข้อมูล!AS64>กรอกข้อมูล!AO$2,\"\",N64*Q64)","v":""}]
["","","","","","",{"$nulls":6},{"$f":"IF(กรอกข้อมูล!AS65>กรอกข้อมูล!AO$2,\"\",กรอกข้อมูล!AS65)","v":""},{"$f":"IF(กรอกข้อมูล!AS65>กรอกข้อมูล!AO$2,\"\",กรอกข้อมูล!AT65)","v":""},{"$f":"IF(กรอกข้อมูล!AS65>กรอกข้อมูล!AO$2,\"\",กรอกข้อมูล!AU65)","v":""},{"$f":"IF(กรอกข้อมูล!AS65>กรอกข้อมูล!AO$2,\"\",N65*O65)","v":""},{"$f":"IF(กรอกข้อมูล!AS65>กรอกข้อมูล!AO$2,\"\",ABS(M65-I$6))","v":""},"",{"$f":"IF(กรอกข้อมูล!AS65>กรอกข้อมูล!AO$2,\"\",N65*Q65)","v":""}]
[{"$f":"M66","v":""},{"$f":"N66","v":""},{"$f":"O66","v":""},{"$f":"P66","v":""},{"$f":"R66","v":""},{"$f":"S66","v":""},{"$nulls":6},{"$f":"IF(กรอกข้อมูล!AS66>กรอกข้อมูล!AO$2,\"\",กรอกข้อมูล!AS66)","v":""},{"$f":"IF(กรอกข้อมูล!AS66>กรอกข้อมูล!AO$2,\"\",กรอกข้อมูล!AT66)","v":""},{"$f":"IF(กรอกข้อมูล!AS66>กรอกข้อมูล!AO$2,\"\",กรอกข้อมูล!AU66)","v":""},{"$f":"IF(กรอกข้อมูล!AS66>กรอกข้อมูล!AO$2,\"\",N66*O66)","v":""},{"$f":"IF(กรอกข้อมูล!AS66>กรอกข้อมูล!AO$2,\"\",ABS(M66-I$6))","v":""},"",{"$f":"IF(กรอกข้อมูล!AS66>กรอกข้อมูล!AO$2,\"\",N66*Q66)","v":""}]
["","","","","","",{"$nulls":6},{"$f":"IF(กรอกข้อมูล!AS67>กรอกข้อมูล!AO$2,\"\",กรอกข้อมูล!AS67)","v":""},{"$f":"IF(กรอกข้อมูล!AS67>กรอกข้อมูล!AO$2,\"\",กรอกข้อมูล!AT67)","v":""},{"$f":"IF(กรอกข้อมูล!AS67>กรอกข้อมูล!AO$2,\"\",กรอกข้อมูล!AU67)","v":""},{"$f":"IF(กรอกข้อมูล!AS67>กรอกข้อมูล!AO$2,\"\",N67*O67)","v":""},{"$f":"IF(กรอกข้อมูล!AS67>กรอกข้อมูล!AO$2,\"\",ABS(M67-I$6))","v":""},{"$f":"IF(N67=0,0,Q67)","v":""},{"$f":"IF(กรอกข้อมูล!AS67>กรอกข้อมูล!AO$2,\"\",N67*Q67)","v":""}]
["","","","","","",{"$nulls":6},{"$f":"IF(กรอกข้อมูล!AS68>กรอกข้อมูล!AO$2,\"\",กรอกข้อมูล!AS68)","v":""},{"$f":"IF(กรอกข้อมูล!AS68>กรอกข้อมูล!AO$2,\"\",กรอกข้อมูล!AT68)","v":""},{"$f":"IF(กรอกข้อมูล!AS68>กรอกข้อมูล!AO$2,\"\",กรอกข้อมูล!AU68)","v":""},{"$f":"IF(กรอกข้อมูล!AS68>กรอกข้อมูล!AO$2,\"\",N68*O68)","v":""},{"$f":"IF(กรอกข้อมูล!AS68>กรอกข้อมูล!AO$2,\"\",ABS(M68-I$6))","v":""},"",{"$f":"IF(กรอกข้อมูล!AS68>กรอกข้อมูล!AO$2,\"\",N68*Q68)","v":""}]
["","","","","","",{"$nulls":6},{"$f":"IF(กรอกข้อมูล!AS69>กรอกข้อมูล!AO$2,\"\",กรอกข้อมูล!AS69)","v":""},{"$f":"IF(กรอกข้อมูล!AS69>กรอกข้อมูล!AO$2,\"\",กรอกข้อมูล!AT69)","v":""},{"$f":"IF(กรอกข้อมูล!AS69>กรอกข้อมูล!AO$2,\"\",กรอกข้อมูล!AU69)","v":""},{"$f":"IF(กรอกข้อมูล!AS69>กรอกข้อมูล!AO$2,\"\",N69*O69)","v":""},{"$f":"IF(กรอกข้อมูล!AS69>กรอกข้อมูล!AO$2,\"\",ABS(M69-I$6))","v":""},"",{"$f":"IF(กรอกข้อมูล!AS69>กรอกข้อมูล!AO$2,\"\",N69*Q69)","v":""}]
["","","","","","",{"$nulls":6},{"$f":"IF(กรอกข้อมูล!AS70>กรอกข้อมูล!AO$2,\"\",กรอกข้อมูล!AS70)","v":""},{"$f":"IF(กรอกข้อมูล!AS70>กรอกข้อมูล!AO$2,\"\",กรอกข้อมูล!AT70)","v":""},{"$f":"IF(กรอกข้อมูล!AS70>กรอกข้อมูล!AO$2,\"\",กรอกข้อมูล!AU70)","v":""},{"$f":"IF(กรอกข้อมูล!AS70>กรอกข้อมูล!AO$2,\"\",N70*O70)","v":""},{"$f":"IF(กรอกข้อมูล!AS70>กรอกข้อมูล!AO$2,\"\",ABS(M70-I$6))","v":""},"",{"$f":"IF(กรอกข้อมูล!AS70>กรอกข้อมูล!AO$2,\"\",N70*Q70)","v":""}]
["","","","","","",{"$nulls":6},{"$f":"IF(กรอกข้อมูล!AS71>กรอกข้อมูล!AO$2,\"\",กรอกข้อมูล!AS71)","v":""},{"$f":"IF(กรอกข้อมูล!AS71>กรอกข้อมูล!AO$2,\"\",กรอกข้อมูล!AT71)","v":""},{"$f":"IF(กรอกข้อมูล!AS71>กรอกข้อมูล!AO$2,\"\",กรอกข้อมูล!AU71)","v":""},{"$f":"IF(กรอกข้อมูล!AS71>กรอกข้อมูล!AO$2,\"\",N71*O71)","v":""},{"$f":"IF(กรอกข้อมูล!AS71>กรอกข้อมูล!AO$2,\"\",ABS(M71-I$6))","v":""},"",{"$f":"IF(กรอกข้อมูล!AS71>กรอกข้อมูล!AO$2,\"\",N71*Q71)","v":""}]
["","","","","","",{"$nulls":6},{"$f":"IF(กรอกข้อมูล!AS72>กรอกข้อมูล!AO$2,\"\",กรอกข้อมูล!AS72)","v":""},{"$f":"IF(กรอกข้อมูล!AS72>กรอกข้อมูล!AO$2,\"\",กรอกข้อมูล!AT72)","v":""},{"$f":"IF(กรอกข้อมูล!AS72>กรอกข้อมูล!AO$2,\"\",กรอกข้อมูล!AU72)","v":""},{"$f":"IF(กรอกข้อมูล!AS72>กรอกข้อมูล!AO$2,\"\",N72*O72)","v":""},{"$f":"IF(กรอกข้อมูล!AS72>กรอกข้อมูล!AO$2,\"\",ABS(M72-I$6))","v":""},"",{"$f":"IF(กรอกข้อมูล!AS72>กรอกข้อมูล!AO$2,\"\",N72*Q72)","v":""}]
["","","","","","",{"$nulls":6},{"$f":"IF(กรอกข้อมูล!AS73>กรอกข้อมูล!AO$2,\"\",กรอกข้อมูล!AS73)","v":""},{"$f":"IF(กรอกข้อมูล!AS73>กรอกข้อมูล!AO$2,\"\",กรอกข้อมูล!AT73)","v":""},{"$f":"IF(กรอกข้อมูล!AS73>กรอกข้อมูล!AO$2,\"\",กรอกข้อมูล!AU73)","v":""},{"$f":"IF(กรอกข้อมูล!AS73>กรอกข้อมูล!AO$2,\"\",N73*O73)","v":""},{"$f":"IF(กรอกข้อมูล!AS73>กรอกข้อมูล!AO$2,\"\",ABS(M73-I$6))","v":""},"",{"$f":"IF(กรอกข้อมูล!AS73>กรอกข้อมูล!AO$2,\"\",N73*Q73)","v":""}]
["","","","","","",{"$nulls":6},{"$f":"IF(กรอกข้อมูล!AS74>กรอกข้อมูล!AO$2,\"\",กรอกข้อมูล!AS74)","v":""},{"$f":"IF(กรอกข้อมูล!AS74>กรอกข้อมูล!AO$2,\"\",กรอกข้อมูล!AT74)","v":""},{"$f":"IF(กรอกข้อมูล!AS74>กรอกข้อมูล!AO$2,\"\",กรอกข้อมูล!AU74)","v":""},{"$f":"IF(กรอกข้อมูล!AS74>กรอกข้อมูล!AO$2,\"\",N74*O74)","v":""},{"$f":"IF(กรอกข้อมูล!AS74>กรอกข้อมูล!AO$2,\"\",ABS(M74-I$6))","v":""},"",{"$f":"IF(กรอกข้อมูล!AS74>กรอกข้อมูล!AO$2,\"\",N74*Q74)","v":""}]
["","","","","","",{"$nulls":6},{"$f":"IF(กรอกข้อมูล!AS75>กรอกข้อมูล!AO$2,\"\",กรอกข้อมูล!AS75)","v":""},{"$f":"IF(กรอกข้อมูล!AS75>กรอกข้อมูล!AO$2,\"\",กรอกข้อมูล!AT75)","v":""},{"$f":"IF(กรอกข้อมูล!AS75>กรอกข้อมูล!AO$2,\"\",กรอกข้อมูล!AU75)","v":""},{"$f":"IF(กรอกข้อมูล!AS75>กรอกข้อมูล!AO$2,\"\",N75*O75)","v":""},{"$f":"IF(กรอกข้อมูล!AS75>กรอกข้อมูล!AO$2,\"\",ABS(M75-I$6))","v":""},"",{"$f":"IF(กรอกข้อมูล!AS75>กรอกข้อมูล!AO$2,\"\",N75*Q75)","v":""}]
["","","","","","",{"$nulls":6},{"$f":"IF(กรอกข้อมูล!AS76>กรอกข้อมูล!AO$2,\"\",กรอกข้อมูล!AS76)","v":""},{"$f":"IF(กรอกข้อมูล!AS76>กรอกข้อมูล!AO$2,\"\",กรอกข้อมูล!AT76)","v":""},{"$f":"IF(กรอกข้อมูล!AS76>กรอกข้อมูล!AO$2,\"\",กรอกข้อมูล!AU76)","v":""},{"$f":"IF(กรอกข้อมูล!AS76>กรอกข้อมูล!AO$2,\"\",N76*O76)","v":""},{"$f":"IF(กรอกข้อมูล!AS76>กรอกข้อมูล!AO$2,\"\",ABS(M76-I$6))","v":""},"",{"$f":"IF(กรอกข้อมูล!AS76>กรอกข้อมูล!AO$2,\"\",N76*Q76)","v":""}]
["","","","","","",{"$nulls":6},{"$f":"IF(กรอกข้อมูล!AS77>กรอกข้อมูล!AO$2,\"\",กรอกข้อมูล!AS77)","v":""},{"$f":"IF(กรอกข้อมูล!AS77>กรอกข้อมูล!AO$2,\"\",กรอกข้อมูล!AT77)","v":""},{"$f":"IF(กรอกข้อมูล!AS77>กรอกข้อมูล!AO$2,\"\",กรอกข้อมูล!AU77)","v":""},{"$f":"IF(กรอกข้อมูล!AS77>กรอกข้อมูล!AO$2,\"\",N77*O77)","v":""},{"$f":"IF(กรอกข้อมูล!AS77>กรอกข้อมูล!AO$2,\"\",ABS(M77-I$6))","v":""},"",{"$f":"IF(กรอกข้อมูล!AS77>กรอกข้อมูล!AO$2,\"\",N77*Q77)","v":""}]
["","","","","","",{"$nulls":6},{"$f":"IF(กรอกข้อมูล!AS78>กรอกข้อมูล!AO$2,\"\",กรอกข้อมูล!AS78)","v":""},{"$f":"IF(กรอกข้อมูล!AS78>กรอกข้อมูล!AO$2,\"\",กรอกข้อมูล!AT78)","v":""},{"$f":"IF(กรอกข้อมูล!AS78>กรอกข้อมูล!AO$2,\"\",กรอกข้อมูล!AU78)","v":""},{"$f":"IF(กรอกข้อมูล!AS78>กรอกข้อมูล!AO$2,\"\",N78*O78)","v":""},{"$f":"IF(กรอกข้อมูล!AS78>กรอกข้อมูล!AO$2,\"\",ABS(M78-I$6))","v":""},"",{"$f":"IF(กรอกข้อมูล!AS78>กรอกข้อมูล!AO$2,\"\",N78*Q78)","v":""}]
["","","","","","",{"$nulls":6},{"$f":"IF(กรอกข้อมูล!AS79>กรอกข้อมูล!AO$2,\"\",กรอกข้อมูล!AS79)","v":""},{"$f":"IF(กรอกข้อมูล!AS79>กรอกข้อมูล!AO$2,\"\",กรอกข้อมูล!AT79)","v":""},{"$f":"IF(กรอกข้อมูล!AS79>กรอกข้อมูล!AO$2,\"\",กรอกข้อมูล!AU79)","v":""},{"$f":"IF(กรอกข้อมูล!AS79>กรอกข้อมูล!AO$2,\"\",N79*O79)","v":""},{"$f":"IF(กรอกข้อมูล!AS79>กรอกข้อมูล!AO$2,\"\",ABS(M79-I$6))","v":""},"",{"$f":"IF(กรอกข้อมูล!AS79>กรอกข้อมูล!AO$2,\"\",N79*Q79)","v":""}]
["","","","","","",{"$nulls":6},{"$f":"IF(กรอกข้อมูล!AS80>กรอกข้อมูล!AO$2,\"\",กรอกข้อมูล!AS80)","v":""},{"$f":"IF(กรอกข้อมูล!AS80>กรอกข้อมูล!AO$2,\"\",กรอกข้อมูล!AT80)","v":""},{"$f":"IF(กรอกข้อมูล!AS80>กรอกข้อมูล!AO$2,\"\",กรอกข้อมูล!AU80)","v":""},{"$f":"IF(กรอกข้อมูล!AS80>กรอกข้อมูล!AO$2,\"\",N80*O80)","v":""},{"$f":"IF(กรอกข้อมูล!AS80>กรอกข้อมูล!AO$2,\"\",ABS(M80-I$6))","v":""},"",{"$f":"IF(กรอกข้อมูล!AS80>กรอกข้อมูล!AO$2,\"\",N80*Q80)","v":""}]
["","","","","","",{"$nulls":6},{"$f":"IF(กรอกข้อมูล!AS81>กรอกข้อมูล!AO$2,\"\",กรอกข้อมูล!AS81)","v":""},{"$f":"IF(กรอกข้อมูล!AS81>กรอกข้อมูล!AO$2,\"\",กรอกข้อมูล!AT81)","v":""},{"$f":"IF(กรอกข้อมูล!AS81>กรอกข้อมูล!AO$2,\"\",กรอกข้อมูล!AU81)","v":""},{"$f":"IF(กรอกข้อมูล!AS81>กรอกข้อมูล!AO$2,\"\",N81*O81)","v":""},{"$f":"IF(กรอกข้อมูล!AS81>กรอกข้อมูล!AO$2,\"\",ABS(M81-I$6))","v":""},"",{"$f":"IF(กรอกข้อมูล!AS81>กรอกข้อมูล!AO$2,\"\",N81*Q81)","v":""}]
["","","","","","",{"$nulls":6},{"$f":"IF(กรอกข้อมูล!AS82>กรอกข้อมูล!AO$2,\"\",กรอกข้อมูล!AS82)","v":""},{"$f":"IF(กรอกข้อมูล!AS82>กรอกข้อมูล!AO$2,\"\",กรอกข้อมูล!AT82)","v":""},{"$f":"IF(กรอกข้อมูล!AS82>กรอกข้อมูล!AO$2,\"\",กรอกข้อมูล!AU82)","v":""},{"$f":"IF(กรอกข้อมูล!AS82>กรอกข้อมูล!AO$2,\"\",N82*O82)","v":""},{"$f":"IF(กรอกข้อมูล!AS82>กรอกข้อมูล!AO$2,\"\",ABS(M82-I$6))","v":""},"",{"$f":"IF(กรอกข้อมูล!AS82>กรอกข้อมูล!AO$2,\"\",N82*Q82)","v":""}]
["","","","","","",{"$nulls":6},{"$f":"IF(กรอกข้อมูล!AS83>กรอกข้อมูล!AO$2,\"\",กรอกข้อมูล!AS83)","v":""},{"$f":"IF(กรอกข้อมูล!AS83>กรอกข้อมูล!AO$2,\"\",กรอกข้อมูล!AT83)","v":""},{"$f":"IF(กรอกข้อมูล!AS83>กรอกข้อมูล!AO$2,\"\",กรอกข้อมูล!AU83)","v":""},{"$f":"IF(กรอกข้อมูล!AS83>กรอกข้อมูล!AO$2,\"\",N83*O83)","v":""},{"$f":"IF(กรอกข้อมูล!AS83>กรอกข้อมูล!AO$2,\"\",ABS(M83-I$6))","v":""},"",{"$f":"IF(กรอกข้อมูล!AS83>กรอกข้อมูล!AO$2,\"\",N83*Q83)","v":""}]
["","","","","","",{"$nulls":6},{"$f":"IF(กรอกข้อมูล!AS84>กรอกข้อมูล!AO$2,\"\",กรอกข้อมูล!AS84)","v":""},{"$f":"IF(กรอกข้อมูล!AS84>กรอกข้อมูล!AO$2,\"\",กรอกข้อมูล!AT84)","v":""},{"$f":"IF(กรอกข้อมูล!AS84>กรอกข้อมูล!AO$2,\"\",กรอกข้อมูล!AU84)","v":""},{"$f":"IF(กรอกข้อมูล!AS84>กรอกข้อมูล!AO$2,\"\",N84*O84)","v":""},{"$f":"IF(กรอกข้อมูล!AS84>กรอกข้อมูล!AO$2,\"\",ABS(M84-I$6))","v":""},"",{"$f":"IF(กรอกข้อมูล!AS84>กรอกข้อมูล!AO$2,\"\",N84*Q84)","v":""}]
["","","","","","",{"$nulls":6},{"$f":"IF(กรอกข้อมูล!AS85>กรอกข้อมูล!AO$2,\"\",กรอกข้อมูล!AS85)","v":""},{"$f":"IF(กรอกข้อมูล!AS85>กรอกข้อมูล!AO$2,\"\",กรอกข้อมูล!AT85)","v":""},{"$f":"IF(กรอกข้อมูล!AS85>กรอกข้อมูล!AO$2,\"\",กรอกข้อมูล!AU85)","v":""},{"$f":"IF(กรอกข้อมูล!AS85>กรอกข้อมูล!AO$2,\"\",N85*O85)","v":""},{"$f":"IF(กรอกข้อมูล!AS85>กรอกข้อมูล!AO$2,\"\",ABS(M85-I$6))","v":""},"",{"$f":"IF(กรอกข้อมูล!AS85>กรอกข้อมูล!AO$2,\"\",N85*Q85)","v":""}]
["","","","","","",{"$nulls":6},{"$f":"IF(กรอกข้อมูล!AS86>กรอกข้อมูล!AO$2,\"\",กรอกข้อมูล!AS86)","v":""},{"$f":"IF(กรอกข้อมูล!AS86>กรอกข้อมูล!AO$2,\"\",กรอกข้อมูล!AT86)","v":""},{"$f":"IF(กรอกข้อมูล!AS86>กรอกข้อมูล!AO$2,\"\",กรอกข้อมูล!AU86)","v":""},{"$f":"IF(กรอกข้อมูล!AS86>กรอกข้อมูล!AO$2,\"\",N86*O86)","v":""},{"$f":"IF(กรอกข้อมูล!AS86>กรอกข้อมูล!AO$2,\"\",ABS(M86-I$6))","v":""},"",{"$f":"IF(กรอกข้อมูล!AS86>กรอกข้อมูล!AO$2,\"\",N86*Q86)","v":""}]
["","","","","","",{"$nulls":6},{"$f":"IF(กรอกข้อมูล!AS87>กรอกข้อมูล!AO$2,\"\",กรอกข้อมูล!AS87)","v":""},{"$f":"IF(กรอกข้อมูล!AS87>กรอกข้อมูล!AO$2,\"\",กรอกข้อมูล!AT87)","v":""},{"$f":"IF(กรอกข้อมูล!AS87>กรอกข้อมูล!AO$2,\"\",กรอกข้อมูล!AU87)","v":""},{"$f":"IF(กรอกข้อมูล!AS87>กรอกข้อมูล!AO$2,\"\",N87*O87)","v":""},{"$f":"IF(กรอกข้อมูล!AS87>กรอกข้อมูล!AO$2,\"\",ABS(M87-I$6))","v":""},"",{"$f":"IF(กรอกข้อมูล!AS87>กรอกข้อมูล!AO$2,\"\",N87*Q87)","v":""}]
["","","","","","",{"$nulls":6},{"$f":"IF(กรอกข้อมูล!AS88>กรอกข้อมูล!AO$2,\"\",กรอกข้อมูล!AS88)","v":""},{"$f":"IF(กรอกข้อมูล!AS88>กรอกข้อมูล!AO$2,\"\",กรอกข้อมูล!AT88)","v":""},{"$f":"IF(กรอกข้อมูล!AS88>กรอกข้อมูล!AO$2,\"\",กรอกข้อมูล!AU88)","v":""},{"$f":"IF(กรอกข้อมูล!AS88>กรอกข้อมูล!AO$2,\"\",N88*O88)","v":""},{"$f":"IF(กรอกข้อมูล!AS88>กรอกข้อมูล!AO$2,\"\",ABS(M88-I$6))","v":""},"",{"$f":"IF(กรอกข้อมูล!AS88>กรอกข้อมูล!AO$2,\"\",N88*Q88)","v":""}]
["","","","","","",{"$nulls":6},{"$f":"IF(กรอกข้อมูล!AS89>กรอกข้อมูล!AO$2,\"\",กรอกข้อมูล!AS89)","v":""},{"$f":"IF(กรอกข้อมูล!AS89>กรอกข้อมูล!AO$2,\"\",กรอกข้อมูล!AT89)","v":""},{"$f":"IF(กรอกข้อมูล!AS89>กรอกข้อมูล!AO$2,\"\",กรอกข้อมูล!AU89)","v":""},{"$f":"IF(กรอกข้อมูล!AS89>กรอกข้อมูล!AO$2,\"\",N89*O89)","v":""},{"$f":"IF(กรอกข้อมูล!AS89>กรอกข้อมูล!AO$2,\"\",ABS(M89-I$6))","v":""},"",{"$f":"IF(กรอกข้อมูล!AS89>กรอกข้อมูล!AO$2,\"\",N89*Q89)","v":""}]
["","","","","","",{"$nulls":6},{"$f":"IF(กรอกข้อมูล!AS90>กรอกข้อมูล!AO$2,\"\",กรอกข้อมูล!AS90)","v":""},{"$f":"IF(กรอกข้อมูล!AS90>กรอกข้อมูล!AO$2,\"\",กรอกข้อมูล!AT90)","v":""},{"$f":"IF(กรอกข้อมูล!AS90>กรอกข้อมูล!AO$2,\"\",กรอกข้อมูล!AU90)","v":""},{"$f":"IF(กรอกข้อมูล!AS90>กรอกข้อมูล!AO$2,\"\",N90*O90)","v":""},{"$f":"IF(กรอกข้อมูล!AS90>กรอกข้อมูล!AO$2,\"\",ABS(M90-I$6))","v":""},"",{"$f":"IF(กรอกข้อมูล!AS90>กรอกข้อมูล!AO$2,\"\",N90*Q90)","v":""}]
["","","","","","",{"$nulls":6},{"$f":"IF(กรอกข้อมูล!AS91>กรอกข้อมูล!AO$2,\"\",กรอกข้อมูล!AS91)","v":""},{"$f":"IF(กรอกข้อมูล!AS91>กรอกข้อมูล!AO$2,\"\",กรอกข้อมูล!AT91)","v":""},{"$f":"IF(กรอกข้อมูล!AS91>กรอกข้อมูล!AO$2,\"\",กรอกข้อมูล!AU91)","v":""},{"$f":"IF(กรอกข้อมูล!AS91>กรอกข้อมูล!AO$2,\"\",N91*O91)","v":""},{"$f":"IF(กรอกข้อมูล!AS91>กรอกข้อมูล!AO$2,\"\",ABS(M91-I$6))","v":""},"",{"$f":"IF(กรอกข้อมูล!AS91>กรอกข้อมูล!AO$2,\"\",N91*Q91)","v":""}]
["","","","","","",{"$nulls":6},{"$f":"IF(กรอกข้อมูล!AS92>กรอกข้อมูล!AO$2,\"\",กรอกข้อมูล!AS92)","v":""},{"$f":"IF(กรอกข้อมูล!AS92>กรอกข้อมูล!AO$2,\"\",กรอกข้อมูล!AT92)","v":""},{"$f":"IF(กรอกข้อมูล!AS92>กรอกข้อมูล!AO$2,\"\",กรอกข้อมูล!AU92)","v":""},{"$f":"IF(กรอกข้อมูล!AS92>กรอกข้อมูล!AO$2,\"\",N92*O92)","v":""},{"$f":"IF(กรอกข้อมูล!AS92>กรอกข้อมูล!AO$2,\"\",ABS(M92-I$6))","v":""},"",{"$f":"IF(กรอกข้อมูล!AS92>กรอกข้อมูล!AO$2,\"\",N92*Q92)","v":""}]
["","","","","","",{"$nulls":6},{"$f":"IF(กรอกข้อมูล!AS93>กรอกข้อมูล!AO$2,\"\",กรอกข้อมูล!AS93)","v":""},{"$f":"IF(กรอกข้อมูล!AS93>กรอกข้อมูล!AO$2,\"\",กรอกข้อมูล!AT93)","v":""},{"$f":"IF(กรอกข้อมูล!AS93>กรอกข้อมูล!AO$2,\"\",กรอกข้อมูล!AU93)","v":""},{"$f":"IF(กรอกข้อมูล!AS93>กรอกข้อมูล!AO$2,\"\",N93*O93)","v":""},{"$f":"IF(กรอกข้อมูล!AS93>กรอกข้อมูล!AO$2,\"\",ABS(M93-I$6))","v":""},"",{"$f":"IF(กรอกข้อมูล!AS93>กรอกข้อมูล!AO$2,\"\",N93*Q93)","v":""}]
["","","","","","",{"$nulls":6},{"$f":"IF(กรอกข้อมูล!AS94>กรอกข้อมูล!AO$2,\"\",กรอกข้อมูล!AS94)","v":""},{"$f":"IF(กรอกข้อมูล!AS94>กรอกข้อมูล!AO$2,\"\",กรอกข้อมูล!AT94)","v":""},{"$f":"IF(กรอกข้อมูล!AS94>กรอกข้อมูล!AO$2,\"\",กรอกข้อมูล!AU94)","v":""},{"$f":"IF(กรอกข้อมูล!AS94>กรอกข้อมูล!AO$2,\"\",N94*O94)","v":""},{"$f":"IF(กรอกข้อมูล!AS94>กรอกข้อมูล!AO$2,\"\",ABS(M94-I$6))","v":""},"",{"$f":"IF(กรอกข้อมูล!AS94>กรอกข้อมูล!AO$2,\"\",N94*Q94)","v":""}]
["","","","","","",{"$nulls":6},{"$f":"IF(กรอกข้อมูล!AS95>กรอกข้อมูล!AO$2,\"\",กรอกข้อมูล!AS95)","v":""},{"$f":"IF(กรอกข้อมูล!AS95>กรอกข้อมูล!AO$2,\"\",กรอกข้อมูล!AT95)","v":""},{"$f":"IF(กรอกข้อมูล!AS95>กรอกข้อมูล!AO$2,\"\",กรอกข้อมูล!AU95)","v":""},{"$f":"IF(กรอกข้อมูล!AS95>กรอกข้อมูล!AO$2,\"\",N95*O95)","v":""},{"$f":"IF(กรอกข้อมูล!AS95>กรอกข้อมูล!AO$2,\"\",ABS(M95-I$6))","v":""},"",{"$f":"IF(กรอกข้อมูล!AS95>กรอกข้อมูล!AO$2,\"\",N95*Q95)","v":""}]
["","","","","","",{"$nulls":6},{"$f":"IF(กรอกข้อมูล!AS96>กรอกข้อมูล!AO$2,\"\",กรอกข้อมูล!AS96)","v":""},{"$f":"IF(กรอกข้อมูล!AS96>กรอกข้อมูล!AO$2,\"\",กรอกข้อมูล!AT96)","v":""},{"$f":"IF(กรอกข้อมูล!AS96>กรอกข้อมูล!AO$2,\"\",กรอกข้อมูล!AU96)","v":""},{"$f":"IF(กรอกข้อมูล!AS96>กรอกข้อมูล!AO$2,\"\",N96*O96)","v":""},{"$f":"IF(กรอกข้อมูล!AS96>กรอกข้อมูล!AO$2,\"\",ABS(M96-I$6))","v":""},"",{"$f":"IF(กรอกข้อมูล!AS96>กรอกข้อมูล!AO$2,\"\",N96*Q96)","v":""}]
["","","","","","",{"$nulls":6},{"$f":"IF(กรอกข้อมูล!AS97>กรอกข้อมูล!AO$2,\"\",กรอกข้อมูล!AS97)","v":""},{"$f":"IF(กรอกข้อมูล!AS97>กรอกข้อมูล!AO$2,\"\",กรอกข้อมูล!AT97)","v":""},{"$f":"IF(กรอกข้อมูล!AS97>กรอกข้อมูล!AO$2,\"\",กรอกข้อมูล!AU97)","v":""},{"$f":"IF(กรอกข้อมูล!AS97>กรอกข้อมูล!AO$2,\"\",N97*O97)","v":""},{"$f":"IF(กรอกข้อมูล!AS97>กรอกข้อมูล!AO$2,\"\",ABS(M97-I$6))","v":""},"",{"$f":"IF(กรอกข้อมูล!AS97>กรอกข้อมูล!AO$2,\"\",N97*Q97)","v":""}]
["","","","","","",{"$nulls":6},{"$f":"IF(กรอกข้อมูล!AS98>กรอกข้อมูล!AO$2,\"\",กรอกข้อมูล!AS98)","v":""},{"$f":"IF(กรอกข้อมูล!AS98>กรอกข้อมูล!AO$2,\"\",กรอกข้อมูล!AT98)","v":""},{"$f":"IF(กรอกข้อมูล!AS98>กรอกข้อมูล!AO$2,\"\",กรอกข้อมูล!AU98)","v":""},{"$f":"IF(กรอกข้อมูล!AS98>กรอกข้อมูล!AO$2,\"\",N98*O98)","v":""},{"$f":"IF(กรอกข้อมูล!AS98>กรอกข้อมูล!AO$2,\"\",ABS(M98-I$6))","v":""},"",{"$f":"IF(กรอกข้อมูล!AS98>กรอกข้อมูล!AO$2,\"\",N98*Q98)","v":""}]
["","","","","","",{"$nulls":6},{"$f":"IF(กรอกข้อมูล!AS99>กรอกข้อมูล!AO$2,\"\",กรอกข้อมูล!AS99)","v":""},{"$f":"IF(กรอกข้อมูล!AS99>กรอกข้อมูล!AO$2,\"\",กรอกข้อมูล!AT99)","v":""},{"$f":"IF(กรอกข้อมูล!AS99>กรอกข้อมูล!AO$2,\"\",กรอกข้อมูล!AU99)","v":""},{"$f":"IF(กรอกข้อมูล!AS99>กรอกข้อมูล!AO$2,\"\",N99*O99)","v":""},{"$f":"IF(กรอกข้อมูล!AS99>กรอกข้อมูล!AO$2,\"\",ABS(M99-I$6))","v":""},"",{"$f":"IF(กรอกข้อมูล!AS99>กรอกข้อมูล!AO$2,\"\",N99*Q99)","v":""}]
["","","","","","",{"$nulls":6},{"$f":"IF(กรอกข้อมูล!AS100>กรอกข้อมูล!AO$2,\"\",กรอกข้อมูล!AS100)","v":""},{"$f":"IF(กรอกข้อมูล!AS100>กรอกข้อมูล!AO$2,\"\",กรอกข้อมูล!AT100)","v":""},{"$f":"IF(กรอกข้อมูล!AS100>กรอกข้อมูล!AO$2,\"\",กรอกข้อมูล!AU100)","v":""},{"$f":"IF(กรอกข้อมูล!AS100>กรอกข้อมูล!AO$2,\"\",N100*O100)","v":""},{"$f":"IF(กรอกข้อมูล!AS100>กรอกข้อมูล!AO$2,\"\",ABS(M100-I$6))","v":""},"",{"$f":"IF(กรอกข้อมูล!AS100>กรอกข้อมูล!AO$2,\"\",N100*Q100)","v":""}]
["","","","","","",{"$nulls":6},{"$f":"IF(กรอกข้อมูล!AS101>กรอกข้อมูล!AO$2,\"\",กรอกข้อมูล!AS101)","v":""},{"$f":"IF(กรอกข้อมูล!AS101>กรอกข้อมูล!AO$2,\"\",กรอกข้อมูล!AT101)","v":""},{"$f":"IF(กรอกข้อมูล!AS101>กรอกข้อมูล!AO$2,\"\",กรอกข้อมูล!AU101)","v":""},{"$f":"IF(กรอกข้อมูล!AS101>กรอกข้อมูล!AO$2,\"\",N101*O101)","v":""},{"$f":"IF(กรอกข้อมูล!AS101>กรอกข้อมูล!AO$2,\"\",ABS(M101-I$6))","v":""},"",{"$f":"IF(กรอกข้อมูล!AS101>กรอกข้อมูล!AO$2,\"\",N101*Q101)","v":""}]
["","","","","","",{"$nulls":6},{"$f":"IF(กรอกข้อมูล!AS102>กรอกข้อมูล!AO$2,\"\",กรอกข้อมูล!AS102)","v":""},{"$f":"IF(กรอกข้อมูล!AS102>กรอกข้อมูล!AO$2,\"\",กรอกข้อมูล!AT102)","v":""},{"$f":"IF(กรอกข้อมูล!AS102>กรอกข้อมูล!AO$2,\"\",กรอกข้อมูล!AU102)","v":""},{"$f":"IF(กรอกข้อมูล!AS102>กรอกข้อมูล!AO$2,\"\",N102*O102)","v":""},{"$f":"IF(กรอกข้อมูล!AS102>กรอกข้อมูล!AO$2,\"\",ABS(M102-I$6))","v":""},"",{"$f":"IF(กรอกข้อมูล!AS102>กรอกข้อมูล!AO$2,\"\",N102*Q102)","v":""}]
["","","","","","",{"$nulls":6},{"$f":"IF(กรอกข้อมูล!AS103>กรอกข้อมูล!AO$2,\"\",กรอกข้อมูล!AS103)","v":""},{"$f":"IF(กรอกข้อมูล!AS103>กรอกข้อมูล!AO$2,\"\",กรอกข้อมูล!AT103)","v":""},{"$f":"IF(กรอกข้อมูล!AS103>กรอกข้อมูล!AO$2,\"\",กรอกข้อมูล!AU103)","v":""},{"$f":"IF(กรอกข้อมูล!AS103>กรอกข้อมูล!AO$2,\"\",N103*O103)","v":""},{"$f":"IF(กรอกข้อมูล!AS103>กรอกข้อมูล!AO$2,\"\",ABS(M103-I$6))","v":""},"",{"$f":"IF(กรอกข้อมูล!AS103>กรอกข้อมูล!AO$2,\"\",N103*Q103)","v":""}]
["","","","","","",{"$nulls":6},{"$f":"IF(กรอกข้อมูล!AS104>กรอกข้อมูล!AO$2,\"\",กรอกข้อมูล!AS104)","v":""},{"$f":"IF(กรอกข้อมูล!AS104>กรอกข้อมูล!AO$2,\"\",กรอกข้อมูล!AT104)","v":""},{"$f":"IF(กรอกข้อมูล!AS104>กรอกข้อมูล!AO$2,\"\",กรอกข้อมูล!AU104)","v":""},{"$f":"IF(กรอกข้อมูล!AS104>กรอกข้อมูล!AO$2,\"\",N104*O104)","v":""},{"$f":"IF(กรอกข้อมูล!AS104>กรอกข้อมูล!AO$2,\"\",ABS(M104-I$6))","v":""},"",{"$f":"IF(กรอกข้อมูล!AS104>กรอกข้อมูล!AO$2,\"\",N104*Q104)","v":""}]
["","","","","","",{"$nulls":6},{"$f":"IF(กรอกข้อมูล!AS105>กรอกข้อมูล!AO$2,\"\",กรอกข้อมูล!AS105)","v":""},{"$f":"IF(กรอกข้อมูล!AS105>กรอกข้อมูล!AO$2,\"\",กรอกข้อมูล!AT105)","v":""},{"$f":"IF(กรอกข้อมูล!AS105>กรอกข้อมูล!AO$2,\"\",กรอกข้อมูล!AU105)","v":""},{"$f":"IF(กรอกข้อมูล!AS105>กรอกข้อมูล!AO$2,\"\",N105*O105)","v":""},{"$f":"IF(กรอกข้อมูล!AS105>กรอกข้อมูล!AO$2,\"\",ABS(M105-I$6))","v":""},"",{"$f":"IF(กรอกข้อมูล!AS105>กรอกข้อมูล!AO$2,\"\",N105*Q105)","v":""}]
["","","","","","",{"$nulls":6},{"$f":"IF(กรอกข้อมูล!AS106>กรอกข้อมูล!AO$2,\"\",กรอกข้อมูล!AS106)","v":""},{"$f":"IF(กรอกข้อมูล!AS106>กรอกข้อมูล!AO$2,\"\",กรอกข้อมูล!AT106)","v":""},{"$f":"IF(กรอกข้อมูล!AS106>กรอกข้อมูล!AO$2,\"\",กรอกข้อมูล!AU106)","v":""},{"$f":"IF(กรอกข้อมูล!AS106>กรอกข้อมูล!AO$2,\"\",N106*O106)","v":""},{"$f":"IF(กรอกข้อมูล!AS106>กรอกข้อมูล!AO$2,\"\",ABS(M106-I$6))","v":""},"",{"$f":"IF(กรอกข้อมูล!AS106>กรอกข้อมูล!AO$2,\"\",N106*Q106)","v":""}]
["","","","","","",{"$nulls":6},{"$f":"IF(กรอกข้อมูล!AS107>กรอกข้อมูล!AO$2,\"\",กรอกข้อมูล!AS107)","v":""},{"$f":"IF(กรอกข้อมูล!AS107>กรอกข้อมูล!AO$2,\"\",กรอกข้อมูล!AT107)","v":""},{"$f":"IF(กรอกข้อมูล!AS107>กรอกข้อมูล!AO$2,\"\",กรอกข้อมูล!AU107)","v":""},{"$f":"IF(กรอกข้อมูล!AS107>กรอกข้อมูล!AO$2,\"\",N107*O107)","v":""},{"$f":"IF(กรอกข้อมูล!AS107>กรอกข้อมูล!AO$2,\"\",ABS(M107-I$6))","v":""},"",{"$f":"IF(กรอกข้อมูล!AS107>กรอกข้อมูล!AO$2,\"\",N107*Q107)","v":""}]
["","","","","","",{"$nulls":6},{"$f":"IF(กรอกข้อมูล!AS108>กรอกข้อมูล!AO$2,\"\",กรอกข้อมูล!AS108)","v":""},{"$f":"IF(กรอกข้อมูล!AS108>กรอกข้อมูล!AO$2,\"\",กรอกข้อมูล!AT108)","v":""},{"$f":"IF(กรอกข้อมูล!AS108>กรอกข้อมูล!AO$2,\"\",กรอกข้อมูล!AU108)","v":""},{"$f":"IF(กรอกข้อมูล!AS108>กรอกข้อมูล!AO$2,\"\",N108*O108)","v":""},{"$f":"IF(กรอกข้อมูล!AS108>กรอกข้อมูล!AO$2,\"\",ABS(M108-I$6))","v":""},"",{"$f":"IF(กรอกข้อมูล!AS108>กรอกข้อมูล!AO$2,\"\",N108*Q108)","v":""}]
["","","","","","",{"$nulls":6},{"$f":"IF(กรอกข้อมูล!AS109>กรอกข้อมูล!AO$2,\"\",กรอกข้อมูล!AS109)","v":""},{"$f":"IF(กรอกข้อมูล!AS109>กรอกข้อมูล!AO$2,\"\",กรอกข้อมูล!AT109)","v":""},{"$f":"IF(กรอกข้อมูล!AS109>กรอกข้อมูล!AO$2,\"\",กรอกข้อมูล!AU109)","v":""},{"$f":"IF(กรอกข้อมูล!AS109>กรอกข้อมูล!AO$2,\"\",N109*O109)","v":""},{"$f":"IF(กรอกข้อมูล!AS109>กรอกข้อมูล!AO$2,\"\",ABS(M109-I$6))","v":""},"",{"$f":"IF(กรอกข้อมูล!AS109>กรอกข้อมูล!AO$2,\"\",N109*Q109)","v":""}]
["","","","","","",{"$nulls":6},{"$f":"IF(กรอกข้อมูล!AS110>กรอกข้อมูล!AO$2,\"\",กรอกข้อมูล!AS110)","v":""},{"$f":"IF(กรอกข้อมูล!AS110>กรอกข้อมูล!AO$2,\"\",กรอกข้อมูล!AT110)","v":""},{"$f":"IF(กรอกข้อมูล!AS110>กรอกข้อมูล!AO$2,\"\",กรอกข้อมูล!AU110)","v":""},{"$f":"IF(กรอกข้อมูล!AS110>กรอกข้อมูล!AO$2,\"\",N110*O110)","v":""},{"$f":"IF(กรอกข้อมูล!AS110>กรอกข้อมูล!AO$2,\"\",ABS(M110-I$6))","v":""},"",{"$f":"IF(กรอกข้อมูล!AS110>กรอกข้อมูล!AO$2,\"\",N110*Q110)","v":""}]
["","","","","","",{"$nulls":6},{"$f":"IF(กรอกข้อมูล!AS111>กรอกข้อมูล!AO$2,\"\",กรอกข้อมูล!AS111)","v":""},{"$f":"IF(กรอกข้อมูล!AS111>กรอกข้อมูล!AO$2,\"\",กรอกข้อมูล!AT111)","v":""},{"$f":"IF(กรอกข้อมูล!AS111>กรอกข้อมูล!AO$2,\"\",กรอกข้อมูล!AU111)","v":""},{"$f":"IF(กรอกข้อมูล!AS111>กรอกข้อมูล!AO$2,\"\",N111*O111)","v":""},{"$f":"IF(กรอกข้อมูล!AS111>กรอกข้อมูล!AO$2,\"\",ABS(M111-I$6))","v":""},"",{"$f":"IF(กรอกข้อมูล!AS111>กรอกข้อมูล!AO$2,\"\",N111*Q111)","v":""}]
["","","","","","",{"$nulls":6},{"$f":"IF(กรอกข้อมูล!AS112>กรอกข้อมูล!AO$2,\"\",กรอกข้อมูล!AS112)","v":""},{"$f":"IF(กรอกข้อมูล!AS112>กรอกข้อมูล!AO$2,\"\",กรอกข้อมูล!AT112)","v":""},{"$f":"IF(กรอกข้อมูล!AS112>กรอกข้อมูล!AO$2,\"\",กรอกข้อมูล!AU112)","v":""},{"$f":"IF(กรอกข้อมูล!AS112>กรอกข้อมูล!AO$2,\"\",N112*O112)","v":""},{"$f":"IF(กรอกข้อมูล!AS112>กรอกข้อมูล!AO$2,\"\",ABS(M112-I$6))","v":""},"",{"$f":"IF(กรอกข้อมูล!AS112>กรอกข้อมูล!AO$2,\"\",N112*Q112)","v":""}]
["","","","","","",{"$nulls":6},{"$f":"IF(กรอกข้อมูล!AS113>กรอกข้อมูล!AO$2,\"\",กรอกข้อมูล!AS113)","v":""},{"$f":"IF(กรอกข้อมูล!AS113>กรอกข้อมูล!AO$2,\"\",กรอกข้อมูล!AT113)","v":""},{"$f":"IF(กรอกข้อมูล!AS113>กรอกข้อมูล!AO$2,\"\",กรอกข้อมูล!AU113)","v":""},{"$f":"IF(กรอกข้อมูล!AS113>กรอกข้อมูล!AO$2,\"\",N113*O113)","v":""},{"$f":"IF(กรอกข้อมูล!AS113>กรอกข้อมูล!AO$2,\"\",ABS(M113-I$6))","v":""},"",{"$f":"IF(กรอกข้อมูล!AS113>กรอกข้อมูล!AO$2,\"\",N113*Q113)","v":""}]
["","","","","","",{"$nulls":6},{"$f":"IF(กรอกข้อมูล!AS114>กรอกข้อมูล!AO$2,\"\",กรอกข้อมูล!AS114)","v":""},{"$f":"IF(กรอกข้อมูล!AS114>กรอกข้อมูล!AO$2,\"\",กรอกข้อมูล!AT114)","v":""},{"$f":"IF(กรอกข้อมูล!AS114>กรอกข้อมูล!AO$2,\"\",กรอกข้อมูล!AU114)","v":""},{"$f":"IF(กรอกข้อมูล!AS114>กรอกข้อมูล!AO$2,\"\",N114*O114)","v":""},{"$f":"IF(กรอกข้อมูล!AS114>กรอกข้อมูล!AO$2,\"\",ABS(M114-I$6))","v":""},"",{"$f":"IF(กรอกข้อมูล!AS114>กรอกข้อมูล!AO$2,\"\",N114*Q114)","v":""}]
["","","","","","",{"$nulls":6},{"$f":"IF(กรอกข้อมูล!AS115>กรอกข้อมูล!AO$2,\"\",กรอกข้อมูล!AS115)","v":""},{"$f":"IF(กรอกข้อมูล!AS115>กรอกข้อมูล!AO$2,\"\",กรอกข้อมูล!AT115)","v":""},{"$f":"IF(กรอกข้อมูล!AS115>กรอกข้อมูล!AO$2,\"\",กรอกข้อมูล!AU115)","v":""},{"$f":"IF(กรอกข้อมูล!AS115>กรอกข้อมูล!AO$2,\"\",N115*O115)","v":""},{"$f":"IF(กรอกข้อมูล!AS115>กรอกข้อมูล!AO$2,\"\",ABS(M115-I$6))","v":""},"",{"$f":"IF(กรอกข้อมูล!AS115>กรอกข้อมูล!AO$2,\"\",N115*Q115)","v":""}]
["","","","","","",{"$nulls":6},{"$f":"IF(กรอกข้อมูล!AS116>กรอกข้อมูล!AO$2,\"\",กรอกข้อมูล!AS116)","v":""},{"$f":"IF(กรอกข้อมูล!AS116>กรอกข้อมูล!AO$2,\"\",กรอกข้อมูล!AT116)","v":""},{"$f":"IF(กรอกข้อมูล!AS116>กรอกข้อมูล!AO$2,\"\",กรอกข้อมูล!AU116)","v":""},{"$f":"IF(กรอกข้อมูล!AS116>กรอกข้อมูล!AO$2,\"\",N116*O116)","v":""},{"$f":"IF(กรอกข้อมูล!AS116>กรอกข้อมูล!AO$2,\"\",ABS(M116-I$6))","v":""},"",{"$f":"IF(กรอกข้อมูล!AS116>กรอกข้อมูล!AO$2,\"\",N116*Q116)","v":""}]
["","","","","","",{"$nulls":6},{"$f":"IF(กรอกข้อมูล!AS117>กรอกข้อมูล!AO$2,\"\",กรอกข้อมูล!AS117)","v":""},{"$f":"IF(กรอกข้อมูล!AS117>กรอกข้อมูล!AO$2,\"\",กรอกข้อมูล!AT117)","v":""},{"$f":"IF(กรอกข้อมูล!AS117>กรอกข้อมูล!AO$2,\"\",กรอกข้อมูล!AU117)","v":""},{"$f":"IF(กรอกข้อมูล!AS117>กรอกข้อมูล!AO$2,\"\",N117*O117)","v":""},{"$f":"IF(กรอกข้อมูล!AS117>กรอกข้อมูล!AO$2,\"\",ABS(M117-I$6))","v":""},"",{"$f":"IF(กรอกข้อมูล!AS117>กรอกข้อมูล!AO$2,\"\",N117*Q117)","v":""}]
["","","","","","",{"$nulls":6},{"$f":"IF(กรอกข้อมูล!AS118>กรอกข้อมูล!AO$2,\"\",กรอกข้อมูล!AS118)","v":""},{"$f":"IF(กรอกข้อมูล!AS118>กรอกข้อมูล!AO$2,\"\",กรอกข้อมูล!AT118)","v":""},{"$f":"IF(กรอกข้อมูล!AS118>กรอกข้อมูล!AO$2,\"\",กรอกข้อมูล!AU118)","v":""},{"$f":"IF(กรอกข้อมูล!AS118>กรอกข้อมูล!AO$2,\"\",N118*O118)","v":""},{"$f":"IF(กรอกข้อมูล!AS118>กรอกข้อมูล!AO$2,\"\",ABS(M118-I$6))","v":""},"",{"$f":"IF(กรอกข้อมูล!AS118>กรอกข้อมูล!AO$2,\"\",N118*Q118)","v":""}]
["","","","","","",{"$nulls":6},{"$f":"IF(กรอกข้อมูล!AS119>กรอกข้อมูล!AO$2,\"\",กรอกข้อมูล!AS119)","v":""},{"$f":"IF(กรอกข้อมูล!AS119>กรอกข้อมูล!AO$2,\"\",กรอกข้อมูล!AT119)","v":""},{"$f":"IF(กรอกข้อมูล!AS119>กรอกข้อมูล!AO$2,\"\",กรอกข้อมูล!AU119)","v":""},{"$f":"IF(กรอกข้อมูล!AS119>กรอกข้อมูล!AO$2,\"\",N119*O119)","v":""},{"$f":"IF(กรอกข้อมูล!AS119>กรอกข้อมูล!AO$2,\"\",ABS(M119-I$6))","v":""},"",{"$f":"IF(กรอกข้อมูล!AS119>กรอกข้อมูล!AO$2,\"\",N119*Q119)","v":""}]
["","","","","","",{"$nulls":6},{"$f":"IF(กรอกข้อมูล!AS120>กรอกข้อมูล!AO$2,\"\",กรอกข้อมูล!AS120)","v":""},{"$f":"IF(กรอกข้อมูล!AS120>กรอกข้อมูล!AO$2,\"\",กรอกข้อมูล!AT120)","v":""},{"$f":"IF(กรอกข้อมูล!AS120>กรอกข้อมูล!AO$2,\"\",กรอกข้อมูล!AU120)","v":""},{"$f":"IF(กรอกข้อมูล!AS120>กรอกข้อมูล!AO$2,\"\",N120*O120)","v":""},{"$f":"IF(กรอกข้อมูล!AS120>กรอกข้อมูล!AO$2,\"\",ABS(M120-I$6))","v":""},"",{"$f":"IF(กรอกข้อมูล!AS120>กรอกข้อมูล!AO$2,\"\",N120*Q120)","v":""}]
["","","","","","",{"$nulls":6},{"$f":"IF(กรอกข้อมูล!AS121>กรอกข้อมูล!AO$2,\"\",กรอกข้อมูล!AS121)","v":""},{"$f":"IF(กรอกข้อมูล!AS121>กรอกข้อมูล!AO$2,\"\",กรอกข้อมูล!AT121)","v":""},{"$f":"IF(กรอกข้อมูล!AS121>กรอกข้อมูล!AO$2,\"\",กรอกข้อมูล!AU121)","v":""},{"$f":"IF(กรอกข้อมูล!AS121>กรอกข้อมูล!AO$2,\"\",N121*O121)","v":""},{"$f":"IF(กรอกข้อมูล!AS121>กรอกข้อมูล!AO$2,\"\",ABS(M121-I$6))","v":""},"",{"$f":"IF(กรอกข้อมูล!AS121>กรอกข้อมูล!AO$2,\"\",N121*Q121)","v":""}]
["","","","","","",{"$nulls":6},{"$f":"IF(กรอกข้อมูล!AS122>กรอกข้อมูล!AO$2,\"\",กรอกข้อมูล!AS122)","v":""},{"$f":"IF(กรอกข้อมูล!AS122>กรอกข้อมูล!AO$2,\"\",กรอกข้อมูล!AT122)","v":""},{"$f":"IF(กรอกข้อมูล!AS122>กรอกข้อมูล!AO$2,\"\",กรอกข้อมูล!AU122)","v":""},{"$f":"IF(กรอกข้อมูล!AS122>กรอกข้อมูล!AO$2,\"\",N122*O122)","v":""},{"$f":"IF(กรอกข้อมูล!AS122>กรอกข้อมูล!AO$2,\"\",ABS(M122-I$6))","v":""},"",{"$f":"IF(กรอกข้อมูล!AS122>กรอกข้อมูล!AO$2,\"\",N122*Q122)","v":""}]
["","","","","","",{"$nulls":6},{"$f":"IF(กรอกข้อมูล!AS123>กรอกข้อมูล!AO$2,\"\",กรอกข้อมูล!AS123)","v":""},{"$f":"IF(กรอกข้อมูล!AS123>กรอกข้อมูล!AO$2,\"\",กรอกข้อมูล!AT123)","v":""},{"$f":"IF(กรอกข้อมูล!AS123>กรอกข้อมูล!AO$2,\"\",กรอกข้อมูล!AU123)","v":""},{"$f":"IF(กรอกข้อมูล!AS123>กรอกข้อมูล!AO$2,\"\",N123*O123)","v":""},{"$f":"IF(กรอกข้อมูล!AS123>กรอกข้อมูล!AO$2,\"\",ABS(M123-I$6))","v":""},"",{"$f":"IF(กรอกข้อมูล!AS123>กรอกข้อมูล!AO$2,\"\",N123*Q123)","v":""}]
["","","","","","",{"$nulls":6},{"$f":"IF(กรอกข้อมูล!AS124>กรอกข้อมูล!AO$2,\"\",กรอกข้อมูล!AS124)","v":""},{"$f":"IF(กรอกข้อมูล!AS124>กรอกข้อมูล!AO$2,\"\",กรอกข้อมูล!AT124)","v":""},{"$f":"IF(กรอกข้อมูล!AS124>กรอกข้อมูล!AO$2,\"\",กรอกข้อมูล!AU124)","v":""},{"$f":"IF(กรอกข้อมูล!AS124>กรอกข้อมูล!AO$2,\"\",N124*O124)","v":""},{"$f":"IF(กรอกข้อมูล!AS124>กรอกข้อมูล!AO$2,\"\",ABS(M124-I$6))","v":""},"",{"$f":"IF(กรอกข้อมูล!AS124>กรอกข้อมูล!AO$2,\"\",N124*Q124)","v":""}]
["","","","","","",{"$nulls":6},{"$f":"IF(กรอกข้อมูล!AS125>กรอกข้อมูล!AO$2,\"\",กรอกข้อมูล!AS125)","v":""},{"$f":"IF(กรอกข้อมูล!AS125>กรอกข้อมูล!AO$2,\"\",กรอกข้อมูล!AT125)","v":""},{"$f":"IF(กรอกข้อมูล!AS125>กรอกข้อมูล!AO$2,\"\",กรอกข้อมูล!AU125)","v":""},{"$f":"IF(กรอกข้อมูล!AS125>กรอกข้อมูล!AO$2,\"\",N125*O125)","v":""},{"$f":"IF(กรอกข้อมูล!AS125>กรอกข้อมูล!AO$2,\"\",ABS(M125-I$6))","v":""},"",{"$f":"IF(กรอกข้อมูล!AS125>กรอกข้อมูล!AO$2,\"\",N125*Q125)","v":""}]
["","","","","","",{"$nulls":6},{"$f":"IF(กรอกข้อมูล!AS126>กรอกข้อมูล!AO$2,\"\",กรอกข้อมูล!AS126)","v":""},{"$f":"IF(กรอกข้อมูล!AS126>กรอกข้อมูล!AO$2,\"\",กรอกข้อมูล!AT126)","v":""},{"$f":"IF(กรอกข้อมูล!AS126>กรอกข้อมูล!AO$2,\"\",กรอกข้อมูล!AU126)","v":""},{"$f":"IF(กรอกข้อมูล!AS126>กรอกข้อมูล!AO$2,\"\",N126*O126)","v":""},{"$f":"IF(กรอกข้อมูล!AS126>กรอกข้อมูล!AO$2,\"\",ABS(M126-I$6))","v":""},"",{"$f":"IF(กรอกข้อมูล!AS126>กรอกข้อมูล!AO$2,\"\",N126*Q126)","v":""}]
["","","","","","",{"$nulls":6},{"$f":"IF(กรอกข้อมูล!AS127>กรอกข้อมูล!AO$2,\"\",กรอกข้อมูล!AS127)","v":""},{"$f":"IF(กรอกข้อมูล!AS127>กรอกข้อมูล!AO$2,\"\",กรอกข้อมูล!AT127)","v":""},{"$f":"IF(กรอกข้อมูล!AS127>กรอกข้อมูล!AO$2,\"\",กรอกข้อมูล!AU127)","v":""},{"$f":"IF(กรอกข้อมูล!AS127>กรอกข้อมูล!AO$2,\"\",N127*O127)","v":""},{"$f":"IF(กรอกข้อมูล!AS127>กรอกข้อมูล!AO$2,\"\",ABS(M127-I$6))","v":""},"",{"$f":"IF(กรอกข้อมูล!AS127>กรอกข้อมูล!AO$2,\"\",N127*Q127)","v":""}]
["","","","","","",{"$nulls":6},{"$f":"IF(กรอกข้อมูล!AS128>กรอกข้อมูล!AO$2,\"\",กรอกข้อมูล!AS128)","v":""},{"$f":"IF(กรอกข้อมูล!AS128>กรอกข้อมูล!AO$2,\"\",กรอกข้อมูล!AT128)","v":""},{"$f":"IF(กรอกข้อมูล!AS128>กรอกข้อมูล!AO$2,\"\",กรอกข้อมูล!AU128)","v":""},{"$f":"IF(กรอกข้อมูล!AS128>กรอกข้อมูล!AO$2,\"\",N128*O128)","v":""},{"$f":"IF(กรอกข้อมูล!AS128>กรอกข้อมูล!AO$2,\"\",ABS(M128-I$6))","v":""},"",{"$f":"IF(กรอกข้อมูล!AS128>กรอกข้อมูล!AO$2,\"\",N128*Q128)","v":""}]
["","","","","","",{"$nulls":6},{"$f":"IF(กรอกข้อมูล!AS129>กรอกข้อมูล!AO$2,\"\",กรอกข้อมูล!AS129)","v":""},{"$f":"IF(กรอกข้อมูล!AS129>กรอกข้อมูล!AO$2,\"\",กรอกข้อมูล!AT129)","v":""},{"$f":"IF(กรอกข้อมูล!AS129>กรอกข้อมูล!AO$2,\"\",กรอกข้อมูล!AU129)","v":""},{"$f":"IF(กรอกข้อมูล!AS129>กรอกข้อมูล!AO$2,\"\",N129*O129)","v":""},{"$f":"IF(กรอกข้อมูล!AS129>กรอกข้อมูล!AO$2,\"\",ABS(M129-I$6))","v":""},"",{"$f":"IF(กรอกข้อมูล!AS129>กรอกข้อมูล!AO$2,\"\",N129*Q129)","v":""}]
[{"$f":"M130","v":""},{"$f":"N130","v":""},{"$f":"O130","v":""},{"$f":"P130","v":""},{"$f":"R130","v":""},{"$f":"S130","v":""},{"$nulls":6},{"$f":"IF(กรอกข้อมูล!AS130>กรอกข้อมูล!AO$2,\"\",กรอกข้อมูล!AS130)","v":""},{"$f":"IF(กรอกข้อมูล!AS130>กรอกข้อมูล!AO$2,\"\",กรอกข้อมูล!AT130)","v":""},{"$f":"IF(กรอกข้อมูล!AS130>กรอกข้อมูล!AO$2,\"\",กรอกข้อมูล!AU130)","v":""},{"$f":"IF(กรอกข้อมูล!AS130>กรอกข้อมูล!AO$2,\"\",N130*O130)","v":""},{"$f":"IF(กรอกข้อมูล!AS130>กรอกข้อมูล!AO$2,\"\",ABS(M130-I$6))","v":""},"",{"$f":"IF(กรอกข้อมูล!AS130>กรอกข้อมูล!AO$2,\"\",N130*Q130)","v":""}]
["","","","","","",{"$nulls":6},{"$f":"IF(กรอกข้อมูล!AS131>กรอกข้อมูล!AO$2,\"\",กรอกข้อมูล!AS131)","v":""},{"$f":"IF(กรอกข้อมูล!AS131>กรอกข้อมูล!AO$2,\"\",กรอกข้อมูล!AT131)","v":""},{"$f":"IF(กรอกข้อมูล!AS131>กรอกข้อมูล!AO$2,\"\",กรอกข้อมูล!AU131)","v":""},{"$f":"IF(กรอกข้อมูล!AS131>กรอกข้อมูล!AO$2,\"\",N131*O131)","v":""},{"$f":"IF(กรอกข้อมูล!AS131>กรอกข้อมูล!AO$2,\"\",ABS(M131-I$6))","v":""},{"$f":"IF(N131=0,0,Q131)","v":""},{"$f":"IF(กรอกข้อมูล!AS131>กรอกข้อมูล!AO$2,\"\",N131*Q131)","v":""}]
["","","","","","",{"$nulls":6},{"$f":"IF(กรอกข้อมูล!AS132>กรอกข้อมูล!AO$2,\"\",กรอกข้อมูล!AS132)","v":""},{"$f":"IF(กรอกข้อมูล!AS132>กรอกข้อมูล!AO$2,\"\",กรอกข้อมูล!AT132)","v":""},{"$f":"IF(กรอกข้อมูล!AS132>กรอกข้อมูล!AO$2,\"\",กรอกข้อมูล!AU132)","v":""},{"$f":"IF(กรอกข้อมูล!AS132>กรอกข้อมูล!AO$2,\"\",N132*O132)","v":""},{"$f":"IF(กรอกข้อมูล!AS132>กรอกข้อมูล!AO$2,\"\",ABS(M132-I$6))","v":""},"",{"$f":"IF(กรอกข้อมูล!AS132>กรอกข้อมูล!AO$2,\"\",N132*Q132)","v":""}]
["","","","","","",{"$nulls":6},{"$f":"IF(กรอกข้อมูล!AS133>กรอกข้อมูล!AO$2,\"\",กรอกข้อมูล!AS133)","v":""},{"$f":"IF(กรอกข้อมูล!AS133>กรอกข้อมูล!AO$2,\"\",กรอกข้อมูล!AT133)","v":""},{"$f":"IF(กรอกข้อมูล!AS133>กรอกข้อมูล!AO$2,\"\",กรอกข้อมูล!AU133)","v":""},{"$f":"IF(กรอกข้อมูล!AS133>กรอกข้อมูล!AO$2,\"\",N133*O133)","v":""},{"$f":"IF(กรอกข้อมูล!AS133>กรอกข้อมูล!AO$2,\"\",ABS(M133-I$6))","v":""},"",{"$f":"IF(กรอกข้อมูล!AS133>กรอกข้อมูล!AO$2,\"\",N133*Q133)","v":""}]
["","","","","","",{"$nulls":6},{"$f":"IF(กรอกข้อมูล!AS134>กรอกข้อมูล!AO$2,\"\",กรอกข้อมูล!AS134)","v":""},{"$f":"IF(กรอกข้อมูล!AS134>กรอกข้อมูล!AO$2,\"\",กรอกข้อมูล!AT134)","v":""},{"$f":"IF(กรอกข้อมูล!AS134>กรอกข้อมูล!AO$2,\"\",กรอกข้อมูล!AU134)","v":""},{"$f":"IF(กรอกข้อมูล!AS134>กรอกข้อมูล!AO$2,\"\",N134*O134)","v":""},{"$f":"IF(กรอกข้อมูล!AS134>กรอกข้อมูล!AO$2,\"\",ABS(M134-I$6))","v":""},"",{"$f":"IF(กรอกข้อมูล!AS134>กรอกข้อมูล!AO$2,\"\",N134*Q134)","v":""}]
["","","","","","",{"$nulls":6},{"$f":"IF(กรอกข้อมูล!AS135>กรอกข้อมูล!AO$2,\"\",กรอกข้อมูล!AS135)","v":""},{"$f":"IF(กรอกข้อมูล!AS135>กรอกข้อมูล!AO$2,\"\",กรอกข้อมูล!AT135)","v":""},{"$f":"IF(กรอกข้อมูล!AS135>กรอกข้อมูล!AO$2,\"\",กรอกข้อมูล!AU135)","v":""},{"$f":"IF(กรอกข้อมูล!AS135>กรอกข้อมูล!AO$2,\"\",N135*O135)","v":""},{"$f":"IF(กรอกข้อมูล!AS135>กรอกข้อมูล!AO$2,\"\",ABS(M135-I$6))","v":""},"",{"$f":"IF(กรอกข้อมูล!AS135>กรอกข้อมูล!AO$2,\"\",N135*Q135)","v":""}]
["","","","","","",{"$nulls":6},{"$f":"IF(กรอกข้อมูล!AS136>กรอกข้อมูล!AO$2,\"\",กรอกข้อมูล!AS136)","v":""},{"$f":"IF(กรอกข้อมูล!AS136>กรอกข้อมูล!AO$2,\"\",กรอกข้อมูล!AT136)","v":""},{"$f":"IF(กรอกข้อมูล!AS136>กรอกข้อมูล!AO$2,\"\",กรอกข้อมูล!AU136)","v":""},{"$f":"IF(กรอกข้อมูล!AS136>กรอกข้อมูล!AO$2,\"\",N136*O136)","v":""},{"$f":"IF(กรอกข้อมูล!AS136>กรอกข้อมูล!AO$2,\"\",ABS(M136-I$6))","v":""},"",{"$f":"IF(กรอกข้อมูล!AS136>กรอกข้อมูล!AO$2,\"\",N136*Q136)","v":""}]
["","","","","","",{"$nulls":6},{"$f":"IF(กรอกข้อมูล!AS137>กรอกข้อมูล!AO$2,\"\",กรอกข้อมูล!AS137)","v":""},{"$f":"IF(กรอกข้อมูล!AS137>กรอกข้อมูล!AO$2,\"\",กรอกข้อมูล!AT137)","v":""},{"$f":"IF(กรอกข้อมูล!AS137>กรอกข้อมูล!AO$2,\"\",กรอกข้อมูล!AU137)","v":""},{"$f":"IF(กรอกข้อมูล!AS137>กรอกข้อมูล!AO$2,\"\",N137*O137)","v":""},{"$f":"IF(กรอกข้อมูล!AS137>กรอกข้อมูล!AO$2,\"\",ABS(M137-I$6))","v":""},"",{"$f":"IF(กรอกข้อมูล!AS137>กรอกข้อมูล!AO$2,\"\",N137*Q137)","v":""}]
["","","","","","",{"$nulls":6},{"$f":"IF(กรอกข้อมูล!AS138>กรอกข้อมูล!AO$2,\"\",กรอกข้อมูล!AS138)","v":""},{"$f":"IF(กรอกข้อมูล!AS138>กรอกข้อมูล!AO$2,\"\",กรอกข้อมูล!AT138)","v":""},{"$f":"IF(กรอกข้อมูล!AS138>กรอกข้อมูล!AO$2,\"\",กรอกข้อมูล!AU138)","v":""},{"$f":"IF(กรอกข้อมูล!AS138>กรอกข้อมูล!AO$2,\"\",N138*O138)","v":""},{"$f":"IF(กรอกข้อมูล!AS138>กรอกข้อมูล!AO$2,\"\",ABS(M138-I$6))","v":""},"",{"$f":"IF(กรอกข้อมูล!AS138>กรอกข้อมูล!AO$2,\"\",N138*Q138)","v":""}]
["","","","","","",{"$nulls":6},{"$f":"IF(กรอกข้อมูล!AS139>กรอกข้อมูล!AO$2,\"\",กรอกข้อมูล!AS139)","v":""},{"$f":"IF(กรอกข้อมูล!AS139>กรอกข้อมูล!AO$2,\"\",กรอกข้อมูล!AT139)","v":""},{"$f":"IF(กรอกข้อมูล!AS139>กรอกข้อมูล!AO$2,\"\",กรอกข้อมูล!AU139)","v":""},{"$f":"IF(กรอกข้อมูล!AS139>กรอกข้อมูล!AO$2,\"\",N139*O139)","v":""},{"$f":"IF(กรอกข้อมูล!AS139>กรอกข้อมูล!AO$2,\"\",ABS(M139-I$6))","v":""},"",{"$f":"IF(กรอกข้อมูล!AS139>กรอกข้อมูล!AO$2,\"\",N139*Q139)","v":""}]
["","","","","","",{"$nulls":6},{"$f":"IF(กรอกข้อมูล!AS140>กรอกข้อมูล!AO$2,\"\",กรอกข้อมูล!AS140)","v":""},{"$f":"IF(กรอกข้อมูล!AS140>กรอกข้อมูล!AO$2,\"\",กรอกข้อมูล!AT140)","v":""},{"$f":"IF(กรอกข้อมูล!AS140>กรอกข้อมูล!AO$2,\"\",กรอกข้อมูล!AU140)","v":""},{"$f":"IF(กรอกข้อมูล!AS140>กรอกข้อมูล!AO$2,\"\",N140*O140)","v":""},{"$f":"IF(กรอกข้อมูล!AS140>กรอกข้อมูล!AO$2,\"\",ABS(M140-I$6))","v":""},"",{"$f":"IF(กรอกข้อมูล!AS140>กรอกข้อมูล!AO$2,\"\",N140*Q140)","v":""}]
["","","","","","",{"$nulls":6},{"$f":"IF(กรอกข้อมูล!AS141>กรอกข้อมูล!AO$2,\"\",กรอกข้อมูล!AS141)","v":""},{"$f":"IF(กรอกข้อมูล!AS141>กรอกข้อมูล!AO$2,\"\",กรอกข้อมูล!AT141)","v":""},{"$f":"IF(กรอกข้อมูล!AS141>กรอกข้อมูล!AO$2,\"\",กรอกข้อมูล!AU141)","v":""},{"$f":"IF(กรอกข้อมูล!AS141>กรอกข้อมูล!AO$2,\"\",N141*O141)","v":""},{"$f":"IF(กรอกข้อมูล!AS141>กรอกข้อมูล!AO$2,\"\",ABS(M141-I$6))","v":""},"",{"$f":"IF(กรอกข้อมูล!AS141>กรอกข้อมูล!AO$2,\"\",N141*Q141)","v":""}]
["","","","","","",{"$nulls":6},{"$f":"IF(กรอกข้อมูล!AS142>กรอกข้อมูล!AO$2,\"\",กรอกข้อมูล!AS142)","v":""},{"$f":"IF(กรอกข้อมูล!AS142>กรอกข้อมูล!AO$2,\"\",กรอกข้อมูล!AT142)","v":""},{"$f":"IF(กรอกข้อมูล!AS142>กรอกข้อมูล!AO$2,\"\",กรอกข้อมูล!AU142)","v":""},{"$f":"IF(กรอกข้อมูล!AS142>กรอกข้อมูล!AO$2,\"\",N142*O142)","v":""},{"$f":"IF(กรอกข้อมูล!AS142>กรอกข้อมูล!AO$2,\"\",ABS(M142-I$6))","v":""},"",{"$f":"IF(กรอกข้อมูล!AS142>กรอกข้อมูล!AO$2,\"\",N142*Q142)","v":""}]
["","","","","","",{"$nulls":6},{"$f":"IF(กรอกข้อมูล!AS143>กรอกข้อมูล!AO$2,\"\",กรอกข้อมูล!AS143)","v":""},{"$f":"IF(กรอกข้อมูล!AS143>กรอกข้อมูล!AO$2,\"\",กรอกข้อมูล!AT143)","v":""},{"$f":"IF(กรอกข้อมูล!AS143>กรอกข้อมูล!AO$2,\"\",กรอกข้อมูล!AU143)","v":""},{"$f":"IF(กรอกข้อมูล!AS143>กรอกข้อมูล!AO$2,\"\",N143*O143)","v":""},{"$f":"IF(กรอกข้อมูล!AS143>กรอกข้อมูล!AO$2,\"\",ABS(M143-I$6))","v":""},"",{"$f":"IF(กรอกข้อมูล!AS143>กรอกข้อมูล!AO$2,\"\",N143*Q143)","v":""}]
["","","","","","",{"$nulls":6},{"$f":"IF(กรอกข้อมูล!AS144>กรอกข้อมูล!AO$2,\"\",กรอกข้อมูล!AS144)","v":""},{"$f":"IF(กรอกข้อมูล!AS144>กรอกข้อมูล!AO$2,\"\",กรอกข้อมูล!AT144)","v":""},{"$f":"IF(กรอกข้อมูล!AS144>กรอกข้อมูล!AO$2,\"\",กรอกข้อมูล!AU144)","v":""},{"$f":"IF(กรอกข้อมูล!AS144>กรอกข้อมูล!AO$2,\"\",N144*O144)","v":""},{"$f":"IF(กรอกข้อมูล!AS144>กรอกข้อมูล!AO$2,\"\",ABS(M144-I$6))","v":""},"",{"$f":"IF(กรอกข้อมูล!AS144>กรอกข้อมูล!AO$2,\"\",N144*Q144)","v":""}]
["","","","","","",{"$nulls":6},{"$f":"IF(กรอกข้อมูล!AS145>กรอกข้อมูล!AO$2,\"\",กรอกข้อมูล!AS145)","v":""},{"$f":"IF(กรอกข้อมูล!AS145>กรอกข้อมูล!AO$2,\"\",กรอกข้อมูล!AT145)","v":""},{"$f":"IF(กรอกข้อมูล!AS145>กรอกข้อมูล!AO$2,\"\",กรอกข้อมูล!AU145)","v":""},{"$f":"IF(กรอกข้อมูล!AS145>กรอกข้อมูล!AO$2,\"\",N145*O145)","v":""},{"$f":"IF(กรอกข้อมูล!AS145>กรอกข้อมูล!AO$2,\"\",ABS(M145-I$6))","v":""},"",{"$f":"IF(กรอกข้อมูล!AS145>กรอกข้อมูล!AO$2,\"\",N145*Q145)","v":""}]
["","","","","","",{"$nulls":6},{"$f":"IF(กรอกข้อมูล!AS146>กรอกข้อมูล!AO$2,\"\",กรอกข้อมูล!AS146)","v":""},{"$f":"IF(กรอกข้อมูล!AS146>กรอกข้อมูล!AO$2,\"\",กรอกข้อมูล!AT146)","v":""},{"$f":"IF(กรอกข้อมูล!AS146>กรอกข้อมูล!AO$2,\"\",กรอกข้อมูล!AU146)","v":""},{"$f":"IF(กรอกข้อมูล!AS146>กรอกข้อมูล!AO$2,\"\",N146*O146)","v":""},{"$f":"IF(กรอกข้อมูล!AS146>กรอกข้อมูล!AO$2,\"\",ABS(M146-I$6))","v":""},"",{"$f":"IF(กรอกข้อมูล!AS146>กรอกข้อมูล!AO$2,\"\",N146*Q146)","v":""}]
["","","","","","",{"$nulls":6},{"$f":"IF(กรอกข้อมูล!AS147>กรอกข้อมูล!AO$2,\"\",กรอกข้อมูล!AS147)","v":""},{"$f":"IF(กรอกข้อมูล!AS147>กรอกข้อมูล!AO$2,\"\",กรอกข้อมูล!AT147)","v":""},{"$f":"IF(กรอกข้อมูล!AS147>กรอกข้อมูล!AO$2,\"\",กรอกข้อมูล!AU147)","v":""},{"$f":"IF(กรอกข้อมูล!AS147>กรอกข้อมูล!AO$2,\"\",N147*O147)","v":""},{"$f":"IF(กรอกข้อมูล!AS147>กรอกข้อมูล!AO$2,\"\",ABS(M147-I$6))","v":""},"",{"$f":"IF(กรอกข้อมูล!AS147>กรอกข้อมูล!AO$2,\"\",N147*Q147)","v":""}]
["","","","","","",{"$nulls":6},{"$f":"IF(กรอกข้อมูล!AS148>กรอกข้อมูล!AO$2,\"\",กรอกข้อมูล!AS148)","v":""},{"$f":"IF(กรอกข้อมูล!AS148>กรอกข้อมูล!AO$2,\"\",กรอกข้อมูล!AT148)","v":""},{"$f":"IF(กรอกข้อมูล!AS148>กรอกข้อมูล!AO$2,\"\",กรอกข้อมูล!AU148)","v":""},{"$f":"IF(กรอกข้อมูล!AS148>กรอกข้อมูล!AO$2,\"\",N148*O148)","v":""},{"$f":"IF(กรอกข้อมูล!AS148>กรอกข้อมูล!AO$2,\"\",ABS(M148-I$6))","v":""},"",{"$f":"IF(กรอกข้อมูล!AS148>กรอกข้อมูล!AO$2,\"\",N148*Q148)","v":""}]
["","","","","","",{"$nulls":6},{"$f":"IF(กรอกข้อมูล!AS149>กรอกข้อมูล!AO$2,\"\",กรอกข้อมูล!AS149)","v":""},{"$f":"IF(กรอกข้อมูล!AS149>กรอกข้อมูล!AO$2,\"\",กรอกข้อมูล!AT149)","v":""},{"$f":"IF(กรอกข้อมูล!AS149>กรอกข้อมูล!AO$2,\"\",กรอกข้อมูล!AU149)","v":""},{"$f":"IF(กรอกข้อมูล!AS149>กรอกข้อมูล!AO$2,\"\",N149*O149)","v":""},{"$f":"IF(กรอกข้อมูล!AS149>กรอกข้อมูล!AO$2,\"\",ABS(M149-I$6))","v":""},"",{"$f":"IF(กรอกข้อมูล!AS149>กรอกข้อมูล!AO$2,\"\",N149*Q149)","v":""}]
["","","","","","",{"$nulls":6},{"$f":"IF(กรอกข้อมูล!AS150>กรอกข้อมูล!AO$2,\"\",กรอกข้อมูล!AS150)","v":""},{"$f":"IF(กรอกข้อมูล!AS150>กรอกข้อมูล!AO$2,\"\",กรอกข้อมูล!AT150)","v":""},{"$f":"IF(กรอกข้อมูล!AS150>กรอกข้อมูล!AO$2,\"\",กรอกข้อมูล!AU150)","v":""},{"$f":"IF(กรอกข้อมูล!AS150>กรอกข้อมูล!AO$2,\"\",N150*O150)","v":""},{"$f":"IF(กรอกข้อมูล!AS150>กรอกข้อมูล!AO$2,\"\",ABS(M150-I$6))","v":""},"",{"$f":"IF(กรอกข้อมูล!AS150>กรอกข้อมูล!AO$2,\"\",N150*Q150)","v":""}]
["","","","","","",{"$nulls":6},{"$f":"IF(กรอกข้อมูล!AS151>กรอกข้อมูล!AO$2,\"\",กรอกข้อมูล!AS151)","v":""},{"$f":"IF(กรอกข้อมูล!AS151>กรอกข้อมูล!AO$2,\"\",กรอกข้อมูล!AT151)","v":""},{"$f":"IF(กรอกข้อมูล!AS151>กรอกข้อมูล!AO$2,\"\",กรอกข้อมูล!AU151)","v":""},{"$f":"IF(กรอกข้อมูล!AS151>กรอกข้อมูล!AO$2,\"\",N151*O151)","v":""},{"$f":"IF(กรอกข้อมูล!AS151>กรอกข้อมูล!AO$2,\"\",ABS(M151-I$6))","v":""},"",{"$f":"IF(กรอกข้อมูล!AS151>กรอกข้อมูล!AO$2,\"\",N151*Q151)","v":""}]
["","","","","","",{"$nulls":6},{"$f":"IF(กรอกข้อมูล!AS152>กรอกข้อมูล!AO$2,\"\",กรอกข้อมูล!AS152)","v":""},{"$f":"IF(กรอกข้อมูล!AS152>กรอกข้อมูล!AO$2,\"\",กรอกข้อมูล!AT152)","v":""},{"$f":"IF(กรอกข้อมูล!AS152>กรอกข้อมูล!AO$2,\"\",กรอกข้อมูล!AU152)","v":""},{"$f":"IF(กรอกข้อมูล!AS152>กรอกข้อมูล!AO$2,\"\",N152*O152)","v":""},{"$f":"IF(กรอกข้อมูล!AS152>กรอกข้อมูล!AO$2,\"\",ABS(M152-I$6))","v":""},"",{"$f":"IF(กรอกข้อมูล!AS152>กรอกข้อมูล!AO$2,\"\",N152*Q152)","v":""}]
["","","","","","",{"$nulls":6},{"$f":"IF(กรอกข้อมูล!AS153>กรอกข้อมูล!AO$2,\"\",กรอกข้อมูล!AS153)","v":""},{"$f":"IF(กรอกข้อมูล!AS153>กรอกข้อมูล!AO$2,\"\",กรอกข้อมูล!AT153)","v":""},{"$f":"IF(กรอกข้อมูล!AS153>กรอกข้อมูล!AO$2,\"\",กรอกข้อมูล!AU153)","v":""},{"$f":"IF(กรอกข้อมูล!AS153>กรอกข้อมูล!AO$2,\"\",N153*O153)","v":""},{"$f":"IF(กรอกข้อมูล!AS153>กรอกข้อมูล!AO$2,\"\",ABS(M153-I$6))","v":""},"",{"$f":"IF(กรอกข้อมูล!AS153>กรอกข้อมูล!AO$2,\"\",N153*Q153)","v":""}]
["","","","","","",{"$nulls":6},{"$f":"IF(กรอกข้อมูล!AS154>กรอกข้อมูล!AO$2,\"\",กรอกข้อมูล!AS154)","v":""},{"$f":"IF(กรอกข้อมูล!AS154>กรอกข้อมูล!AO$2,\"\",กรอกข้อมูล!AT154)","v":""},{"$f":"IF(กรอกข้อมูล!AS154>กรอกข้อมูล!AO$2,\"\",กรอกข้อมูล!AU154)","v":""},{"$f":"IF(กรอกข้อมูล!AS154>กรอกข้อมูล!AO$2,\"\",N154*O154)","v":""},{"$f":"IF(กรอกข้อมูล!AS154>กรอกข้อมูล!AO$2,\"\",ABS(M154-I$6))","v":""},"",{"$f":"IF(กรอกข้อมูล!AS154>กรอกข้อมูล!AO$2,\"\",N154*Q154)","v":""}]
["","","","","","",{"$nulls":6},{"$f":"IF(กรอกข้อมูล!AS155>กรอกข้อมูล!AO$2,\"\",กรอกข้อมูล!AS155)","v":""},{"$f":"IF(กรอกข้อมูล!AS155>กรอกข้อมูล!AO$2,\"\",กรอกข้อมูล!AT155)","v":""},{"$f":"IF(กรอกข้อมูล!AS155>กรอกข้อมูล!AO$2,\"\",กรอกข้อมูล!AU155)","v":""},{"$f":"IF(กรอกข้อมูล!AS155>กรอกข้อมูล!AO$2,\"\",N155*O155)","v":""},{"$f":"IF(กรอกข้อมูล!AS155>กรอกข้อมูล!AO$2,\"\",ABS(M155-I$6))","v":""},"",{"$f":"IF(กรอกข้อมูล!AS155>กรอกข้อมูล!AO$2,\"\",N155*Q155)","v":""}]
["","","","","","",{"$nulls":6},{"$f":"IF(กรอกข้อมูล!AS156>กรอกข้อมูล!AO$2,\"\",กรอกข้อมูล!AS156)","v":""},{"$f":"IF(กรอกข้อมูล!AS156>กรอกข้อมูล!AO$2,\"\",กรอกข้อมูล!AT156)","v":""},{"$f":"IF(กรอกข้อมูล!AS156>กรอกข้อมูล!AO$2,\"\",กรอกข้อมูล!AU156)","v":""},{"$f":"IF(กรอกข้อมูล!AS156>กรอกข้อมูล!AO$2,\"\",N156*O156)","v":""},{"$f":"IF(กรอกข้อมูล!AS156>กรอกข้อมูล!AO$2,\"\",ABS(M156-I$6))","v":""},"",{"$f":"IF(กรอกข้อมูล!AS156>กรอกข้อมูล!AO$2,\"\",N156*Q156)","v":""}]
["","","","","","",{"$nulls":6},{"$f":"IF(กรอกข้อมูล!AS157>กรอกข้อมูล!AO$2,\"\",กรอกข้อมูล!AS157)","v":""},{"$f":"IF(กรอกข้อมูล!AS157>กรอกข้อมูล!AO$2,\"\",กรอกข้อมูล!AT157)","v":""},{"$f":"IF(กรอกข้อมูล!AS157>กรอกข้อมูล!AO$2,\"\",กรอกข้อมูล!AU157)","v":""},{"$f":"IF(กรอกข้อมูล!AS157>กรอกข้อมูล!AO$2,\"\",N157*O157)","v":""},{"$f":"IF(กรอกข้อมูล!AS157>กรอกข้อมูล!AO$2,\"\",ABS(M157-I$6))","v":""},"",{"$f":"IF(กรอกข้อมูล!AS157>กรอกข้อมูล!AO$2,\"\",N157*Q157)","v":""}]
["","","","","","",{"$nulls":6},{"$f":"IF(กรอกข้อมูล!AS158>กรอกข้อมูล!AO$2,\"\",กรอกข้อมูล!AS158)","v":""},{"$f":"IF(กรอกข้อมูล!AS158>กรอกข้อมูล!AO$2,\"\",กรอกข้อมูล!AT158)","v":""},{"$f":"IF(กรอกข้อมูล!AS158>กรอกข้อมูล!AO$2,\"\",กรอกข้อมูล!AU158)","v":""},{"$f":"IF(กรอกข้อมูล!AS158>กรอกข้อมูล!AO$2,\"\",N158*O158)","v":""},{"$f":"IF(กรอกข้อมูล!AS158>กรอกข้อมูล!AO$2,\"\",ABS(M158-I$6))","v":""},"",{"$f":"IF(กรอกข้อมูล!AS158>กรอกข้อมูล!AO$2,\"\",N158*Q158)","v":""}]
["","","","","","",{"$nulls":6},{"$f":"IF(กรอกข้อมูล!AS159>กรอกข้อมูล!AO$2,\"\",กรอกข้อมูล!AS159)","v":""},{"$f":"IF(กรอกข้อมูล!AS159>กรอกข้อมูล!AO$2,\"\",กรอกข้อมูล!AT159)","v":""},{"$f":"IF(กรอกข้อมูล!AS159>กรอกข้อมูล!AO$2,\"\",กรอกข้อมูล!AU159)","v":""},{"$f":"IF(กรอกข้อมูล!AS159>กรอกข้อมูล!AO$2,\"\",N159*O159)","v":""},{"$f":"IF(กรอกข้อมูล!AS159>กรอกข้อมูล!AO$2,\"\",ABS(M159-I$6))","v":""},"",{"$f":"IF(กรอกข้อมูล!AS159>กรอกข้อมูล!AO$2,\"\",N159*Q159)","v":""}]
["","","","","","",{"$nulls":6},{"$f":"IF(กรอกข้อมูล!AS160>กรอกข้อมูล!AO$2,\"\",กรอกข้อมูล!AS160)","v":""},{"$f":"IF(กรอกข้อมูล!AS160>กรอกข้อมูล!AO$2,\"\",กรอกข้อมูล!AT160)","v":""},{"$f":"IF(กรอกข้อมูล!AS160>กรอกข้อมูล!AO$2,\"\",กรอกข้อมูล!AU160)","v":""},{"$f":"IF(กรอกข้อมูล!AS160>กรอกข้อมูล!AO$2,\"\",N160*O160)","v":""},{"$f":"IF(กรอกข้อมูล!AS160>กรอกข้อมูล!AO$2,\"\",ABS(M160-I$6))","v":""},"",{"$f":"IF(กรอกข้อมูล!AS160>กรอกข้อมูล!AO$2,\"\",N160*Q160)","v":""}]
["","","","","","",{"$nulls":6},{"$f":"IF(กรอกข้อมูล!AS161>กรอกข้อมูล!AO$2,\"\",กรอกข้อมูล!AS161)","v":""},{"$f":"IF(กรอกข้อมูล!AS161>กรอกข้อมูล!AO$2,\"\",กรอกข้อมูล!AT161)","v":""},{"$f":"IF(กรอกข้อมูล!AS161>กรอกข้อมูล!AO$2,\"\",กรอกข้อมูล!AU161)","v":""},{"$f":"IF(กรอกข้อมูล!AS161>กรอกข้อมูล!AO$2,\"\",N161*O161)","v":""},{"$f":"IF(กรอกข้อมูล!AS161>กรอกข้อมูล!AO$2,\"\",ABS(M161-I$6))","v":""},"",{"$f":"IF(กรอกข้อมูล!AS161>กรอกข้อมูล!AO$2,\"\",N161*Q161)","v":""}]
["","","","","","",{"$nulls":6},{"$f":"IF(กรอกข้อมูล!AS162>กรอกข้อมูล!AO$2,\"\",กรอกข้อมูล!AS162)","v":""},{"$f":"IF(กรอกข้อมูล!AS162>กรอกข้อมูล!AO$2,\"\",กรอกข้อมูล!AT162)","v":""},{"$f":"IF(กรอกข้อมูล!AS162>กรอกข้อมูล!AO$2,\"\",กรอกข้อมูล!AU162)","v":""},{"$f":"IF(กรอกข้อมูล!AS162>กรอกข้อมูล!AO$2,\"\",N162*O162)","v":""},{"$f":"IF(กรอกข้อมูล!AS162>กรอกข้อมูล!AO$2,\"\",ABS(M162-I$6))","v":""},"",{"$f":"IF(กรอกข้อมูล!AS162>กรอกข้อมูล!AO$2,\"\",N162*Q162)","v":""}]
["","","","","","",{"$nulls":6},{"$f":"IF(กรอกข้อมูล!AS163>กรอกข้อมูล!AO$2,\"\",กรอกข้อมูล!AS163)","v":""},{"$f":"IF(กรอกข้อมูล!AS163>กรอกข้อมูล!AO$2,\"\",กรอกข้อมูล!AT163)","v":""},{"$f":"IF(กรอกข้อมูล!AS163>กรอกข้อมูล!AO$2,\"\",กรอกข้อมูล!AU163)","v":""},{"$f":"IF(กรอกข้อมูล!AS163>กรอกข้อมูล!AO$2,\"\",N163*O163)","v":""},{"$f":"IF(กรอกข้อมูล!AS163>กรอกข้อมูล!AO$2,\"\",ABS(M163-I$6))","v":""},"",{"$f":"IF(กรอกข้อมูล!AS163>กรอกข้อมูล!AO$2,\"\",N163*Q163)","v":""}]
["","","","","","",{"$nulls":6},{"$f":"IF(กรอกข้อมูล!AS164>กรอกข้อมูล!AO$2,\"\",กรอกข้อมูล!AS164)","v":""},{"$f":"IF(กรอกข้อมูล!AS164>กรอกข้อมูล!AO$2,\"\",กรอกข้อมูล!AT164)","v":""},{"$f":"IF(กรอกข้อมูล!AS164>กรอกข้อมูล!AO$2,\"\",กรอกข้อมูล!AU164)","v":""},{"$f":"IF(กรอกข้อมูล!AS164>กรอกข้อมูล!AO$2,\"\",N164*O164)","v":""},{"$f":"IF(กรอกข้อมูล!AS164>กรอกข้อมูล!AO$2,\"\",ABS(M164-I$6))","v":""},"",{"$f":"IF(กรอกข้อมูล!AS164>กรอกข้อมูล!AO$2,\"\",N164*Q164)","v":""}]
["","","","","","",{"$nulls":6},{"$f":"IF(กรอกข้อมูล!AS165>กรอกข้อมูล!AO$2,\"\",กรอกข้อมูล!AS165)","v":""},{"$f":"IF(กรอกข้อมูล!AS165>กรอกข้อมูล!AO$2,\"\",กรอกข้อมูล!AT165)","v":""},{"$f":"IF(กรอกข้อมูล!AS165>กรอกข้อมูล!AO$2,\"\",กรอกข้อมูล!AU165)","v":""},{"$f":"IF(กรอกข้อมูล!AS165>กรอกข้อมูล!AO$2,\"\",N165*O165)","v":""},{"$f":"IF(กรอกข้อมูล!AS165>กรอกข้อมูล!AO$2,\"\",ABS(M165-I$6))","v":""},"",{"$f":"IF(กรอกข้อมูล!AS165>กรอกข้อมูล!AO$2,\"\",N165*Q165)","v":""}]
["","","","","","",{"$nulls":6},{"$f":"IF(กรอกข้อมูล!AS166>กรอกข้อมูล!AO$2,\"\",กรอกข้อมูล!AS166)","v":""},{"$f":"IF(กรอกข้อมูล!AS166>กรอกข้อมูล!AO$2,\"\",กรอกข้อมูล!AT166)","v":""},{"$f":"IF(กรอกข้อมูล!AS166>กรอกข้อมูล!AO$2,\"\",กรอกข้อมูล!AU166)","v":""},{"$f":"IF(กรอกข้อมูล!AS166>กรอกข้อมูล!AO$2,\"\",N166*O166)","v":""},{"$f":"IF(กรอกข้อมูล!AS166>กรอกข้อมูล!AO$2,\"\",ABS(M166-I$6))","v":""},"",{"$f":"IF(กรอกข้อมูล!AS166>กรอกข้อมูล!AO$2,\"\",N166*Q166)","v":""}]
["","","","","","",{"$nulls":6},{"$f":"IF(กรอกข้อมูล!AS167>กรอกข้อมูล!AO$2,\"\",กรอกข้อมูล!AS167)","v":""},{"$f":"IF(กรอกข้อมูล!AS167>กรอกข้อมูล!AO$2,\"\",กรอกข้อมูล!AT167)","v":""},{"$f":"IF(กรอกข้อมูล!AS167>กรอกข้อมูล!AO$2,\"\",กรอกข้อมูล!AU167)","v":""},{"$f":"IF(กรอกข้อมูล!AS167>กรอกข้อมูล!AO$2,\"\",N167*O167)","v":""},{"$f":"IF(กรอกข้อมูล!AS167>กรอกข้อมูล!AO$2,\"\",ABS(M167-I$6))","v":""},"",{"$f":"IF(กรอกข้อมูล!AS167>กรอกข้อมูล!AO$2,\"\",N167*Q167)","v":""}]
["","","","","","",{"$nulls":6},{"$f":"IF(กรอกข้อมูล!AS168>กรอกข้อมูล!AO$2,\"\",กรอกข้อมูล!AS168)","v":""},{"$f":"IF(กรอกข้อมูล!AS168>กรอกข้อมูล!AO$2,\"\",กรอกข้อมูล!AT168)","v":""},{"$f":"IF(กรอกข้อมูล!AS168>กรอกข้อมูล!AO$2,\"\",กรอกข้อมูล!AU168)","v":""},{"$f":"IF(กรอกข้อมูล!AS168>กรอกข้อมูล!AO$2,\"\",N168*O168)","v":""},{"$f":"IF(กรอกข้อมูล!AS168>กรอกข้อมูล!AO$2,\"\",ABS(M168-I$6))","v":""},"",{"$f":"IF(กรอกข้อมูล!AS168>กรอกข้อมูล!AO$2,\"\",N168*Q168)","v":""}]
["","","","","","",{"$nulls":6},{"$f":"IF(กรอกข้อมูล!AS169>กรอกข้อมูล!AO$2,\"\",กรอกข้อมูล!AS169)","v":""},{"$f":"IF(กรอกข้อมูล!AS169>กรอกข้อมูล!AO$2,\"\",กรอกข้อมูล!AT169)","v":""},{"$f":"IF(กรอกข้อมูล!AS169>กรอกข้อมูล!AO$2,\"\",กรอกข้อมูล!AU169)","v":""},{"$f":"IF(กรอกข้อมูล!AS169>กรอกข้อมูล!AO$2,\"\",N169*O169)","v":""},{"$f":"IF(กรอกข้อมูล!AS169>กรอกข้อมูล!AO$2,\"\",ABS(M169-I$6))","v":""},"",{"$f":"IF(กรอกข้อมูล!AS169>กรอกข้อมูล!AO$2,\"\",N169*Q169)","v":""}]
["","","","","","",{"$nulls":6},{"$f":"IF(กรอกข้อมูล!AS170>กรอกข้อมูล!AO$2,\"\",กรอกข้อมูล!AS170)","v":""},{"$f":"IF(กรอกข้อมูล!AS170>กรอกข้อมูล!AO$2,\"\",กรอกข้อมูล!AT170)","v":""},{"$f":"IF(กรอกข้อมูล!AS170>กรอกข้อมูล!AO$2,\"\",กรอกข้อมูล!AU170)","v":""},{"$f":"IF(กรอกข้อมูล!AS170>กรอกข้อมูล!AO$2,\"\",N170*O170)","v":""},{"$f":"IF(กรอกข้อมูล!AS170>กรอกข้อมูล!AO$2,\"\",ABS(M170-I$6))","v":""},"",{"$f":"IF(กรอกข้อมูล!AS170>กรอกข้อมูล!AO$2,\"\",N170*Q170)","v":""}]
["","","","","","",{"$nulls":6},{"$f":"IF(กรอกข้อมูล!AS171>กรอกข้อมูล!AO$2,\"\",กรอกข้อมูล!AS171)","v":""},{"$f":"IF(กรอกข้อมูล!AS171>กรอกข้อมูล!AO$2,\"\",กรอกข้อมูล!AT171)","v":""},{"$f":"IF(กรอกข้อมูล!AS171>กรอกข้อมูล!AO$2,\"\",กรอกข้อมูล!AU171)","v":""},{"$f":"IF(กรอกข้อมูล!AS171>กรอกข้อมูล!AO$2,\"\",N171*O171)","v":""},{"$f":"IF(กรอกข้อมูล!AS171>กรอกข้อมูล!AO$2,\"\",ABS(M171-I$6))","v":""},"",{"$f":"IF(กรอกข้อมูล!AS171>กรอกข้อมูล!AO$2,\"\",N171*Q171)","v":""}]
["","","","","","",{"$nulls":6},{"$f":"IF(กรอกข้อมูล!AS172>กรอกข้อมูล!AO$2,\"\",กรอกข้อมูล!AS172)","v":""},{"$f":"IF(กรอกข้อมูล!AS172>กรอกข้อมูล!AO$2,\"\",กรอกข้อมูล!AT172)","v":""},{"$f":"IF(กรอกข้อมูล!AS172>กรอกข้อมูล!AO$2,\"\",กรอกข้อมูล!AU172)","v":""},{"$f":"IF(กรอกข้อมูล!AS172>กรอกข้อมูล!AO$2,\"\",N172*O172)","v":""},{"$f":"IF(กรอกข้อมูล!AS172>กรอกข้อมูล!AO$2,\"\",ABS(M172-I$6))","v":""},"",{"$f":"IF(กรอกข้อมูล!AS172>กรอกข้อมูล!AO$2,\"\",N172*Q172)","v":""}]
["","","","","","",{"$nulls":6},{"$f":"IF(กรอกข้อมูล!AS173>กรอกข้อมูล!AO$2,\"\",กรอกข้อมูล!AS173)","v":""},{"$f":"IF(กรอกข้อมูล!AS173>กรอกข้อมูล!AO$2,\"\",กรอกข้อมูล!AT173)","v":""},{"$f":"IF(กรอกข้อมูล!AS173>กรอกข้อมูล!AO$2,\"\",กรอกข้อมูล!AU173)","v":""},{"$f":"IF(กรอกข้อมูล!AS173>กรอกข้อมูล!AO$2,\"\",N173*O173)","v":""},{"$f":"IF(กรอกข้อมูล!AS173>กรอกข้อมูล!AO$2,\"\",ABS(M173-I$6))","v":""},"",{"$f":"IF(กรอกข้อมูล!AS173>กรอกข้อมูล!AO$2,\"\",N173*Q173)","v":""}]
["","","","","","",{"$nulls":6},{"$f":"IF(กรอกข้อมูล!AS174>กรอกข้อมูล!AO$2,\"\",กรอกข้อมูล!AS174)","v":""},{"$f":"IF(กรอกข้อมูล!AS174>กรอกข้อมูล!AO$2,\"\",กรอกข้อมูล!AT174)","v":""},{"$f":"IF(กรอกข้อมูล!AS174>กรอกข้อมูล!AO$2,\"\",กรอกข้อมูล!AU174)","v":""},{"$f":"IF(กรอกข้อมูล!AS174>กรอกข้อมูล!AO$2,\"\",N174*O174)","v":""},{"$f":"IF(กรอกข้อมูล!AS174>กรอกข้อมูล!AO$2,\"\",ABS(M174-I$6))","v":""},"",{"$f":"IF(กรอกข้อมูล!AS174>กรอกข้อมูล!AO$2,\"\",N174*Q174)","v":""}]
["","","","","","",{"$nulls":6},{"$f":"IF(กรอกข้อมูล!AS175>กรอกข้อมูล!AO$2,\"\",กรอกข้อมูล!AS175)","v":""},{"$f":"IF(กรอกข้อมูล!AS175>กรอกข้อมูล!AO$2,\"\",กรอกข้อมูล!AT175)","v":""},{"$f":"IF(กรอกข้อมูล!AS175>กรอกข้อมูล!AO$2,\"\",กรอกข้อมูล!AU175)","v":""},{"$f":"IF(กรอกข้อมูล!AS175>กรอกข้อมูล!AO$2,\"\",N175*O175)","v":""},{"$f":"IF(กรอกข้อมูล!AS175>กรอกข้อมูล!AO$2,\"\",ABS(M175-I$6))","v":""},"",{"$f":"IF(กรอกข้อมูล!AS175>กรอกข้อมูล!AO$2,\"\",N175*Q175)","v":""}]
["","","","","","",{"$nulls":6},{"$f":"IF(กรอกข้อมูล!AS176>กรอกข้อมูล!AO$2,\"\",กรอกข้อมูล!AS176)","v":""},{"$f":"IF(กรอกข้อมูล!AS176>กรอกข้อมูล!AO$2,\"\",กรอกข้อมูล!AT176)","v":""},{"$f":"IF(กรอกข้อมูล!AS176>กรอกข้อมูล!AO$2,\"\",กรอกข้อมูล!AU176)","v":""},{"$f":"IF(กรอกข้อมูล!AS176>กรอกข้อมูล!AO$2,\"\",N176*O176)","v":""},{"$f":"IF(กรอกข้อมูล!AS176>กรอกข้อมูล!AO$2,\"\",ABS(M176-I$6))","v":""},"",{"$f":"IF(กรอกข้อมูล!AS176>กรอกข้อมูล!AO$2,\"\",N176*Q176)","v":""}]
["","","","","","",{"$nulls":6},{"$f":"IF(กรอกข้อมูล!AS177>กรอกข้อมูล!AO$2,\"\",กรอกข้อมูล!AS177)","v":""},{"$f":"IF(กรอกข้อมูล!AS177>กรอกข้อมูล!AO$2,\"\",กรอกข้อมูล!AT177)","v":""},{"$f":"IF(กรอกข้อมูล!AS177>กรอกข้อมูล!AO$2,\"\",กรอกข้อมูล!AU177)","v":""},{"$f":"IF(กรอกข้อมูล!AS177>กรอกข้อมูล!AO$2,\"\",N177*O177)","v":""},{"$f":"IF(กรอกข้อมูล!AS177>กรอกข้อมูล!AO$2,\"\",ABS(M177-I$6))","v":""},"",{"$f":"IF(กรอกข้อมูล!AS177>กรอกข้อมูล!AO$2,\"\",N177*Q177)","v":""}]
["","","","","","",{"$nulls":6},{"$f":"IF(กรอกข้อมูล!AS178>กรอกข้อมูล!AO$2,\"\",กรอกข้อมูล!AS178)","v":""},{"$f":"IF(กรอกข้อมูล!AS178>กรอกข้อมูล!AO$2,\"\",กรอกข้อมูล!AT178)","v":""},{"$f":"IF(กรอกข้อมูล!AS178>กรอกข้อมูล!AO$2,\"\",กรอกข้อมูล!AU178)","v":""},{"$f":"IF(กรอกข้อมูล!AS178>กรอกข้อมูล!AO$2,\"\",N178*O178)","v":""},{"$f":"IF(กรอกข้อมูล!AS178>กรอกข้อมูล!AO$2,\"\",ABS(M178-I$6))","v":""},"",{"$f":"IF(กรอกข้อมูล!AS178>กรอกข้อมูล!AO$2,\"\",N178*Q178)","v":""}]
["","","","","","",{"$nulls":6},{"$f":"IF(กรอกข้อมูล!AS179>กรอกข้อมูล!AO$2,\"\",กรอกข้อมูล!AS179)","v":""},{"$f":"IF(กรอกข้อมูล!AS179>กรอกข้อมูล!AO$2,\"\",กรอกข้อมูล!AT179)","v":""},{"$f":"IF(กรอกข้อมูล!AS179>กรอกข้อมูล!AO$2,\"\",กรอกข้อมูล!AU179)","v":""},{"$f":"IF(กรอกข้อมูล!AS179>กรอกข้อมูล!AO$2,\"\",N179*O179)","v":""},{"$f":"IF(กรอกข้อมูล!AS179>กรอกข้อมูล!AO$2,\"\",ABS(M179-I$6))","v":""},"",{"$f":"IF(กรอกข้อมูล!AS179>กรอกข้อมูล!AO$2,\"\",N179*Q179)","v":""}]
["","","","","","",{"$nulls":6},{"$f":"IF(กรอกข้อมูล!AS180>กรอกข้อมูล!AO$2,\"\",กรอกข้อมูล!AS180)","v":""},{"$f":"IF(กรอกข้อมูล!AS180>กรอกข้อมูล!AO$2,\"\",กรอกข้อมูล!AT180)","v":""},{"$f":"IF(กรอกข้อมูล!AS180>กรอกข้อมูล!AO$2,\"\",กรอกข้อมูล!AU180)","v":""},{"$f":"IF(กรอกข้อมูล!AS180>กรอกข้อมูล!AO$2,\"\",N180*O180)","v":""},{"$f":"IF(กรอกข้อมูล!AS180>กรอกข้อมูล!AO$2,\"\",ABS(M180-I$6))","v":""},"",{"$f":"IF(กรอกข้อมูล!AS180>กรอกข้อมูล!AO$2,\"\",N180*Q180)","v":""}]
["","","","","","",{"$nulls":6},{"$f":"IF(กรอกข้อมูล!AS181>กรอกข้อมูล!AO$2,\"\",กรอกข้อมูล!AS181)","v":""},{"$f":"IF(กรอกข้อมูล!AS181>กรอกข้อมูล!AO$2,\"\",กรอกข้อมูล!AT181)","v":""},{"$f":"IF(กรอกข้อมูล!AS181>กรอกข้อมูล!AO$2,\"\",กรอกข้อมูล!AU181)","v":""},{"$f":"IF(กรอกข้อมูล!AS181>กรอกข้อมูล!AO$2,\"\",N181*O181)","v":""},{"$f":"IF(กรอกข้อมูล!AS181>กรอกข้อมูล!AO$2,\"\",ABS(M181-I$6))","v":""},"",{"$f":"IF(กรอกข้อมูล!AS181>กรอกข้อมูล!AO$2,\"\",N181*Q181)","v":""}]
["","","","","","",{"$nulls":6},{"$f":"IF(กรอกข้อมูล!AS182>กรอกข้อมูล!AO$2,\"\",กรอกข้อมูล!AS182)","v":""},{"$f":"IF(กรอกข้อมูล!AS182>กรอกข้อมูล!AO$2,\"\",กรอกข้อมูล!AT182)","v":""},{"$f":"IF(กรอกข้อมูล!AS182>กรอกข้อมูล!AO$2,\"\",กรอกข้อมูล!AU182)","v":""},{"$f":"IF(กรอกข้อมูล!AS182>กรอกข้อมูล!AO$2,\"\",N182*O182)","v":""},{"$f":"IF(กรอกข้อมูล!AS182>กรอกข้อมูล!AO$2,\"\",ABS(M182-I$6))","v":""},"",{"$f":"IF(กรอกข้อมูล!AS182>กรอกข้อมูล!AO$2,\"\",N182*Q182)","v":""}]
["","","","","","",{"$nulls":6},{"$f":"IF(กรอกข้อมูล!AS183>กรอกข้อมูล!AO$2,\"\",กรอกข้อมูล!AS183)","v":""},{"$f":"IF(กรอกข้อมูล!AS183>กรอกข้อมูล!AO$2,\"\",กรอกข้อมูล!AT183)","v":""},{"$f":"IF(กรอกข้อมูล!AS183>กรอกข้อมูล!AO$2,\"\",กรอกข้อมูล!AU183)","v":""},{"$f":"IF(กรอกข้อมูล!AS183>กรอกข้อมูล!AO$2,\"\",N183*O183)","v":""},{"$f":"IF(กรอกข้อมูล!AS183>กรอกข้อมูล!AO$2,\"\",ABS(M183-I$6))","v":""},"",{"$f":"IF(กรอกข้อมูล!AS183>กรอกข้อมูล!AO$2,\"\",N183*Q183)","v":""}]
["","","","","","",{"$nulls":6},{"$f":"IF(กรอกข้อมูล!AS184>กรอกข้อมูล!AO$2,\"\",กรอกข้อมูล!AS184)","v":""},{"$f":"IF(กรอกข้อมูล!AS184>กรอกข้อมูล!AO$2,\"\",กรอกข้อมูล!AT184)","v":""},{"$f":"IF(กรอกข้อมูล!AS184>กรอกข้อมูล!AO$2,\"\",กรอกข้อมูล!AU184)","v":""},{"$f":"IF(กรอกข้อมูล!AS184>กรอกข้อมูล!AO$2,\"\",N184*O184)","v":""},{"$f":"IF(กรอกข้อมูล!AS184>กรอกข้อมูล!AO$2,\"\",ABS(M184-I$6))","v":""},"",{"$f":"IF(กรอกข้อมูล!AS184>กรอกข้อมูล!AO$2,\"\",N184*Q184)","v":""}]
["","","","","","",{"$nulls":6},{"$f":"IF(กรอกข้อมูล!AS185>กรอกข้อมูล!AO$2,\"\",กรอกข้อมูล!AS185)","v":""},{"$f":"IF(กรอกข้อมูล!AS185>กรอกข้อมูล!AO$2,\"\",กรอกข้อมูล!AT185)","v":""},{"$f":"IF(กรอกข้อมูล!AS185>กรอกข้อมูล!AO$2,\"\",กรอกข้อมูล!AU185)","v":""},{"$f":"IF(กรอกข้อมูล!AS185>กรอกข้อมูล!AO$2,\"\",N185*O185)","v":""},{"$f":"IF(กรอกข้อมูล!AS185>กรอกข้อมูล!AO$2,\"\",ABS(M185-I$6))","v":""},"",{"$f":"IF(กรอกข้อมูล!AS185>กรอกข้อมูล!AO$2,\"\",N185*Q185)","v":""}]
["","","","","","",{"$nulls":6},{"$f":"IF(กรอกข้อมูล!AS186>กรอกข้อมูล!AO$2,\"\",กรอกข้อมูล!AS186)","v":""},{"$f":"IF(กรอกข้อมูล!AS186>กรอกข้อมูล!AO$2,\"\",กรอกข้อมูล!AT186)","v":""},{"$f":"IF(กรอกข้อมูล!AS186>กรอกข้อมูล!AO$2,\"\",กรอกข้อมูล!AU186)","v":""},{"$f":"IF(กรอกข้อมูล!AS186>กรอกข้อมูล!AO$2,\"\",N186*O186)","v":""},{"$f":"IF(กรอกข้อมูล!AS186>กรอกข้อมูล!AO$2,\"\",ABS(M186-I$6))","v":""},"",{"$f":"IF(กรอกข้อมูล!AS186>กรอกข้อมูล!AO$2,\"\",N186*Q186)","v":""}]
["","","","","","",{"$nulls":6},{"$f":"IF(กรอกข้อมูล!AS187>กรอกข้อมูล!AO$2,\"\",กรอกข้อมูล!AS187)","v":""},{"$f":"IF(กรอกข้อมูล!AS187>กรอกข้อมูล!AO$2,\"\",กรอกข้อมูล!AT187)","v":""},{"$f":"IF(กรอกข้อมูล!AS187>กรอกข้อมูล!AO$2,\"\",กรอกข้อมูล!AU187)","v":""},{"$f":"IF(กรอกข้อมูล!AS187>กรอกข้อมูล!AO$2,\"\",N187*O187)","v":""},{"$f":"IF(กรอกข้อมูล!AS187>กรอกข้อมูล!AO$2,\"\",ABS(M187-I$6))","v":""},"",{"$f":"IF(กรอกข้อมูล!AS187>กรอกข้อมูล!AO$2,\"\",N187*Q187)","v":""}]
["","","","","","",{"$nulls":6},{"$f":"IF(กรอกข้อมูล!AS188>กรอกข้อมูล!AO$2,\"\",กรอกข้อมูล!AS188)","v":""},{"$f":"IF(กรอกข้อมูล!AS188>กรอกข้อมูล!AO$2,\"\",กรอกข้อมูล!AT188)","v":""},{"$f":"IF(กรอกข้อมูล!AS188>กรอกข้อมูล!AO$2,\"\",กรอกข้อมูล!AU188)","v":""},{"$f":"IF(กรอกข้อมูล!AS188>กรอกข้อมูล!AO$2,\"\",N188*O188)","v":""},{"$f":"IF(กรอกข้อมูล!AS188>กรอกข้อมูล!AO$2,\"\",ABS(M188-I$6))","v":""},"",{"$f":"IF(กรอกข้อมูล!AS188>กรอกข้อมูล!AO$2,\"\",N188*Q188)","v":""}]
["","","","","","",{"$nulls":6},{"$f":"IF(กรอกข้อมูล!AS189>กรอกข้อมูล!AO$2,\"\",กรอกข้อมูล!AS189)","v":""},{"$f":"IF(กรอกข้อมูล!AS189>กรอกข้อมูล!AO$2,\"\",กรอกข้อมูล!AT189)","v":""},{"$f":"IF(กรอกข้อมูล!AS189>กรอกข้อมูล!AO$2,\"\",กรอกข้อมูล!AU189)","v":""},{"$f":"IF(กรอกข้อมูล!AS189>กรอกข้อมูล!AO$2,\"\",N189*O189)","v":""},{"$f":"IF(กรอกข้อมูล!AS189>กรอกข้อมูล!AO$2,\"\",ABS(M189-I$6))","v":""},"",{"$f":"IF(กรอกข้อมูล!AS189>กรอกข้อมูล!AO$2,\"\",N189*Q189)","v":""}]
["","","","","","",{"$nulls":6},{"$f":"IF(กรอกข้อมูล!AS190>กรอกข้อมูล!AO$2,\"\",กรอกข้อมูล!AS190)","v":""},{"$f":"IF(กรอกข้อมูล!AS190>กรอกข้อมูล!AO$2,\"\",กรอกข้อมูล!AT190)","v":""},{"$f":"IF(กรอกข้อมูล!AS190>กรอกข้อมูล!AO$2,\"\",กรอกข้อมูล!AU190)","v":""},{"$f":"IF(กรอกข้อมูล!AS190>กรอกข้อมูล!AO$2,\"\",N190*O190)","v":""},{"$f":"IF(กรอกข้อมูล!AS190>กรอกข้อมูล!AO$2,\"\",ABS(M190-I$6))","v":""},"",{"$f":"IF(กรอกข้อมูล!AS190>กรอกข้อมูล!AO$2,\"\",N190*Q190)","v":""}]
["","","","","","",{"$nulls":6},{"$f":"IF(กรอกข้อมูล!AS191>กรอกข้อมูล!AO$2,\"\",กรอกข้อมูล!AS191)","v":""},{"$f":"IF(กรอกข้อมูล!AS191>กรอกข้อมูล!AO$2,\"\",กรอกข้อมูล!AT191)","v":""},{"$f":"IF(กรอกข้อมูล!AS191>กรอกข้อมูล!AO$2,\"\",กรอกข้อมูล!AU191)","v":""},{"$f":"IF(กรอกข้อมูล!AS191>กรอกข้อมูล!AO$2,\"\",N191*O191)","v":""},{"$f":"IF(กรอกข้อมูล!AS191>กรอกข้อมูล!AO$2,\"\",ABS(M191-I$6))","v":""},"",{"$f":"IF(กรอกข้อมูล!AS191>กรอกข้อมูล!AO$2,\"\",N191*Q191)","v":""}]
["","","","","","",{"$nulls":6},{"$f":"IF(กรอกข้อมูล!AS192>กรอกข้อมูล!AO$2,\"\",กรอกข้อมูล!AS192)","v":""},{"$f":"IF(กรอกข้อมูล!AS192>กรอกข้อมูล!AO$2,\"\",กรอกข้อมูล!AT192)","v":""},{"$f":"IF(กรอกข้อมูล!AS192>กรอกข้อมูล!AO$2,\"\",กรอกข้อมูล!AU192)","v":""},{"$f":"IF(กรอกข้อมูล!AS192>กรอกข้อมูล!AO$2,\"\",N192*O192)","v":""},{"$f":"IF(กรอกข้อมูล!AS192>กรอกข้อมูล!AO$2,\"\",ABS(M192-I$6))","v":""},"",{"$f":"IF(กรอกข้อมูล!AS192>กรอกข้อมูล!AO$2,\"\",N192*Q192)","v":""}]
["","","","","","",{"$nulls":6},{"$f":"IF(กรอกข้อมูล!AS193>กรอกข้อมูล!AO$2,\"\",กรอกข้อมูล!AS193)","v":""},{"$f":"IF(กรอกข้อมูล!AS193>กรอกข้อมูล!AO$2,\"\",กรอกข้อมูล!AT193)","v":""},{"$f":"IF(กรอกข้อมูล!AS193>กรอกข้อมูล!AO$2,\"\",กรอกข้อมูล!AU193)","v":""},{"$f":"IF(กรอกข้อมูล!AS193>กรอกข้อมูล!AO$2,\"\",N193*O193)","v":""},{"$f":"IF(กรอกข้อมูล!AS193>กรอกข้อมูล!AO$2,\"\",ABS(M193-I$6))","v":""},"",{"$f":"IF(กรอกข้อมูล!AS193>กรอกข้อมูล!AO$2,\"\",N193*Q193)","v":""}]
[{"$f":"M194","v":""},{"$f":"N194","v":""},{"$f":"O194","v":""},{"$f":"P194","v":""},{"$f":"R194","v":""},{"$f":"S194","v":""},{"$nulls":6},{"$f":"IF(กรอกข้อมูล!AS194>กรอกข้อมูล!AO$2,\"\",กรอกข้อมูล!AS194)","v":""},{"$f":"IF(กรอกข้อมูล!AS194>กรอกข้อมูล!AO$2,\"\",กรอกข้อมูล!AT194)","v":""},{"$f":"IF(กรอกข้อมูล!AS194>กรอกข้อมูล!AO$2,\"\",กรอกข้อมูล!AU194)","v":""},{"$f":"IF(กรอกข้อมูล!AS194>กรอกข้อมูล!AO$2,\"\",N194*O194)","v":""},{"$f":"IF(กรอกข้อมูล!AS194>กรอกข้อมูล!AO$2,\"\",ABS(M194-I$6))","v":""},"",{"$f":"IF(กรอกข้อมูล!AS194>กรอกข้อมูล!AO$2,\"\",N194*Q194)","v":""}]
["","","","","","",{"$nulls":6},{"$f":"IF(กรอกข้อมูล!AS195>กรอกข้อมูล!AO$2,\"\",กรอกข้อมูล!AS195)","v":""},{"$f":"IF(กรอกข้อมูล!AS195>กรอกข้อมูล!AO$2,\"\",กรอกข้อมูล!AT195)","v":""},{"$f":"IF(กรอกข้อมูล!AS195>กรอกข้อมูล!AO$2,\"\",กรอกข้อมูล!AU195)","v":""},{"$f":"IF(กรอกข้อมูล!AS195>กรอกข้อมูล!AO$2,\"\",N195*O195)","v":""},{"$f":"IF(กรอกข้อมูล!AS195>กรอกข้อมูล!AO$2,\"\",ABS(M195-I$6))","v":""},{"$f":"IF(N195=0,0,Q195)","v":""},{"$f":"IF(กรอกข้อมูล!AS195>กรอกข้อมูล!AO$2,\"\",N195*Q195)","v":""}]
["","","","","","",{"$nulls":6},{"$f":"IF(กรอกข้อมูล!AS196>กรอกข้อมูล!AO$2,\"\",กรอกข้อมูล!AS196)","v":""},{"$f":"IF(กรอกข้อมูล!AS196>กรอกข้อมูล!AO$2,\"\",กรอกข้อมูล!AT196)","v":""},{"$f":"IF(กรอกข้อมูล!AS196>กรอกข้อมูล!AO$2,\"\",กรอกข้อมูล!AU196)","v":""},{"$f":"IF(กรอกข้อมูล!AS196>กรอกข้อมูล!AO$2,\"\",N196*O196)","v":""},{"$f":"IF(กรอกข้อมูล!AS196>กรอกข้อมูล!AO$2,\"\",ABS(M196-I$6))","v":""},"",{"$f":"IF(กรอกข้อมูล!AS196>กรอกข้อมูล!AO$2,\"\",N196*Q196)","v":""}]
["","","","","","",{"$nulls":6},{"$f":"IF(กรอกข้อมูล!AS197>กรอกข้อมูล!AO$2,\"\",กรอกข้อมูล!AS197)","v":""},{"$f":"IF(กรอกข้อมูล!AS197>กรอกข้อมูล!AO$2,\"\",กรอกข้อมูล!AT197)","v":""},{"$f":"IF(กรอกข้อมูล!AS197>กรอกข้อมูล!AO$2,\"\",กรอกข้อมูล!AU197)","v":""},{"$f":"IF(กรอกข้อมูล!AS197>กรอกข้อมูล!AO$2,\"\",N197*O197)","v":""},{"$f":"IF(กรอกข้อมูล!AS197>กรอกข้อมูล!AO$2,\"\",ABS(M197-I$6))","v":""},"",{"$f":"IF(กรอกข้อมูล!AS197>กรอกข้อมูล!AO$2,\"\",N197*Q197)","v":""}]
["","","","","","",{"$nulls":6},{"$f":"IF(กรอกข้อมูล!AS198>กรอกข้อมูล!AO$2,\"\",กรอกข้อมูล!AS198)","v":""},{"$f":"IF(กรอกข้อมูล!AS198>กรอกข้อมูล!AO$2,\"\",กรอกข้อมูล!AT198)","v":""},{"$f":"IF(กรอกข้อมูล!AS198>กรอกข้อมูล!AO$2,\"\",กรอกข้อมูล!AU198)","v":""},{"$f":"IF(กรอกข้อมูล!AS198>กรอกข้อมูล!AO$2,\"\",N198*O198)","v":""},{"$f":"IF(กรอกข้อมูล!AS198>กรอกข้อมูล!AO$2,\"\",ABS(M198-I$6))","v":""},"",{"$f":"IF(กรอกข้อมูล!AS198>กรอกข้อมูล!AO$2,\"\",N198*Q198)","v":""}]
["","","","","","",{"$nulls":6},{"$f":"IF(กรอกข้อมูล!AS199>กรอกข้อมูล!AO$2,\"\",กรอกข้อมูล!AS199)","v":""},{"$f":"IF(กรอกข้อมูล!AS199>กรอกข้อมูล!AO$2,\"\",กรอกข้อมูล!AT199)","v":""},{"$f":"IF(กรอกข้อมูล!AS199>กรอกข้อมูล!AO$2,\"\",กรอกข้อมูล!AU199)","v":""},{"$f":"IF(กรอกข้อมูล!AS199>กรอกข้อมูล!AO$2,\"\",N199*O199)","v":""},{"$f":"IF(กรอกข้อมูล!AS199>กรอกข้อมูล!AO$2,\"\",ABS(M199-I$6))","v":""},"",{"$f":"IF(กรอกข้อมูล!AS199>กรอกข้อมูล!AO$2,\"\",N199*Q199)","v":""}]
["","","","","","",{"$nulls":6},{"$f":"IF(กรอกข้อมูล!AS200>กรอกข้อมูล!AO$2,\"\",กรอกข้อมูล!AS200)","v":""},{"$f":"IF(กรอกข้อมูล!AS200>กรอกข้อมูล!AO$2,\"\",กรอกข้อมูล!AT200)","v":""},{"$f":"IF(กรอกข้อมูล!AS200>กรอกข้อมูล!AO$2,\"\",กรอกข้อมูล!AU200)","v":""},{"$f":"IF(กรอกข้อมูล!AS200>กรอกข้อมูล!AO$2,\"\",N200*O200)","v":""},{"$f":"IF(กรอกข้อมูล!AS200>กรอกข้อมูล!AO$2,\"\",ABS(M200-I$6))","v":""},"",{"$f":"IF(กรอกข้อมูล!AS200>กรอกข้อมูล!AO$2,\"\",N200*Q200)","v":""}]
["","","","","","",{"$nulls":6},{"$f":"IF(กรอกข้อมูล!AS201>กรอกข้อมูล!AO$2,\"\",กรอกข้อมูล!AS201)","v":""},{"$f":"IF(กรอกข้อมูล!AS201>กรอกข้อมูล!AO$2,\"\",กรอกข้อมูล!AT201)","v":""},{"$f":"IF(กรอกข้อมูล!AS201>กรอกข้อมูล!AO$2,\"\",กรอกข้อมูล!AU201)","v":""},{"$f":"IF(กรอกข้อมูล!AS201>กรอกข้อมูล!AO$2,\"\",N201*O201)","v":""},{"$f":"IF(กรอกข้อมูล!AS201>กรอกข้อมูล!AO$2,\"\",ABS(M201-I$6))","v":""},"",{"$f":"IF(กรอกข้อมูล!AS201>กรอกข้อมูล!AO$2,\"\",N201*Q201)","v":""}]
["","","","","","",{"$nulls":6},{"$f":"IF(กรอกข้อมูล!AS202>กรอกข้อมูล!AO$2,\"\",กรอกข้อมูล!AS202)","v":""},{"$f":"IF(กรอกข้อมูล!AS202>กรอกข้อมูล!AO$2,\"\",กรอกข้อมูล!AT202)","v":""},{"$f":"IF(กรอกข้อมูล!AS202>กรอกข้อมูล!AO$2,\"\",กรอกข้อมูล!AU202)","v":""},{"$f":"IF(กรอกข้อมูล!AS202>กรอกข้อมูล!AO$2,\"\",N202*O202)","v":""},{"$f":"IF(กรอกข้อมูล!AS202>กรอกข้อมูล!AO$2,\"\",ABS(M202-I$6))","v":""},"",{"$f":"IF(กรอกข้อมูล!AS202>กรอกข้อมูล!AO$2,\"\",N202*Q202)","v":""}]
["","","","","","",{"$nulls":6},{"$f":"IF(กรอกข้อมูล!AS203>กรอกข้อมูล!AO$2,\"\",กรอกข้อมูล!AS203)","v":""},{"$f":"IF(กรอกข้อมูล!AS203>กรอกข้อมูล!AO$2,\"\",กรอกข้อมูล!AT203)","v":""},{"$f":"IF(กรอกข้อมูล!AS203>กรอกข้อมูล!AO$2,\"\",กรอกข้อมูล!AU203)","v":""},{"$f":"IF(กรอกข้อมูล!AS203>กรอกข้อมูล!AO$2,\"\",N203*O203)","v":""},{"$f":"IF(กรอกข้อมูล!AS203>กรอกข้อมูล!AO$2,\"\",ABS(M203-I$6))","v":""},"",{"$f":"IF(กรอกข้อมูล!AS203>กรอกข้อมูล!AO$2,\"\",N203*Q203)","v":""}]
["","","","","","",{"$nulls":6},{"$f":"IF(กรอกข้อมูล!AS204>กรอกข้อมูล!AO$2,\"\",กรอกข้อมูล!AS204)","v":""},{"$f":"IF(กรอกข้อมูล!AS204>กรอกข้อมูล!AO$2,\"\",กรอกข้อมูล!AT204)","v":""},{"$f":"IF(กรอกข้อมูล!AS204>กรอกข้อมูล!AO$2,\"\",กรอกข้อมูล!AU204)","v":""},{"$f":"IF(กรอกข้อมูล!AS204>กรอกข้อมูล!AO$2,\"\",N204*O204)","v":""},{"$f":"IF(กรอกข้อมูล!AS204>กรอกข้อมูล!AO$2,\"\",ABS(M204-I$6))","v":""},"",{"$f":"IF(กรอกข้อมูล!AS204>กรอกข้อมูล!AO$2,\"\",N204*Q204)","v":""}]
["","","","","","",{"$nulls":6},{"$f":"IF(กรอกข้อมูล!AS205>กรอกข้อมูล!AO$2,\"\",กรอกข้อมูล!AS205)","v":""},{"$f":"IF(กรอกข้อมูล!AS205>กรอกข้อมูล!AO$2,\"\",กรอกข้อมูล!AT205)","v":""},{"$f":"IF(กรอกข้อมูล!AS205>กรอกข้อมูล!AO$2,\"\",กรอกข้อมูล!AU205)","v":""},{"$f":"IF(กรอกข้อมูล!AS205>กรอกข้อมูล!AO$2,\"\",N205*O205)","v":""},{"$f":"IF(กรอกข้อมูล!AS205>กรอกข้อมูล!AO$2,\"\",ABS(M205-I$6))","v":""},"",{"$f":"IF(กรอกข้อมูล!AS205>กรอกข้อมูล!AO$2,\"\",N205*Q205)","v":""}]
["","","","","","",{"$nulls":6},{"$f":"IF(กรอกข้อมูล!AS206>กรอกข้อมูล!AO$2,\"\",กรอกข้อมูล!AS206)","v":""},{"$f":"IF(กรอกข้อมูล!AS206>กรอกข้อมูล!AO$2,\"\",กรอกข้อมูล!AT206)","v":""},{"$f":"IF(กรอกข้อมูล!AS206>กรอกข้อมูล!AO$2,\"\",กรอกข้อมูล!AU206)","v":""},{"$f":"IF(กรอกข้อมูล!AS206>กรอกข้อมูล!AO$2,\"\",N206*O206)","v":""},{"$f":"IF(กรอกข้อมูล!AS206>กรอกข้อมูล!AO$2,\"\",ABS(M206-I$6))","v":""},"",{"$f":"IF(กรอกข้อมูล!AS206>กรอกข้อมูล!AO$2,\"\",N206*Q206)","v":""}]
["","","","","","",{"$nulls":6},{"$f":"IF(กรอกข้อมูล!AS207>กรอกข้อมูล!AO$2,\"\",กรอกข้อมูล!AS207)","v":""},{"$f":"IF(กรอกข้อมูล!AS207>กรอกข้อมูล!AO$2,\"\",กรอกข้อมูล!AT207)","v":""},{"$f":"IF(กรอกข้อมูล!AS207>กรอกข้อมูล!AO$2,\"\",กรอกข้อมูล!AU207)","v":""},{"$f":"IF(กรอกข้อมูล!AS207>กรอกข้อมูล!AO$2,\"\",N207*O207)","v":""},{"$f":"IF(กรอกข้อมูล!AS207>กรอกข้อมูล!AO$2,\"\",ABS(M207-I$6))","v":""},"",{"$f":"IF(กรอกข้อมูล!AS207>กรอกข้อมูล!AO$2,\"\",N207*Q207)","v":""}]
["","","","","","",{"$nulls":6},{"$f":"IF(กรอกข้อมูล!AS208>กรอกข้อมูล!AO$2,\"\",กรอกข้อมูล!AS208)","v":""},{"$f":"IF(กรอกข้อมูล!AS208>กรอกข้อมูล!AO$2,\"\",กรอกข้อมูล!AT208)","v":""},{"$f":"IF(กรอกข้อมูล!AS208>กรอกข้อมูล!AO$2,\"\",กรอกข้อมูล!AU208)","v":""},{"$f":"IF(กรอกข้อมูล!AS208>กรอกข้อมูล!AO$2,\"\",N208*O208)","v":""},{"$f":"IF(กรอกข้อมูล!AS208>กรอกข้อมูล!AO$2,\"\",ABS(M208-I$6))","v":""},"",{"$f":"IF(กรอกข้อมูล!AS208>กรอกข้อมูล!AO$2,\"\",N208*Q208)","v":""}]
["","","","","","",{"$nulls":6},{"$f":"IF(กรอกข้อมูล!AS209>กรอกข้อมูล!AO$2,\"\",กรอกข้อมูล!AS209)","v":""},{"$f":"IF(กรอกข้อมูล!AS209>กรอกข้อมูล!AO$2,\"\",กรอกข้อมูล!AT209)","v":""},{"$f":"IF(กรอกข้อมูล!AS209>กรอกข้อมูล!AO$2,\"\",กรอกข้อมูล!AU209)","v":""},{"$f":"IF(กรอกข้อมูล!AS209>กรอกข้อมูล!AO$2,\"\",N209*O209)","v":""},{"$f":"IF(กรอกข้อมูล!AS209>กรอกข้อมูล!AO$2,\"\",ABS(M209-I$6))","v":""},"",{"$f":"IF(กรอกข้อมูล!AS209>กรอกข้อมูล!AO$2,\"\",N209*Q209)","v":""}]
["","","","","","",{"$nulls":6},{"$f":"IF(กรอกข้อมูล!AS210>กรอกข้อมูล!AO$2,\"\",กรอกข้อมูล!AS210)","v":""},{"$f":"IF(กรอกข้อมูล!AS210>กรอกข้อมูล!AO$2,\"\",กรอกข้อมูล!AT210)","v":""},{"$f":"IF(กรอกข้อมูล!AS210>กรอกข้อมูล!AO$2,\"\",กรอกข้อมูล!AU210)","v":""},{"$f":"IF(กรอกข้อมูล!AS210>กรอกข้อมูล!AO$2,\"\",N210*O210)","v":""},{"$f":"IF(กรอกข้อมูล!AS210>กรอกข้อมูล!AO$2,\"\",ABS(M210-I$6))","v":""},"",{"$f":"IF(กรอกข้อมูล!AS210>กรอกข้อมูล!AO$2,\"\",N210*Q210)","v":""}]
["","","","","","",{"$nulls":6},{"$f":"IF(กรอกข้อมูล!AS211>กรอกข้อมูล!AO$2,\"\",กรอกข้อมูล!AS211)","v":""},{"$f":"IF(กรอกข้อมูล!AS211>กรอกข้อมูล!AO$2,\"\",กรอกข้อมูล!AT211)","v":""},{"$f":"IF(กรอกข้อมูล!AS211>กรอกข้อมูล!AO$2,\"\",กรอกข้อมูล!AU211)","v":""},{"$f":"IF(กรอกข้อมูล!AS211>กรอกข้อมูล!AO$2,\"\",N211*O211)","v":""},{"$f":"IF(กรอกข้อมูล!AS211>กรอกข้อมูล!AO$2,\"\",ABS(M211-I$6))","v":""},"",{"$f":"IF(กรอกข้อมูล!AS211>กรอกข้อมูล!AO$2,\"\",N211*Q211)","v":""}]
["","","","","","",{"$nulls":6},{"$f":"IF(กรอกข้อมูล!AS212>กรอกข้อมูล!AO$2,\"\",กรอกข้อมูล!AS212)","v":""},{"$f":"IF(กรอกข้อมูล!AS212>กรอกข้อมูล!AO$2,\"\",กรอกข้อมูล!AT212)","v":""},{"$f":"IF(กรอกข้อมูล!AS212>กรอกข้อมูล!AO$2,\"\",กรอกข้อมูล!AU212)","v":""},{"$f":"IF(กรอกข้อมูล!AS212>กรอกข้อมูล!AO$2,\"\",N212*O212)","v":""},{"$f":"IF(กรอกข้อมูล!AS212>กรอกข้อมูล!AO$2,\"\",ABS(M212-I$6))","v":""},"",{"$f":"IF(กรอกข้อมูล!AS212>กรอกข้อมูล!AO$2,\"\",N212*Q212)","v":""}]
["","","","","","",{"$nulls":6},{"$f":"IF(กรอกข้อมูล!AS213>กรอกข้อมูล!AO$2,\"\",กรอกข้อมูล!AS213)","v":""},{"$f":"IF(กรอกข้อมูล!AS213>กรอกข้อมูล!AO$2,\"\",กรอกข้อมูล!AT213)","v":""},{"$f":"IF(กรอกข้อมูล!AS213>กรอกข้อมูล!AO$2,\"\",กรอกข้อมูล!AU213)","v":""},{"$f":"IF(กรอกข้อมูล!AS213>กรอกข้อมูล!AO$2,\"\",N213*O213)","v":""},{"$f":"IF(กรอกข้อมูล!AS213>กรอกข้อมูล!AO$2,\"\",ABS(M213-I$6))","v":""},"",{"$f":"IF(กรอกข้อมูล!AS213>กรอกข้อมูล!AO$2,\"\",N213*Q213)","v":""}]
["","","","","","",{"$nulls":6},{"$f":"IF(กรอกข้อมูล!AS214>กรอกข้อมูล!AO$2,\"\",กรอกข้อมูล!AS214)","v":""},{"$f":"IF(กรอกข้อมูล!AS214>กรอกข้อมูล!AO$2,\"\",กรอกข้อมูล!AT214)","v":""},{"$f":"IF(กรอกข้อมูล!AS214>กรอกข้อมูล!AO$2,\"\",กรอกข้อมูล!AU214)","v":""},{"$f":"IF(กรอกข้อมูล!AS214>กรอกข้อมูล!AO$2,\"\",N214*O214)","v":""},{"$f":"IF(กรอกข้อมูล!AS214>กรอกข้อมูล!AO$2,\"\",ABS(M214-I$6))","v":""},"",{"$f":"IF(กรอกข้อมูล!AS214>กรอกข้อมูล!AO$2,\"\",N214*Q214)","v":""}]
["","","","","","",{"$nulls":6},{"$f":"IF(กรอกข้อมูล!AS215>กรอกข้อมูล!AO$2,\"\",กรอกข้อมูล!AS215)","v":""},{"$f":"IF(กรอกข้อมูล!AS215>กรอกข้อมูล!AO$2,\"\",กรอกข้อมูล!AT215)","v":""},{"$f":"IF(กรอกข้อมูล!AS215>กรอกข้อมูล!AO$2,\"\",กรอกข้อมูล!AU215)","v":""},{"$f":"IF(กรอกข้อมูล!AS215>กรอกข้อมูล!AO$2,\"\",N215*O215)","v":""},{"$f":"IF(กรอกข้อมูล!AS215>กรอกข้อมูล!AO$2,\"\",ABS(M215-I$6))","v":""},"",{"$f":"IF(กรอกข้อมูล!AS215>กรอกข้อมูล!AO$2,\"\",N215*Q215)","v":""}]
["","","","","","",{"$nulls":6},{"$f":"IF(กรอกข้อมูล!AS216>กรอกข้อมูล!AO$2,\"\",กรอกข้อมูล!AS216)","v":""},{"$f":"IF(กรอกข้อมูล!AS216>กรอกข้อมูล!AO$2,\"\",กรอกข้อมูล!AT216)","v":""},{"$f":"IF(กรอกข้อมูล!AS216>กรอกข้อมูล!AO$2,\"\",กรอกข้อมูล!AU216)","v":""},{"$f":"IF(กรอกข้อมูล!AS216>กรอกข้อมูล!AO$2,\"\",N216*O216)","v":""},{"$f":"IF(กรอกข้อมูล!AS216>กรอกข้อมูล!AO$2,\"\",ABS(M216-I$6))","v":""},"",{"$f":"IF(กรอกข้อมูล!AS216>กรอกข้อมูล!AO$2,\"\",N216*Q216)","v":""}]
["","","","","","",{"$nulls":6},{"$f":"IF(กรอกข้อมูล!AS217>กรอกข้อมูล!AO$2,\"\",กรอกข้อมูล!AS217)","v":""},{"$f":"IF(กรอกข้อมูล!AS217>กรอกข้อมูล!AO$2,\"\",กรอกข้อมูล!AT217)","v":""},{"$f":"IF(กรอกข้อมูล!AS217>กรอกข้อมูล!AO$2,\"\",กรอกข้อมูล!AU217)","v":""},{"$f":"IF(กรอกข้อมูล!AS217>กรอกข้อมูล!AO$2,\"\",N217*O217)","v":""},{"$f":"IF(กรอกข้อมูล!AS217>กรอกข้อมูล!AO$2,\"\",ABS(M217-I$6))","v":""},"",{"$f":"IF(กรอกข้อมูล!AS217>กรอกข้อมูล!AO$2,\"\",N217*Q217)","v":""}]
["","","","","","",{"$nulls":6},{"$f":"IF(กรอกข้อมูล!AS218>กรอกข้อมูล!AO$2,\"\",กรอกข้อมูล!AS218)","v":""},{"$f":"IF(กรอกข้อมูล!AS218>กรอกข้อมูล!AO$2,\"\",กรอกข้อมูล!AT218)","v":""},{"$f":"IF(กรอกข้อมูล!AS218>กรอกข้อมูล!AO$2,\"\",กรอกข้อมูล!AU218)","v":""},{"$f":"IF(กรอกข้อมูล!AS218>กรอกข้อมูล!AO$2,\"\",N218*O218)","v":""},{"$f":"IF(กรอกข้อมูล!AS218>กรอกข้อมูล!AO$2,\"\",ABS(M218-I$6))","v":""},"",{"$f":"IF(กรอกข้อมูล!AS218>กรอกข้อมูล!AO$2,\"\",N218*Q218)","v":""}]
["","","","","","",{"$nulls":6},{"$f":"IF(กรอกข้อมูล!AS219>กรอกข้อมูล!AO$2,\"\",กรอกข้อมูล!AS219)","v":""},{"$f":"IF(กรอกข้อมูล!AS219>กรอกข้อมูล!AO$2,\"\",กรอกข้อมูล!AT219)","v":""},{"$f":"IF(กรอกข้อมูล!AS219>กรอกข้อมูล!AO$2,\"\",กรอกข้อมูล!AU219)","v":""},{"$f":"IF(กรอกข้อมูล!AS219>กรอกข้อมูล!AO$2,\"\",N219*O219)","v":""},{"$f":"IF(กรอกข้อมูล!AS219>กรอกข้อมูล!AO$2,\"\",ABS(M219-I$6))","v":""},"",{"$f":"IF(กรอกข้อมูล!AS219>กรอกข้อมูล!AO$2,\"\",N219*Q219)","v":""}]
["","","","","","",{"$nulls":6},{"$f":"IF(กรอกข้อมูล!AS220>กรอกข้อมูล!AO$2,\"\",กรอกข้อมูล!AS220)","v":""},{"$f":"IF(กรอกข้อมูล!AS220>กรอกข้อมูล!AO$2,\"\",กรอกข้อมูล!AT220)","v":""},{"$f":"IF(กรอกข้อมูล!AS220>กรอกข้อมูล!AO$2,\"\",กรอกข้อมูล!AU220)","v":""},{"$f":"IF(กรอกข้อมูล!AS220>กรอกข้อมูล!AO$2,\"\",N220*O220)","v":""},{"$f":"IF(กรอกข้อมูล!AS220>กรอกข้อมูล!AO$2,\"\",ABS(M220-I$6))","v":""},"",{"$f":"IF(กรอกข้อมูล!AS220>กรอกข้อมูล!AO$2,\"\",N220*Q220)","v":""}]
["","","","","","",{"$nulls":6},{"$f":"IF(กรอกข้อมูล!AS221>กรอกข้อมูล!AO$2,\"\",กรอกข้อมูล!AS221)","v":""},{"$f":"IF(กรอกข้อมูล!AS221>กรอกข้อมูล!AO$2,\"\",กรอกข้อมูล!AT221)","v":""},{"$f":"IF(กรอกข้อมูล!AS221>กรอกข้อมูล!AO$2,\"\",กรอกข้อมูล!AU221)","v":""},{"$f":"IF(กรอกข้อมูล!AS221>กรอกข้อมูล!AO$2,\"\",N221*O221)","v":""},{"$f":"IF(กรอกข้อมูล!AS221>กรอกข้อมูล!AO$2,\"\",ABS(M221-I$6))","v":""},"",{"$f":"IF(กรอกข้อมูล!AS221>กรอกข้อมูล!AO$2,\"\",N221*Q221)","v":""}]
["","","","","","",{"$nulls":6},{"$f":"IF(กรอกข้อมูล!AS222>กรอกข้อมูล!AO$2,\"\",กรอกข้อมูล!AS222)","v":""},{"$f":"IF(กรอกข้อมูล!AS222>กรอกข้อมูล!AO$2,\"\",กรอกข้อมูล!AT222)","v":""},{"$f":"IF(กรอกข้อมูล!AS222>กรอกข้อมูล!AO$2,\"\",กรอกข้อมูล!AU222)","v":""},{"$f":"IF(กรอกข้อมูล!AS222>กรอกข้อมูล!AO$2,\"\",N222*O222)","v":""},{"$f":"IF(กรอกข้อมูล!AS222>กรอกข้อมูล!AO$2,\"\",ABS(M222-I$6))","v":""},"",{"$f":"IF(กรอกข้อมูล!AS222>กรอกข้อมูล!AO$2,\"\",N222*Q222)","v":""}]
["","","","","","",{"$nulls":6},{"$f":"IF(กรอกข้อมูล!AS223>กรอกข้อมูล!AO$2,\"\",กรอกข้อมูล!AS223)","v":""},{"$f":"IF(กรอกข้อมูล!AS223>กรอกข้อมูล!AO$2,\"\",กรอกข้อมูล!AT223)","v":""},{"$f":"IF(กรอกข้อมูล!AS223>กรอกข้อมูล!AO$2,\"\",กรอกข้อมูล!AU223)","v":""},{"$f":"IF(กรอกข้อมูล!AS223>กรอกข้อมูล!AO$2,\"\",N223*O223)","v":""},{"$f":"IF(กรอกข้อมูล!AS223>กรอกข้อมูล!AO$2,\"\",ABS(M223-I$6))","v":""},"",{"$f":"IF(กรอกข้อมูล!AS223>กรอกข้อมูล!AO$2,\"\",N223*Q223)","v":""}]
["","","","","","",{"$nulls":6},{"$f":"IF(กรอกข้อมูล!AS224>กรอกข้อมูล!AO$2,\"\",กรอกข้อมูล!AS224)","v":""},{"$f":"IF(กรอกข้อมูล!AS224>กรอกข้อมูล!AO$2,\"\",กรอกข้อมูล!AT224)","v":""},{"$f":"IF(กรอกข้อมูล!AS224>กรอกข้อมูล!AO$2,\"\",กรอกข้อมูล!AU224)","v":""},{"$f":"IF(กรอกข้อมูล!AS224>กรอกข้อมูล!AO$2,\"\",N224*O224)","v":""},{"$f":"IF(กรอกข้อมูล!AS224>กรอกข้อมูล!AO$2,\"\",ABS(M224-I$6))","v":""},"",{"$f":"IF(กรอกข้อมูล!AS224>กรอกข้อมูล!AO$2,\"\",N224*Q224)","v":""}]
["","","","","","",{"$nulls":6},{"$f":"IF(กรอกข้อมูล!AS225>กรอกข้อมูล!AO$2,\"\",กรอกข้อมูล!AS225)","v":""},{"$f":"IF(กรอกข้อมูล!AS225>กรอกข้อมูล!AO$2,\"\",กรอกข้อมูล!AT225)","v":""},{"$f":"IF(กรอกข้อมูล!AS225>กรอกข้อมูล!AO$2,\"\",กรอกข้อมูล!AU225)","v":""},{"$f":"IF(กรอกข้อมูล!AS225>กรอกข้อมูล!AO$2,\"\",N225*O225)","v":""},{"$f":"IF(กรอกข้อมูล!AS225>กรอกข้อมูล!AO$2,\"\",ABS(M225-I$6))","v":""},"",{"$f":"IF(กรอกข้อมูล!AS225>กรอกข้อมูล!AO$2,\"\",N225*Q225)","v":""}]
["","","","","","",{"$nulls":6},{"$f":"IF(กรอกข้อมูล!AS226>กรอกข้อมูล!AO$2,\"\",กรอกข้อมูล!AS226)","v":""},{"$f":"IF(กรอกข้อมูล!AS226>กรอกข้อมูล!AO$2,\"\",กรอกข้อมูล!AT226)","v":""},{"$f":"IF(กรอกข้อมูล!AS226>กรอกข้อมูล!AO$2,\"\",กรอกข้อมูล!AU226)","v":""},{"$f":"IF(กรอกข้อมูล!AS226>กรอกข้อมูล!AO$2,\"\",N226*O226)","v":""},{"$f":"IF(กรอกข้อมูล!AS226>กรอกข้อมูล!AO$2,\"\",ABS(M226-I$6))","v":""},"",{"$f":"IF(กรอกข้อมูล!AS226>กรอกข้อมูล!AO$2,\"\",N226*Q226)","v":""}]
["","","","","","",{"$nulls":6},{"$f":"IF(กรอกข้อมูล!AS227>กรอกข้อมูล!AO$2,\"\",กรอกข้อมูล!AS227)","v":""},{"$f":"IF(กรอกข้อมูล!AS227>กรอกข้อมูล!AO$2,\"\",กรอกข้อมูล!AT227)","v":""},{"$f":"IF(กรอกข้อมูล!AS227>กรอกข้อมูล!AO$2,\"\",กรอกข้อมูล!AU227)","v":""},{"$f":"IF(กรอกข้อมูล!AS227>กรอกข้อมูล!AO$2,\"\",N227*O227)","v":""},{"$f":"IF(กรอกข้อมูล!AS227>กรอกข้อมูล!AO$2,\"\",ABS(M227-I$6))","v":""},"",{"$f":"IF(กรอกข้อมูล!AS227>กรอกข้อมูล!AO$2,\"\",N227*Q227)","v":""}]
["","","","","","",{"$nulls":6},{"$f":"IF(กรอกข้อมูล!AS228>กรอกข้อมูล!AO$2,\"\",กรอกข้อมูล!AS228)","v":""},{"$f":"IF(กรอกข้อมูล!AS228>กรอกข้อมูล!AO$2,\"\",กรอกข้อมูล!AT228)","v":""},{"$f":"IF(กรอกข้อมูล!AS228>กรอกข้อมูล!AO$2,\"\",กรอกข้อมูล!AU228)","v":""},{"$f":"IF(กรอกข้อมูล!AS228>กรอกข้อมูล!AO$2,\"\",N228*O228)","v":""},{"$f":"IF(กรอกข้อมูล!AS228>กรอกข้อมูล!AO$2,\"\",ABS(M228-I$6))","v":""},"",{"$f":"IF(กรอกข้อมูล!AS228>กรอกข้อมูล!AO$2,\"\",N228*Q228)","v":""}]
["","","","","","",{"$nulls":6},{"$f":"IF(กรอกข้อมูล!AS229>กรอกข้อมูล!AO$2,\"\",กรอกข้อมูล!AS229)","v":""},{"$f":"IF(กรอกข้อมูล!AS229>กรอกข้อมูล!AO$2,\"\",กรอกข้อมูล!AT229)","v":""},{"$f":"IF(กรอกข้อมูล!AS229>กรอกข้อมูล!AO$2,\"\",กรอกข้อมูล!AU229)","v":""},{"$f":"IF(กรอกข้อมูล!AS229>กรอกข้อมูล!AO$2,\"\",N229*O229)","v":""},{"$f":"IF(กรอกข้อมูล!AS229>กรอกข้อมูล!AO$2,\"\",ABS(M229-I$6))","v":""},"",{"$f":"IF(กรอกข้อมูล!AS229>กรอกข้อมูล!AO$2,\"\",N229*Q229)","v":""}]
["","","","","","",{"$nulls":6},{"$f":"IF(กรอกข้อมูล!AS230>กรอกข้อมูล!AO$2,\"\",กรอกข้อมูล!AS230)","v":""},{"$f":"IF(กรอกข้อมูล!AS230>กรอกข้อมูล!AO$2,\"\",กรอกข้อมูล!AT230)","v":""},{"$f":"IF(กรอกข้อมูล!AS230>กรอกข้อมูล!AO$2,\"\",กรอกข้อมูล!AU230)","v":""},{"$f":"IF(กรอกข้อมูล!AS230>กรอกข้อมูล!AO$2,\"\",N230*O230)","v":""},{"$f":"IF(กรอกข้อมูล!AS230>กรอกข้อมูล!AO$2,\"\",ABS(M230-I$6))","v":""},"",{"$f":"IF(กรอกข้อมูล!AS230>กรอกข้อมูล!AO$2,\"\",N230*Q230)","v":""}]
["","","","","","",{"$nulls":6},{"$f":"IF(กรอกข้อมูล!AS231>กรอกข้อมูล!AO$2,\"\",กรอกข้อมูล!AS231)","v":""},{"$f":"IF(กรอกข้อมูล!AS231>กรอกข้อมูล!AO$2,\"\",กรอกข้อมูล!AT231)","v":""},{"$f":"IF(กรอกข้อมูล!AS231>กรอกข้อมูล!AO$2,\"\",กรอกข้อมูล!AU231)","v":""},{"$f":"IF(กรอกข้อมูล!AS231>กรอกข้อมูล!AO$2,\"\",N231*O231)","v":""},{"$f":"IF(กรอกข้อมูล!AS231>กรอกข้อมูล!AO$2,\"\",ABS(M231-I$6))","v":""},"",{"$f":"IF(กรอกข้อมูล!AS231>กรอกข้อมูล!AO$2,\"\",N231*Q231)","v":""}]
["","","","","","",{"$nulls":6},{"$f":"IF(กรอกข้อมูล!AS232>กรอกข้อมูล!AO$2,\"\",กรอกข้อมูล!AS232)","v":""},{"$f":"IF(กรอกข้อมูล!AS232>กรอกข้อมูล!AO$2,\"\",กรอกข้อมูล!AT232)","v":""},{"$f":"IF(กรอกข้อมูล!AS232>กรอกข้อมูล!AO$2,\"\",กรอกข้อมูล!AU232)","v":""},{"$f":"IF(กรอกข้อมูล!AS232>กรอกข้อมูล!AO$2,\"\",N232*O232)","v":""},{"$f":"IF(กรอกข้อมูล!AS232>กรอกข้อมูล!AO$2,\"\",ABS(M232-I$6))","v":""},"",{"$f":"IF(กรอกข้อมูล!AS232>กรอกข้อมูล!AO$2,\"\",N232*Q232)","v":""}]
["","","","","","",{"$nulls":6},{"$f":"IF(กรอกข้อมูล!AS233>กรอกข้อมูล!AO$2,\"\",กรอกข้อมูล!AS233)","v":""},{"$f":"IF(กรอกข้อมูล!AS233>กรอกข้อมูล!AO$2,\"\",กรอกข้อมูล!AT233)","v":""},{"$f":"IF(กรอกข้อมูล!AS233>กรอกข้อมูล!AO$2,\"\",กรอกข้อมูล!AU233)","v":""},{"$f":"IF(กรอกข้อมูล!AS233>กรอกข้อมูล!AO$2,\"\",N233*O233)","v":""},{"$f":"IF(กรอกข้อมูล!AS233>กรอกข้อมูล!AO$2,\"\",ABS(M233-I$6))","v":""},"",{"$f":"IF(กรอกข้อมูล!AS233>กรอกข้อมูล!AO$2,\"\",N233*Q233)","v":""}]
["","","","","","",{"$nulls":6},{"$f":"IF(กรอกข้อมูล!AS234>กรอกข้อมูล!AO$2,\"\",กรอกข้อมูล!AS234)","v":""},{"$f":"IF(กรอกข้อมูล!AS234>กรอกข้อมูล!AO$2,\"\",กรอกข้อมูล!AT234)","v":""},{"$f":"IF(กรอกข้อมูล!AS234>กรอกข้อมูล!AO$2,\"\",กรอกข้อมูล!AU234)","v":""},{"$f":"IF(กรอกข้อมูล!AS234>กรอกข้อมูล!AO$2,\"\",N234*O234)","v":""},{"$f":"IF(กรอกข้อมูล!AS234>กรอกข้อมูล!AO$2,\"\",ABS(M234-I$6))","v":""},"",{"$f":"IF(กรอกข้อมูล!AS234>กรอกข้อมูล!AO$2,\"\",N234*Q234)","v":""}]
["","","","","","",{"$nulls":6},{"$f":"IF(กรอกข้อมูล!AS235>กรอกข้อมูล!AO$2,\"\",กรอกข้อมูล!AS235)","v":""},{"$f":"IF(กรอกข้อมูล!AS235>กรอกข้อมูล!AO$2,\"\",กรอกข้อมูล!AT235)","v":""},{"$f":"IF(กรอกข้อมูล!AS235>กรอกข้อมูล!AO$2,\"\",กรอกข้อมูล!AU235)","v":""},{"$f":"IF(กรอกข้อมูล!AS235>กรอกข้อมูล!AO$2,\"\",N235*O235)","v":""},{"$f":"IF(กรอกข้อมูล!AS235>กรอกข้อมูล!AO$2,\"\",ABS(M235-I$6))","v":""},"",{"$f":"IF(กรอกข้อมูล!AS235>กรอกข้อมูล!AO$2,\"\",N235*Q235)","v":""}]
["","","","","","",{"$nulls":6},{"$f":"IF(กรอกข้อมูล!AS236>กรอกข้อมูล!AO$2,\"\",กรอกข้อมูล!AS236)","v":""},{"$f":"IF(กรอกข้อมูล!AS236>กรอกข้อมูล!AO$2,\"\",กรอกข้อมูล!AT236)","v":""},{"$f":"IF(กรอกข้อมูล!AS236>กรอกข้อมูล!AO$2,\"\",กรอกข้อมูล!AU236)","v":""},{"$f":"IF(กรอกข้อมูล!AS236>กรอกข้อมูล!AO$2,\"\",N236*O236)","v":""},{"$f":"IF(กรอกข้อมูล!AS236>กรอกข้อมูล!AO$2,\"\",ABS(M236-I$6))","v":""},"",{"$f":"IF(กรอกข้อมูล!AS236>กรอกข้อมูล!AO$2,\"\",N236*Q236)","v":""}]
["","","","","","",{"$nulls":6},{"$f":"IF(กรอกข้อมูล!AS237>กรอกข้อมูล!AO$2,\"\",กรอกข้อมูล!AS237)","v":""},{"$f":"IF(กรอกข้อมูล!AS237>กรอกข้อมูล!AO$2,\"\",กรอกข้อมูล!AT237)","v":""},{"$f":"IF(กรอกข้อมูล!AS237>กรอกข้อมูล!AO$2,\"\",กรอกข้อมูล!AU237)","v":""},{"$f":"IF(กรอกข้อมูล!AS237>กรอกข้อมูล!AO$2,\"\",N237*O237)","v":""},{"$f":"IF(กรอกข้อมูล!AS237>กรอกข้อมูล!AO$2,\"\",ABS(M237-I$6))","v":""},"",{"$f":"IF(กรอกข้อมูล!AS237>กรอกข้อมูล!AO$2,\"\",N237*Q237)","v":""}]
["","","","","","",{"$nulls":6},{"$f":"IF(กรอกข้อมูล!AS238>กรอกข้อมูล!AO$2,\"\",กรอกข้อมูล!AS238)","v":""},{"$f":"IF(กรอกข้อมูล!AS238>กรอกข้อมูล!AO$2,\"\",กรอกข้อมูล!AT238)","v":""},{"$f":"IF(กรอกข้อมูล!AS238>กรอกข้อมูล!AO$2,\"\",กรอกข้อมูล!AU238)","v":""},{"$f":"IF(กรอกข้อมูล!AS238>กรอกข้อมูล!AO$2,\"\",N238*O238)","v":""},{"$f":"IF(กรอกข้อมูล!AS238>กรอกข้อมูล!AO$2,\"\",ABS(M238-I$6))","v":""},"",{"$f":"IF(กรอกข้อมูล!AS238>กรอกข้อมูล!AO$2,\"\",N238*Q238)","v":""}]
["","","","","","",{"$nulls":6},{"$f":"IF(กรอกข้อมูล!AS239>กรอกข้อมูล!AO$2,\"\",กรอกข้อมูล!AS239)","v":""},{"$f":"IF(กรอกข้อมูล!AS239>กรอกข้อมูล!AO$2,\"\",กรอกข้อมูล!AT239)","v":""},{"$f":"IF(กรอกข้อมูล!AS239>กรอกข้อมูล!AO$2,\"\",กรอกข้อมูล!AU239)","v":""},{"$f":"IF(กรอกข้อมูล!AS239>กรอกข้อมูล!AO$2,\"\",N239*O239)","v":""},{"$f":"IF(กรอกข้อมูล!AS239>กรอกข้อมูล!AO$2,\"\",ABS(M239-I$6))","v":""},"",{"$f":"IF(กรอกข้อมูล!AS239>กรอกข้อมูล!AO$2,\"\",N239*Q239)","v":""}]
["","","","","","",{"$nulls":6},{"$f":"IF(กรอกข้อมูล!AS240>กรอกข้อมูล!AO$2,\"\",กรอกข้อมูล!AS240)","v":""},{"$f":"IF(กรอกข้อมูล!AS240>กรอกข้อมูล!AO$2,\"\",กรอกข้อมูล!AT240)","v":""},{"$f":"IF(กรอกข้อมูล!AS240>กรอกข้อมูล!AO$2,\"\",กรอกข้อมูล!AU240)","v":""},{"$f":"IF(กรอกข้อมูล!AS240>กรอกข้อมูล!AO$2,\"\",N240*O240)","v":""},{"$f":"IF(กรอกข้อมูล!AS240>กรอกข้อมูล!AO$2,\"\",ABS(M240-I$6))","v":""},"",{"$f":"IF(กรอกข้อมูล!AS240>กรอกข้อมูล!AO$2,\"\",N240*Q240)","v":""}]
["","","","","","",{"$nulls":6},{"$f":"IF(กรอกข้อมูล!AS241>กรอกข้อมูล!AO$2,\"\",กรอกข้อมูล!AS241)","v":""},{"$f":"IF(กรอกข้อมูล!AS241>กรอกข้อมูล!AO$2,\"\",กรอกข้อมูล!AT241)","v":""},{"$f":"IF(กรอกข้อมูล!AS241>กรอกข้อมูล!AO$2,\"\",กรอกข้อมูล!AU241)","v":""},{"$f":"IF(กรอกข้อมูล!AS241>กรอกข้อมูล!AO$2,\"\",N241*O241)","v":""},{"$f":"IF(กรอกข้อมูล!AS241>กรอกข้อมูล!AO$2,\"\",ABS(M241-I$6))","v":""},"",{"$f":"IF(กรอกข้อมูล!AS241>กรอกข้อมูล!AO$2,\"\",N241*Q241)","v":""}]
["","","","","","",{"$nulls":6},{"$f":"IF(กรอกข้อมูล!AS242>กรอกข้อมูล!AO$2,\"\",กรอกข้อมูล!AS242)","v":""},{"$f":"IF(กรอกข้อมูล!AS242>กรอกข้อมูล!AO$2,\"\",กรอกข้อมูล!AT242)","v":""},{"$f":"IF(กรอกข้อมูล!AS242>กรอกข้อมูล!AO$2,\"\",กรอกข้อมูล!AU242)","v":""},{"$f":"IF(กรอกข้อมูล!AS242>กรอกข้อมูล!AO$2,\"\",N242*O242)","v":""},{"$f":"IF(กรอกข้อมูล!AS242>กรอกข้อมูล!AO$2,\"\",ABS(M242-I$6))","v":""},"",{"$f":"IF(กรอกข้อมูล!AS242>กรอกข้อมูล!AO$2,\"\",N242*Q242)","v":""}]
["","","","","","",{"$nulls":6},{"$f":"IF(กรอกข้อมูล!AS243>กรอกข้อมูล!AO$2,\"\",กรอกข้อมูล!AS243)","v":""},{"$f":"IF(กรอกข้อมูล!AS243>กรอกข้อมูล!AO$2,\"\",กรอกข้อมูล!AT243)","v":""},{"$f":"IF(กรอกข้อมูล!AS243>กรอกข้อมูล!AO$2,\"\",กรอกข้อมูล!AU243)","v":""},{"$f":"IF(กรอกข้อมูล!AS243>กรอกข้อมูล!AO$2,\"\",N243*O243)","v":""},{"$f":"IF(กรอกข้อมูล!AS243>กรอกข้อมูล!AO$2,\"\",ABS(M243-I$6))","v":""},"",{"$f":"IF(กรอกข้อมูล!AS243>กรอกข้อมูล!AO$2,\"\",N243*Q243)","v":""}]
["","","","","","",{"$nulls":6},{"$f":"IF(กรอกข้อมูล!AS244>กรอกข้อมูล!AO$2,\"\",กรอกข้อมูล!AS244)","v":""},{"$f":"IF(กรอกข้อมูล!AS244>กรอกข้อมูล!AO$2,\"\",กรอกข้อมูล!AT244)","v":""},{"$f":"IF(กรอกข้อมูล!AS244>กรอกข้อมูล!AO$2,\"\",กรอกข้อมูล!AU244)","v":""},{"$f":"IF(กรอกข้อมูล!AS244>กรอกข้อมูล!AO$2,\"\",N244*O244)","v":""},{"$f":"IF(กรอกข้อมูล!AS244>กรอกข้อมูล!AO$2,\"\",ABS(M244-I$6))","v":""},"",{"$f":"IF(กรอกข้อมูล!AS244>กรอกข้อมูล!AO$2,\"\",N244*Q244)","v":""}]
["","","","","","",{"$nulls":6},{"$f":"IF(กรอกข้อมูล!AS245>กรอกข้อมูล!AO$2,\"\",กรอกข้อมูล!AS245)","v":""},{"$f":"IF(กรอกข้อมูล!AS245>กรอกข้อมูล!AO$2,\"\",กรอกข้อมูล!AT245)","v":""},{"$f":"IF(กรอกข้อมูล!AS245>กรอกข้อมูล!AO$2,\"\",กรอกข้อมูล!AU245)","v":""},{"$f":"IF(กรอกข้อมูล!AS245>กรอกข้อมูล!AO$2,\"\",N245*O245)","v":""},{"$f":"IF(กรอกข้อมูล!AS245>กรอกข้อมูล!AO$2,\"\",ABS(M245-I$6))","v":""},"",{"$f":"IF(กรอกข้อมูล!AS245>กรอกข้อมูล!AO$2,\"\",N245*Q245)","v":""}]
["","","","","","",{"$nulls":6},{"$f":"IF(กรอกข้อมูล!AS246>กรอกข้อมูล!AO$2,\"\",กรอกข้อมูล!AS246)","v":""},{"$f":"IF(กรอกข้อมูล!AS246>กรอกข้อมูล!AO$2,\"\",กรอกข้อมูล!AT246)","v":""},{"$f":"IF(กรอกข้อมูล!AS246>กรอกข้อมูล!AO$2,\"\",กรอกข้อมูล!AU246)","v":""},{"$f":"IF(กรอกข้อมูล!AS246>กรอกข้อมูล!AO$2,\"\",N246*O246)","v":""},{"$f":"IF(กรอกข้อมูล!AS246>กรอกข้อมูล!AO$2,\"\",ABS(M246-I$6))","v":""},"",{"$f":"IF(กรอกข้อมูล!AS246>กรอกข้อมูล!AO$2,\"\",N246*Q246)","v":""}]
["","","","","","",{"$nulls":6},{"$f":"IF(กรอกข้อมูล!AS247>กรอกข้อมูล!AO$2,\"\",กรอกข้อมูล!AS247)","v":""},{"$f":"IF(กรอกข้อมูล!AS247>กรอกข้อมูล!AO$2,\"\",กรอกข้อมูล!AT247)","v":""},{"$f":"IF(กรอกข้อมูล!AS247>กรอกข้อมูล!AO$2,\"\",กรอกข้อมูล!AU247)","v":""},{"$f":"IF(กรอกข้อมูล!AS247>กรอกข้อมูล!AO$2,\"\",N247*O247)","v":""},{"$f":"IF(กรอกข้อมูล!AS247>กรอกข้อมูล!AO$2,\"\",ABS(M247-I$6))","v":""},"",{"$f":"IF(กรอกข้อมูล!AS247>กรอกข้อมูล!AO$2,\"\",N247*Q247)","v":""}]
["","","","","","",{"$nulls":6},{"$f":"IF(กรอกข้อมูล!AS248>กรอกข้อมูล!AO$2,\"\",กรอกข้อมูล!AS248)","v":""},{"$f":"IF(กรอกข้อมูล!AS248>กรอกข้อมูล!AO$2,\"\",กรอกข้อมูล!AT248)","v":""},{"$f":"IF(กรอกข้อมูล!AS248>กรอกข้อมูล!AO$2,\"\",กรอกข้อมูล!AU248)","v":""},{"$f":"IF(กรอกข้อมูล!AS248>กรอกข้อมูล!AO$2,\"\",N248*O248)","v":""},{"$f":"IF(กรอกข้อมูล!AS248>กรอกข้อมูล!AO$2,\"\",ABS(M248-I$6))","v":""},"",{"$f":"IF(กรอกข้อมูล!AS248>กรอกข้อมูล!AO$2,\"\",N248*Q248)","v":""}]
["","","","","","",{"$nulls":6},{"$f":"IF(กรอกข้อมูล!AS249>กรอกข้อมูล!AO$2,\"\",กรอกข้อมูล!AS249)","v":""},{"$f":"IF(กรอกข้อมูล!AS249>กรอกข้อมูล!AO$2,\"\",กรอกข้อมูล!AT249)","v":""},{"$f":"IF(กรอกข้อมูล!AS249>กรอกข้อมูล!AO$2,\"\",กรอกข้อมูล!AU249)","v":""},{"$f":"IF(กรอกข้อมูล!AS249>กรอกข้อมูล!AO$2,\"\",N249*O249)","v":""},{"$f":"IF(กรอกข้อมูล!AS249>กรอกข้อมูล!AO$2,\"\",ABS(M249-I$6))","v":""},"",{"$f":"IF(กรอกข้อมูล!AS249>กรอกข้อมูล!AO$2,\"\",N249*Q249)","v":""}]
["","","","","","",{"$nulls":6},{"$f":"IF(กรอกข้อมูล!AS250>กรอกข้อมูล!AO$2,\"\",กรอกข้อมูล!AS250)","v":""},{"$f":"IF(กรอกข้อมูล!AS250>กรอกข้อมูล!AO$2,\"\",กรอกข้อมูล!AT250)","v":""},{"$f":"IF(กรอกข้อมูล!AS250>กรอกข้อมูล!AO$2,\"\",กรอกข้อมูล!AU250)","v":""},{"$f":"IF(กรอกข้อมูล!AS250>กรอกข้อมูล!AO$2,\"\",N250*O250)","v":""},{"$f":"IF(กรอกข้อมูล!AS250>กรอกข้อมูล!AO$2,\"\",ABS(M250-I$6))","v":""},"",{"$f":"IF(กรอกข้อมูล!AS250>กรอกข้อมูล!AO$2,\"\",N250*Q250)","v":""}]
["","","","","","",{"$nulls":6},{"$f":"IF(กรอกข้อมูล!AS251>กรอกข้อมูล!AO$2,\"\",กรอกข้อมูล!AS251)","v":""},{"$f":"IF(กรอกข้อมูล!AS251>กรอกข้อมูล!AO$2,\"\",กรอกข้อมูล!AT251)","v":""},{"$f":"IF(กรอกข้อมูล!AS251>กรอกข้อมูล!AO$2,\"\",กรอกข้อมูล!AU251)","v":""},{"$f":"IF(กรอกข้อมูล!AS251>กรอกข้อมูล!AO$2,\"\",N251*O251)","v":""},{"$f":"IF(กรอกข้อมูล!AS251>กรอกข้อมูล!AO$2,\"\",ABS(M251-I$6))","v":""},"",{"$f":"IF(กรอกข้อมูล!AS251>กรอกข้อมูล!AO$2,\"\",N251*Q251)","v":""}]
["","","","","","",{"$nulls":6},{"$f":"IF(กรอกข้อมูล!AS252>กรอกข้อมูล!AO$2,\"\",กรอกข้อมูล!AS252)","v":""},{"$f":"IF(กรอกข้อมูล!AS252>กรอกข้อมูล!AO$2,\"\",กรอกข้อมูล!AT252)","v":""},{"$f":"IF(กรอกข้อมูล!AS252>กรอกข้อมูล!AO$2,\"\",กรอกข้อมูล!AU252)","v":""},{"$f":"IF(กรอกข้อมูล!AS252>กรอกข้อมูล!AO$2,\"\",N252*O252)","v":""},{"$f":"IF(กรอกข้อมูล!AS252>กรอกข้อมูล!AO$2,\"\",ABS(M252-I$6))","v":""},"",{"$f":"IF(กรอกข้อมูล!AS252>กรอกข้อมูล!AO$2,\"\",N252*Q252)","v":""}]
["","","","","","",{"$nulls":6},{"$f":"IF(กรอกข้อมูล!AS253>กรอกข้อมูล!AO$2,\"\",กรอกข้อมูล!AS253)","v":""},{"$f":"IF(กรอกข้อมูล!AS253>กรอกข้อมูล!AO$2,\"\",กรอกข้อมูล!AT253)","v":""},{"$f":"IF(กรอกข้อมูล!AS253>กรอกข้อมูล!AO$2,\"\",กรอกข้อมูล!AU253)","v":""},{"$f":"IF(กรอกข้อมูล!AS253>กรอกข้อมูล!AO$2,\"\",N253*O253)","v":""},{"$f":"IF(กรอกข้อมูล!AS253>กรอกข้อมูล!AO$2,\"\",ABS(M253-I$6))","v":""},"",{"$f":"IF(กรอกข้อมูล!AS253>กรอกข้อมูล!AO$2,\"\",N253*Q253)","v":""}]
["","","","","","",{"$nulls":6},{"$f":"IF(กรอกข้อมูล!AS254>กรอกข้อมูล!AO$2,\"\",กรอกข้อมูล!AS254)","v":""},{"$f":"IF(กรอกข้อมูล!AS254>กรอกข้อมูล!AO$2,\"\",กรอกข้อมูล!AT254)","v":""},{"$f":"IF(กรอกข้อมูล!AS254>กรอกข้อมูล!AO$2,\"\",กรอกข้อมูล!AU254)","v":""},{"$f":"IF(กรอกข้อมูล!AS254>กรอกข้อมูล!AO$2,\"\",N254*O254)","v":""},{"$f":"IF(กรอกข้อมูล!AS254>กรอกข้อมูล!AO$2,\"\",ABS(M254-I$6))","v":""},"",{"$f":"IF(กรอกข้อมูล!AS254>กรอกข้อมูล!AO$2,\"\",N254*Q254)","v":""}]
["","","","","","",{"$nulls":6},{"$f":"IF(กรอกข้อมูล!AS255>กรอกข้อมูล!AO$2,\"\",กรอกข้อมูล!AS255)","v":""},{"$f":"IF(กรอกข้อมูล!AS255>กรอกข้อมูล!AO$2,\"\",กรอกข้อมูล!AT255)","v":""},{"$f":"IF(กรอกข้อมูล!AS255>กรอกข้อมูล!AO$2,\"\",กรอกข้อมูล!AU255)","v":""},{"$f":"IF(กรอกข้อมูล!AS255>กรอกข้อมูล!AO$2,\"\",N255*O255)","v":""},{"$f":"IF(กรอกข้อมูล!AS255>กรอกข้อมูล!AO$2,\"\",ABS(M255-I$6))","v":""},"",{"$f":"IF(กรอกข้อมูล!AS255>กรอกข้อมูล!AO$2,\"\",N255*Q255)","v":""}]
["","","","","","",{"$nulls":6},{"$f":"IF(กรอกข้อมูล!AS256>กรอกข้อมูล!AO$2,\"\",กรอกข้อมูล!AS256)","v":""},{"$f":"IF(กรอกข้อมูล!AS256>กรอกข้อมูล!AO$2,\"\",กรอกข้อมูล!AT256)","v":""},{"$f":"IF(กรอกข้อมูล!AS256>กรอกข้อมูล!AO$2,\"\",กรอกข้อมูล!AU256)","v":""},{"$f":"IF(กรอกข้อมูล!AS256>กรอกข้อมูล!AO$2,\"\",N256*O256)","v":""},{"$f":"IF(กรอกข้อมูล!AS256>กรอกข้อมูล!AO$2,\"\",ABS(M256-I$6))","v":""},"",{"$f":"IF(กรอกข้อมูล!AS256>กรอกข้อมูล!AO$2,\"\",N256*Q256)","v":""}]
["","","","","","",{"$nulls":6},{"$f":"IF(กรอกข้อมูล!AS257>กรอกข้อมูล!AO$2,\"\",กรอกข้อมูล!AS257)","v":""},{"$f":"IF(กรอกข้อมูล!AS257>กรอกข้อมูล!AO$2,\"\",กรอกข้อมูล!AT257)","v":""},{"$f":"IF(กรอกข้อมูล!AS257>กรอกข้อมูล!AO$2,\"\",กรอกข้อมูล!AU257)","v":""},{"$f":"IF(กรอกข้อมูล!AS257>กรอกข้อมูล!AO$2,\"\",N257*O257)","v":""},{"$f":"IF(กรอกข้อมูล!AS257>กรอกข้อมูล!AO$2,\"\",ABS(M257-I$6))","v":""},"",{"$f":"IF(กรอกข้อมูล!AS257>กรอกข้อมูล!AO$2,\"\",N257*Q257)","v":""}]
[{"$f":"M258","v":""},{"$f":"N258","v":""},{"$f":"O258","v":""},{"$f":"P258","v":""},{"$f":"R258","v":""},{"$f":"S258","v":""},{"$nulls":6},{"$f":"IF(กรอกข้อมูล!AS258>กรอกข้อมูล!AO$2,\"\",กรอกข้อมูล!AS258)","v":""},{"$f":"IF(กรอกข้อมูล!AS258>กรอกข้อมูล!AO$2,\"\",กรอกข้อมูล!AT258)","v":""},{"$f":"IF(กรอกข้อมูล!AS258>กรอกข้อมูล!AO$2,\"\",กรอกข้อมูล!AU258)","v":""},{"$f":"IF(กรอกข้อมูล!AS258>กรอกข้อมูล!AO$2,\"\",N258*O258)","v":""},{"$f":"IF(กรอกข้อมูล!AS258>กรอกข้อมูล!AO$2,\"\",ABS(M258-I$6))","v":""},"",{"$f":"IF(กรอกข้อมูล!AS258>กรอกข้อมูล!AO$2,\"\",N258*Q258)","v":""}]
["","","","","","",{"$nulls":6},{"$f":"IF(กรอกข้อมูล!AS259>กรอกข้อมูล!AO$2,\"\",กรอกข้อมูล!AS259)","v":""},{"$f":"IF(กรอกข้อมูล!AS259>กรอกข้อมูล!AO$2,\"\",กรอกข้อมูล!AT259)","v":""},{"$f":"IF(กรอกข้อมูล!AS259>กรอกข้อมูล!AO$2,\"\",กรอกข้อมูล!AU259)","v":""},{"$f":"IF(กรอกข้อมูล!AS259>กรอกข้อมูล!AO$2,\"\",N259*O259)","v":""},{"$f":"IF(กรอกข้อมูล!AS259>กรอกข้อมูล!AO$2,\"\",ABS(M259-I$6))","v":""},{"$f":"IF(N259=0,0,Q259)","v":""},{"$f":"IF(กรอกข้อมูล!AS259>กรอกข้อมูล!AO$2,\"\",N259*Q259)","v":""}]
["","","","","","",{"$nulls":6},{"$f":"IF(กรอกข้อมูล!AS260>กรอกข้อมูล!AO$2,\"\",กรอกข้อมูล!AS260)","v":""},{"$f":"IF(กรอกข้อมูล!AS260>กรอกข้อมูล!AO$2,\"\",กรอกข้อมูล!AT260)","v":""},{"$f":"IF(กรอกข้อมูล!AS260>กรอกข้อมูล!AO$2,\"\",กรอกข้อมูล!AU260)","v":""},{"$f":"IF(กรอกข้อมูล!AS260>กรอกข้อมูล!AO$2,\"\",N260*O260)","v":""},{"$f":"IF(กรอกข้อมูล!AS260>กรอกข้อมูล!AO$2,\"\",ABS(M260-I$6))","v":""},"",{"$f":"IF(กรอกข้อมูล!AS260>กรอกข้อมูล!AO$2,\"\",N260*Q260)","v":""}]
["","","","","","",{"$nulls":6},{"$f":"IF(กรอกข้อมูล!AS261>กรอกข้อมูล!AO$2,\"\",กรอกข้อมูล!AS261)","v":""},{"$f":"IF(กรอกข้อมูล!AS261>กรอกข้อมูล!AO$2,\"\",กรอกข้อมูล!AT261)","v":""},{"$f":"IF(กรอกข้อมูล!AS261>กรอกข้อมูล!AO$2,\"\",กรอกข้อมูล!AU261)","v":""},{"$f":"IF(กรอกข้อมูล!AS261>กรอกข้อมูล!AO$2,\"\",N261*O261)","v":""},{"$f":"IF(กรอกข้อมูล!AS261>กรอกข้อมูล!AO$2,\"\",ABS(M261-I$6))","v":""},"",{"$f":"IF(กรอกข้อมูล!AS261>กรอกข้อมูล!AO$2,\"\",N261*Q261)","v":""}]
["","","","","","",{"$nulls":6},{"$f":"IF(กรอกข้อมูล!AS262>กรอกข้อมูล!AO$2,\"\",กรอกข้อมูล!AS262)","v":""},{"$f":"IF(กรอกข้อมูล!AS262>กรอกข้อมูล!AO$2,\"\",กรอกข้อมูล!AT262)","v":""},{"$f":"IF(กรอกข้อมูล!AS262>กรอกข้อมูล!AO$2,\"\",กรอกข้อมูล!AU262)","v":""},{"$f":"IF(กรอกข้อมูล!AS262>กรอกข้อมูล!AO$2,\"\",N262*O262)","v":""},{"$f":"IF(กรอกข้อมูล!AS262>กรอกข้อมูล!AO$2,\"\",ABS(M262-I$6))","v":""},"",{"$f":"IF(กรอกข้อมูล!AS262>กรอกข้อมูล!AO$2,\"\",N262*Q262)","v":""}]
["","","","","","",{"$nulls":6},{"$f":"IF(กรอกข้อมูล!AS263>กรอกข้อมูล!AO$2,\"\",กรอกข้อมูล!AS263)","v":""},{"$f":"IF(กรอกข้อมูล!AS263>กรอกข้อมูล!AO$2,\"\",กรอกข้อมูล!AT263)","v":""},{"$f":"IF(กรอกข้อมูล!AS263>กรอกข้อมูล!AO$2,\"\",กรอกข้อมูล!AU263)","v":""},{"$f":"IF(กรอกข้อมูล!AS263>กรอกข้อมูล!AO$2,\"\",N263*O263)","v":""},{"$f":"IF(กรอกข้อมูล!AS263>กรอกข้อมูล!AO$2,\"\",ABS(M263-I$6))","v":""},"",{"$f":"IF(กรอกข้อมูล!AS263>กรอกข้อมูล!AO$2,\"\",N263*Q263)","v":""}]
["","","","","","",{"$nulls":6},{"$f":"IF(กรอกข้อมูล!AS264>กรอกข้อมูล!AO$2,\"\",กรอกข้อมูล!AS264)","v":""},{"$f":"IF(กรอกข้อมูล!AS264>กรอกข้อมูล!AO$2,\"\",กรอกข้อมูล!AT264)","v":""},{"$f":"IF(กรอกข้อมูล!AS264>กรอกข้อมูล!AO$2,\"\",กรอกข้อมูล!AU264)","v":""},{"$f":"IF(กรอกข้อมูล!AS264>กรอกข้อมูล!AO$2,\"\",N264*O264)","v":""},{"$f":"IF(กรอกข้อมูล!AS264>กรอกข้อมูล!AO$2,\"\",ABS(M264-I$6))","v":""},"",{"$f":"IF(กรอกข้อมูล!AS264>กรอกข้อมูล!AO$2,\"\",N264*Q264)","v":""}]
["","","","","","",{"$nulls":6},{"$f":"IF(กรอกข้อมูล!AS265>กรอกข้อมูล!AO$2,\"\",กรอกข้อมูล!AS265)","v":""},{"$f":"IF(กรอกข้อมูล!AS265>กรอกข้อมูล!AO$2,\"\",กรอกข้อมูล!AT265)","v":""},{"$f":"IF(กรอกข้อมูล!AS265>กรอกข้อมูล!AO$2,\"\",กรอกข้อมูล!AU265)","v":""},{"$f":"IF(กรอกข้อมูล!AS265>กรอกข้อมูล!AO$2,\"\",N265*O265)","v":""},{"$f":"IF(กรอกข้อมูล!AS265>กรอกข้อมูล!AO$2,\"\",ABS(M265-I$6))","v":""},"",{"$f":"IF(กรอกข้อมูล!AS265>กรอกข้อมูล!AO$2,\"\",N265*Q265)","v":""}]
["","","","","","",{"$nulls":6},{"$f":"IF(กรอกข้อมูล!AS266>กรอกข้อมูล!AO$2,\"\",กรอกข้อมูล!AS266)","v":""},{"$f":"IF(กรอกข้อมูล!AS266>กรอกข้อมูล!AO$2,\"\",กรอกข้อมูล!AT266)","v":""},{"$f":"IF(กรอกข้อมูล!AS266>กรอกข้อมูล!AO$2,\"\",กรอกข้อมูล!AU266)","v":""},{"$f":"IF(กรอกข้อมูล!AS266>กรอกข้อมูล!AO$2,\"\",N266*O266)","v":""},{"$f":"IF(กรอกข้อมูล!AS266>กรอกข้อมูล!AO$2,\"\",ABS(M266-I$6))","v":""},"",{"$f":"IF(กรอกข้อมูล!AS266>กรอกข้อมูล!AO$2,\"\",N266*Q266)","v":""}]
["","","","","","",{"$nulls":6},{"$f":"IF(กรอกข้อมูล!AS267>กรอกข้อมูล!AO$2,\"\",กรอกข้อมูล!AS267)","v":""},{"$f":"IF(กรอกข้อมูล!AS267>กรอกข้อมูล!AO$2,\"\",กรอกข้อมูล!AT267)","v":""},{"$f":"IF(กรอกข้อมูล!AS267>กรอกข้อมูล!AO$2,\"\",กรอกข้อมูล!AU267)","v":""},{"$f":"IF(กรอกข้อมูล!AS267>กรอกข้อมูล!AO$2,\"\",N267*O267)","v":""},{"$f":"IF(กรอกข้อมูล!AS267>กรอกข้อมูล!AO$2,\"\",ABS(M267-I$6))","v":""},"",{"$f":"IF(กรอกข้อมูล!AS267>กรอกข้อมูล!AO$2,\"\",N267*Q267)","v":""}]
["","","","","","",{"$nulls":6},{"$f":"IF(กรอกข้อมูล!AS268>กรอกข้อมูล!AO$2,\"\",กรอกข้อมูล!AS268)","v":""},{"$f":"IF(กรอกข้อมูล!AS268>กรอกข้อมูล!AO$2,\"\",กรอกข้อมูล!AT268)","v":""},{"$f":"IF(กรอกข้อมูล!AS268>กรอกข้อมูล!AO$2,\"\",กรอกข้อมูล!AU268)","v":""},{"$f":"IF(กรอกข้อมูล!AS268>กรอกข้อมูล!AO$2,\"\",N268*O268)","v":""},{"$f":"IF(กรอกข้อมูล!AS268>กรอกข้อมูล!AO$2,\"\",ABS(M268-I$6))","v":""},"",{"$f":"IF(กรอกข้อมูล!AS268>กรอกข้อมูล!AO$2,\"\",N268*Q268)","v":""}]
["","","","","","",{"$nulls":6},{"$f":"IF(กรอกข้อมูล!AS269>กรอกข้อมูล!AO$2,\"\",กรอกข้อมูล!AS269)","v":""},{"$f":"IF(กรอกข้อมูล!AS269>กรอกข้อมูล!AO$2,\"\",กรอกข้อมูล!AT269)","v":""},{"$f":"IF(กรอกข้อมูล!AS269>กรอกข้อมูล!AO$2,\"\",กรอกข้อมูล!AU269)","v":""},{"$f":"IF(กรอกข้อมูล!AS269>กรอกข้อมูล!AO$2,\"\",N269*O269)","v":""},{"$f":"IF(กรอกข้อมูล!AS269>กรอกข้อมูล!AO$2,\"\",ABS(M269-I$6))","v":""},"",{"$f":"IF(กรอกข้อมูล!AS269>กรอกข้อมูล!AO$2,\"\",N269*Q269)","v":""}]
["","","","","","",{"$nulls":6},{"$f":"IF(กรอกข้อมูล!AS270>กรอกข้อมูล!AO$2,\"\",กรอกข้อมูล!AS270)","v":""},{"$f":"IF(กรอกข้อมูล!AS270>กรอกข้อมูล!AO$2,\"\",กรอกข้อมูล!AT270)","v":""},{"$f":"IF(กรอกข้อมูล!AS270>กรอกข้อมูล!AO$2,\"\",กรอกข้อมูล!AU270)","v":""},{"$f":"IF(กรอกข้อมูล!AS270>กรอกข้อมูล!AO$2,\"\",N270*O270)","v":""},{"$f":"IF(กรอกข้อมูล!AS270>กรอกข้อมูล!AO$2,\"\",ABS(M270-I$6))","v":""},"",{"$f":"IF(กรอกข้อมูล!AS270>กรอกข้อมูล!AO$2,\"\",N270*Q270)","v":""}]
["","","","","","",{"$nulls":6},{"$f":"IF(กรอกข้อมูล!AS271>กรอกข้อมูล!AO$2,\"\",กรอกข้อมูล!AS271)","v":""},{"$f":"IF(กรอกข้อมูล!AS271>กรอกข้อมูล!AO$2,\"\",กรอกข้อมูล!AT271)","v":""},{"$f":"IF(กรอกข้อมูล!AS271>กรอกข้อมูล!AO$2,\"\",กรอกข้อมูล!AU271)","v":""},{"$f":"IF(กรอกข้อมูล!AS271>กรอกข้อมูล!AO$2,\"\",N271*O271)","v":""},{"$f":"IF(กรอกข้อมูล!AS271>กรอกข้อมูล!AO$2,\"\",ABS(M271-I$6))","v":""},"",{"$f":"IF(กรอกข้อมูล!AS271>กรอกข้อมูล!AO$2,\"\",N271*Q271)","v":""}]
["","","","","","",{"$nulls":6},{"$f":"IF(กรอกข้อมูล!AS272>กรอกข้อมูล!AO$2,\"\",กรอกข้อมูล!AS272)","v":""},{"$f":"IF(กรอกข้อมูล!AS272>กรอกข้อมูล!AO$2,\"\",กรอกข้อมูล!AT272)","v":""},{"$f":"IF(กรอกข้อมูล!AS272>กรอกข้อมูล!AO$2,\"\",กรอกข้อมูล!AU272)","v":""},{"$f":"IF(กรอกข้อมูล!AS272>กรอกข้อมูล!AO$2,\"\",N272*O272)","v":""},{"$f":"IF(กรอกข้อมูล!AS272>กรอกข้อมูล!AO$2,\"\",ABS(M272-I$6))","v":""},"",{"$f":"IF(กรอกข้อมูล!AS272>กรอกข้อมูล!AO$2,\"\",N272*Q272)","v":""}]
["","","","","","",{"$nulls":6},{"$f":"IF(กรอกข้อมูล!AS273>กรอกข้อมูล!AO$2,\"\",กรอกข้อมูล!AS273)","v":""},{"$f":"IF(กรอกข้อมูล!AS273>กรอกข้อมูล!AO$2,\"\",กรอกข้อมูล!AT273)","v":""},{"$f":"IF(กรอกข้อมูล!AS273>กรอกข้อมูล!AO$2,\"\",กรอกข้อมูล!AU273)","v":""},{"$f":"IF(กรอกข้อมูล!AS273>กรอกข้อมูล!AO$2,\"\",N273*O273)","v":""},{"$f":"IF(กรอกข้อมูล!AS273>กรอกข้อมูล!AO$2,\"\",ABS(M273-I$6))","v":""},"",{"$f":"IF(กรอกข้อมูล!AS273>กรอกข้อมูล!AO$2,\"\",N273*Q273)","v":""}]
["","","","","","",{"$nulls":6},{"$f":"IF(กรอกข้อมูล!AS274>กรอกข้อมูล!AO$2,\"\",กรอกข้อมูล!AS274)","v":""},{"$f":"IF(กรอกข้อมูล!AS274>กรอกข้อมูล!AO$2,\"\",กรอกข้อมูล!AT274)","v":""},{"$f":"IF(กรอกข้อมูล!AS274>กรอกข้อมูล!AO$2,\"\",กรอกข้อมูล!AU274)","v":""},{"$f":"IF(กรอกข้อมูล!AS274>กรอกข้อมูล!AO$2,\"\",N274*O274)","v":""},{"$f":"IF(กรอกข้อมูล!AS274>กรอกข้อมูล!AO$2,\"\",ABS(M274-I$6))","v":""},"",{"$f":"IF(กรอกข้อมูล!AS274>กรอกข้อมูล!AO$2,\"\",N274*Q274)","v":""}]
["","","","","","",{"$nulls":6},{"$f":"IF(กรอกข้อมูล!AS275>กรอกข้อมูล!AO$2,\"\",กรอกข้อมูล!AS275)","v":""},{"$f":"IF(กรอกข้อมูล!AS275>กรอกข้อมูล!AO$2,\"\",กรอกข้อมูล!AT275)","v":""},{"$f":"IF(กรอกข้อมูล!AS275>กรอกข้อมูล!AO$2,\"\",กรอกข้อมูล!AU275)","v":""},{"$f":"IF(กรอกข้อมูล!AS275>กรอกข้อมูล!AO$2,\"\",N275*O275)","v":""},{"$f":"IF(กรอกข้อมูล!AS275>กรอกข้อมูล!AO$2,\"\",ABS(M275-I$6))","v":""},"",{"$f":"IF(กรอกข้อมูล!AS275>กรอกข้อมูล!AO$2,\"\",N275*Q275)","v":""}]
["","","","","","",{"$nulls":6},{"$f":"IF(กรอกข้อมูล!AS276>กรอกข้อมูล!AO$2,\"\",กรอกข้อมูล!AS276)","v":""},{"$f":"IF(กรอกข้อมูล!AS276>กรอกข้อมูล!AO$2,\"\",กรอกข้อมูล!AT276)","v":""},{"$f":"IF(กรอกข้อมูล!AS276>กรอกข้อมูล!AO$2,\"\",กรอกข้อมูล!AU276)","v":""},{"$f":"IF(กรอกข้อมูล!AS276>กรอกข้อมูล!AO$2,\"\",N276*O276)","v":""},{"$f":"IF(กรอกข้อมูล!AS276>กรอกข้อมูล!AO$2,\"\",ABS(M276-I$6))","v":""},"",{"$f":"IF(กรอกข้อมูล!AS276>กรอกข้อมูล!AO$2,\"\",N276*Q276)","v":""}]
["","","","","","",{"$nulls":6},{"$f":"IF(กรอกข้อมูล!AS277>กรอกข้อมูล!AO$2,\"\",กรอกข้อมูล!AS277)","v":""},{"$f":"IF(กรอกข้อมูล!AS277>กรอกข้อมูล!AO$2,\"\",กรอกข้อมูล!AT277)","v":""},{"$f":"IF(กรอกข้อมูล!AS277>กรอกข้อมูล!AO$2,\"\",กรอกข้อมูล!AU277)","v":""},{"$f":"IF(กรอกข้อมูล!AS277>กรอกข้อมูล!AO$2,\"\",N277*O277)","v":""},{"$f":"IF(กรอกข้อมูล!AS277>กรอกข้อมูล!AO$2,\"\",ABS(M277-I$6))","v":""},"",{"$f":"IF(กรอกข้อมูล!AS277>กรอกข้อมูล!AO$2,\"\",N277*Q277)","v":""}]
["","","","","","",{"$nulls":6},{"$f":"IF(กรอกข้อมูล!AS278>กรอกข้อมูล!AO$2,\"\",กรอกข้อมูล!AS278)","v":""},{"$f":"IF(กรอกข้อมูล!AS278>กรอกข้อมูล!AO$2,\"\",กรอกข้อมูล!AT278)","v":""},{"$f":"IF(กรอกข้อมูล!AS278>กรอกข้อมูล!AO$2,\"\",กรอกข้อมูล!AU278)","v":""},{"$f":"IF(กรอกข้อมูล!AS278>กรอกข้อมูล!AO$2,\"\",N278*O278)","v":""},{"$f":"IF(กรอกข้อมูล!AS278>กรอกข้อมูล!AO$2,\"\",ABS(M278-I$6))","v":""},"",{"$f":"IF(กรอกข้อมูล!AS278>กรอกข้อมูล!AO$2,\"\",N278*Q278)","v":""}]
["","","","","","",{"$nulls":6},{"$f":"IF(กรอกข้อมูล!AS279>กรอกข้อมูล!AO$2,\"\",กรอกข้อมูล!AS279)","v":""},{"$f":"IF(กรอกข้อมูล!AS279>กรอกข้อมูล!AO$2,\"\",กรอกข้อมูล!AT279)","v":""},{"$f":"IF(กรอกข้อมูล!AS279>กรอกข้อมูล!AO$2,\"\",กรอกข้อมูล!AU279)","v":""},{"$f":"IF(กรอกข้อมูล!AS279>กรอกข้อมูล!AO$2,\"\",N279*O279)","v":""},{"$f":"IF(กรอกข้อมูล!AS279>กรอกข้อมูล!AO$2,\"\",ABS(M279-I$6))","v":""},"",{"$f":"IF(กรอกข้อมูล!AS279>กรอกข้อมูล!AO$2,\"\",N279*Q279)","v":""}]
["","","","","","",{"$nulls":6},{"$f":"IF(กรอกข้อมูล!AS280>กรอกข้อมูล!AO$2,\"\",กรอกข้อมูล!AS280)","v":""},{"$f":"IF(กรอกข้อมูล!AS280>กรอกข้อมูล!AO$2,\"\",กรอกข้อมูล!AT280)","v":""},{"$f":"IF(กรอกข้อมูล!AS280>กรอกข้อมูล!AO$2,\"\",กรอกข้อมูล!AU280)","v":""},{"$f":"IF(กรอกข้อมูล!AS280>กรอกข้อมูล!AO$2,\"\",N280*O280)","v":""},{"$f":"IF(กรอกข้อมูล!AS280>กรอกข้อมูล!AO$2,\"\",ABS(M280-I$6))","v":""},"",{"$f":"IF(กรอกข้อมูล!AS280>กรอกข้อมูล!AO$2,\"\",N280*Q280)","v":""}]
["","","","","","",{"$nulls":6},{"$f":"IF(กรอกข้อมูล!AS281>กรอกข้อมูล!AO$2,\"\",กรอกข้อมูล!AS281)","v":""},{"$f":"IF(กรอกข้อมูล!AS281>กรอกข้อมูล!AO$2,\"\",กรอกข้อมูล!AT281)","v":""},{"$f":"IF(กรอกข้อมูล!AS281>กรอกข้อมูล!AO$2,\"\",กรอกข้อมูล!AU281)","v":""},{"$f":"IF(กรอกข้อมูล!AS281>กรอกข้อมูล!AO$2,\"\",N281*O281)","v":""},{"$f":"IF(กรอกข้อมูล!AS281>กรอกข้อมูล!AO$2,\"\",ABS(M281-I$6))","v":""},"",{"$f":"IF(กรอกข้อมูล!AS281>กรอกข้อมูล!AO$2,\"\",N281*Q281)","v":""}]
["","","","","","",{"$nulls":6},{"$f":"IF(กรอกข้อมูล!AS282>กรอกข้อมูล!AO$2,\"\",กรอกข้อมูล!AS282)","v":""},{"$f":"IF(กรอกข้อมูล!AS282>กรอกข้อมูล!AO$2,\"\",กรอกข้อมูล!AT282)","v":""},{"$f":"IF(กรอกข้อมูล!AS282>กรอกข้อมูล!AO$2,\"\",กรอกข้อมูล!AU282)","v":""},{"$f":"IF(กรอกข้อมูล!AS282>กรอกข้อมูล!AO$2,\"\",N282*O282)","v":""},{"$f":"IF(กรอกข้อมูล!AS282>กรอกข้อมูล!AO$2,\"\",ABS(M282-I$6))","v":""},"",{"$f":"IF(กรอกข้อมูล!AS282>กรอกข้อมูล!AO$2,\"\",N282*Q282)","v":""}]
["","","","","","",{"$nulls":6},{"$f":"IF(กรอกข้อมูล!AS283>กรอกข้อมูล!AO$2,\"\",กรอกข้อมูล!AS283)","v":""},{"$f":"IF(กรอกข้อมูล!AS283>กรอกข้อมูล!AO$2,\"\",กรอกข้อมูล!AT283)","v":""},{"$f":"IF(กรอกข้อมูล!AS283>กรอกข้อมูล!AO$2,\"\",กรอกข้อมูล!AU283)","v":""},{"$f":"IF(กรอกข้อมูล!AS283>กรอกข้อมูล!AO$2,\"\",N283*O283)","v":""},{"$f":"IF(กรอกข้อมูล!AS283>กรอกข้อมูล!AO$2,\"\",ABS(M283-I$6))","v":""},"",{"$f":"IF(กรอกข้อมูล!AS283>กรอกข้อมูล!AO$2,\"\",N283*Q283)","v":""}]
["","","","","","",{"$nulls":6},{"$f":"IF(กรอกข้อมูล!AS284>กรอกข้อมูล!AO$2,\"\",กรอกข้อมูล!AS284)","v":""},{"$f":"IF(กรอกข้อมูล!AS284>กรอกข้อมูล!AO$2,\"\",กรอกข้อมูล!AT284)","v":""},{"$f":"IF(กรอกข้อมูล!AS284>กรอกข้อมูล!AO$2,\"\",กรอกข้อมูล!AU284)","v":""},{"$f":"IF(กรอกข้อมูล!AS284>กรอกข้อมูล!AO$2,\"\",N284*O284)","v":""},{"$f":"IF(กรอกข้อมูล!AS284>กรอกข้อมูล!AO$2,\"\",ABS(M284-I$6))","v":""},"",{"$f":"IF(กรอกข้อมูล!AS284>กรอกข้อมูล!AO$2,\"\",N284*Q284)","v":""}]
["","","","","","",{"$nulls":6},{"$f":"IF(กรอกข้อมูล!AS285>กรอกข้อมูล!AO$2,\"\",กรอกข้อมูล!AS285)","v":""},{"$f":"IF(กรอกข้อมูล!AS285>กรอกข้อมูล!AO$2,\"\",กรอกข้อมูล!AT285)","v":""},{"$f":"IF(กรอกข้อมูล!AS285>กรอกข้อมูล!AO$2,\"\",กรอกข้อมูล!AU285)","v":""},{"$f":"IF(กรอกข้อมูล!AS285>กรอกข้อมูล!AO$2,\"\",N285*O285)","v":""},{"$f":"IF(กรอกข้อมูล!AS285>กรอกข้อมูล!AO$2,\"\",ABS(M285-I$6))","v":""},"",{"$f":"IF(กรอกข้อมูล!AS285>กรอกข้อมูล!AO$2,\"\",N285*Q285)","v":""}]
["","","","","","",{"$nulls":6},{"$f":"IF(กรอกข้อมูล!AS286>กรอกข้อมูล!AO$2,\"\",กรอกข้อมูล!AS286)","v":""},{"$f":"IF(กรอกข้อมูล!AS286>กรอกข้อมูล!AO$2,\"\",กรอกข้อมูล!AT286)","v":""},{"$f":"IF(กรอกข้อมูล!AS286>กรอกข้อมูล!AO$2,\"\",กรอกข้อมูล!AU286)","v":""},{"$f":"IF(กรอกข้อมูล!AS286>กรอกข้อมูล!AO$2,\"\",N286*O286)","v":""},{"$f":"IF(กรอกข้อมูล!AS286>กรอกข้อมูล!AO$2,\"\",ABS(M286-I$6))","v":""},"",{"$f":"IF(กรอกข้อมูล!AS286>กรอกข้อมูล!AO$2,\"\",N286*Q286)","v":""}]
["","","","","","",{"$nulls":6},{"$f":"IF(กรอกข้อมูล!AS287>กรอกข้อมูล!AO$2,\"\",กรอกข้อมูล!AS287)","v":""},{"$f":"IF(กรอกข้อมูล!AS287>กรอกข้อมูล!AO$2,\"\",กรอกข้อมูล!AT287)","v":""},{"$f":"IF(กรอกข้อมูล!AS287>กรอกข้อมูล!AO$2,\"\",กรอกข้อมูล!AU287)","v":""},{"$f":"IF(กรอกข้อมูล!AS287>กรอกข้อมูล!AO$2,\"\",N287*O287)","v":""},{"$f":"IF(กรอกข้อมูล!AS287>กรอกข้อมูล!AO$2,\"\",ABS(M287-I$6))","v":""},"",{"$f":"IF(กรอกข้อมูล!AS287>กรอกข้อมูล!AO$2,\"\",N287*Q287)","v":""}]
["","","","","","",{"$nulls":6},{"$f":"IF(กรอกข้อมูล!AS288>กรอกข้อมูล!AO$2,\"\",กรอกข้อมูล!AS288)","v":""},{"$f":"IF(กรอกข้อมูล!AS288>กรอกข้อมูล!AO$2,\"\",กรอกข้อมูล!AT288)","v":""},{"$f":"IF(กรอกข้อมูล!AS288>กรอกข้อมูล!AO$2,\"\",กรอกข้อมูล!AU288)","v":""},{"$f":"IF(กรอกข้อมูล!AS288>กรอกข้อมูล!AO$2,\"\",N288*O288)","v":""},{"$f":"IF(กรอกข้อมูล!AS288>กรอกข้อมูล!AO$2,\"\",ABS(M288-I$6))","v":""},"",{"$f":"IF(กรอกข้อมูล!AS288>กรอกข้อมูล!AO$2,\"\",N288*Q288)","v":""}]
["","","","","","",{"$nulls":6},{"$f":"IF(กรอกข้อมูล!AS289>กรอกข้อมูล!AO$2,\"\",กรอกข้อมูล!AS289)","v":""},{"$f":"IF(กรอกข้อมูล!AS289>กรอกข้อมูล!AO$2,\"\",กรอกข้อมูล!AT289)","v":""},{"$f":"IF(กรอกข้อมูล!AS289>กรอกข้อมูล!AO$2,\"\",กรอกข้อมูล!AU289)","v":""},{"$f":"IF(กรอกข้อมูล!AS289>กรอกข้อมูล!AO$2,\"\",N289*O289)","v":""},{"$f":"IF(กรอกข้อมูล!AS289>กรอกข้อมูล!AO$2,\"\",ABS(M289-I$6))","v":""},"",{"$f":"IF(กรอกข้อมูล!AS289>กรอกข้อมูล!AO$2,\"\",N289*Q289)","v":""}]
["","","","","","",{"$nulls":6},{"$f":"IF(กรอกข้อมูล!AS290>กรอกข้อมูล!AO$2,\"\",กรอกข้อมูล!AS290)","v":""},{"$f":"IF(กรอกข้อมูล!AS290>กรอกข้อมูล!AO$2,\"\",กรอกข้อมูล!AT290)","v":""},{"$f":"IF(กรอกข้อมูล!AS290>กรอกข้อมูล!AO$2,\"\",กรอกข้อมูล!AU290)","v":""},{"$f":"IF(กรอกข้อมูล!AS290>กรอกข้อมูล!AO$2,\"\",N290*O290)","v":""},{"$f":"IF(กรอกข้อมูล!AS290>กรอกข้อมูล!AO$2,\"\",ABS(M290-I$6))","v":""},"",{"$f":"IF(กรอกข้อมูล!AS290>กรอกข้อมูล!AO$2,\"\",N290*Q290)","v":""}]
["","","","","","",{"$nulls":6},{"$f":"IF(กรอกข้อมูล!AS291>กรอกข้อมูล!AO$2,\"\",กรอกข้อมูล!AS291)","v":""},{"$f":"IF(กรอกข้อมูล!AS291>กรอกข้อมูล!AO$2,\"\",กรอกข้อมูล!AT291)","v":""},{"$f":"IF(กรอกข้อมูล!AS291>กรอกข้อมูล!AO$2,\"\",กรอกข้อมูล!AU291)","v":""},{"$f":"IF(กรอกข้อมูล!AS291>กรอกข้อมูล!AO$2,\"\",N291*O291)","v":""},{"$f":"IF(กรอกข้อมูล!AS291>กรอกข้อมูล!AO$2,\"\",ABS(M291-I$6))","v":""},"",{"$f":"IF(กรอกข้อมูล!AS291>กรอกข้อมูล!AO$2,\"\",N291*Q291)","v":""}]
["","","","","","",{"$nulls":6},{"$f":"IF(กรอกข้อมูล!AS292>กรอกข้อมูล!AO$2,\"\",กรอกข้อมูล!AS292)","v":""},{"$f":"IF(กรอกข้อมูล!AS292>กรอกข้อมูล!AO$2,\"\",กรอกข้อมูล!AT292)","v":""},{"$f":"IF(กรอกข้อมูล!AS292>กรอกข้อมูล!AO$2,\"\",กรอกข้อมูล!AU292)","v":""},{"$f":"IF(กรอกข้อมูล!AS292>กรอกข้อมูล!AO$2,\"\",N292*O292)","v":""},{"$f":"IF(กรอกข้อมูล!AS292>กรอกข้อมูล!AO$2,\"\",ABS(M292-I$6))","v":""},"",{"$f":"IF(กรอกข้อมูล!AS292>กรอกข้อมูล!AO$2,\"\",N292*Q292)","v":""}]
["","","","","","",{"$nulls":6},{"$f":"IF(กรอกข้อมูล!AS293>กรอกข้อมูล!AO$2,\"\",กรอกข้อมูล!AS293)","v":""},{"$f":"IF(กรอกข้อมูล!AS293>กรอกข้อมูล!AO$2,\"\",กรอกข้อมูล!AT293)","v":""},{"$f":"IF(กรอกข้อมูล!AS293>กรอกข้อมูล!AO$2,\"\",กรอกข้อมูล!AU293)","v":""},{"$f":"IF(กรอกข้อมูล!AS293>กรอกข้อมูล!AO$2,\"\",N293*O293)","v":""},{"$f":"IF(กรอกข้อมูล!AS293>กรอกข้อมูล!AO$2,\"\",ABS(M293-I$6))","v":""},"",{"$f":"IF(กรอกข้อมูล!AS293>กรอกข้อมูล!AO$2,\"\",N293*Q293)","v":""}]
["","","","","","",{"$nulls":6},{"$f":"IF(กรอกข้อมูล!AS294>กรอกข้อมูล!AO$2,\"\",กรอกข้อมูล!AS294)","v":""},{"$f":"IF(กรอกข้อมูล!AS294>กรอกข้อมูล!AO$2,\"\",กรอกข้อมูล!AT294)","v":""},{"$f":"IF(กรอกข้อมูล!AS294>กรอกข้อมูล!AO$2,\"\",กรอกข้อมูล!AU294)","v":""},{"$f":"IF(กรอกข้อมูล!AS294>กรอกข้อมูล!AO$2,\"\",N294*O294)","v":""},{"$f":"IF(กรอกข้อมูล!AS294>กรอกข้อมูล!AO$2,\"\",ABS(M294-I$6))","v":""},"",{"$f":"IF(กรอกข้อมูล!AS294>กรอกข้อมูล!AO$2,\"\",N294*Q294)","v":""}]
["","","","","","",{"$nulls":6},{"$f":"IF(กรอกข้อมูล!AS295>กรอกข้อมูล!AO$2,\"\",กรอกข้อมูล!AS295)","v":""},{"$f":"IF(กรอกข้อมูล!AS295>กรอกข้อมูล!AO$2,\"\",กรอกข้อมูล!AT295)","v":""},{"$f":"IF(กรอกข้อมูล!AS295>กรอกข้อมูล!AO$2,\"\",กรอกข้อมูล!AU295)","v":""},{"$f":"IF(กรอกข้อมูล!AS295>กรอกข้อมูล!AO$2,\"\",N295*O295)","v":""},{"$f":"IF(กรอกข้อมูล!AS295>กรอกข้อมูล!AO$2,\"\",ABS(M295-I$6))","v":""},"",{"$f":"IF(กรอกข้อมูล!AS295>กรอกข้อมูล!AO$2,\"\",N295*Q295)","v":""}]
["","","","","","",{"$nulls":6},{"$f":"IF(กรอกข้อมูล!AS296>กรอกข้อมูล!AO$2,\"\",กรอกข้อมูล!AS296)","v":""},{"$f":"IF(กรอกข้อมูล!AS296>กรอกข้อมูล!AO$2,\"\",กรอกข้อมูล!AT296)","v":""},{"$f":"IF(กรอกข้อมูล!AS296>กรอกข้อมูล!AO$2,\"\",กรอกข้อมูล!AU296)","v":""},{"$f":"IF(กรอกข้อมูล!AS296>กรอกข้อมูล!AO$2,\"\",N296*O296)","v":""},{"$f":"IF(กรอกข้อมูล!AS296>กรอกข้อมูล!AO$2,\"\",ABS(M296-I$6))","v":""},"",{"$f":"IF(กรอกข้อมูล!AS296>กรอกข้อมูล!AO$2,\"\",N296*Q296)","v":""}]
["","","","","","",{"$nulls":6},{"$f":"IF(กรอกข้อมูล!AS297>กรอกข้อมูล!AO$2,\"\",กรอกข้อมูล!AS297)","v":""},{"$f":"IF(กรอกข้อมูล!AS297>กรอกข้อมูล!AO$2,\"\",กรอกข้อมูล!AT297)","v":""},{"$f":"IF(กรอกข้อมูล!AS297>กรอกข้อมูล!AO$2,\"\",กรอกข้อมูล!AU297)","v":""},{"$f":"IF(กรอกข้อมูล!AS297>กรอกข้อมูล!AO$2,\"\",N297*O297)","v":""},{"$f":"IF(กรอกข้อมูล!AS297>กรอกข้อมูล!AO$2,\"\",ABS(M297-I$6))","v":""},"",{"$f":"IF(กรอกข้อมูล!AS297>กรอกข้อมูล!AO$2,\"\",N297*Q297)","v":""}]
["","","","","","",{"$nulls":6},{"$f":"IF(กรอกข้อมูล!AS298>กรอกข้อมูล!AO$2,\"\",กรอกข้อมูล!AS298)","v":""},{"$f":"IF(กรอกข้อมูล!AS298>กรอกข้อมูล!AO$2,\"\",กรอกข้อมูล!AT298)","v":""},{"$f":"IF(กรอกข้อมูล!AS298>กรอกข้อมูล!AO$2,\"\",กรอกข้อมูล!AU298)","v":""},{"$f":"IF(กรอกข้อมูล!AS298>กรอกข้อมูล!AO$2,\"\",N298*O298)","v":""},{"$f":"IF(กรอกข้อมูล!AS298>กรอกข้อมูล!AO$2,\"\",ABS(M298-I$6))","v":""},"",{"$f":"IF(กรอกข้อมูล!AS298>กรอกข้อมูล!AO$2,\"\",N298*Q298)","v":""}]
["","","","","","",{"$nulls":6},{"$f":"IF(กรอกข้อมูล!AS299>กรอกข้อมูล!AO$2,\"\",กรอกข้อมูล!AS299)","v":""},{"$f":"IF(กรอกข้อมูล!AS299>กรอกข้อมูล!AO$2,\"\",กรอกข้อมูล!AT299)","v":""},{"$f":"IF(กรอกข้อมูล!AS299>กรอกข้อมูล!AO$2,\"\",กรอกข้อมูล!AU299)","v":""},{"$f":"IF(กรอกข้อมูล!AS299>กรอกข้อมูล!AO$2,\"\",N299*O299)","v":""},{"$f":"IF(กรอกข้อมูล!AS299>กรอกข้อมูล!AO$2,\"\",ABS(M299-I$6))","v":""},"",{"$f":"IF(กรอกข้อมูล!AS299>กรอกข้อมูล!AO$2,\"\",N299*Q299)","v":""}]
["","","","","","",{"$nulls":6},{"$f":"IF(กรอกข้อมูล!AS300>กรอกข้อมูล!AO$2,\"\",กรอกข้อมูล!AS300)","v":""},{"$f":"IF(กรอกข้อมูล!AS300>กรอกข้อมูล!AO$2,\"\",กรอกข้อมูล!AT300)","v":""},{"$f":"IF(กรอกข้อมูล!AS300>กรอกข้อมูล!AO$2,\"\",กรอกข้อมูล!AU300)","v":""},{"$f":"IF(กรอกข้อมูล!AS300>กรอกข้อมูล!AO$2,\"\",N300*O300)","v":""},{"$f":"IF(กรอกข้อมูล!AS300>กรอกข้อมูล!AO$2,\"\",ABS(M300-I$6))","v":""},"",{"$f":"IF(กรอกข้อมูล!AS300>กรอกข้อมูล!AO$2,\"\",N300*Q300)","v":""}]
["","","","","","",{"$nulls":6},{"$f":"IF(กรอกข้อมูล!AS301>กรอกข้อมูล!AO$2,\"\",กรอกข้อมูล!AS301)","v":""},{"$f":"IF(กรอกข้อมูล!AS301>กรอกข้อมูล!AO$2,\"\",กรอกข้อมูล!AT301)","v":""},{"$f":"IF(กรอกข้อมูล!AS301>กรอกข้อมูล!AO$2,\"\",กรอกข้อมูล!AU301)","v":""},{"$f":"IF(กรอกข้อมูล!AS301>กรอกข้อมูล!AO$2,\"\",N301*O301)","v":""},{"$f":"IF(กรอกข้อมูล!AS301>กรอกข้อมูล!AO$2,\"\",ABS(M301-I$6))","v":""},"",{"$f":"IF(กรอกข้อมูล!AS301>กรอกข้อมูล!AO$2,\"\",N301*Q301)","v":""}]
["","","","","","",{"$nulls":6},{"$f":"IF(กรอกข้อมูล!AS302>กรอกข้อมูล!AO$2,\"\",กรอกข้อมูล!AS302)","v":""},{"$f":"IF(กรอกข้อมูล!AS302>กรอกข้อมูล!AO$2,\"\",กรอกข้อมูล!AT302)","v":""},{"$f":"IF(กรอกข้อมูล!AS302>กรอกข้อมูล!AO$2,\"\",กรอกข้อมูล!AU302)","v":""},{"$f":"IF(กรอกข้อมูล!AS302>กรอกข้อมูล!AO$2,\"\",N302*O302)","v":""},{"$f":"IF(กรอกข้อมูล!AS302>กรอกข้อมูล!AO$2,\"\",ABS(M302-I$6))","v":""},"",{"$f":"IF(กรอกข้อมูล!AS302>กรอกข้อมูล!AO$2,\"\",N302*Q302)","v":""}]
["","","","","","",{"$nulls":6},{"$f":"IF(กรอกข้อมูล!AS303>กรอกข้อมูล!AO$2,\"\",กรอกข้อมูล!AS303)","v":""},{"$f":"IF(กรอกข้อมูล!AS303>กรอกข้อมูล!AO$2,\"\",กรอกข้อมูล!AT303)","v":""},{"$f":"IF(กรอกข้อมูล!AS303>กรอกข้อมูล!AO$2,\"\",กรอกข้อมูล!AU303)","v":""},{"$f":"IF(กรอกข้อมูล!AS303>กรอกข้อมูล!AO$2,\"\",N303*O303)","v":""},{"$f":"IF(กรอกข้อมูล!AS303>กรอกข้อมูล!AO$2,\"\",ABS(M303-I$6))","v":""},"",{"$f":"IF(กรอกข้อมูล!AS303>กรอกข้อมูล!AO$2,\"\",N303*Q303)","v":""}]
["","","","","","",{"$nulls":6},{"$f":"IF(กรอกข้อมูล!AS304>กรอกข้อมูล!AO$2,\"\",กรอกข้อมูล!AS304)","v":""},{"$f":"IF(กรอกข้อมูล!AS304>กรอกข้อมูล!AO$2,\"\",กรอกข้อมูล!AT304)","v":""},{"$f":"IF(กรอกข้อมูล!AS304>กรอกข้อมูล!AO$2,\"\",กรอกข้อมูล!AU304)","v":""},{"$f":"IF(กรอกข้อมูล!AS304>กรอกข้อมูล!AO$2,\"\",N304*O304)","v":""},{"$f":"IF(กรอกข้อมูล!AS304>กรอกข้อมูล!AO$2,\"\",ABS(M304-I$6))","v":""},"",{"$f":"IF(กรอกข้อมูล!AS304>กรอกข้อมูล!AO$2,\"\",N304*Q304)","v":""}]
["","","","","","",{"$nulls":6},{"$f":"IF(กรอกข้อมูล!AS305>กรอกข้อมูล!AO$2,\"\",กรอกข้อมูล!AS305)","v":""},{"$f":"IF(กรอกข้อมูล!AS305>กรอกข้อมูล!AO$2,\"\",กรอกข้อมูล!AT305)","v":""},{"$f":"IF(กรอกข้อมูล!AS305>กรอกข้อมูล!AO$2,\"\",กรอกข้อมูล!AU305)","v":""},{"$f":"IF(กรอกข้อมูล!AS305>กรอกข้อมูล!AO$2,\"\",N305*O305)","v":""},{"$f":"IF(กรอกข้อมูล!AS305>กรอกข้อมูล!AO$2,\"\",ABS(M305-I$6))","v":""},"",{"$f":"IF(กรอกข้อมูล!AS305>กรอกข้อมูล!AO$2,\"\",N305*Q305)","v":""}]
["","","","","","",{"$nulls":6},{"$f":"IF(กรอกข้อมูล!AS306>กรอกข้อมูล!AO$2,\"\",กรอกข้อมูล!AS306)","v":""},{"$f":"IF(กรอกข้อมูล!AS306>กรอกข้อมูล!AO$2,\"\",กรอกข้อมูล!AT306)","v":""},{"$f":"IF(กรอกข้อมูล!AS306>กรอกข้อมูล!AO$2,\"\",กรอกข้อมูล!AU306)","v":""},{"$f":"IF(กรอกข้อมูล!AS306>กรอกข้อมูล!AO$2,\"\",N306*O306)","v":""},{"$f":"IF(กรอกข้อมูล!AS306>กรอกข้อมูล!AO$2,\"\",ABS(M306-I$6))","v":""},"",{"$f":"IF(กรอกข้อมูล!AS306>กรอกข้อมูล!AO$2,\"\",N306*Q306)","v":""}]
["","","","","","",{"$nulls":6},{"$f":"IF(กรอกข้อมูล!AS307>กรอกข้อมูล!AO$2,\"\",กรอกข้อมูล!AS307)","v":""},{"$f":"IF(กรอกข้อมูล!AS307>กรอกข้อมูล!AO$2,\"\",กรอกข้อมูล!AT307)","v":""},{"$f":"IF(กรอกข้อมูล!AS307>กรอกข้อมูล!AO$2,\"\",กรอกข้อมูล!AU307)","v":""},{"$f":"IF(กรอกข้อมูล!AS307>กรอกข้อมูล!AO$2,\"\",N307*O307)","v":""},{"$f":"IF(กรอกข้อมูล!AS307>กรอกข้อมูล!AO$2,\"\",ABS(M307-I$6))","v":""},"",{"$f":"IF(กรอกข้อมูล!AS307>กรอกข้อมูล!AO$2,\"\",N307*Q307)","v":""}]
["","","","","","",{"$nulls":6},{"$f":"IF(กรอกข้อมูล!AS308>กรอกข้อมูล!AO$2,\"\",กรอกข้อมูล!AS308)","v":""},{"$f":"IF(กรอกข้อมูล!AS308>กรอกข้อมูล!AO$2,\"\",กรอกข้อมูล!AT308)","v":""},{"$f":"IF(กรอกข้อมูล!AS308>กรอกข้อมูล!AO$2,\"\",กรอกข้อมูล!AU308)","v":""},{"$f":"IF(กรอกข้อมูล!AS308>กรอกข้อมูล!AO$2,\"\",N308*O308)","v":""},{"$f":"IF(กรอกข้อมูล!AS308>กรอกข้อมูล!AO$2,\"\",ABS(M308-I$6))","v":""},"",{"$f":"IF(กรอกข้อมูล!AS308>กรอกข้อมูล!AO$2,\"\",N308*Q308)","v":""}]
["","","","","","",{"$nulls":6},{"$f":"IF(กรอกข้อมูล!AS309>กรอกข้อมูล!AO$2,\"\",กรอกข้อมูล!AS309)","v":""},{"$f":"IF(กรอกข้อมูล!AS309>กรอกข้อมูล!AO$2,\"\",กรอกข้อมูล!AT309)","v":""},{"$f":"IF(กรอกข้อมูล!AS309>กรอกข้อมูล!AO$2,\"\",กรอกข้อมูล!AU309)","v":""},{"$f":"IF(กรอกข้อมูล!AS309>กรอกข้อมูล!AO$2,\"\",N309*O309)","v":""},{"$f":"IF(กรอกข้อมูล!AS309>กรอกข้อมูล!AO$2,\"\",ABS(M309-I$6))","v":""},"",{"$f":"IF(กรอกข้อมูล!AS309>กรอกข้อมูล!AO$2,\"\",N309*Q309)","v":""}]
["","","","","","",{"$nulls":6},{"$f":"IF(กรอกข้อมูล!AS310>กรอกข้อมูล!AO$2,\"\",กรอกข้อมูล!AS310)","v":""},{"$f":"IF(กรอกข้อมูล!AS310>กรอกข้อมูล!AO$2,\"\",กรอกข้อมูล!AT310)","v":""},{"$f":"IF(กรอกข้อมูล!AS310>กรอกข้อมูล!AO$2,\"\",กรอกข้อมูล!AU310)","v":""},{"$f":"IF(กรอกข้อมูล!AS310>กรอกข้อมูล!AO$2,\"\",N310*O310)","v":""},{"$f":"IF(กรอกข้อมูล!AS310>กรอกข้อมูล!AO$2,\"\",ABS(M310-I$6))","v":""},"",{"$f":"IF(กรอกข้อมูล!AS310>กรอกข้อมูล!AO$2,\"\",N310*Q310)","v":""}]
["","","","","","",{"$nulls":6},{"$f":"IF(กรอกข้อมูล!AS311>กรอกข้อมูล!AO$2,\"\",กรอกข้อมูล!AS311)","v":""},{"$f":"IF(กรอกข้อมูล!AS311>กรอกข้อมูล!AO$2,\"\",กรอกข้อมูล!AT311)","v":""},{"$f":"IF(กรอกข้อมูล!AS311>กรอกข้อมูล!AO$2,\"\",กรอกข้อมูล!AU311)","v":""},{"$f":"IF(กรอกข้อมูล!AS311>กรอกข้อมูล!AO$2,\"\",N311*O311)","v":""},{"$f":"IF(กรอกข้อมูล!AS311>กรอกข้อมูล!AO$2,\"\",ABS(M311-I$6))","v":""},"",{"$f":"IF(กรอกข้อมูล!AS311>กรอกข้อมูล!AO$2,\"\",N311*Q311)","v":""}]
["","","","","","",{"$nulls":6},{"$f":"IF(กรอกข้อมูล!AS312>กรอกข้อมูล!AO$2,\"\",กรอกข้อมูล!AS312)","v":""},{"$f":"IF(กรอกข้อมูล!AS312>กรอกข้อมูล!AO$2,\"\",กรอกข้อมูล!AT312)","v":""},{"$f":"IF(กรอกข้อมูล!AS312>กรอกข้อมูล!AO$2,\"\",กรอกข้อมูล!AU312)","v":""},{"$f":"IF(กรอกข้อมูล!AS312>กรอกข้อมูล!AO$2,\"\",N312*O312)","v":""},{"$f":"IF(กรอกข้อมูล!AS312>กรอกข้อมูล!AO$2,\"\",ABS(M312-I$6))","v":""},"",{"$f":"IF(กรอกข้อมูล!AS312>กรอกข้อมูล!AO$2,\"\",N312*Q312)","v":""}]
["","","","","","",{"$nulls":6},{"$f":"IF(กรอกข้อมูล!AS313>กรอกข้อมูล!AO$2,\"\",กรอกข้อมูล!AS313)","v":""},{"$f":"IF(กรอกข้อมูล!AS313>กรอกข้อมูล!AO$2,\"\",กรอกข้อมูล!AT313)","v":""},{"$f":"IF(กรอกข้อมูล!AS313>กรอกข้อมูล!AO$2,\"\",กรอกข้อมูล!AU313)","v":""},{"$f":"IF(กรอกข้อมูล!AS313>กรอกข้อมูล!AO$2,\"\",N313*O313)","v":""},{"$f":"IF(กรอกข้อมูล!AS313>กรอกข้อมูล!AO$2,\"\",ABS(M313-I$6))","v":""},"",{"$f":"IF(กรอกข้อมูล!AS313>กรอกข้อมูล!AO$2,\"\",N313*Q313)","v":""}]
["","","","","","",{"$nulls":6},{"$f":"IF(กรอกข้อมูล!AS314>กรอกข้อมูล!AO$2,\"\",กรอกข้อมูล!AS314)","v":""},{"$f":"IF(กรอกข้อมูล!AS314>กรอกข้อมูล!AO$2,\"\",กรอกข้อมูล!AT314)","v":""},{"$f":"IF(กรอกข้อมูล!AS314>กรอกข้อมูล!AO$2,\"\",กรอกข้อมูล!AU314)","v":""},{"$f":"IF(กรอกข้อมูล!AS314>กรอกข้อมูล!AO$2,\"\",N314*O314)","v":""},{"$f":"IF(กรอกข้อมูล!AS314>กรอกข้อมูล!AO$2,\"\",ABS(M314-I$6))","v":""},"",{"$f":"IF(กรอกข้อมูล!AS314>กรอกข้อมูล!AO$2,\"\",N314*Q314)","v":""}]
["","","","","","",{"$nulls":6},{"$f":"IF(กรอกข้อมูล!AS315>กรอกข้อมูล!AO$2,\"\",กรอกข้อมูล!AS315)","v":""},{"$f":"IF(กรอกข้อมูล!AS315>กรอกข้อมูล!AO$2,\"\",กรอกข้อมูล!AT315)","v":""},{"$f":"IF(กรอกข้อมูล!AS315>กรอกข้อมูล!AO$2,\"\",กรอกข้อมูล!AU315)","v":""},{"$f":"IF(กรอกข้อมูล!AS315>กรอกข้อมูล!AO$2,\"\",N315*O315)","v":""},{"$f":"IF(กรอกข้อมูล!AS315>กรอกข้อมูล!AO$2,\"\",ABS(M315-I$6))","v":""},"",{"$f":"IF(กรอกข้อมูล!AS315>กรอกข้อมูล!AO$2,\"\",N315*Q315)","v":""}]
["","","","","","",{"$nulls":6},{"$f":"IF(กรอกข้อมูล!AS316>กรอกข้อมูล!AO$2,\"\",กรอกข้อมูล!AS316)","v":""},{"$f":"IF(กรอกข้อมูล!AS316>กรอกข้อมูล!AO$2,\"\",กรอกข้อมูล!AT316)","v":""},{"$f":"IF(กรอกข้อมูล!AS316>กรอกข้อมูล!AO$2,\"\",กรอกข้อมูล!AU316)","v":""},{"$f":"IF(กรอกข้อมูล!AS316>กรอกข้อมูล!AO$2,\"\",N316*O316)","v":""},{"$f":"IF(กรอกข้อมูล!AS316>กรอกข้อมูล!AO$2,\"\",ABS(M316-I$6))","v":""},"",{"$f":"IF(กรอกข้อมูล!AS316>กรอกข้อมูล!AO$2,\"\",N316*Q316)","v":""}]
["","","","","","",{"$nulls":6},{"$f":"IF(กรอกข้อมูล!AS317>กรอกข้อมูล!AO$2,\"\",กรอกข้อมูล!AS317)","v":""},{"$f":"IF(กรอกข้อมูล!AS317>กรอกข้อมูล!AO$2,\"\",กรอกข้อมูล!AT317)","v":""},{"$f":"IF(กรอกข้อมูล!AS317>กรอกข้อมูล!AO$2,\"\",กรอกข้อมูล!AU317)","v":""},{"$f":"IF(กรอกข้อมูล!AS317>กรอกข้อมูล!AO$2,\"\",N317*O317)","v":""},{"$f":"IF(กรอกข้อมูล!AS317>กรอกข้อมูล!AO$2,\"\",ABS(M317-I$6))","v":""},"",{"$f":"IF(กรอกข้อมูล!AS317>กรอกข้อมูล!AO$2,\"\",N317*Q317)","v":""}]
["","","","","","",{"$nulls":6},{"$f":"IF(กรอกข้อมูล!AS318>กรอกข้อมูล!AO$2,\"\",กรอกข้อมูล!AS318)","v":""},{"$f":"IF(กรอกข้อมูล!AS318>กรอกข้อมูล!AO$2,\"\",กรอกข้อมูล!AT318)","v":""},{"$f":"IF(กรอกข้อมูล!AS318>กรอกข้อมูล!AO$2,\"\",กรอกข้อมูล!AU318)","v":""},{"$f":"IF(กรอกข้อมูล!AS318>กรอกข้อมูล!AO$2,\"\",N318*O318)","v":""},{"$f":"IF(กรอกข้อมูล!AS318>กรอกข้อมูล!AO$2,\"\",ABS(M318-I$6))","v":""},"",{"$f":"IF(กรอกข้อมูล!AS318>กรอกข้อมูล!AO$2,\"\",N318*Q318)","v":""}]
["","","","","","",{"$nulls":6},{"$f":"IF(กรอกข้อมูล!AS319>กรอกข้อมูล!AO$2,\"\",กรอกข้อมูล!AS319)","v":""},{"$f":"IF(กรอกข้อมูล!AS319>กรอกข้อมูล!AO$2,\"\",กรอกข้อมูล!AT319)","v":""},{"$f":"IF(กรอกข้อมูล!AS319>กรอกข้อมูล!AO$2,\"\",กรอกข้อมูล!AU319)","v":""},{"$f":"IF(กรอกข้อมูล!AS319>กรอกข้อมูล!AO$2,\"\",N319*O319)","v":""},{"$f":"IF(กรอกข้อมูล!AS319>กรอกข้อมูล!AO$2,\"\",ABS(M319-I$6))","v":""},"",{"$f":"IF(กรอกข้อมูล!AS319>กรอกข้อมูล!AO$2,\"\",N319*Q319)","v":""}]
["","","","","","",{"$nulls":6},{"$f":"IF(กรอกข้อมูล!AS320>กรอกข้อมูล!AO$2,\"\",กรอกข้อมูล!AS320)","v":""},{"$f":"IF(กรอกข้อมูล!AS320>กรอกข้อมูล!AO$2,\"\",กรอกข้อมูล!AT320)","v":""},{"$f":"IF(กรอกข้อมูล!AS320>กรอกข้อมูล!AO$2,\"\",กรอกข้อมูล!AU320)","v":""},{"$f":"IF(กรอกข้อมูล!AS320>กรอกข้อมูล!AO$2,\"\",N320*O320)","v":""},{"$f":"IF(กรอกข้อมูล!AS320>กรอกข้อมูล!AO$2,\"\",ABS(M320-I$6))","v":""},"",{"$f":"IF(กรอกข้อมูล!AS320>กรอกข้อมูล!AO$2,\"\",N320*Q320)","v":""}]
["","","","","","",{"$nulls":6},{"$f":"IF(กรอกข้อมูล!AS321>กรอกข้อมูล!AO$2,\"\",กรอกข้อมูล!AS321)","v":""},{"$f":"IF(กรอกข้อมูล!AS321>กรอกข้อมูล!AO$2,\"\",กรอกข้อมูล!AT321)","v":""},{"$f":"IF(กรอกข้อมูล!AS321>กรอกข้อมูล!AO$2,\"\",กรอกข้อมูล!AU321)","v":""},{"$f":"IF(กรอกข้อมูล!AS321>กรอกข้อมูล!AO$2,\"\",N321*O321)","v":""},{"$f":"IF(กรอกข้อมูล!AS321>กรอกข้อมูล!AO$2,\"\",ABS(M321-I$6))","v":""},"",{"$f":"IF(กรอกข้อมูล!AS321>กรอกข้อมูล!AO$2,\"\",N321*Q321)","v":""}]
[{"$f":"M322","v":""},{"$f":"N322","v":""},{"$f":"O322","v":""},{"$f":"P322","v":""},{"$f":"R322","v":""},{"$f":"S322","v":""},{"$nulls":6},{"$f":"IF(กรอกข้อมูล!AS322>กรอกข้อมูล!AO$2,\"\",กรอกข้อมูล!AS322)","v":""},{"$f":"IF(กรอกข้อมูล!AS322>กรอกข้อมูล!AO$2,\"\",กรอกข้อมูล!AT322)","v":""},{"$f":"IF(กรอกข้อมูล!AS322>กรอกข้อมูล!AO$2,\"\",กรอกข้อมูล!AU322)","v":""},{"$f":"IF(กรอกข้อมูล!AS322>กรอกข้อมูล!AO$2,\"\",N322*O322)","v":""},{"$f":"IF(กรอกข้อมูล!AS322>กรอกข้อมูล!AO$2,\"\",ABS(M322-I$6))","v":""},"",{"$f":"IF(กรอกข้อมูล!AS322>กรอกข้อมูล!AO$2,\"\",N322*Q322)","v":""}]
["","","","","","",{"$nulls":6},{"$f":"IF(กรอกข้อมูล!AS323>กรอกข้อมูล!AO$2,\"\",กรอกข้อมูล!AS323)","v":""},{"$f":"IF(กรอกข้อมูล!AS323>กรอกข้อมูล!AO$2,\"\",กรอกข้อมูล!AT323)","v":""},{"$f":"IF(กรอกข้อมูล!AS323>กรอกข้อมูล!AO$2,\"\",กรอกข้อมูล!AU323)","v":""},{"$f":"IF(กรอกข้อมูล!AS323>กรอกข้อมูล!AO$2,\"\",N323*O323)","v":""},{"$f":"IF(กรอกข้อมูล!AS323>กรอกข้อมูล!AO$2,\"\",ABS(M323-I$6))","v":""},{"$f":"IF(N323=0,0,Q323)","v":""},{"$f":"IF(กรอกข้อมูล!AS323>กรอกข้อมูล!AO$2,\"\",N323*Q323)","v":""}]
["","","","","","",{"$nulls":6},{"$f":"IF(กรอกข้อมูล!AS324>กรอกข้อมูล!AO$2,\"\",กรอกข้อมูล!AS324)","v":""},{"$f":"IF(กรอกข้อมูล!AS324>กรอกข้อมูล!AO$2,\"\",กรอกข้อมูล!AT324)","v":""},{"$f":"IF(กรอกข้อมูล!AS324>กรอกข้อมูล!AO$2,\"\",กรอกข้อมูล!AU324)","v":""},{"$f":"IF(กรอกข้อมูล!AS324>กรอกข้อมูล!AO$2,\"\",N324*O324)","v":""},{"$f":"IF(กรอกข้อมูล!AS324>กรอกข้อมูล!AO$2,\"\",ABS(M324-I$6))","v":""},"",{"$f":"IF(กรอกข้อมูล!AS324>กรอกข้อมูล!AO$2,\"\",N324*Q324)","v":""}]
["","","","","","",{"$nulls":6},{"$f":"IF(กรอกข้อมูล!AS325>กรอกข้อมูล!AO$2,\"\",กรอกข้อมูล!AS325)","v":""},{"$f":"IF(กรอกข้อมูล!AS325>กรอกข้อมูล!AO$2,\"\",กรอกข้อมูล!AT325)","v":""},{"$f":"IF(กรอกข้อมูล!AS325>กรอกข้อมูล!AO$2,\"\",กรอกข้อมูล!AU325)","v":""},{"$f":"IF(กรอกข้อมูล!AS325>กรอกข้อมูล!AO$2,\"\",N325*O325)","v":""},{"$f":"IF(กรอกข้อมูล!AS325>กรอกข้อมูล!AO$2,\"\",ABS(M325-I$6))","v":""},"",{"$f":"IF(กรอกข้อมูล!AS325>กรอกข้อมูล!AO$2,\"\",N325*Q325)","v":""}]
["","","","","","",{"$nulls":6},{"$f":"IF(กรอกข้อมูล!AS326>กรอกข้อมูล!AO$2,\"\",กรอกข้อมูล!AS326)","v":""},{"$f":"IF(กรอกข้อมูล!AS326>กรอกข้อมูล!AO$2,\"\",กรอกข้อมูล!AT326)","v":""},{"$f":"IF(กรอกข้อมูล!AS326>กรอกข้อมูล!AO$2,\"\",กรอกข้อมูล!AU326)","v":""},{"$f":"IF(กรอกข้อมูล!AS326>กรอกข้อมูล!AO$2,\"\",N326*O326)","v":""},{"$f":"IF(กรอกข้อมูล!AS326>กรอกข้อมูล!AO$2,\"\",ABS(M326-I$6))","v":""},"",{"$f":"IF(กรอกข้อมูล!AS326>กรอกข้อมูล!AO$2,\"\",N326*Q326)","v":""}]
["","","","","","",{"$nulls":6},{"$f":"IF(กรอกข้อมูล!AS327>กรอกข้อมูล!AO$2,\"\",กรอกข้อมูล!AS327)","v":""},{"$f":"IF(กรอกข้อมูล!AS327>กรอกข้อมูล!AO$2,\"\",กรอกข้อมูล!AT327)","v":""},{"$f":"IF(กรอกข้อมูล!AS327>กรอกข้อมูล!AO$2,\"\",กรอกข้อมูล!AU327)","v":""},{"$f":"IF(กรอกข้อมูล!AS327>กรอกข้อมูล!AO$2,\"\",N327*O327)","v":""},{"$f":"IF(กรอกข้อมูล!AS327>กรอกข้อมูล!AO$2,\"\",ABS(M327-I$6))","v":""},"",{"$f":"IF(กรอกข้อมูล!AS327>กรอกข้อมูล!AO$2,\"\",N327*Q327)","v":""}]
["","","","","","",{"$nulls":6},{"$f":"IF(กรอกข้อมูล!AS328>กรอกข้อมูล!AO$2,\"\",กรอกข้อมูล!AS328)","v":""},{"$f":"IF(กรอกข้อมูล!AS328>กรอกข้อมูล!AO$2,\"\",กรอกข้อมูล!AT328)","v":""},{"$f":"IF(กรอกข้อมูล!AS328>กรอกข้อมูล!AO$2,\"\",กรอกข้อมูล!AU328)","v":""},{"$f":"IF(กรอกข้อมูล!AS328>กรอกข้อมูล!AO$2,\"\",N328*O328)","v":""},{"$f":"IF(กรอกข้อมูล!AS328>กรอกข้อมูล!AO$2,\"\",ABS(M328-I$6))","v":""},"",{"$f":"IF(กรอกข้อมูล!AS328>กรอกข้อมูล!AO$2,\"\",N328*Q328)","v":""}]
["","","","","","",{"$nulls":6},{"$f":"IF(กรอกข้อมูล!AS329>กรอกข้อมูล!AO$2,\"\",กรอกข้อมูล!AS329)","v":""},{"$f":"IF(กรอกข้อมูล!AS329>กรอกข้อมูล!AO$2,\"\",กรอกข้อมูล!AT329)","v":""},{"$f":"IF(กรอกข้อมูล!AS329>กรอกข้อมูล!AO$2,\"\",กรอกข้อมูล!AU329)","v":""},{"$f":"IF(กรอกข้อมูล!AS329>กรอกข้อมูล!AO$2,\"\",N329*O329)","v":""},{"$f":"IF(กรอกข้อมูล!AS329>กรอกข้อมูล!AO$2,\"\",ABS(M329-I$6))","v":""},"",{"$f":"IF(กรอกข้อมูล!AS329>กรอกข้อมูล!AO$2,\"\",N329*Q329)","v":""}]
["","","","","","",{"$nulls":6},{"$f":"IF(กรอกข้อมูล!AS330>กรอกข้อมูล!AO$2,\"\",กรอกข้อมูล!AS330)","v":""},{"$f":"IF(กรอกข้อมูล!AS330>กรอกข้อมูล!AO$2,\"\",กรอกข้อมูล!AT330)","v":""},{"$f":"IF(กรอกข้อมูล!AS330>กรอกข้อมูล!AO$2,\"\",กรอกข้อมูล!AU330)","v":""},{"$f":"IF(กรอกข้อมูล!AS330>กรอกข้อมูล!AO$2,\"\",N330*O330)","v":""},{"$f":"IF(กรอกข้อมูล!AS330>กรอกข้อมูล!AO$2,\"\",ABS(M330-I$6))","v":""},"",{"$f":"IF(กรอกข้อมูล!AS330>กรอกข้อมูล!AO$2,\"\",N330*Q330)","v":""}]
["","","","","","",{"$nulls":6},{"$f":"IF(กรอกข้อมูล!AS331>กรอกข้อมูล!AO$2,\"\",กรอกข้อมูล!AS331)","v":""},{"$f":"IF(กรอกข้อมูล!AS331>กรอกข้อมูล!AO$2,\"\",กรอกข้อมูล!AT331)","v":""},{"$f":"IF(กรอกข้อมูล!AS331>กรอกข้อมูล!AO$2,\"\",กรอกข้อมูล!AU331)","v":""},{"$f":"IF(กรอกข้อมูล!AS331>กรอกข้อมูล!AO$2,\"\",N331*O331)","v":""},{"$f":"IF(กรอกข้อมูล!AS331>กรอกข้อมูล!AO$2,\"\",ABS(M331-I$6))","v":""},"",{"$f":"IF(กรอกข้อมูล!AS331>กรอกข้อมูล!AO$2,\"\",N331*Q331)","v":""}]
["","","","","","",{"$nulls":6},{"$f":"IF(กรอกข้อมูล!AS332>กรอกข้อมูล!AO$2,\"\",กรอกข้อมูล!AS332)","v":""},{"$f":"IF(กรอกข้อมูล!AS332>กรอกข้อมูล!AO$2,\"\",กรอกข้อมูล!AT332)","v":""},{"$f":"IF(กรอกข้อมูล!AS332>กรอกข้อมูล!AO$2,\"\",กรอกข้อมูล!AU332)","v":""},{"$f":"IF(กรอกข้อมูล!AS332>กรอกข้อมูล!AO$2,\"\",N332*O332)","v":""},{"$f":"IF(กรอกข้อมูล!AS332>กรอกข้อมูล!AO$2,\"\",ABS(M332-I$6))","v":""},"",{"$f":"IF(กรอกข้อมูล!AS332>กรอกข้อมูล!AO$2,\"\",N332*Q332)","v":""}]
["","","","","","",{"$nulls":6},{"$f":"IF(กรอกข้อมูล!AS333>กรอกข้อมูล!AO$2,\"\",กรอกข้อมูล!AS333)","v":""},{"$f":"IF(กรอกข้อมูล!AS333>กรอกข้อมูล!AO$2,\"\",กรอกข้อมูล!AT333)","v":""},{"$f":"IF(กรอกข้อมูล!AS333>กรอกข้อมูล!AO$2,\"\",กรอกข้อมูล!AU333)","v":""},{"$f":"IF(กรอกข้อมูล!AS333>กรอกข้อมูล!AO$2,\"\",N333*O333)","v":""},{"$f":"IF(กรอกข้อมูล!AS333>กรอกข้อมูล!AO$2,\"\",ABS(M333-I$6))","v":""},"",{"$f":"IF(กรอกข้อมูล!AS333>กรอกข้อมูล!AO$2,\"\",N333*Q333)","v":""}]
["","","","","","",{"$nulls":6},{"$f":"IF(กรอกข้อมูล!AS334>กรอกข้อมูล!AO$2,\"\",กรอกข้อมูล!AS334)","v":""},{"$f":"IF(กรอกข้อมูล!AS334>กรอกข้อมูล!AO$2,\"\",กรอกข้อมูล!AT334)","v":""},{"$f":"IF(กรอกข้อมูล!AS334>กรอกข้อมูล!AO$2,\"\",กรอกข้อมูล!AU334)","v":""},{"$f":"IF(กรอกข้อมูล!AS334>กรอกข้อมูล!AO$2,\"\",N334*O334)","v":""},{"$f":"IF(กรอกข้อมูล!AS334>กรอกข้อมูล!AO$2,\"\",ABS(M334-I$6))","v":""},"",{"$f":"IF(กรอกข้อมูล!AS334>กรอกข้อมูล!AO$2,\"\",N334*Q334)","v":""}]
["","","","","","",{"$nulls":6},{"$f":"IF(กรอกข้อมูล!AS335>กรอกข้อมูล!AO$2,\"\",กรอกข้อมูล!AS335)","v":""},{"$f":"IF(กรอกข้อมูล!AS335>กรอกข้อมูล!AO$2,\"\",กรอกข้อมูล!AT335)","v":""},{"$f":"IF(กรอกข้อมูล!AS335>กรอกข้อมูล!AO$2,\"\",กรอกข้อมูล!AU335)","v":""},{"$f":"IF(กรอกข้อมูล!AS335>กรอกข้อมูล!AO$2,\"\",N335*O335)","v":""},{"$f":"IF(กรอกข้อมูล!AS335>กรอกข้อมูล!AO$2,\"\",ABS(M335-I$6))","v":""},"",{"$f":"IF(กรอกข้อมูล!AS335>กรอกข้อมูล!AO$2,\"\",N335*Q335)","v":""}]
["","","","","","",{"$nulls":6},{"$f":"IF(กรอกข้อมูล!AS336>กรอกข้อมูล!AO$2,\"\",กรอกข้อมูล!AS336)","v":""},{"$f":"IF(กรอกข้อมูล!AS336>กรอกข้อมูล!AO$2,\"\",กรอกข้อมูล!AT336)","v":""},{"$f":"IF(กรอกข้อมูล!AS336>กรอกข้อมูล!AO$2,\"\",กรอกข้อมูล!AU336)","v":""},{"$f":"IF(กรอกข้อมูล!AS336>กรอกข้อมูล!AO$2,\"\",N336*O336)","v":""},{"$f":"IF(กรอกข้อมูล!AS336>กรอกข้อมูล!AO$2,\"\",ABS(M336-I$6))","v":""},"",{"$f":"IF(กรอกข้อมูล!AS336>กรอกข้อมูล!AO$2,\"\",N336*Q336)","v":""}]
["","","","","","",{"$nulls":6},{"$f":"IF(กรอกข้อมูล!AS337>กรอกข้อมูล!AO$2,\"\",กรอกข้อมูล!AS337)","v":""},{"$f":"IF(กรอกข้อมูล!AS337>กรอกข้อมูล!AO$2,\"\",กรอกข้อมูล!AT337)","v":""},{"$f":"IF(กรอกข้อมูล!AS337>กรอกข้อมูล!AO$2,\"\",กรอกข้อมูล!AU337)","v":""},{"$f":"IF(กรอกข้อมูล!AS337>กรอกข้อมูล!AO$2,\"\",N337*O337)","v":""},{"$f":"IF(กรอกข้อมูล!AS337>กรอกข้อมูล!AO$2,\"\",ABS(M337-I$6))","v":""},"",{"$f":"IF(กรอกข้อมูล!AS337>กรอกข้อมูล!AO$2,\"\",N337*Q337)","v":""}]
["","","","","","",{"$nulls":6},{"$f":"IF(กรอกข้อมูล!AS338>กรอกข้อมูล!AO$2,\"\",กรอกข้อมูล!AS338)","v":""},{"$f":"IF(กรอกข้อมูล!AS338>กรอกข้อมูล!AO$2,\"\",กรอกข้อมูล!AT338)","v":""},{"$f":"IF(กรอกข้อมูล!AS338>กรอกข้อมูล!AO$2,\"\",กรอกข้อมูล!AU338)","v":""},{"$f":"IF(กรอกข้อมูล!AS338>กรอกข้อมูล!AO$2,\"\",N338*O338)","v":""},{"$f":"IF(กรอกข้อมูล!AS338>กรอกข้อมูล!AO$2,\"\",ABS(M338-I$6))","v":""},"",{"$f":"IF(กรอกข้อมูล!AS338>กรอกข้อมูล!AO$2,\"\",N338*Q338)","v":""}]
["","","","","","",{"$nulls":6},{"$f":"IF(กรอกข้อมูล!AS339>กรอกข้อมูล!AO$2,\"\",กรอกข้อมูล!AS339)","v":""},{"$f":"IF(กรอกข้อมูล!AS339>กรอกข้อมูล!AO$2,\"\",กรอกข้อมูล!AT339)","v":""},{"$f":"IF(กรอกข้อมูล!AS339>กรอกข้อมูล!AO$2,\"\",กรอกข้อมูล!AU339)","v":""},{"$f":"IF(กรอกข้อมูล!AS339>กรอกข้อมูล!AO$2,\"\",N339*O339)","v":""},{"$f":"IF(กรอกข้อมูล!AS339>กรอกข้อมูล!AO$2,\"\",ABS(M339-I$6))","v":""},"",{"$f":"IF(กรอกข้อมูล!AS339>กรอกข้อมูล!AO$2,\"\",N339*Q339)","v":""}]
["","","","","","",{"$nulls":6},{"$f":"IF(กรอกข้อมูล!AS340>กรอกข้อมูล!AO$2,\"\",กรอกข้อมูล!AS340)","v":""},{"$f":"IF(กรอกข้อมูล!AS340>กรอกข้อมูล!AO$2,\"\",กรอกข้อมูล!AT340)","v":""},{"$f":"IF(กรอกข้อมูล!AS340>กรอกข้อมูล!AO$2,\"\",กรอกข้อมูล!AU340)","v":""},{"$f":"IF(กรอกข้อมูล!AS340>กรอกข้อมูล!AO$2,\"\",N340*O340)","v":""},{"$f":"IF(กรอกข้อมูล!AS340>กรอกข้อมูล!AO$2,\"\",ABS(M340-I$6))","v":""},"",{"$f":"IF(กรอกข้อมูล!AS340>กรอกข้อมูล!AO$2,\"\",N340*Q340)","v":""}]
["","","","","","",{"$nulls":6},{"$f":"IF(กรอกข้อมูล!AS341>กรอกข้อมูล!AO$2,\"\",กรอกข้อมูล!AS341)","v":""},{"$f":"IF(กรอกข้อมูล!AS341>กรอกข้อมูล!AO$2,\"\",กรอกข้อมูล!AT341)","v":""},{"$f":"IF(กรอกข้อมูล!AS341>กรอกข้อมูล!AO$2,\"\",กรอกข้อมูล!AU341)","v":""},{"$f":"IF(กรอกข้อมูล!AS341>กรอกข้อมูล!AO$2,\"\",N341*O341)","v":""},{"$f":"IF(กรอกข้อมูล!AS341>กรอกข้อมูล!AO$2,\"\",ABS(M341-I$6))","v":""},"",{"$f":"IF(กรอกข้อมูล!AS341>กรอกข้อมูล!AO$2,\"\",N341*Q341)","v":""}]
["","","","","","",{"$nulls":6},{"$f":"IF(กรอกข้อมูล!AS342>กรอกข้อมูล!AO$2,\"\",กรอกข้อมูล!AS342)","v":""},{"$f":"IF(กรอกข้อมูล!AS342>กรอกข้อมูล!AO$2,\"\",กรอกข้อมูล!AT342)","v":""},{"$f":"IF(กรอกข้อมูล!AS342>กรอกข้อมูล!AO$2,\"\",กรอกข้อมูล!AU342)","v":""},{"$f":"IF(กรอกข้อมูล!AS342>กรอกข้อมูล!AO$2,\"\",N342*O342)","v":""},{"$f":"IF(กรอกข้อมูล!AS342>กรอกข้อมูล!AO$2,\"\",ABS(M342-I$6))","v":""},"",{"$f":"IF(กรอกข้อมูล!AS342>กรอกข้อมูล!AO$2,\"\",N342*Q342)","v":""}]
["","","","","","",{"$nulls":6},{"$f":"IF(กรอกข้อมูล!AS343>กรอกข้อมูล!AO$2,\"\",กรอกข้อมูล!AS343)","v":""},{"$f":"IF(กรอกข้อมูล!AS343>กรอกข้อมูล!AO$2,\"\",กรอกข้อมูล!AT343)","v":""},{"$f":"IF(กรอกข้อมูล!AS343>กรอกข้อมูล!AO$2,\"\",กรอกข้อมูล!AU343)","v":""},{"$f":"IF(กรอกข้อมูล!AS343>กรอกข้อมูล!AO$2,\"\",N343*O343)","v":""},{"$f":"IF(กรอกข้อมูล!AS343>กรอกข้อมูล!AO$2,\"\",ABS(M343-I$6))","v":""},"",{"$f":"IF(กรอกข้อมูล!AS343>กรอกข้อมูล!AO$2,\"\",N343*Q343)","v":""}]
["","","","","","",{"$nulls":6},{"$f":"IF(กรอกข้อมูล!AS344>กรอกข้อมูล!AO$2,\"\",กรอกข้อมูล!AS344)","v":""},{"$f":"IF(กรอกข้อมูล!AS344>กรอกข้อมูล!AO$2,\"\",กรอกข้อมูล!AT344)","v":""},{"$f":"IF(กรอกข้อมูล!AS344>กรอกข้อมูล!AO$2,\"\",กรอกข้อมูล!AU344)","v":""},{"$f":"IF(กรอกข้อมูล!AS344>กรอกข้อมูล!AO$2,\"\",N344*O344)","v":""},{"$f":"IF(กรอกข้อมูล!AS344>กรอกข้อมูล!AO$2,\"\",ABS(M344-I$6))","v":""},"",{"$f":"IF(กรอกข้อมูล!AS344>กรอกข้อมูล!AO$2,\"\",N344*Q344)","v":""}]
["","","","","","",{"$nulls":6},{"$f":"IF(กรอกข้อมูล!AS345>กรอกข้อมูล!AO$2,\"\",กรอกข้อมูล!AS345)","v":""},{"$f":"IF(กรอกข้อมูล!AS345>กรอกข้อมูล!AO$2,\"\",กรอกข้อมูล!AT345)","v":""},{"$f":"IF(กรอกข้อมูล!AS345>กรอกข้อมูล!AO$2,\"\",กรอกข้อมูล!AU345)","v":""},{"$f":"IF(กรอกข้อมูล!AS345>กรอกข้อมูล!AO$2,\"\",N345*O345)","v":""},{"$f":"IF(กรอกข้อมูล!AS345>กรอกข้อมูล!AO$2,\"\",ABS(M345-I$6))","v":""},"",{"$f":"IF(กรอกข้อมูล!AS345>กรอกข้อมูล!AO$2,\"\",N345*Q345)","v":""}]
["","","","","","",{"$nulls":6},{"$f":"IF(กรอกข้อมูล!AS346>กรอกข้อมูล!AO$2,\"\",กรอกข้อมูล!AS346)","v":""},{"$f":"IF(กรอกข้อมูล!AS346>กรอกข้อมูล!AO$2,\"\",กรอกข้อมูล!AT346)","v":""},{"$f":"IF(กรอกข้อมูล!AS346>กรอกข้อมูล!AO$2,\"\",กรอกข้อมูล!AU346)","v":""},{"$f":"IF(กรอกข้อมูล!AS346>กรอกข้อมูล!AO$2,\"\",N346*O346)","v":""},{"$f":"IF(กรอกข้อมูล!AS346>กรอกข้อมูล!AO$2,\"\",ABS(M346-I$6))","v":""},"",{"$f":"IF(กรอกข้อมูล!AS346>กรอกข้อมูล!AO$2,\"\",N346*Q346)","v":""}]
["","","","","","",{"$nulls":6},{"$f":"IF(กรอกข้อมูล!AS347>กรอกข้อมูล!AO$2,\"\",กรอกข้อมูล!AS347)","v":""},{"$f":"IF(กรอกข้อมูล!AS347>กรอกข้อมูล!AO$2,\"\",กรอกข้อมูล!AT347)","v":""},{"$f":"IF(กรอกข้อมูล!AS347>กรอกข้อมูล!AO$2,\"\",กรอกข้อมูล!AU347)","v":""},{"$f":"IF(กรอกข้อมูล!AS347>กรอกข้อมูล!AO$2,\"\",N347*O347)","v":""},{"$f":"IF(กรอกข้อมูล!AS347>กรอกข้อมูล!AO$2,\"\",ABS(M347-I$6))","v":""},"",{"$f":"IF(กรอกข้อมูล!AS347>กรอกข้อมูล!AO$2,\"\",N347*Q347)","v":""}]
["","","","","","",{"$nulls":6},{"$f":"IF(กรอกข้อมูล!AS348>กรอกข้อมูล!AO$2,\"\",กรอกข้อมูล!AS348)","v":""},{"$f":"IF(กรอกข้อมูล!AS348>กรอกข้อมูล!AO$2,\"\",กรอกข้อมูล!AT348)","v":""},{"$f":"IF(กรอกข้อมูล!AS348>กรอกข้อมูล!AO$2,\"\",กรอกข้อมูล!AU348)","v":""},{"$f":"IF(กรอกข้อมูล!AS348>กรอกข้อมูล!AO$2,\"\",N348*O348)","v":""},{"$f":"IF(กรอกข้อมูล!AS348>กรอกข้อมูล!AO$2,\"\",ABS(M348-I$6))","v":""},"",{"$f":"IF(กรอกข้อมูล!AS348>กรอกข้อมูล!AO$2,\"\",N348*Q348)","v":""}]
["","","","","","",{"$nulls":6},{"$f":"IF(กรอกข้อมูล!AS349>กรอกข้อมูล!AO$2,\"\",กรอกข้อมูล!AS349)","v":""},{"$f":"IF(กรอกข้อมูล!AS349>กรอกข้อมูล!AO$2,\"\",กรอกข้อมูล!AT349)","v":""},{"$f":"IF(กรอกข้อมูล!AS349>กรอกข้อมูล!AO$2,\"\",กรอกข้อมูล!AU349)","v":""},{"$f":"IF(กรอกข้อมูล!AS349>กรอกข้อมูล!AO$2,\"\",N349*O349)","v":""},{"$f":"IF(กรอกข้อมูล!AS349>กรอกข้อมูล!AO$2,\"\",ABS(M349-I$6))","v":""},"",{"$f":"IF(กรอกข้อมูล!AS349>กรอกข้อมูล!AO$2,\"\",N349*Q349)","v":""}]
["","","","","","",{"$nulls":6},{"$f":"IF(กรอกข้อมูล!AS350>กรอกข้อมูล!AO$2,\"\",กรอกข้อมูล!AS350)","v":""},{"$f":"IF(กรอกข้อมูล!AS350>กรอกข้อมูล!AO$2,\"\",กรอกข้อมูล!AT350)","v":""},{"$f":"IF(กรอกข้อมูล!AS350>กรอกข้อมูล!AO$2,\"\",กรอกข้อมูล!AU350)","v":""},{"$f":"IF(กรอกข้อมูล!AS350>กรอกข้อมูล!AO$2,\"\",N350*O350)","v":""},{"$f":"IF(กรอกข้อมูล!AS350>กรอกข้อมูล!AO$2,\"\",ABS(M350-I$6))","v":""},"",{"$f":"IF(กรอกข้อมูล!AS350>กรอกข้อมูล!AO$2,\"\",N350*Q350)","v":""}]
["","","","","","",{"$nulls":6},{"$f":"IF(กรอกข้อมูล!AS351>กรอกข้อมูล!AO$2,\"\",กรอกข้อมูล!AS351)","v":""},{"$f":"IF(กรอกข้อมูล!AS351>กรอกข้อมูล!AO$2,\"\",กรอกข้อมูล!AT351)","v":""},{"$f":"IF(กรอกข้อมูล!AS351>กรอกข้อมูล!AO$2,\"\",กรอกข้อมูล!AU351)","v":""},{"$f":"IF(กรอกข้อมูล!AS351>กรอกข้อมูล!AO$2,\"\",N351*O351)","v":""},{"$f":"IF(กรอกข้อมูล!AS351>กรอกข้อมูล!AO$2,\"\",ABS(M351-I$6))","v":""},"",{"$f":"IF(กรอกข้อมูล!AS351>กรอกข้อมูล!AO$2,\"\",N351*Q351)","v":""}]
["","","","","","",{"$nulls":6},{"$f":"IF(กรอกข้อมูล!AS352>กรอกข้อมูล!AO$2,\"\",กรอกข้อมูล!AS352)","v":""},{"$f":"IF(กรอกข้อมูล!AS352>กรอกข้อมูล!AO$2,\"\",กรอกข้อมูล!AT352)","v":""},{"$f":"IF(กรอกข้อมูล!AS352>กรอกข้อมูล!AO$2,\"\",กรอกข้อมูล!AU352)","v":""},{"$f":"IF(กรอกข้อมูล!AS352>กรอกข้อมูล!AO$2,\"\",N352*O352)","v":""},{"$f":"IF(กรอกข้อมูล!AS352>กรอกข้อมูล!AO$2,\"\",ABS(M352-I$6))","v":""},"",{"$f":"IF(กรอกข้อมูล!AS352>กรอกข้อมูล!AO$2,\"\",N352*Q352)","v":""}]
["","","","","","",{"$nulls":6},{"$f":"IF(กรอกข้อมูล!AS353>กรอกข้อมูล!AO$2,\"\",กรอกข้อมูล!AS353)","v":""},{"$f":"IF(กรอกข้อมูล!AS353>กรอกข้อมูล!AO$2,\"\",กรอกข้อมูล!AT353)","v":""},{"$f":"IF(กรอกข้อมูล!AS353>กรอกข้อมูล!AO$2,\"\",กรอกข้อมูล!AU353)","v":""},{"$f":"IF(กรอกข้อมูล!AS353>กรอกข้อมูล!AO$2,\"\",N353*O353)","v":""},{"$f":"IF(กรอกข้อมูล!AS353>กรอกข้อมูล!AO$2,\"\",ABS(M353-I$6))","v":""},"",{"$f":"IF(กรอกข้อมูล!AS353>กรอกข้อมูล!AO$2,\"\",N353*Q353)","v":""}]
["","","","","","",{"$nulls":6},{"$f":"IF(กรอกข้อมูล!AS354>กรอกข้อมูล!AO$2,\"\",กรอกข้อมูล!AS354)","v":""},{"$f":"IF(กรอกข้อมูล!AS354>กรอกข้อมูล!AO$2,\"\",กรอกข้อมูล!AT354)","v":""},{"$f":"IF(กรอกข้อมูล!AS354>กรอกข้อมูล!AO$2,\"\",กรอกข้อมูล!AU354)","v":""},{"$f":"IF(กรอกข้อมูล!AS354>กรอกข้อมูล!AO$2,\"\",N354*O354)","v":""},{"$f":"IF(กรอกข้อมูล!AS354>กรอกข้อมูล!AO$2,\"\",ABS(M354-I$6))","v":""},"",{"$f":"IF(กรอกข้อมูล!AS354>กรอกข้อมูล!AO$2,\"\",N354*Q354)","v":""}]
["","","","","","",{"$nulls":6},{"$f":"IF(กรอกข้อมูล!AS355>กรอกข้อมูล!AO$2,\"\",กรอกข้อมูล!AS355)","v":""},{"$f":"IF(กรอกข้อมูล!AS355>กรอกข้อมูล!AO$2,\"\",กรอกข้อมูล!AT355)","v":""},{"$f":"IF(กรอกข้อมูล!AS355>กรอกข้อมูล!AO$2,\"\",กรอกข้อมูล!AU355)","v":""},{"$f":"IF(กรอกข้อมูล!AS355>กรอกข้อมูล!AO$2,\"\",N355*O355)","v":""},{"$f":"IF(กรอกข้อมูล!AS355>กรอกข้อมูล!AO$2,\"\",ABS(M355-I$6))","v":""},"",{"$f":"IF(กรอกข้อมูล!AS355>กรอกข้อมูล!AO$2,\"\",N355*Q355)","v":""}]
["","","","","","",{"$nulls":6},{"$f":"IF(กรอกข้อมูล!AS356>กรอกข้อมูล!AO$2,\"\",กรอกข้อมูล!AS356)","v":""},{"$f":"IF(กรอกข้อมูล!AS356>กรอกข้อมูล!AO$2,\"\",กรอกข้อมูล!AT356)","v":""},{"$f":"IF(กรอกข้อมูล!AS356>กรอกข้อมูล!AO$2,\"\",กรอกข้อมูล!AU356)","v":""},{"$f":"IF(กรอกข้อมูล!AS356>กรอกข้อมูล!AO$2,\"\",N356*O356)","v":""},{"$f":"IF(กรอกข้อมูล!AS356>กรอกข้อมูล!AO$2,\"\",ABS(M356-I$6))","v":""},"",{"$f":"IF(กรอกข้อมูล!AS356>กรอกข้อมูล!AO$2,\"\",N356*Q356)","v":""}]
["","","","","","",{"$nulls":6},{"$f":"IF(กรอกข้อมูล!AS357>กรอกข้อมูล!AO$2,\"\",กรอกข้อมูล!AS357)","v":""},{"$f":"IF(กรอกข้อมูล!AS357>กรอกข้อมูล!AO$2,\"\",กรอกข้อมูล!AT357)","v":""},{"$f":"IF(กรอกข้อมูล!AS357>กรอกข้อมูล!AO$2,\"\",กรอกข้อมูล!AU357)","v":""},{"$f":"IF(กรอกข้อมูล!AS357>กรอกข้อมูล!AO$2,\"\",N357*O357)","v":""},{"$f":"IF(กรอกข้อมูล!AS357>กรอกข้อมูล!AO$2,\"\",ABS(M357-I$6))","v":""},"",{"$f":"IF(กรอกข้อมูล!AS357>กรอกข้อมูล!AO$2,\"\",N357*Q357)","v":""}]
["","","","","","",{"$nulls":6},{"$f":"IF(กรอกข้อมูล!AS358>กรอกข้อมูล!AO$2,\"\",กรอกข้อมูล!AS358)","v":""},{"$f":"IF(กรอกข้อมูล!AS358>กรอกข้อมูล!AO$2,\"\",กรอกข้อมูล!AT358)","v":""},{"$f":"IF(กรอกข้อมูล!AS358>กรอกข้อมูล!AO$2,\"\",กรอกข้อมูล!AU358)","v":""},{"$f":"IF(กรอกข้อมูล!AS358>กรอกข้อมูล!AO$2,\"\",N358*O358)","v":""},{"$f":"IF(กรอกข้อมูล!AS358>กรอกข้อมูล!AO$2,\"\",ABS(M358-I$6))","v":""},"",{"$f":"IF(กรอกข้อมูล!AS358>กรอกข้อมูล!AO$2,\"\",N358*Q358)","v":""}]
["","","","","","",{"$nulls":6},{"$f":"IF(กรอกข้อมูล!AS359>กรอกข้อมูล!AO$2,\"\",กรอกข้อมูล!AS359)","v":""},{"$f":"IF(กรอกข้อมูล!AS359>กรอกข้อมูล!AO$2,\"\",กรอกข้อมูล!AT359)","v":""},{"$f":"IF(กรอกข้อมูล!AS359>กรอกข้อมูล!AO$2,\"\",กรอกข้อมูล!AU359)","v":""},{"$f":"IF(กรอกข้อมูล!AS359>กรอกข้อมูล!AO$2,\"\",N359*O359)","v":""},{"$f":"IF(กรอกข้อมูล!AS359>กรอกข้อมูล!AO$2,\"\",ABS(M359-I$6))","v":""},"",{"$f":"IF(กรอกข้อมูล!AS359>กรอกข้อมูล!AO$2,\"\",N359*Q359)","v":""}]
["","","","","","",{"$nulls":6},{"$f":"IF(กรอกข้อมูล!AS360>กรอกข้อมูล!AO$2,\"\",กรอกข้อมูล!AS360)","v":""},{"$f":"IF(กรอกข้อมูล!AS360>กรอกข้อมูล!AO$2,\"\",กรอกข้อมูล!AT360)","v":""},{"$f":"IF(กรอกข้อมูล!AS360>กรอกข้อมูล!AO$2,\"\",กรอกข้อมูล!AU360)","v":""},{"$f":"IF(กรอกข้อมูล!AS360>กรอกข้อมูล!AO$2,\"\",N360*O360)","v":""},{"$f":"IF(กรอกข้อมูล!AS360>กรอกข้อมูล!AO$2,\"\",ABS(M360-I$6))","v":""},"",{"$f":"IF(กรอกข้อมูล!AS360>กรอกข้อมูล!AO$2,\"\",N360*Q360)","v":""}]
["","","","","","",{"$nulls":6},{"$f":"IF(กรอกข้อมูล!AS361>กรอกข้อมูล!AO$2,\"\",กรอกข้อมูล!AS361)","v":""},{"$f":"IF(กรอกข้อมูล!AS361>กรอกข้อมูล!AO$2,\"\",กรอกข้อมูล!AT361)","v":""},{"$f":"IF(กรอกข้อมูล!AS361>กรอกข้อมูล!AO$2,\"\",กรอกข้อมูล!AU361)","v":""},{"$f":"IF(กรอกข้อมูล!AS361>กรอกข้อมูล!AO$2,\"\",N361*O361)","v":""},{"$f":"IF(กรอกข้อมูล!AS361>กรอกข้อมูล!AO$2,\"\",ABS(M361-I$6))","v":""},"",{"$f":"IF(กรอกข้อมูล!AS361>กรอกข้อมูล!AO$2,\"\",N361*Q361)","v":""}]
["","","","","","",{"$nulls":6},{"$f":"IF(กรอกข้อมูล!AS362>กรอกข้อมูล!AO$2,\"\",กรอกข้อมูล!AS362)","v":""},{"$f":"IF(กรอกข้อมูล!AS362>กรอกข้อมูล!AO$2,\"\",กรอกข้อมูล!AT362)","v":""},{"$f":"IF(กรอกข้อมูล!AS362>กรอกข้อมูล!AO$2,\"\",กรอกข้อมูล!AU362)","v":""},{"$f":"IF(กรอกข้อมูล!AS362>กรอกข้อมูล!AO$2,\"\",N362*O362)","v":""},{"$f":"IF(กรอกข้อมูล!AS362>กรอกข้อมูล!AO$2,\"\",ABS(M362-I$6))","v":""},"",{"$f":"IF(กรอกข้อมูล!AS362>กรอกข้อมูล!AO$2,\"\",N362*Q362)","v":""}]
["","","","","","",{"$nulls":6},{"$f":"IF(กรอกข้อมูล!AS363>กรอกข้อมูล!AO$2,\"\",กรอกข้อมูล!AS363)","v":""},{"$f":"IF(กรอกข้อมูล!AS363>กรอกข้อมูล!AO$2,\"\",กรอกข้อมูล!AT363)","v":""},{"$f":"IF(กรอกข้อมูล!AS363>กรอกข้อมูล!AO$2,\"\",กรอกข้อมูล!AU363)","v":""},{"$f":"IF(กรอกข้อมูล!AS363>กรอกข้อมูล!AO$2,\"\",N363*O363)","v":""},{"$f":"IF(กรอกข้อมูล!AS363>กรอกข้อมูล!AO$2,\"\",ABS(M363-I$6))","v":""},"",{"$f":"IF(กรอกข้อมูล!AS363>กรอกข้อมูล!AO$2,\"\",N363*Q363)","v":""}]
["","","","","","",{"$nulls":6},{"$f":"IF(กรอกข้อมูล!AS364>กรอกข้อมูล!AO$2,\"\",กรอกข้อมูล!AS364)","v":""},{"$f":"IF(กรอกข้อมูล!AS364>กรอกข้อมูล!AO$2,\"\",กรอกข้อมูล!AT364)","v":""},{"$f":"IF(กรอกข้อมูล!AS364>กรอกข้อมูล!AO$2,\"\",กรอกข้อมูล!AU364)","v":""},{"$f":"IF(กรอกข้อมูล!AS364>กรอกข้อมูล!AO$2,\"\",N364*O364)","v":""},{"$f":"IF(กรอกข้อมูล!AS364>กรอกข้อมูล!AO$2,\"\",ABS(M364-I$6))","v":""},"",{"$f":"IF(กรอกข้อมูล!AS364>กรอกข้อมูล!AO$2,\"\",N364*Q364)","v":""}]
["","","","","","",{"$nulls":6},{"$f":"IF(กรอกข้อมูล!AS365>กรอกข้อมูล!AO$2,\"\",กรอกข้อมูล!AS365)","v":""},{"$f":"IF(กรอกข้อมูล!AS365>กรอกข้อมูล!AO$2,\"\",กรอกข้อมูล!AT365)","v":""},{"$f":"IF(กรอกข้อมูล!AS365>กรอกข้อมูล!AO$2,\"\",กรอกข้อมูล!AU365)","v":""},{"$f":"IF(กรอกข้อมูล!AS365>กรอกข้อมูล!AO$2,\"\",N365*O365)","v":""},{"$f":"IF(กรอกข้อมูล!AS365>กรอกข้อมูล!AO$2,\"\",ABS(M365-I$6))","v":""},"",{"$f":"IF(กรอกข้อมูล!AS365>กรอกข้อมูล!AO$2,\"\",N365*Q365)","v":""}]
["","","","","","",{"$nulls":6},{"$f":"IF(กรอกข้อมูล!AS366>กรอกข้อมูล!AO$2,\"\",กรอกข้อมูล!AS366)","v":""},{"$f":"IF(กรอกข้อมูล!AS366>กรอกข้อมูล!AO$2,\"\",กรอกข้อมูล!AT366)","v":""},{"$f":"IF(กรอกข้อมูล!AS366>กรอกข้อมูล!AO$2,\"\",กรอกข้อมูล!AU366)","v":""},{"$f":"IF(กรอกข้อมูล!AS366>กรอกข้อมูล!AO$2,\"\",N366*O366)","v":""},{"$f":"IF(กรอกข้อมูล!AS366>กรอกข้อมูล!AO$2,\"\",ABS(M366-I$6))","v":""},"",{"$f":"IF(กรอกข้อมูล!AS366>กรอกข้อมูล!AO$2,\"\",N366*Q366)","v":""}]
["","","","","","",{"$nulls":6},{"$f":"IF(กรอกข้อมูล!AS367>กรอกข้อมูล!AO$2,\"\",กรอกข้อมูล!AS367)","v":""},{"$f":"IF(กรอกข้อมูล!AS367>กรอกข้อมูล!AO$2,\"\",กรอกข้อมูล!AT367)","v":""},{"$f":"IF(กรอกข้อมูล!AS367>กรอกข้อมูล!AO$2,\"\",กรอกข้อมูล!AU367)","v":""},{"$f":"IF(กรอกข้อมูล!AS367>กรอกข้อมูล!AO$2,\"\",N367*O367)","v":""},{"$f":"IF(กรอกข้อมูล!AS367>กรอกข้อมูล!AO$2,\"\",ABS(M367-I$6))","v":""},"",{"$f":"IF(กรอกข้อมูล!AS367>กรอกข้อมูล!AO$2,\"\",N367*Q367)","v":""}]
["","","","","","",{"$nulls":6},{"$f":"IF(กรอกข้อมูล!AS368>กรอกข้อมูล!AO$2,\"\",กรอกข้อมูล!AS368)","v":""},{"$f":"IF(กรอกข้อมูล!AS368>กรอกข้อมูล!AO$2,\"\",กรอกข้อมูล!AT368)","v":""},{"$f":"IF(กรอกข้อมูล!AS368>กรอกข้อมูล!AO$2,\"\",กรอกข้อมูล!AU368)","v":""},{"$f":"IF(กรอกข้อมูล!AS368>กรอกข้อมูล!AO$2,\"\",N368*O368)","v":""},{"$f":"IF(กรอกข้อมูล!AS368>กรอกข้อมูล!AO$2,\"\",ABS(M368-I$6))","v":""},"",{"$f":"IF(กรอกข้อมูล!AS368>กรอกข้อมูล!AO$2,\"\",N368*Q368)","v":""}]
["","","","","","",{"$nulls":6},{"$f":"IF(กรอกข้อมูล!AS369>กรอกข้อมูล!AO$2,\"\",กรอกข้อมูล!AS369)","v":""},{"$f":"IF(กรอกข้อมูล!AS369>กรอกข้อมูล!AO$2,\"\",กรอกข้อมูล!AT369)","v":""},{"$f":"IF(กรอกข้อมูล!AS369>กรอกข้อมูล!AO$2,\"\",กรอกข้อมูล!AU369)","v":""},{"$f":"IF(กรอกข้อมูล!AS369>กรอกข้อมูล!AO$2,\"\",N369*O369)","v":""},{"$f":"IF(กรอกข้อมูล!AS369>กรอกข้อมูล!AO$2,\"\",ABS(M369-I$6))","v":""},"",{"$f":"IF(กรอกข้อมูล!AS369>กรอกข้อมูล!AO$2,\"\",N369*Q369)","v":""}]
["","","","","","",{"$nulls":6},{"$f":"IF(กรอกข้อมูล!AS370>กรอกข้อมูล!AO$2,\"\",กรอกข้อมูล!AS370)","v":""},{"$f":"IF(กรอกข้อมูล!AS370>กรอกข้อมูล!AO$2,\"\",กรอกข้อมูล!AT370)","v":""},{"$f":"IF(กรอกข้อมูล!AS370>กรอกข้อมูล!AO$2,\"\",กรอกข้อมูล!AU370)","v":""},{"$f":"IF(กรอกข้อมูล!AS370>กรอกข้อมูล!AO$2,\"\",N370*O370)","v":""},{"$f":"IF(กรอกข้อมูล!AS370>กรอกข้อมูล!AO$2,\"\",ABS(M370-I$6))","v":""},"",{"$f":"IF(กรอกข้อมูล!AS370>กรอกข้อมูล!AO$2,\"\",N370*Q370)","v":""}]
["","","","","","",{"$nulls":6},{"$f":"IF(กรอกข้อมูล!AS371>กรอกข้อมูล!AO$2,\"\",กรอกข้อมูล!AS371)","v":""},{"$f":"IF(กรอกข้อมูล!AS371>กรอกข้อมูล!AO$2,\"\",กรอกข้อมูล!AT371)","v":""},{"$f":"IF(กรอกข้อมูล!AS371>กรอกข้อมูล!AO$2,\"\",กรอกข้อมูล!AU371)","v":""},{"$f":"IF(กรอกข้อมูล!AS371>กรอกข้อมูล!AO$2,\"\",N371*O371)","v":""},{"$f":"IF(กรอกข้อมูล!AS371>กรอกข้อมูล!AO$2,\"\",ABS(M371-I$6))","v":""},"",{"$f":"IF(กรอกข้อมูล!AS371>กรอกข้อมูล!AO$2,\"\",N371*Q371)","v":""}]
["","","","","","",{"$nulls":6},{"$f":"IF(กรอกข้อมูล!AS372>กรอกข้อมูล!AO$2,\"\",กรอกข้อมูล!AS372)","v":""},{"$f":"IF(กรอกข้อมูล!AS372>กรอกข้อมูล!AO$2,\"\",กรอกข้อมูล!AT372)","v":""},{"$f":"IF(กรอกข้อมูล!AS372>กรอกข้อมูล!AO$2,\"\",กรอกข้อมูล!AU372)","v":""},{"$f":"IF(กรอกข้อมูล!AS372>กรอกข้อมูล!AO$2,\"\",N372*O372)","v":""},{"$f":"IF(กรอกข้อมูล!AS372>กรอกข้อมูล!AO$2,\"\",ABS(M372-I$6))","v":""},"",{"$f":"IF(กรอกข้อมูล!AS372>กรอกข้อมูล!AO$2,\"\",N372*Q372)","v":""}]
["","","","","","",{"$nulls":6},{"$f":"IF(กรอกข้อมูล!AS373>กรอกข้อมูล!AO$2,\"\",กรอกข้อมูล!AS373)","v":""},{"$f":"IF(กรอกข้อมูล!AS373>กรอกข้อมูล!AO$2,\"\",กรอกข้อมูล!AT373)","v":""},{"$f":"IF(กรอกข้อมูล!AS373>กรอกข้อมูล!AO$2,\"\",กรอกข้อมูล!AU373)","v":""},{"$f":"IF(กรอกข้อมูล!AS373>กรอกข้อมูล!AO$2,\"\",N373*O373)","v":""},{"$f":"IF(กรอกข้อมูล!AS373>กรอกข้อมูล!AO$2,\"\",ABS(M373-I$6))","v":""},"",{"$f":"IF(กรอกข้อมูล!AS373>กรอกข้อมูล!AO$2,\"\",N373*Q373)","v":""}]
["","","","","","",{"$nulls":6},{"$f":"IF(กรอกข้อมูล!AS374>กรอกข้อมูล!AO$2,\"\",กรอกข้อมูล!AS374)","v":""},{"$f":"IF(กรอกข้อมูล!AS374>กรอกข้อมูล!AO$2,\"\",กรอกข้อมูล!AT374)","v":""},{"$f":"IF(กรอกข้อมูล!AS374>กรอกข้อมูล!AO$2,\"\",กรอกข้อมูล!AU374)","v":""},{"$f":"IF(กรอกข้อมูล!AS374>กรอกข้อมูล!AO$2,\"\",N374*O374)","v":""},{"$f":"IF(กรอกข้อมูล!AS374>กรอกข้อมูล!AO$2,\"\",ABS(M374-I$6))","v":""},"",{"$f":"IF(กรอกข้อมูล!AS374>กรอกข้อมูล!AO$2,\"\",N374*Q374)","v":""}]
["","","","","","",{"$nulls":6},{"$f":"IF(กรอกข้อมูล!AS375>กรอกข้อมูล!AO$2,\"\",กรอกข้อมูล!AS375)","v":""},{"$f":"IF(กรอกข้อมูล!AS375>กรอกข้อมูล!AO$2,\"\",กรอกข้อมูล!AT375)","v":""},{"$f":"IF(กรอกข้อมูล!AS375>กรอกข้อมูล!AO$2,\"\",กรอกข้อมูล!AU375)","v":""},{"$f":"IF(กรอกข้อมูล!AS375>กรอกข้อมูล!AO$2,\"\",N375*O375)","v":""},{"$f":"IF(กรอกข้อมูล!AS375>กรอกข้อมูล!AO$2,\"\",ABS(M375-I$6))","v":""},"",{"$f":"IF(กรอกข้อมูล!AS375>กรอกข้อมูล!AO$2,\"\",N375*Q375)","v":""}]
["","","","","","",{"$nulls":6},{"$f":"IF(กรอกข้อมูล!AS376>กรอกข้อมูล!AO$2,\"\",กรอกข้อมูล!AS376)","v":""},{"$f":"IF(กรอกข้อมูล!AS376>กรอกข้อมูล!AO$2,\"\",กรอกข้อมูล!AT376)","v":""},{"$f":"IF(กรอกข้อมูล!AS376>กรอกข้อมูล!AO$2,\"\",กรอกข้อมูล!AU376)","v":""},{"$f":"IF(กรอกข้อมูล!AS376>กรอกข้อมูล!AO$2,\"\",N376*O376)","v":""},{"$f":"IF(กรอกข้อมูล!AS376>กรอกข้อมูล!AO$2,\"\",ABS(M376-I$6))","v":""},"",{"$f":"IF(กรอกข้อมูล!AS376>กรอกข้อมูล!AO$2,\"\",N376*Q376)","v":""}]
["","","","","","",{"$nulls":6},{"$f":"IF(กรอกข้อมูล!AS377>กรอกข้อมูล!AO$2,\"\",กรอกข้อมูล!AS377)","v":""},{"$f":"IF(กรอกข้อมูล!AS377>กรอกข้อมูล!AO$2,\"\",กรอกข้อมูล!AT377)","v":""},{"$f":"IF(กรอกข้อมูล!AS377>กรอกข้อมูล!AO$2,\"\",กรอกข้อมูล!AU377)","v":""},{"$f":"IF(กรอกข้อมูล!AS377>กรอกข้อมูล!AO$2,\"\",N377*O377)","v":""},{"$f":"IF(กรอกข้อมูล!AS377>กรอกข้อมูล!AO$2,\"\",ABS(M377-I$6))","v":""},"",{"$f":"IF(กรอกข้อมูล!AS377>กรอกข้อมูล!AO$2,\"\",N377*Q377)","v":""}]
["","","","","","",{"$nulls":6},{"$f":"IF(กรอกข้อมูล!AS378>กรอกข้อมูล!AO$2,\"\",กรอกข้อมูล!AS378)","v":""},{"$f":"IF(กรอกข้อมูล!AS378>กรอกข้อมูล!AO$2,\"\",กรอกข้อมูล!AT378)","v":""},{"$f":"IF(กรอกข้อมูล!AS378>กรอกข้อมูล!AO$2,\"\",กรอกข้อมูล!AU378)","v":""},{"$f":"IF(กรอกข้อมูล!AS378>กรอกข้อมูล!AO$2,\"\",N378*O378)","v":""},{"$f":"IF(กรอกข้อมูล!AS378>กรอกข้อมูล!AO$2,\"\",ABS(M378-I$6))","v":""},"",{"$f":"IF(กรอกข้อมูล!AS378>กรอกข้อมูล!AO$2,\"\",N378*Q378)","v":""}]
["","","","","","",{"$nulls":6},{"$f":"IF(กรอกข้อมูล!AS379>กรอกข้อมูล!AO$2,\"\",กรอกข้อมูล!AS379)","v":""},{"$f":"IF(กรอกข้อมูล!AS379>กรอกข้อมูล!AO$2,\"\",กรอกข้อมูล!AT379)","v":""},{"$f":"IF(กรอกข้อมูล!AS379>กรอกข้อมูล!AO$2,\"\",กรอกข้อมูล!AU379)","v":""},{"$f":"IF(กรอกข้อมูล!AS379>กรอกข้อมูล!AO$2,\"\",N379*O379)","v":""},{"$f":"IF(กรอกข้อมูล!AS379>กรอกข้อมูล!AO$2,\"\",ABS(M379-I$6))","v":""},"",{"$f":"IF(กรอกข้อมูล!AS379>กรอกข้อมูล!AO$2,\"\",N379*Q379)","v":""}]
["","","","","","",{"$nulls":6},{"$f":"IF(กรอกข้อมูล!AS380>กรอกข้อมูล!AO$2,\"\",กรอกข้อมูล!AS380)","v":""},{"$f":"IF(กรอกข้อมูล!AS380>กรอกข้อมูล!AO$2,\"\",กรอกข้อมูล!AT380)","v":""},{"$f":"IF(กรอกข้อมูล!AS380>กรอกข้อมูล!AO$2,\"\",กรอกข้อมูล!AU380)","v":""},{"$f":"IF(กรอกข้อมูล!AS380>กรอกข้อมูล!AO$2,\"\",N380*O380)","v":""},{"$f":"IF(กรอกข้อมูล!AS380>กรอกข้อมูล!AO$2,\"\",ABS(M380-I$6))","v":""},"",{"$f":"IF(กรอกข้อมูล!AS380>กรอกข้อมูล!AO$2,\"\",N380*Q380)","v":""}]
["","","","","","",{"$nulls":6},{"$f":"IF(กรอกข้อมูล!AS381>กรอกข้อมูล!AO$2,\"\",กรอกข้อมูล!AS381)","v":""},{"$f":"IF(กรอกข้อมูล!AS381>กรอกข้อมูล!AO$2,\"\",กรอกข้อมูล!AT381)","v":""},{"$f":"IF(กรอกข้อมูล!AS381>กรอกข้อมูล!AO$2,\"\",กรอกข้อมูล!AU381)","v":""},{"$f":"IF(กรอกข้อมูล!AS381>กรอกข้อมูล!AO$2,\"\",N381*O381)","v":""},{"$f":"IF(กรอกข้อมูล!AS381>กรอกข้อมูล!AO$2,\"\",ABS(M381-I$6))","v":""},"",{"$f":"IF(กรอกข้อมูล!AS381>กรอกข้อมูล!AO$2,\"\",N381*Q381)","v":""}]
["","","","","","",{"$nulls":6},{"$f":"IF(กรอกข้อมูล!AS382>กรอกข้อมูล!AO$2,\"\",กรอกข้อมูล!AS382)","v":""},{"$f":"IF(กรอกข้อมูล!AS382>กรอกข้อมูล!AO$2,\"\",กรอกข้อมูล!AT382)","v":""},{"$f":"IF(กรอกข้อมูล!AS382>กรอกข้อมูล!AO$2,\"\",กรอกข้อมูล!AU382)","v":""},{"$f":"IF(กรอกข้อมูล!AS382>กรอกข้อมูล!AO$2,\"\",N382*O382)","v":""},{"$f":"IF(กรอกข้อมูล!AS382>กรอกข้อมูล!AO$2,\"\",ABS(M382-I$6))","v":""},"",{"$f":"IF(กรอกข้อมูล!AS382>กรอกข้อมูล!AO$2,\"\",N382*Q382)","v":""}]
["","","","","","",{"$nulls":6},{"$f":"IF(กรอกข้อมูล!AS383>กรอกข้อมูล!AO$2,\"\",กรอกข้อมูล!AS383)","v":""},{"$f":"IF(กรอกข้อมูล!AS383>กรอกข้อมูล!AO$2,\"\",กรอกข้อมูล!AT383)","v":""},{"$f":"IF(กรอกข้อมูล!AS383>กรอกข้อมูล!AO$2,\"\",กรอกข้อมูล!AU383)","v":""},{"$f":"IF(กรอกข้อมูล!AS383>กรอกข้อมูล!AO$2,\"\",N383*O383)","v":""},{"$f":"IF(กรอกข้อมูล!AS383>กรอกข้อมูล!AO$2,\"\",ABS(M383-I$6))","v":""},"",{"$f":"IF(กรอกข้อมูล!AS383>กรอกข้อมูล!AO$2,\"\",N383*Q383)","v":""}]
["","","","","","",{"$nulls":6},{"$f":"IF(กรอกข้อมูล!AS384>กรอกข้อมูล!AO$2,\"\",กรอกข้อมูล!AS384)","v":""},{"$f":"IF(กรอกข้อมูล!AS384>กรอกข้อมูล!AO$2,\"\",กรอกข้อมูล!AT384)","v":""},{"$f":"IF(กรอกข้อมูล!AS384>กรอกข้อมูล!AO$2,\"\",กรอกข้อมูล!AU384)","v":""},{"$f":"IF(กรอกข้อมูล!AS384>กรอกข้อมูล!AO$2,\"\",N384*O384)","v":""},{"$f":"IF(กรอกข้อมูล!AS384>กรอกข้อมูล!AO$2,\"\",ABS(M384-I$6))","v":""},"",{"$f":"IF(กรอกข้อมูล!AS384>กรอกข้อมูล!AO$2,\"\",N384*Q384)","v":""}]
["","","","","","",{"$nulls":6},{"$f":"IF(กรอกข้อมูล!AS385>กรอกข้อมูล!AO$2,\"\",กรอกข้อมูล!AS385)","v":""},{"$f":"IF(กรอกข้อมูล!AS385>กรอกข้อมูล!AO$2,\"\",กรอกข้อมูล!AT385)","v":""},{"$f":"IF(กรอกข้อมูล!AS385>กรอกข้อมูล!AO$2,\"\",กรอกข้อมูล!AU385)","v":""},{"$f":"IF(กรอกข้อมูล!AS385>กรอกข้อมูล!AO$2,\"\",N385*O385)","v":""},{"$f":"IF(กรอกข้อมูล!AS385>กรอกข้อมูล!AO$2,\"\",ABS(M385-I$6))","v":""},"",{"$f":"IF(กรอกข้อมูล!AS385>กรอกข้อมูล!AO$2,\"\",N385*Q385)","v":""}]
[{"$f":"M386","v":""},{"$f":"N386","v":""},{"$f":"O386","v":""},{"$f":"P386","v":""},{"$f":"R386","v":""},{"$f":"S386","v":""},{"$nulls":6},{"$f":"IF(กรอกข้อมูล!AS386>กรอกข้อมูล!AO$2,\"\",กรอกข้อมูล!AS386)","v":""},{"$f":"IF(กรอกข้อมูล!AS386>กรอกข้อมูล!AO$2,\"\",กรอกข้อมูล!AT386)","v":""},{"$f":"IF(กรอกข้อมูล!AS386>กรอกข้อมูล!AO$2,\"\",กรอกข้อมูล!AU386)","v":""},{"$f":"IF(กรอกข้อมูล!AS386>กรอกข้อมูล!AO$2,\"\",N386*O386)","v":""},{"$f":"IF(กรอกข้อมูล!AS386>กรอกข้อมูล!AO$2,\"\",ABS(M386-I$6))","v":""},"",{"$f":"IF(กรอกข้อมูล!AS386>กรอกข้อมูล!AO$2,\"\",N386*Q386)","v":""}]
["","","","","","",{"$nulls":6},{"$f":"IF(กรอกข้อมูล!AS387>กรอกข้อมูล!AO$2,\"\",กรอกข้อมูล!AS387)","v":""},{"$f":"IF(กรอกข้อมูล!AS387>กรอกข้อมูล!AO$2,\"\",กรอกข้อมูล!AT387)","v":""},{"$f":"IF(กรอกข้อมูล!AS387>กรอกข้อมูล!AO$2,\"\",กรอกข้อมูล!AU387)","v":""},{"$f":"IF(กรอกข้อมูล!AS387>กรอกข้อมูล!AO$2,\"\",N387*O387)","v":""},{"$f":"IF(กรอกข้อมูล!AS387>กรอกข้อมูล!AO$2,\"\",ABS(M387-I$6))","v":""},{"$f":"IF(N387=0,0,Q387)","v":""},{"$f":"IF(กรอกข้อมูล!AS387>กรอกข้อมูล!AO$2,\"\",N387*Q387)","v":""}]
["","","","","","",{"$nulls":6},{"$f":"IF(กรอกข้อมูล!AS388>กรอกข้อมูล!AO$2,\"\",กรอกข้อมูล!AS388)","v":""},{"$f":"IF(กรอกข้อมูล!AS388>กรอกข้อมูล!AO$2,\"\",กรอกข้อมูล!AT388)","v":""},{"$f":"IF(กรอกข้อมูล!AS388>กรอกข้อมูล!AO$2,\"\",กรอกข้อมูล!AU388)","v":""},{"$f":"IF(กรอกข้อมูล!AS388>กรอกข้อมูล!AO$2,\"\",N388*O388)","v":""},{"$f":"IF(กรอกข้อมูล!AS388>กรอกข้อมูล!AO$2,\"\",ABS(M388-I$6))","v":""},"",{"$f":"IF(กรอกข้อมูล!AS388>กรอกข้อมูล!AO$2,\"\",N388*Q388)","v":""}]
["","","","","","",{"$nulls":6},{"$f":"IF(กรอกข้อมูล!AS389>กรอกข้อมูล!AO$2,\"\",กรอกข้อมูล!AS389)","v":""},{"$f":"IF(กรอกข้อมูล!AS389>กรอกข้อมูล!AO$2,\"\",กรอกข้อมูล!AT389)","v":""},{"$f":"IF(กรอกข้อมูล!AS389>กรอกข้อมูล!AO$2,\"\",กรอกข้อมูล!AU389)","v":""},{"$f":"IF(กรอกข้อมูล!AS389>กรอกข้อมูล!AO$2,\"\",N389*O389)","v":""},{"$f":"IF(กรอกข้อมูล!AS389>กรอกข้อมูล!AO$2,\"\",ABS(M389-I$6))","v":""},"",{"$f":"IF(กรอกข้อมูล!AS389>กรอกข้อมูล!AO$2,\"\",N389*Q389)","v":""}]
["","","","","","",{"$nulls":6},{"$f":"IF(กรอกข้อมูล!AS390>กรอกข้อมูล!AO$2,\"\",กรอกข้อมูล!AS390)","v":""},{"$f":"IF(กรอกข้อมูล!AS390>กรอกข้อมูล!AO$2,\"\",กรอกข้อมูล!AT390)","v":""},{"$f":"IF(กรอกข้อมูล!AS390>กรอกข้อมูล!AO$2,\"\",กรอกข้อมูล!AU390)","v":""},{"$f":"IF(กรอกข้อมูล!AS390>กรอกข้อมูล!AO$2,\"\",N390*O390)","v":""},{"$f":"IF(กรอกข้อมูล!AS390>กรอกข้อมูล!AO$2,\"\",ABS(M390-I$6))","v":""},"",{"$f":"IF(กรอกข้อมูล!AS390>กรอกข้อมูล!AO$2,\"\",N390*Q390)","v":""}]
["","","","","","",{"$nulls":6},{"$f":"IF(กรอกข้อมูล!AS391>กรอกข้อมูล!AO$2,\"\",กรอกข้อมูล!AS391)","v":""},{"$f":"IF(กรอกข้อมูล!AS391>กรอกข้อมูล!AO$2,\"\",กรอกข้อมูล!AT391)","v":""},{"$f":"IF(กรอกข้อมูล!AS391>กรอกข้อมูล!AO$2,\"\",กรอกข้อมูล!AU391)","v":""},{"$f":"IF(กรอกข้อมูล!AS391>กรอกข้อมูล!AO$2,\"\",N391*O391)","v":""},{"$f":"IF(กรอกข้อมูล!AS391>กรอกข้อมูล!AO$2,\"\",ABS(M391-I$6))","v":""},"",{"$f":"IF(กรอกข้อมูล!AS391>กรอกข้อมูล!AO$2,\"\",N391*Q391)","v":""}]
["","","","","","",{"$nulls":6},{"$f":"IF(กรอกข้อมูล!AS392>กรอกข้อมูล!AO$2,\"\",กรอกข้อมูล!AS392)","v":""},{"$f":"IF(กรอกข้อมูล!AS392>กรอกข้อมูล!AO$2,\"\",กรอกข้อมูล!AT392)","v":""},{"$f":"IF(กรอกข้อมูล!AS392>กรอกข้อมูล!AO$2,\"\",กรอกข้อมูล!AU392)","v":""},{"$f":"IF(กรอกข้อมูล!AS392>กรอกข้อมูล!AO$2,\"\",N392*O392)","v":""},{"$f":"IF(กรอกข้อมูล!AS392>กรอกข้อมูล!AO$2,\"\",ABS(M392-I$6))","v":""},"",{"$f":"IF(กรอกข้อมูล!AS392>กรอกข้อมูล!AO$2,\"\",N392*Q392)","v":""}]
["","","","","","",{"$nulls":6},{"$f":"IF(กรอกข้อมูล!AS393>กรอกข้อมูล!AO$2,\"\",กรอกข้อมูล!AS393)","v":""},{"$f":"IF(กรอกข้อมูล!AS393>กรอกข้อมูล!AO$2,\"\",กรอกข้อมูล!AT393)","v":""},{"$f":"IF(กรอกข้อมูล!AS393>กรอกข้อมูล!AO$2,\"\",กรอกข้อมูล!AU393)","v":""},{"$f":"IF(กรอกข้อมูล!AS393>กรอกข้อมูล!AO$2,\"\",N393*O393)","v":""},{"$f":"IF(กรอกข้อมูล!AS393>กรอกข้อมูล!AO$2,\"\",ABS(M393-I$6))","v":""},"",{"$f":"IF(กรอกข้อมูล!AS393>กรอกข้อมูล!AO$2,\"\",N393*Q393)","v":""}]
["","","","","","",{"$nulls":6},{"$f":"IF(กรอกข้อมูล!AS394>กรอกข้อมูล!AO$2,\"\",กรอกข้อมูล!AS394)","v":""},{"$f":"IF(กรอกข้อมูล!AS394>กรอกข้อมูล!AO$2,\"\",กรอกข้อมูล!AT394)","v":""},{"$f":"IF(กรอกข้อมูล!AS394>กรอกข้อมูล!AO$2,\"\",กรอกข้อมูล!AU394)","v":""},{"$f":"IF(กรอกข้อมูล!AS394>กรอกข้อมูล!AO$2,\"\",N394*O394)","v":""},{"$f":"IF(กรอกข้อมูล!AS394>กรอกข้อมูล!AO$2,\"\",ABS(M394-I$6))","v":""},"",{"$f":"IF(กรอกข้อมูล!AS394>กรอกข้อมูล!AO$2,\"\",N394*Q394)","v":""}]
["","","","","","",{"$nulls":6},{"$f":"IF(กรอกข้อมูล!AS395>กรอกข้อมูล!AO$2,\"\",กรอกข้อมูล!AS395)","v":""},{"$f":"IF(กรอกข้อมูล!AS395>กรอกข้อมูล!AO$2,\"\",กรอกข้อมูล!AT395)","v":""},{"$f":"IF(กรอกข้อมูล!AS395>กรอกข้อมูล!AO$2,\"\",กรอกข้อมูล!AU395)","v":""},{"$f":"IF(กรอกข้อมูล!AS395>กรอกข้อมูล!AO$2,\"\",N395*O395)","v":""},{"$f":"IF(กรอกข้อมูล!AS395>กรอกข้อมูล!AO$2,\"\",ABS(M395-I$6))","v":""},"",{"$f":"IF(กรอกข้อมูล!AS395>กรอกข้อมูล!AO$2,\"\",N395*Q395)","v":""}]
["","","","","","",{"$nulls":6},{"$f":"IF(กรอกข้อมูล!AS396>กรอกข้อมูล!AO$2,\"\",กรอกข้อมูล!AS396)","v":""},{"$f":"IF(กรอกข้อมูล!AS396>กรอกข้อมูล!AO$2,\"\",กรอกข้อมูล!AT396)","v":""},{"$f":"IF(กรอกข้อมูล!AS396>กรอกข้อมูล!AO$2,\"\",กรอกข้อมูล!AU396)","v":""},{"$f":"IF(กรอกข้อมูล!AS396>กรอกข้อมูล!AO$2,\"\",N396*O396)","v":""},{"$f":"IF(กรอกข้อมูล!AS396>กรอกข้อมูล!AO$2,\"\",ABS(M396-I$6))","v":""},"",{"$f":"IF(กรอกข้อมูล!AS396>กรอกข้อมูล!AO$2,\"\",N396*Q396)","v":""}]
["","","","","","",{"$nulls":6},{"$f":"IF(กรอกข้อมูล!AS397>กรอกข้อมูล!AO$2,\"\",กรอกข้อมูล!AS397)","v":""},{"$f":"IF(กรอกข้อมูล!AS397>กรอกข้อมูล!AO$2,\"\",กรอกข้อมูล!AT397)","v":""},{"$f":"IF(กรอกข้อมูล!AS397>กรอกข้อมูล!AO$2,\"\",กรอกข้อมูล!AU397)","v":""},{"$f":"IF(กรอกข้อมูล!AS397>กรอกข้อมูล!AO$2,\"\",N397*O397)","v":""},{"$f":"IF(กรอกข้อมูล!AS397>กรอกข้อมูล!AO$2,\"\",ABS(M397-I$6))","v":""},"",{"$f":"IF(กรอกข้อมูล!AS397>กรอกข้อมูล!AO$2,\"\",N397*Q397)","v":""}]
["","","","","","",{"$nulls":6},{"$f":"IF(กรอกข้อมูล!AS398>กรอกข้อมูล!AO$2,\"\",กรอกข้อมูล!AS398)","v":""},{"$f":"IF(กรอกข้อมูล!AS398>กรอกข้อมูล!AO$2,\"\",กรอกข้อมูล!AT398)","v":""},{"$f":"IF(กรอกข้อมูล!AS398>กรอกข้อมูล!AO$2,\"\",กรอกข้อมูล!AU398)","v":""},{"$f":"IF(กรอกข้อมูล!AS398>กรอกข้อมูล!AO$2,\"\",N398*O398)","v":""},{"$f":"IF(กรอกข้อมูล!AS398>กรอกข้อมูล!AO$2,\"\",ABS(M398-I$6))","v":""},"",{"$f":"IF(กรอกข้อมูล!AS398>กรอกข้อมูล!AO$2,\"\",N398*Q398)","v":""}]
["","","","","","",{"$nulls":6},{"$f":"IF(กรอกข้อมูล!AS399>กรอกข้อมูล!AO$2,\"\",กรอกข้อมูล!AS399)","v":""},{"$f":"IF(กรอกข้อมูล!AS399>กรอกข้อมูล!AO$2,\"\",กรอกข้อมูล!AT399)","v":""},{"$f":"IF(กรอกข้อมูล!AS399>กรอกข้อมูล!AO$2,\"\",กรอกข้อมูล!AU399)","v":""},{"$f":"IF(กรอกข้อมูล!AS399>กรอกข้อมูล!AO$2,\"\",N399*O399)","v":""},{"$f":"IF(กรอกข้อมูล!AS399>กรอกข้อมูล!AO$2,\"\",ABS(M399-I$6))","v":""},"",{"$f":"IF(กรอกข้อมูล!AS399>กรอกข้อมูล!AO$2,\"\",N399*Q399)","v":""}]
["","","","","","",{"$nulls":6},{"$f":"IF(กรอกข้อมูล!AS400>กรอกข้อมูล!AO$2,\"\",กรอกข้อมูล!AS400)","v":""},{"$f":"IF(กรอกข้อมูล!AS400>กรอกข้อมูล!AO$2,\"\",กรอกข้อมูล!AT400)","v":""},{"$f":"IF(กรอกข้อมูล!AS400>กรอกข้อมูล!AO$2,\"\",กรอกข้อมูล!AU400)","v":""},{"$f":"IF(กรอกข้อมูล!AS400>กรอกข้อมูล!AO$2,\"\",N400*O400)","v":""},{"$f":"IF(กรอกข้อมูล!AS400>กรอกข้อมูล!AO$2,\"\",ABS(M400-I$6))","v":""},"",{"$f":"IF(กรอกข้อมูล!AS400>กรอกข้อมูล!AO$2,\"\",N400*Q400)","v":""}]
["","","","","","",{"$nulls":6},{"$f":"IF(กรอกข้อมูล!AS401>กรอกข้อมูล!AO$2,\"\",กรอกข้อมูล!AS401)","v":""},{"$f":"IF(กรอกข้อมูล!AS401>กรอกข้อมูล!AO$2,\"\",กรอกข้อมูล!AT401)","v":""},{"$f":"IF(กรอกข้อมูล!AS401>กรอกข้อมูล!AO$2,\"\",กรอกข้อมูล!AU401)","v":""},{"$f":"IF(กรอกข้อมูล!AS401>กรอกข้อมูล!AO$2,\"\",N401*O401)","v":""},{"$f":"IF(กรอกข้อมูล!AS401>กรอกข้อมูล!AO$2,\"\",ABS(M401-I$6))","v":""},"",{"$f":"IF(กรอกข้อมูล!AS401>กรอกข้อมูล!AO$2,\"\",N401*Q401)","v":""}]
[430,50,521,1328,125.60000000000001,284.03999999999996,{"$nulls":6},{"$f":"SUM(M2:M401)","v":430},50,521,1328,125.60000000000001,125.60000000000001,284.03999999999996]
[{"$nulls":4},"M.D.",5.6807999999999996,{"$nulls":12},{"$f":"S402/I4","v":5.6807999999999996}]

{"sheet":"แจกแจง I>0","index":6,"n_rows":53,"n_cols":31,"rows_kept":53,"cut":false,"hidden":true,"merged":[[0,0,0,2],[0,3,0,5]]}
["ช่วงข้อมูล",null,null,"ช่วงข้อมูลที่แท้จริง",null,null,"จุดกึ่งกลาง (X)","ความถี่ (f)","ความถี่สะสม (F)","fX","fX2","X-m","(X-m)2","f(X-m)2","ความถี่สัมพัทธ์","%ความถี่สัมพัทธ์",{"$nulls":5},"ค่าเฉลี่ยเลขคณิต (Mean)",null,null,"ค่าเฉลี่ยเลขคณิต (Mean) โดยวิธีลัด",null,"ค่ามัธยฐาน (Median)"]
[{"$f":"กรอกข้อมูล!O2","v":12},{"$f":"กรอกข้อมูล!P2","v":"-"},{"$f":"กรอกข้อมูล!Q2","v":14},{"$f":"กรอกข้อมูล!R2","v":11.5},{"$f":"กรอกข้อมูล!S2","v":"-"},{"$f":"กรอกข้อมูล!T2","v":14.5},{"$f":"กรอกข้อมูล!Z2","v":13},{"$f":"กรอกข้อมูล!W2","v":4},{"$f":"กรอกข้อมูล!X2","v":4},{"$f":"กรอกข้อมูล!AA2","v":52},{"$f":"กรอกข้อมูล!AB2","v":676},{"$f":"กรอกข้อมูล!AC2","v":-8.64},{"$f":"กรอกข้อมูล!AD2","v":74.649600000000007},{"$f":"กรอกข้อมูล!AE2","v":298.59840000000003},{"$f":"กรอกข้อมูล!AF2","v":0.08},{"$f":"กรอกข้อมูล!AG2","v":8},{"$f":"กรอกข้อมูล!AI2","v":-3},{"$f":"กรอกข้อมูล!AJ2","v":-12},{"$f":"กรอกข้อมูล!AK2","v":9},{"$f":"กรอกข้อมูล!AL2","v":36}]
[{"$f":"กรอกข้อมูล!O3","v":15},{"$f":"กรอกข้อมูล!P3","v":"-"},{"$f":"กรอกข้อมูล!Q3","v":17},{"$f":"กรอกข้อมูล!R3","v":14.5},{"$f":"กรอกข้อมูล!S3","v":"-"},{"$f":"กรอกข้อมูล!T3","v":17.5},{"$f":"กรอกข้อมูล!Z3","v":16},{"$f":"กรอกข้อมูล!W3","v":7},{"$f":"กรอกข้อมูล!X3","v":11},{"$f":"กรอกข้อมูล!AA3","v":112},{"$f":"กรอกข้อมูล!AB3","v":1792},{"$f":"กรอกข้อมูล!AC3","v":-5.6400000000000006},{"$f":"กรอกข้อมูล!AD3","v":31.809600000000007},{"$f":"กรอกข้อมูล!AE3","v":222.66720000000004},{"$f":"กรอกข้อมูล!AF3","v":0.14000000000000001},{"$f":"กรอกข้อมูล!AG3","v":14.000000000000002},{"$f":"กรอกข้อมูล!AI3","v":-2},{"$f":"กรอกข้อมูล!AJ3","v":-14},{"$f":"กรอกข้อมูล!AK3","v":4},{"$f":"กรอกข้อมูล!AL3","v":28},{"$nulls":4},"a = จุดกึ่งกลางของอันตรภาคชั้น"]
[{"$f":"กรอกข้อมูล!O4","v":18},{"$f":"กรอกข้อมูล!P4","v":"-"},{"$f":"กรอกข้อมูล!Q4","v":20},{"$f":"กรอกข้อมูล!R4","v":17.5},{"$f":"กรอกข้อมูล!S4","v":"-"},{"$f":"กรอกข้อมูล!T4","v":20.5},{"$f":"กรอกข้อมูล!Z4","v":19},{"$f":"กรอกข้อมูล!W4","v":9},{"$f":"กรอกข้อมูล!X4","v":20},{"$f":"กรอกข้อมูล!AA4","v":171},{"$f":"กรอกข้อมูล!AB4","v":3249},{"$f":"กรอกข้อมูล!AC4","v":-2.6400000000000006},{"$f":"กรอกข้อมูล!AD4","v":6.9696000000000033},{"$f":"กรอกข้อมูล!AE4","v":62.726400000000027},{"$f":"กรอกข้อมูล!AF4","v":0.18},{"$f":"กรอกข้อมูล!AG4","v":18},{"$f":"กรอกข้อมูล!AI4","v":-1},{"$f":"กรอกข้อมูล!AJ4","v":-9},{"$f":"กรอกข้อมูล!AK4","v":1},{"$f":"กรอกข้อมูล!AL4","v":9},null,null,{"$f":"กรอกข้อมูล!$AA$52","v":1082},null,{"$f":"กรอกข้อมูล!$AH$53","v":22}]
[{"$f":"กรอกข้อมูล!O5","v":21},{"$f":"กรอกข้อมูล!P5","v":"-"},{"$f":"กรอกข้อมูล!Q5","v":23},{"$f":"กรอกข้อมูล!R5","v":20.5},{"$f":"กรอกข้อมูล!S5","v":"-"},{"$f":"กรอกข้อมูล!T5","v":23.5},{"$f":"กรอกข้อมูล!Z5","v":22},{"$f":"กรอกข้อมูล!W5","v":12},{"$f":"กรอกข้อมูล!X5","v":32},{"$f":"กรอกข้อมูล!AA5","v":264},{"$f":"กรอกข้อมูล!AB5","v":5808},{"$f":"กรอกข้อมูล!AC5","v":0.35999999999999943},{"$f":"กรอกข้อมูล!AD5","v":0.1295999999999996},{"$f":"กรอกข้อมูล!AE5","v":1.5551999999999953},{"$f":"กรอกข้อมูล!AF5","v":0.24},{"$f":"กรอกข้อมูล!AG5","v":24},{"$f":"กรอกข้อมูล!AI5","v":0},{"$f":"กรอกข้อมูล!AJ5","v":0},{"$f":"กรอกข้อมูล!AK5","v":0},{"$f":"กรอกข้อมูล!AL5","v":0},null,"N",{"$f":"$H$52","v":50},null,"I = อันตรภาคชั้น",{"$f":"กรอกข้อมูล!$AQ$3","v":3},"L","ขอบล่างของคะแนนที่มีมัธยฐาน",null,null,{"$f":"กรอกข้อมูล!$AQ$10","v":17.5}]
[{"$f":"กรอกข้อมูล!O6","v":24},{"$f":"กรอกข้อมูล!P6","v":"-"},{"$f":"กรอกข้อมูล!Q6","v":26},{"$f":"กรอกข้อมูล!R6","v":23.5},{"$f":"กรอกข้อมูล!S6","v":"-"},{"$f":"กรอกข้อมูล!T6","v":26.5},{"$f":"กรอกข้อมูล!Z6","v":25},{"$f":"กรอกข้อมูล!W6","v":10},{"$f":"กรอกข้อมูล!X6","v":42},{"$f":"กรอกข้อมูล!AA6","v":250},{"$f":"กรอกข้อมูล!AB6","v":6250},{"$f":"กรอกข้อมูล!AC6","v":3.3599999999999994},{"$f":"กรอกข้อมูล!AD6","v":11.289599999999997},{"$f":"กรอกข้อมูล!AE6","v":112.89599999999996},{"$f":"กรอกข้อมูล!AF6","v":0.2},{"$f":"กรอกข้อมูล!AG6","v":20},{"$f":"กรอกข้อมูล!AI6","v":1},{"$f":"กรอกข้อมูล!AJ6","v":10},{"$f":"กรอกข้อมูล!AK6","v":1},{"$f":"กรอกข้อมูล!AL6","v":10},null,"m",{"$f":"W4/W5","v":21.64},null,"  = ค่าเฉลี่ยข้อมูลที่ได้ตัดทอนแล้ว",null,"i","ความกว้างของอันตรภาคชั้นที่มีมัธยฐาน",null,null,{"$f":"กรอกข้อมูล!$AQ$3","v":3}]
[{"$f":"กรอกข้อมูล!O7","v":27},{"$f":"กรอกข้อมูล!P7","v":"-"},{"$f":"กรอกข้อมูล!Q7","v":29},{"$f":"กรอกข้อมูล!R7","v":26.5},{"$f":"กรอกข้อมูล!S7","v":"-"},{"$f":"กรอกข้อมูล!T7","v":29.5},{"$f":"กรอกข้อมูล!Z7","v":28},{"$f":"กรอกข้อมูล!W7","v":5},{"$f":"กรอกข้อมูล!X7","v":47},{"$f":"กรอกข้อมูล!AA7","v":140},{"$f":"กรอกข้อมูล!AB7","v":3920},{"$f":"กรอกข้อมูล!AC7","v":6.3599999999999994},{"$f":"กรอกข้อมูล!AD7","v":40.44959999999999},{"$f":"กรอกข้อมูล!AE7","v":202.24799999999993},{"$f":"กรอกข้อมูล!AF7","v":0.1},{"$f":"กรอกข้อมูล!AG7","v":10},{"$f":"กรอกข้อมูล!AI7","v":2},{"$f":"กรอกข้อมูล!AJ7","v":10},{"$f":"กรอกข้อมูล!AK7","v":4},{"$f":"กรอกข้อมูล!AL7","v":20},{"$nulls":4},{"$f":"R52/W5","v":-0.12},null,"fL","ความถี่สะสมของชั้นคะแนนต่ำสุดถึงชั้น"]
[{"$f":"กรอกข้อมูล!O8","v":30},{"$f":"กรอกข้อมูล!P8","v":"-"},{"$f":"กรอกข้อมูล!Q8","v":32},{"$f":"กรอกข้อมูล!R8","v":29.5},{"$f":"กรอกข้อมูล!S8","v":"-"},{"$f":"กรอกข้อมูล!T8","v":32.5},{"$f":"กรอกข้อมูล!Z8","v":31},{"$f":"กรอกข้อมูล!W8","v":3},{"$f":"กรอกข้อมูล!X8","v":50},{"$f":"กรอกข้อมูล!AA8","v":93},{"$f":"กรอกข้อมูล!AB8","v":2883},{"$f":"กรอกข้อมูล!AC8","v":9.36},{"$f":"กรอกข้อมูล!AD8","v":87.609599999999986},{"$f":"กรอกข้อมูล!AE8","v":262.82879999999994},{"$f":"กรอกข้อมูล!AF8","v":0.06},{"$f":"กรอกข้อมูล!AG8","v":6},{"$f":"กรอกข้อมูล!AI8","v":3},{"$f":"กรอกข้อมูล!AJ8","v":9},{"$f":"กรอกข้อมูล!AK8","v":9},{"$f":"กรอกข้อมูล!AL8","v":27},{"$nulls":4},"m",{"$f":"Y4+Z5*Y7","v":21.64},null,"ก่อนที่มีมัธยฐาน",null,null,{"$f":"กรอกข้อมูล!$AQ$12","v":11}]
[{"$f":"กรอกข้อมูล!O9","v":""},{"$f":"กรอกข้อมูล!P9","v":""},{"$f":"กรอกข้อมูล!Q9","v":""},{"$f":"กรอกข้อมูล!R9","v":""},{"$f":"กรอกข้อมูล!S9","v":""},{"$f":"กรอกข้อมูล!T9","v":""},{"$f":"กรอกข้อมูล!Z9","v":""},{"$f":"กรอกข้อมูล!W9","v":""},{"$f":"กรอกข้อมูล!X9","v":""},{"$f":"กรอกข้อมูล!AA9","v":""},{"$f":"กรอกข้อมูล!AB9","v":""},{"$f":"กรอกข้อมูล!AC9","v":""},{"$f":"กรอกข้อมูล!AD9","v":""},{"$f":"กรอกข้อมูล!AE9","v":""},{"$f":"กรอกข้อมูล!AF9","v":""},{"$f":"กรอกข้อมูล!AG9","v":""},{"$f":"กรอกข้อมูล!AI9","v":""},{"$f":"กรอกข้อมูล!AJ9","v":""},{"$f":"กรอกข้อมูล!AK9","v":""},{"$f":"กรอกข้อมูล!AL9","v":""},null,"ส่วนเบี่ยงเบนมาตรฐาน (Standard Deviation)/",null,null,null,"โดยวิธีลัด","fM","ความถี่ของคะแนนในชั้นที่มีมัธยฐาน",null,null,{"$f":"กรอกข้อมูล!$AQ$11","v":9}]
[{"$f":"กรอกข้อมูล!O10","v":""},{"$f":"กรอกข้อมูล!P10","v":""},{"$f":"กรอกข้อมูล!Q10","v":""},{"$f":"กรอกข้อมูล!R10","v":""},{"$f":"กรอกข้อมูล!S10","v":""},{"$f":"กรอกข้อมูล!T10","v":""},{"$f":"กรอกข้อมูล!Z10","v":""},{"$f":"กรอกข้อมูล!W10","v":""},{"$f":"กรอกข้อมูล!X10","v":""},{"$f":"กรอกข้อมูล!AA10","v":""},{"$f":"กรอกข้อมูล!AB10","v":""},{"$f":"กรอกข้อมูล!AC10","v":""},{"$f":"กรอกข้อมูล!AD10","v":""},{"$f":"กรอกข้อมูล!AE10","v":""},{"$f":"กรอกข้อมูล!AF10","v":""},{"$f":"กรอกข้อมูล!AG10","v":""},{"$f":"กรอกข้อมูล!AI10","v":""},{"$f":"กรอกข้อมูล!AJ10","v":""},{"$f":"กรอกข้อมูล!AK10","v":""},{"$f":"กรอกข้อมูล!AL10","v":""},null,"      ประชากร :",{"$nulls":4},"N","จำนวนความถี่ทั้งหมด",null,null,{"$f":"กรอกข้อมูล!$AQ$7","v":50}]
[{"$f":"กรอกข้อมูล!O11","v":""},{"$f":"กรอกข้อมูล!P11","v":""},{"$f":"กรอกข้อมูล!Q11","v":""},{"$f":"กรอกข้อมูล!R11","v":""},{"$f":"กรอกข้อมูล!S11","v":""},{"$f":"กรอกข้อมูล!T11","v":""},{"$f":"กรอกข้อมูล!Z11","v":""},{"$f":"กรอกข้อมูล!W11","v":""},{"$f":"กรอกข้อมูล!X11","v":""},{"$f":"กรอกข้อมูล!AA11","v":""},{"$f":"กรอกข้อมูล!AB11","v":""},{"$f":"กรอกข้อมูล!AC11","v":""},{"$f":"กรอกข้อมูล!AD11","v":""},{"$f":"กรอกข้อมูล!AE11","v":""},{"$f":"กรอกข้อมูล!AF11","v":""},{"$f":"กรอกข้อมูล!AG11","v":""},{"$f":"กรอกข้อมูล!AI11","v":""},{"$f":"กรอกข้อมูล!AJ11","v":""},{"$f":"กรอกข้อมูล!AK11","v":""},{"$f":"กรอกข้อมูล!AL11","v":""},{"$nulls":6},"Med",{"$f":"AE5+AE6*((AE10/2-AE8)/AE9)","v":22.166666666666668}]
[{"$f":"กรอกข้อมูล!O12","v":""},{"$f":"กรอกข้อมูล!P12","v":""},{"$f":"กรอกข้อมูล!Q12","v":""},{"$f":"กรอกข้อมูล!R12","v":""},{"$f":"กรอกข้อมูล!S12","v":""},{"$f":"กรอกข้อมูล!T12","v":""},{"$f":"กรอกข้อมูล!Z12","v":""},{"$f":"กรอกข้อมูล!W12","v":""},{"$f":"กรอกข้อมูล!X12","v":""},{"$f":"กรอกข้อมูล!AA12","v":""},{"$f":"กรอกข้อมูล!AB12","v":""},{"$f":"กรอกข้อมูล!AC12","v":""},{"$f":"กรอกข้อมูล!AD12","v":""},{"$f":"กรอกข้อมูล!AE12","v":""},{"$f":"กรอกข้อมูล!AF12","v":""},{"$f":"กรอกข้อมูล!AG12","v":""},{"$f":"กรอกข้อมูล!AI12","v":""},{"$f":"กรอกข้อมูล!AJ12","v":""},{"$f":"กรอกข้อมูล!AK12","v":""},{"$f":"กรอกข้อมูล!AL12","v":""}]
[{"$f":"กรอกข้อมูล!O13","v":""},{"$f":"กรอกข้อมูล!P13","v":""},{"$f":"กรอกข้อมูล!Q13","v":""},{"$f":"กรอกข้อมูล!R13","v":""},{"$f":"กรอกข้อมูล!S13","v":""},{"$f":"กรอกข้อมูล!T13","v":""},{"$f":"กรอกข้อมูล!Z13","v":""},{"$f":"กรอกข้อมูล!W13","v":""},{"$f":"กรอกข้อมูล!X13","v":""},{"$f":"กรอกข้อมูล!AA13","v":""},{"$f":"กรอกข้อมูล!AB13","v":""},{"$f":"กรอกข้อมูล!AC13","v":""},{"$f":"กรอกข้อมูล!AD13","v":""},{"$f":"กรอกข้อมูล!AE13","v":""},{"$f":"กรอกข้อมูล!AF13","v":""},{"$f":"กรอกข้อมูล!AG13","v":""},{"$f":"กรอกข้อมูล!AI13","v":""},{"$f":"กรอกข้อมูล!AJ13","v":""},{"$f":"กรอกข้อมูล!AK13","v":""},{"$f":"กรอกข้อมูล!AL13","v":""},null,null,{"$f":"$N$52","v":1163.52},null,null,{"$f":"$T$52","v":130},"ค่าฐานนิยม (Mode)"]
[{"$f":"กรอกข้อมูล!O14","v":""},{"$f":"กรอกข้อมูล!P14","v":""},{"$f":"กรอกข้อมูล!Q14","v":""},{"$f":"กรอกข้อมูล!R14","v":""},{"$f":"กรอกข้อมูล!S14","v":""},{"$f":"กรอกข้อมูล!T14","v":""},{"$f":"กรอกข้อมูล!Z14","v":""},{"$f":"กรอกข้อมูล!W14","v":""},{"$f":"กรอกข้อมูล!X14","v":""},{"$f":"กรอกข้อมูล!AA14","v":""},{"$f":"กรอกข้อมูล!AB14","v":""},{"$f":"กรอกข้อมูล!AC14","v":""},{"$f":"กรอกข้อมูล!AD14","v":""},{"$f":"กรอกข้อมูล!AE14","v":""},{"$f":"กรอกข้อมูล!AF14","v":""},{"$f":"กรอกข้อมูล!AG14","v":""},{"$f":"กรอกข้อมูล!AI14","v":""},{"$f":"กรอกข้อมูล!AJ14","v":""},{"$f":"กรอกข้อมูล!AK14","v":""},{"$f":"กรอกข้อมูล!AL14","v":""},null,"N",{"$f":"$H$52","v":50}]
[{"$f":"กรอกข้อมูล!O15","v":""},{"$f":"กรอกข้อมูล!P15","v":""},{"$f":"กรอกข้อมูล!Q15","v":""},{"$f":"กรอกข้อมูล!R15","v":""},{"$f":"กรอกข้อมูล!S15","v":""},{"$f":"กรอกข้อมูล!T15","v":""},{"$f":"กรอกข้อมูล!Z15","v":""},{"$f":"กรอกข้อมูล!W15","v":""},{"$f":"กรอกข้อมูล!X15","v":""},{"$f":"กรอกข้อมูล!AA15","v":""},{"$f":"กรอกข้อมูล!AB15","v":""},{"$f":"กรอกข้อมูล!AC15","v":""},{"$f":"กรอกข้อมูล!AD15","v":""},{"$f":"กรอกข้อมูล!AE15","v":""},{"$f":"กรอกข้อมูล!AF15","v":""},{"$f":"กรอกข้อมูล!AG15","v":""},{"$f":"กรอกข้อมูล!AI15","v":""},{"$f":"กรอกข้อมูล!AJ15","v":""},{"$f":"กรอกข้อมูล!AK15","v":""},{"$f":"กรอกข้อมูล!AL15","v":""},null,"s",{"$f":"SQRT(W13/W14)","v":4.8239402981380275},null,"s",{"$f":"Z5*SQRT((Z13/W5)-(Y7^2))","v":4.8239402981380275}]
[{"$f":"กรอกข้อมูล!O16","v":""},{"$f":"กรอกข้อมูล!P16","v":""},{"$f":"กรอกข้อมูล!Q16","v":""},{"$f":"กรอกข้อมูล!R16","v":""},{"$f":"กรอกข้อมูล!S16","v":""},{"$f":"กรอกข้อมูล!T16","v":""},{"$f":"กรอกข้อมูล!Z16","v":""},{"$f":"กรอกข้อมูล!W16","v":""},{"$f":"กรอกข้อมูล!X16","v":""},{"$f":"กรอกข้อมูล!AA16","v":""},{"$f":"กรอกข้อมูล!AB16","v":""},{"$f":"กรอกข้อมูล!AC16","v":""},{"$f":"กรอกข้อมูล!AD16","v":""},{"$f":"กรอกข้อมูล!AE16","v":""},{"$f":"กรอกข้อมูล!AF16","v":""},{"$f":"กรอกข้อมูล!AG16","v":""},{"$f":"กรอกข้อมูล!AI16","v":""},{"$f":"กรอกข้อมูล!AJ16","v":""},{"$f":"กรอกข้อมูล!AK16","v":""},{"$f":"กรอกข้อมูล!AL16","v":""},null,"ความแปรปรวน (Variance)",null,null,"ความแปรปรวน (Variance)",null,"L","ขอบล่างของชั้นที่มีฐานนิยมอยู่",null,null,{"$f":"กรอกข้อมูล!$AQ$18","v":20.5}]
[{"$f":"กรอกข้อมูล!O17","v":""},{"$f":"กรอกข้อมูล!P17","v":""},{"$f":"กรอกข้อมูล!Q17","v":""},{"$f":"กรอกข้อมูล!R17","v":""},{"$f":"กรอกข้อมูล!S17","v":""},{"$f":"กรอกข้อมูล!T17","v":""},{"$f":"กรอกข้อมูล!Z17","v":""},{"$f":"กรอกข้อมูล!W17","v":""},{"$f":"กรอกข้อมูล!X17","v":""},{"$f":"กรอกข้อมูล!AA17","v":""},{"$f":"กรอกข้อมูล!AB17","v":""},{"$f":"กรอกข้อมูล!AC17","v":""},{"$f":"กรอกข้อมูล!AD17","v":""},{"$f":"กรอกข้อมูล!AE17","v":""},{"$f":"กรอกข้อมูล!AF17","v":""},{"$f":"กรอกข้อมูล!AG17","v":""},{"$f":"กรอกข้อมูล!AI17","v":""},{"$f":"กรอกข้อมูล!AJ17","v":""},{"$f":"กรอกข้อมูล!AK17","v":""},{"$f":"กรอกข้อมูล!AL17","v":""},null,"s2",{"$f":"W13/W14","v":23.270399999999999},null,"s2",{"$f":"Z15^2","v":23.270400000000002},"i","ความกว้างของอันตรภาคชั้นที่มีฐานนิยม",null,null,{"$f":"กรอกข้อมูล!$AQ$3","v":3}]
[{"$f":"กรอกข้อมูล!O18","v":""},{"$f":"กรอกข้อมูล!P18","v":""},{"$f":"กรอกข้อมูล!Q18","v":""},{"$f":"กรอกข้อมูล!R18","v":""},{"$f":"กรอกข้อมูล!S18","v":""},{"$f":"กรอกข้อมูล!T18","v":""},{"$f":"กรอกข้อมูล!Z18","v":""},{"$f":"กรอกข้อมูล!W18","v":""},{"$f":"กรอกข้อมูล!X18","v":""},{"$f":"กรอกข้อมูล!AA18","v":""},{"$f":"กรอกข้อมูล!AB18","v":""},{"$f":"กรอกข้อมูล!AC18","v":""},{"$f":"กรอกข้อมูล!AD18","v":""},{"$f":"กรอกข้อมูล!AE18","v":""},{"$f":"กรอกข้อมูล!AF18","v":""},{"$f":"กรอกข้อมูล!AG18","v":""},{"$f":"กรอกข้อมูล!AI18","v":""},{"$f":"กรอกข้อมูล!AJ18","v":""},{"$f":"กรอกข้อมูล!AK18","v":""},{"$f":"กรอกข้อมูล!AL18","v":""},null,"      ตัวอย่าง :",{"$nulls":4},"d1","ความถี่ของชั้นที่มีฐานนิยมอยู่ - "]
[{"$f":"กรอกข้อมูล!O19","v":""},{"$f":"กรอกข้อมูล!P19","v":""},{"$f":"กรอกข้อมูล!Q19","v":""},{"$f":"กรอกข้อมูล!R19","v":""},{"$f":"กรอกข้อมูล!S19","v":""},{"$f":"กรอกข้อมูล!T19","v":""},{"$f":"กรอกข้อมูล!Z19","v":""},{"$f":"กรอกข้อมูล!W19","v":""},{"$f":"กรอกข้อมูล!X19","v":""},{"$f":"กรอกข้อมูล!AA19","v":""},{"$f":"กรอกข้อมูล!AB19","v":""},{"$f":"กรอกข้อมูล!AC19","v":""},{"$f":"กรอกข้อมูล!AD19","v":""},{"$f":"กรอกข้อมูล!AE19","v":""},{"$f":"กรอกข้อมูล!AF19","v":""},{"$f":"กรอกข้อมูล!AG19","v":""},{"$f":"กรอกข้อมูล!AI19","v":""},{"$f":"กรอกข้อมูล!AJ19","v":""},{"$f":"กรอกข้อมูล!AK19","v":""},{"$f":"กรอกข้อมูล!AL19","v":""},{"$nulls":7},"ความถี่ของชั้นติดกันที่มีช่วงคะแนนต่ำกว่า",null,null,{"$f":"AE22-AE23","v":3}]
[{"$f":"กรอกข้อมูล!O20","v":""},{"$f":"กรอกข้อมูล!P20","v":""},{"$f":"กรอกข้อมูล!Q20","v":""},{"$f":"กรอกข้อมูล!R20","v":""},{"$f":"กรอกข้อมูล!S20","v":""},{"$f":"กรอกข้อมูล!T20","v":""},{"$f":"กรอกข้อมูล!Z20","v":""},{"$f":"กรอกข้อมูล!W20","v":""},{"$f":"กรอกข้อมูล!X20","v":""},{"$f":"กรอกข้อมูล!AA20","v":""},{"$f":"กรอกข้อมูล!AB20","v":""},{"$f":"กรอกข้อมูล!AC20","v":""},{"$f":"กรอกข้อมูล!AD20","v":""},{"$f":"กรอกข้อมูล!AE20","v":""},{"$f":"กรอกข้อมูล!AF20","v":""},{"$f":"กรอกข้อมูล!AG20","v":""},{"$f":"กรอกข้อมูล!AI20","v":""},{"$f":"กรอกข้อมูล!AJ20","v":""},{"$f":"กรอกข้อมูล!AK20","v":""},{"$f":"กรอกข้อมูล!AL20","v":""},{"$nulls":6},"d2","ความถี่ของชั้นที่มีฐานนิยมอยู่ - "]
[{"$f":"กรอกข้อมูล!O21","v":""},{"$f":"กรอกข้อมูล!P21","v":""},{"$f":"กรอกข้อมูล!Q21","v":""},{"$f":"กรอกข้อมูล!R21","v":""},{"$f":"กรอกข้อมูล!S21","v":""},{"$f":"กรอกข้อมูล!T21","v":""},{"$f":"กรอกข้อมูล!Z21","v":""},{"$f":"กรอกข้อมูล!W21","v":""},{"$f":"กรอกข้อมูล!X21","v":""},{"$f":"กรอกข้อมูล!AA21","v":""},{"$f":"กรอกข้อมูล!AB21","v":""},{"$f":"กรอกข้อมูล!AC21","v":""},{"$f":"กรอกข้อมูล!AD21","v":""},{"$f":"กรอกข้อมูล!AE21","v":""},{"$f":"กรอกข้อมูล!AF21","v":""},{"$f":"กรอกข้อมูล!AG21","v":""},{"$f":"กรอกข้อมูล!AI21","v":""},{"$f":"กรอกข้อมูล!AJ21","v":""},{"$f":"กรอกข้อมูล!AK21","v":""},{"$f":"กรอกข้อมูล!AL21","v":""},null,null,{"$f":"$N$52","v":1163.52},{"$nulls":4},"ความถี่ของชั้นติดกันที่มีช่วงคะแนนสูงกว่า",null,null,{"$f":"AE22-AE24","v":2}]
[{"$f":"กรอกข้อมูล!O22","v":""},{"$f":"กรอกข้อมูล!P22","v":""},{"$f":"กรอกข้อมูล!Q22","v":""},{"$f":"กรอกข้อมูล!R22","v":""},{"$f":"กรอกข้อมูล!S22","v":""},{"$f":"กรอกข้อมูล!T22","v":""},{"$f":"กรอกข้อมูล!Z22","v":""},{"$f":"กรอกข้อมูล!W22","v":""},{"$f":"กรอกข้อมูล!X22","v":""},{"$f":"กรอกข้อมูล!AA22","v":""},{"$f":"กรอกข้อมูล!AB22","v":""},{"$f":"กรอกข้อมูล!AC22","v":""},{"$f":"กรอกข้อมูล!AD22","v":""},{"$f":"กรอกข้อมูล!AE22","v":""},{"$f":"กรอกข้อมูล!AF22","v":""},{"$f":"กรอกข้อมูล!AG22","v":""},{"$f":"กรอกข้อมูล!AI22","v":""},{"$f":"กรอกข้อมูล!AJ22","v":""},{"$f":"กรอกข้อมูล!AK22","v":""},{"$f":"กรอกข้อมูล!AL22","v":""},null,"N-1",{"$f":"$H$52-1","v":49},null,null,null,"ความถี่ของชั้นที่มีฐานนิยมอยู่",null,null,null,{"$f":"กรอกข้อมูล!$AQ$16","v":12}]
[{"$f":"กรอกข้อมูล!O23","v":""},{"$f":"กรอกข้อมูล!P23","v":""},{"$f":"กรอกข้อมูล!Q23","v":""},{"$f":"กรอกข้อมูล!R23","v":""},{"$f":"กรอกข้อมูล!S23","v":""},{"$f":"กรอกข้อมูล!T23","v":""},{"$f":"กรอกข้อมูล!Z23","v":""},{"$f":"กรอกข้อมูล!W23","v":""},{"$f":"กรอกข้อมูล!X23","v":""},{"$f":"กรอกข้อมูล!AA23","v":""},{"$f":"กรอกข้อมูล!AB23","v":""},{"$f":"กรอกข้อมูล!AC23","v":""},{"$f":"กรอกข้อมูล!AD23","v":""},{"$f":"กรอกข้อมูล!AE23","v":""},{"$f":"กรอกข้อมูล!AF23","v":""},{"$f":"กรอกข้อมูล!AG23","v":""},{"$f":"กรอกข้อมูล!AI23","v":""},{"$f":"กรอกข้อมูล!AJ23","v":""},{"$f":"กรอกข้อมูล!AK23","v":""},{"$f":"กรอกข้อมูล!AL23","v":""},null,"S",{"$f":"SQRT(W21/W22)","v":4.8729155669320789},null,null,null,"ความถี่ของชั้นติดกันที่มีช่วงคะแนนต่ำกว่า",null,null,null,{"$f":"กรอกข้อมูล!$AQ$21","v":9}]
[{"$f":"กรอกข้อมูล!O24","v":""},{"$f":"กรอกข้อมูล!P24","v":""},{"$f":"กรอกข้อมูล!Q24","v":""},{"$f":"กรอกข้อมูล!R24","v":""},{"$f":"กรอกข้อมูล!S24","v":""},{"$f":"กรอกข้อมูล!T24","v":""},{"$f":"กรอกข้อมูล!Z24","v":""},{"$f":"กรอกข้อมูล!W24","v":""},{"$f":"กรอกข้อมูล!X24","v":""},{"$f":"กรอกข้อมูล!AA24","v":""},{"$f":"กรอกข้อมูล!AB24","v":""},{"$f":"กรอกข้อมูล!AC24","v":""},{"$f":"กรอกข้อมูล!AD24","v":""},{"$f":"กรอกข้อมูล!AE24","v":""},{"$f":"กรอกข้อมูล!AF24","v":""},{"$f":"กรอกข้อมูล!AG24","v":""},{"$f":"กรอกข้อมูล!AI24","v":""},{"$f":"กรอกข้อมูล!AJ24","v":""},{"$f":"กรอกข้อมูล!AK24","v":""},{"$f":"กรอกข้อมูล!AL24","v":""},null,"ความแปรปรวน (Variance)",{"$nulls":4},"ความถี่ของชั้นติดกันที่มีช่วงคะแนนสูงกว่า",null,null,null,{"$f":"กรอกข้อมูล!$AQ$22","v":10}]
[{"$f":"กรอกข้อมูล!O25","v":""},{"$f":"กรอกข้อมูล!P25","v":""},{"$f":"กรอกข้อมูล!Q25","v":""},{"$f":"กรอกข้อมูล!R25","v":""},{"$f":"กรอกข้อมูล!S25","v":""},{"$f":"กรอกข้อมูล!T25","v":""},{"$f":"กรอกข้อมูล!Z25","v":""},{"$f":"กรอกข้อมูล!W25","v":""},{"$f":"กรอกข้อมูล!X25","v":""},{"$f":"กรอกข้อมูล!AA25","v":""},{"$f":"กรอกข้อมูล!AB25","v":""},{"$f":"กรอกข้อมูล!AC25","v":""},{"$f":"กรอกข้อมูล!AD25","v":""},{"$f":"กรอกข้อมูล!AE25","v":""},{"$f":"กรอกข้อมูล!AF25","v":""},{"$f":"กรอกข้อมูล!AG25","v":""},{"$f":"กรอกข้อมูล!AI25","v":""},{"$f":"กรอกข้อมูล!AJ25","v":""},{"$f":"กรอกข้อมูล!AK25","v":""},{"$f":"กรอกข้อมูล!AL25","v":""},null,"S2",{"$f":"W21/W22","v":23.74530612244898},null,null,null,"Mod",{"$f":"AE16+AE17*(AE19/(AE19+AE21))","v":22.3}]
[{"$f":"กรอกข้อมูล!O26","v":""},{"$f":"กรอกข้อมูล!P26","v":""},{"$f":"กรอกข้อมูล!Q26","v":""},{"$f":"กรอกข้อมูล!R26","v":""},{"$f":"กรอกข้อมูล!S26","v":""},{"$f":"กรอกข้อมูล!T26","v":""},{"$f":"กรอกข้อมูล!Z26","v":""},{"$f":"กรอกข้อมูล!W26","v":""},{"$f":"กรอกข้อมูล!X26","v":""},{"$f":"กรอกข้อมูล!AA26","v":""},{"$f":"กรอกข้อมูล!AB26","v":""},{"$f":"กรอกข้อมูล!AC26","v":""},{"$f":"กรอกข้อมูล!AD26","v":""},{"$f":"กรอกข้อมูล!AE26","v":""},{"$f":"กรอกข้อมูล!AF26","v":""},{"$f":"กรอกข้อมูล!AG26","v":""},{"$f":"กรอกข้อมูล!AI26","v":""},{"$f":"กรอกข้อมูล!AJ26","v":""},{"$f":"กรอกข้อมูล!AK26","v":""},{"$f":"กรอกข้อมูล!AL26","v":""},null,"สัมประสิทธิ์ของความแปรผัน (Coefficient of Variation: C.V.)"]
[{"$f":"กรอกข้อมูล!O27","v":""},{"$f":"กรอกข้อมูล!P27","v":""},{"$f":"กรอกข้อมูล!Q27","v":""},{"$f":"กรอกข้อมูล!R27","v":""},{"$f":"กรอกข้อมูล!S27","v":""},{"$f":"กรอกข้อมูล!T27","v":""},{"$f":"กรอกข้อมูล!Z27","v":""},{"$f":"กรอกข้อมูล!W27","v":""},{"$f":"กรอกข้อมูล!X27","v":""},{"$f":"กรอกข้อมูล!AA27","v":""},{"$f":"กรอกข้อมูล!AB27","v":""},{"$f":"กรอกข้อมูล!AC27","v":""},{"$f":"กรอกข้อมูล!AD27","v":""},{"$f":"กรอกข้อมูล!AE27","v":""},{"$f":"กรอกข้อมูล!AF27","v":""},{"$f":"กรอกข้อมูล!AG27","v":""},{"$f":"กรอกข้อมูล!AI27","v":""},{"$f":"กรอกข้อมูล!AJ27","v":""},{"$f":"กรอกข้อมูล!AK27","v":""},{"$f":"กรอกข้อมูล!AL27","v":""}]
[{"$f":"กรอกข้อมูล!O28","v":""},{"$f":"กรอกข้อมูล!P28","v":""},{"$f":"กรอกข้อมูล!Q28","v":""},{"$f":"กรอกข้อมูล!R28","v":""},{"$f":"กรอกข้อมูล!S28","v":""},{"$f":"กรอกข้อมูล!T28","v":""},{"$f":"กรอกข้อมูล!Z28","v":""},{"$f":"กรอกข้อมูล!W28","v":""},{"$f":"กรอกข้อมูล!X28","v":""},{"$f":"กรอกข้อมูล!AA28","v":""},{"$f":"กรอกข้อมูล!AB28","v":""},{"$f":"กรอกข้อมูล!AC28","v":""},{"$f":"กรอกข้อมูล!AD28","v":""},{"$f":"กรอกข้อมูล!AE28","v":""},{"$f":"กรอกข้อมูล!AF28","v":""},{"$f":"กรอกข้อมูล!AG28","v":""},{"$f":"กรอกข้อมูล!AI28","v":""},{"$f":"กรอกข้อมูล!AJ28","v":""},{"$f":"กรอกข้อมูล!AK28","v":""},{"$f":"กรอกข้อมูล!AL28","v":""}]
[{"$f":"กรอกข้อมูล!O29","v":""},{"$f":"กรอกข้อมูล!P29","v":""},{"$f":"กรอกข้อมูล!Q29","v":""},{"$f":"กรอกข้อมูล!R29","v":""},{"$f":"กรอกข้อมูล!S29","v":""},{"$f":"กรอกข้อมูล!T29","v":""},{"$f":"กรอกข้อมูล!Z29","v":""},{"$f":"กรอกข้อมูล!W29","v":""},{"$f":"กรอกข้อมูล!X29","v":""},{"$f":"กรอกข้อมูล!AA29","v":""},{"$f":"กรอกข้อมูล!AB29","v":""},{"$f":"กรอกข้อมูล!AC29","v":""},{"$f":"กรอกข้อมูล!AD29","v":""},{"$f":"กรอกข้อมูล!AE29","v":""},{"$f":"กรอกข้อมูล!AF29","v":""},{"$f":"กรอกข้อมูล!AG29","v":""},{"$f":"กรอกข้อมูล!AI29","v":""},{"$f":"กรอกข้อมูล!AJ29","v":""},{"$f":"กรอกข้อมูล!AK29","v":""},{"$f":"กรอกข้อมูล!AL29","v":""},null,"s",{"$f":"$W$23","v":4.8729155669320789}]
[{"$f":"กรอกข้อมูล!O30","v":""},{"$f":"กรอกข้อมูล!P30","v":""},{"$f":"กรอกข้อมูล!Q30","v":""},{"$f":"กรอกข้อมูล!R30","v":""},{"$f":"กรอกข้อมูล!S30","v":""},{"$f":"กรอกข้อมูล!T30","v":""},{"$f":"กรอกข้อมูล!Z30","v":""},{"$f":"กรอกข้อมูล!W30","v":""},{"$f":"กรอกข้อมูล!X30","v":""},{"$f":"กรอกข้อมูล!AA30","v":""},{"$f":"กรอกข้อมูล!AB30","v":""},{"$f":"กรอกข้อมูล!AC30","v":""},{"$f":"กรอกข้อมูล!AD30","v":""},{"$f":"กรอกข้อมูล!AE30","v":""},{"$f":"กรอกข้อมูล!AF30","v":""},{"$f":"กรอกข้อมูล!AG30","v":""},{"$f":"กรอกข้อมูล!AI30","v":""},{"$f":"กรอกข้อมูล!AJ30","v":""},{"$f":"กรอกข้อมูล!AK30","v":""},{"$f":"กรอกข้อมูล!AL30","v":""},null,"m",{"$f":"$W$6","v":21.64}]
[{"$f":"กรอกข้อมูล!O31","v":""},{"$f":"กรอกข้อมูล!P31","v":""},{"$f":"กรอกข้อมูล!Q31","v":""},{"$f":"กรอกข้อมูล!R31","v":""},{"$f":"กรอกข้อมูล!S31","v":""},{"$f":"กรอกข้อมูล!T31","v":""},{"$f":"กรอกข้อมูล!Z31","v":""},{"$f":"กรอกข้อมูล!W31","v":""},{"$f":"กรอกข้อมูล!X31","v":""},{"$f":"กรอกข้อมูล!AA31","v":""},{"$f":"กรอกข้อมูล!AB31","v":""},{"$f":"กรอกข้อมูล!AC31","v":""},{"$f":"กรอกข้อมูล!AD31","v":""},{"$f":"กรอกข้อมูล!AE31","v":""},{"$f":"กรอกข้อมูล!AF31","v":""},{"$f":"กรอกข้อมูล!AG31","v":""},{"$f":"กรอกข้อมูล!AI31","v":""},{"$f":"กรอกข้อมูล!AJ31","v":""},{"$f":"กรอกข้อมูล!AK31","v":""},{"$f":"กรอกข้อมูล!AL31","v":""},null,"C.V.",{"$f":"W29/W30*100","v":22.518094117061363},"%"]
[{"$f":"กรอกข้อมูล!O32","v":""},{"$f":"กรอกข้อมูล!P32","v":""},{"$f":"กรอกข้อมูล!Q32","v":""},{"$f":"กรอกข้อมูล!R32","v":""},{"$f":"กรอกข้อมูล!S32","v":""},{"$f":"กรอกข้อมูล!T32","v":""},{"$f":"กรอกข้อมูล!Z32","v":""},{"$f":"กรอกข้อมูล!W32","v":""},{"$f":"กรอกข้อมูล!X32","v":""},{"$f":"กรอกข้อมูล!AA32","v":""},{"$f":"กรอกข้อมูล!AB32","v":""},{"$f":"กรอกข้อมูล!AC32","v":""},{"$f":"กรอกข้อมูล!AD32","v":""},{"$f":"กรอกข้อมูล!AE32","v":""},{"$f":"กรอกข้อมูล!AF32","v":""},{"$f":"กรอกข้อมูล!AG32","v":""},{"$f":"กรอกข้อมูล!AI32","v":""},{"$f":"กรอกข้อมูล!AJ32","v":""},{"$f":"กรอกข้อมูล!AK32","v":""},{"$f":"กรอกข้อมูล!AL32","v":""}]
[{"$f":"กรอกข้อมูล!O33","v":""},{"$f":"กรอกข้อมูล!P33","v":""},{"$f":"กรอกข้อมูล!Q33","v":""},{"$f":"กรอกข้อมูล!R33","v":""},{"$f":"กรอกข้อมูล!S33","v":""},{"$f":"กรอกข้อมูล!T33","v":""},{"$f":"กรอกข้อมูล!Z33","v":""},{"$f":"กรอกข้อมูล!W33","v":""},{"$f":"กรอกข้อมูล!X33","v":""},{"$f":"กรอกข้อมูล!AA33","v":""},{"$f":"กรอกข้อมูล!AB33","v":""},{"$f":"กรอกข้อมูล!AC33","v":""},{"$f":"กรอกข้อมูล!AD33","v":""},{"$f":"กรอกข้อมูล!AE33","v":""},{"$f":"กรอกข้อมูล!AF33","v":""},{"$f":"กรอกข้อมูล!AG33","v":""},{"$f":"กรอกข้อมูล!AI33","v":""},{"$f":"กรอกข้อมูล!AJ33","v":""},{"$f":"กรอกข้อมูล!AK33","v":""},{"$f":"กรอกข้อมูล!AL33","v":""}]
[{"$f":"กรอกข้อมูล!O34","v":""},{"$f":"กรอกข้อมูล!P34","v":""},{"$f":"กรอกข้อมูล!Q34","v":""},{"$f":"กรอกข้อมูล!R34","v":""},{"$f":"กรอกข้อมูล!S34","v":""},{"$f":"กรอกข้อมูล!T34","v":""},{"$f":"กรอกข้อมูล!Z34","v":""},{"$f":"กรอกข้อมูล!W34","v":""},{"$f":"กรอกข้อมูล!X34","v":""},{"$f":"กรอกข้อมูล!AA34","v":""},{"$f":"กรอกข้อมูล!AB34","v":""},{"$f":"กรอกข้อมูล!AC34","v":""},{"$f":"กรอกข้อมูล!AD34","v":""},{"$f":"กรอกข้อมูล!AE34","v":""},{"$f":"กรอกข้อมูล!AF34","v":""},{"$f":"กรอกข้อมูล!AG34","v":""},{"$f":"กรอกข้อมูล!AI34","v":""},{"$f":"กรอกข้อมูล!AJ34","v":""},{"$f":"กรอกข้อมูล!AK34","v":""},{"$f":"กรอกข้อมูล!AL34","v":""}]
[{"$f":"กรอกข้อมูล!O35","v":""},{"$f":"กรอกข้อมูล!P35","v":""},{"$f":"กรอกข้อมูล!Q35","v":""},{"$f":"กรอกข้อมูล!R35","v":""},{"$f":"กรอกข้อมูล!S35","v":""},{"$f":"กรอกข้อมูล!T35","v":""},{"$f":"กรอกข้อมูล!Z35","v":""},{"$f":"กรอกข้อมูล!W35","v":""},{"$f":"กรอกข้อมูล!X35","v":""},{"$f":"กรอกข้อมูล!AA35","v":""},{"$f":"กรอกข้อมูล!AB35","v":""},{"$f":"กรอกข้อมูล!AC35","v":""},{"$f":"กรอกข้อมูล!AD35","v":""},{"$f":"กรอกข้อมูล!AE35","v":""},{"$f":"กรอกข้อมูล!AF35","v":""},{"$f":"กรอกข้อมูล!AG35","v":""},{"$f":"กรอกข้อมูล!AI35","v":""},{"$f":"กรอกข้อมูล!AJ35","v":""},{"$f":"กรอกข้อมูล!AK35","v":""},{"$f":"กรอกข้อมูล!AL35","v":""}]
[{"$f":"กรอกข้อมูล!O36","v":""},{"$f":"กรอกข้อมูล!P36","v":""},{"$f":"กรอกข้อมูล!Q36","v":""},{"$f":"กรอกข้อมูล!R36","v":""},{"$f":"กรอกข้อมูล!S36","v":""},{"$f":"กรอกข้อมูล!T36","v":""},{"$f":"กรอกข้อมูล!Z36","v":""},{"$f":"กรอกข้อมูล!W36","v":""},{"$f":"กรอกข้อมูล!X36","v":""},{"$f":"กรอกข้อมูล!AA36","v":""},{"$f":"กรอกข้อมูล!AB36","v":""},{"$f":"กรอกข้อมูล!AC36","v":""},{"$f":"กรอกข้อมูล!AD36","v":""},{"$f":"กรอกข้อมูล!AE36","v":""},{"$f":"กรอกข้อมูล!AF36","v":""},{"$f":"กรอกข้อมูล!AG36","v":""},{"$f":"กรอกข้อมูล!AI36","v":""},{"$f":"กรอกข้อมูล!AJ36","v":""},{"$f":"กรอกข้อมูล!AK36","v":""},{"$f":"กรอกข้อมูล!AL36","v":""}]
[{"$f":"กรอกข้อมูล!O37","v":""},{"$f":"กรอกข้อมูล!P37","v":""},{"$f":"กรอกข้อมูล!Q37","v":""},{"$f":"กรอกข้อมูล!R37","v":""},{"$f":"กรอกข้อมูล!S37","v":""},{"$f":"กรอกข้อมูล!T37","v":""},{"$f":"กรอกข้อมูล!Z37","v":""},{"$f":"กรอกข้อมูล!W37","v":""},{"$f":"กรอกข้อมูล!X37","v":""},{"$f":"กรอกข้อมูล!AA37","v":""},{"$f":"กรอกข้อมูล!AB37","v":""},{"$f":"กรอกข้อมูล!AC37","v":""},{"$f":"กรอกข้อมูล!AD37","v":""},{"$f":"กรอกข้อมูล!AE37","v":""},{"$f":"กรอกข้อมูล!AF37","v":""},{"$f":"กรอกข้อมูล!AG37","v":""},{"$f":"กรอกข้อมูล!AI37","v":""},{"$f":"กรอกข้อมูล!AJ37","v":""},{"$f":"กรอกข้อมูล!AK37","v":""},{"$f":"กรอกข้อมูล!AL37","v":""}]
[{"$f":"กรอกข้อมูล!O38","v":""},{"$f":"กรอกข้อมูล!P38","v":""},{"$f":"กรอกข้อมูล!Q38","v":""},{"$f":"กรอกข้อมูล!R38","v":""},{"$f":"กรอกข้อมูล!S38","v":""},{"$f":"กรอกข้อมูล!T38","v":""},{"$f":"กรอกข้อมูล!Z38","v":""},{"$f":"กรอกข้อมูล!W38","v":""},{"$f":"กรอกข้อมูล!X38","v":""},{"$f":"กรอกข้อมูล!AA38","v":""},{"$f":"กรอกข้อมูล!AB38","v":""},{"$f":"กรอกข้อมูล!AC38","v":""},{"$f":"กรอกข้อมูล!AD38","v":""},{"$f":"กรอกข้อมูล!AE38","v":""},{"$f":"กรอกข้อมูล!AF38","v":""},{"$f":"กรอกข้อมูล!AG38","v":""},{"$f":"กรอกข้อมูล!AI38","v":""},{"$f":"กรอกข้อมูล!AJ38","v":""},{"$f":"กรอกข้อมูล!AK38","v":""},{"$f":"กรอกข้อมูล!AL38","v":""}]
[{"$f":"กรอกข้อมูล!O39","v":""},{"$f":"กรอกข้อมูล!P39","v":""},{"$f":"กรอกข้อมูล!Q39","v":""},{"$f":"กรอกข้อมูล!R39","v":""},{"$f":"กรอกข้อมูล!S39","v":""},{"$f":"กรอกข้อมูล!T39","v":""},{"$f":"กรอกข้อมูล!Z39","v":""},{"$f":"กรอกข้อมูล!W39","v":""},{"$f":"กรอกข้อมูล!X39","v":""},{"$f":"กรอกข้อมูล!AA39","v":""},{"$f":"กรอกข้อมูล!AB39","v":""},{"$f":"กรอกข้อมูล!AC39","v":""},{"$f":"กรอกข้อมูล!AD39","v":""},{"$f":"กรอกข้อมูล!AE39","v":""},{"$f":"กรอกข้อมูล!AF39","v":""},{"$f":"กรอกข้อมูล!AG39","v":""},{"$f":"กรอกข้อมูล!AI39","v":""},{"$f":"กรอกข้อมูล!AJ39","v":""},{"$f":"กรอกข้อมูล!AK39","v":""},{"$f":"กรอกข้อมูล!AL39","v":""}]
[{"$f":"กรอกข้อมูล!O40","v":""},{"$f":"กรอกข้อมูล!P40","v":""},{"$f":"กรอกข้อมูล!Q40","v":""},{"$f":"กรอกข้อมูล!R40","v":""},{"$f":"กรอกข้อมูล!S40","v":""},{"$f":"กรอกข้อมูล!T40","v":""},{"$f":"กรอกข้อมูล!Z40","v":""},{"$f":"กรอกข้อมูล!W40","v":""},{"$f":"กรอกข้อมูล!X40","v":""},{"$f":"กรอกข้อมูล!AA40","v":""},{"$f":"กรอกข้อมูล!AB40","v":""},{"$f":"กรอกข้อมูล!AC40","v":""},{"$f":"กรอกข้อมูล!AD40","v":""},{"$f":"กรอกข้อมูล!AE40","v":""},{"$f":"กรอกข้อมูล!AF40","v":""},{"$f":"กรอกข้อมูล!AG40","v":""},{"$f":"กรอกข้อมูล!AI40","v":""},{"$f":"กรอกข้อมูล!AJ40","v":""},{"$f":"กรอกข้อมูล!AK40","v":""},{"$f":"กรอกข้อมูล!AL40","v":""}]
[{"$f":"กรอกข้อมูล!O41","v":""},{"$f":"กรอกข้อมูล!P41","v":""},{"$f":"กรอกข้อมูล!Q41","v":""},{"$f":"กรอกข้อมูล!R41","v":""},{"$f":"กรอกข้อมูล!S41","v":""},{"$f":"กรอกข้อมูล!T41","v":""},{"$f":"กรอกข้อมูล!Z41","v":""},{"$f":"กรอกข้อมูล!W41","v":""},{"$f":"กรอกข้อมูล!X41","v":""},{"$f":"กรอกข้อมูล!AA41","v":""},{"$f":"กรอกข้อมูล!AB41","v":""},{"$f":"กรอกข้อมูล!AC41","v":""},{"$f":"กรอกข้อมูล!AD41","v":""},{"$f":"กรอกข้อมูล!AE41","v":""},{"$f":"กรอกข้อมูล!AF41","v":""},{"$f":"กรอกข้อมูล!AG41","v":""},{"$f":"กรอกข้อมูล!AI41","v":""},{"$f":"กรอกข้อมูล!AJ41","v":""},{"$f":"กรอกข้อมูล!AK41","v":""},{"$f":"กรอกข้อมูล!AL41","v":""}]
[{"$f":"กรอกข้อมูล!O42","v":""},{"$f":"กรอกข้อมูล!P42","v":""},{"$f":"กรอกข้อมูล!Q42","v":""},{"$f":"กรอกข้อมูล!R42","v":""},{"$f":"กรอกข้อมูล!S42","v":""},{"$f":"กรอกข้อมูล!T42","v":""},{"$f":"กรอกข้อมูล!Z42","v":""},{"$f":"กรอกข้อมูล!W42","v":""},{"$f":"กรอกข้อมูล!X42","v":""},{"$f":"กรอกข้อมูล!AA42","v":""},{"$f":"กรอกข้อมูล!AB42","v":""},{"$f":"กรอกข้อมูล!AC42","v":""},{"$f":"กรอกข้อมูล!AD42","v":""},{"$f":"กรอกข้อมูล!AE42","v":""},{"$f":"กรอกข้อมูล!AF42","v":""},{"$f":"กรอกข้อมูล!AG42","v":""},{"$f":"กรอกข้อมูล!AI42","v":""},{"$f":"กรอกข้อมูล!AJ42","v":""},{"$f":"กรอกข้อมูล!AK42","v":""},{"$f":"กรอกข้อมูล!AL42","v":""}]
[{"$f":"กรอกข้อมูล!O43","v":""},{"$f":"กรอกข้อมูล!P43","v":""},{"$f":"กรอกข้อมูล!Q43","v":""},{"$f":"กรอกข้อมูล!R43","v":""},{"$f":"กรอกข้อมูล!S43","v":""},{"$f":"กรอกข้อมูล!T43","v":""},{"$f":"กรอกข้อมูล!Z43","v":""},{"$f":"กรอกข้อมูล!W43","v":""},{"$f":"กรอกข้อมูล!X43","v":""},{"$f":"กรอกข้อมูล!AA43","v":""},{"$f":"กรอกข้อมูล!AB43","v":""},{"$f":"กรอกข้อมูล!AC43","v":""},{"$f":"กรอกข้อมูล!AD43","v":""},{"$f":"กรอกข้อมูล!AE43","v":""},{"$f":"กรอกข้อมูล!AF43","v":""},{"$f":"กรอกข้อมูล!AG43","v":""},{"$f":"กรอกข้อมูล!AI43","v":""},{"$f":"กรอกข้อมูล!AJ43","v":""},{"$f":"กรอกข้อมูล!AK43","v":""},{"$f":"กรอกข้อมูล!AL43","v":""}]
[{"$f":"กรอกข้อมูล!O44","v":""},{"$f":"กรอกข้อมูล!P44","v":""},{"$f":"กรอกข้อมูล!Q44","v":""},{"$f":"กรอกข้อมูล!R44","v":""},{"$f":"กรอกข้อมูล!S44","v":""},{"$f":"กรอกข้อมูล!T44","v":""},{"$f":"กรอกข้อมูล!Z44","v":""},{"$f":"กรอกข้อมูล!W44","v":""},{"$f":"กรอกข้อมูล!X44","v":""},{"$f":"กรอกข้อมูล!AA44","v":""},{"$f":"กรอกข้อมูล!AB44","v":""},{"$f":"กรอกข้อมูล!AC44","v":""},{"$f":"กรอกข้อมูล!AD44","v":""},{"$f":"กรอกข้อมูล!AE44","v":""},{"$f":"กรอกข้อมูล!AF44","v":""},{"$f":"กรอกข้อมูล!AG44","v":""},{"$f":"กรอกข้อมูล!AI44","v":""},{"$f":"กรอกข้อมูล!AJ44","v":""},{"$f":"กรอกข้อมูล!AK44","v":""},{"$f":"กรอกข้อมูล!AL44","v":""}]
[{"$f":"กรอกข้อมูล!O45","v":""},{"$f":"กรอกข้อมูล!P45","v":""},{"$f":"กรอกข้อมูล!Q45","v":""},{"$f":"กรอกข้อมูล!R45","v":""},{"$f":"กรอกข้อมูล!S45","v":""},{"$f":"กรอกข้อมูล!T45","v":""},{"$f":"กรอกข้อมูล!Z45","v":""},{"$f":"กรอกข้อมูล!W45","v":""},{"$f":"กรอกข้อมูล!X45","v":""},{"$f":"กรอกข้อมูล!AA45","v":""},{"$f":"กรอกข้อมูล!AB45","v":""},{"$f":"กรอกข้อมูล!AC45","v":""},{"$f":"กรอกข้อมูล!AD45","v":""},{"$f":"กรอกข้อมูล!AE45","v":""},{"$f":"กรอกข้อมูล!AF45","v":""},{"$f":"กรอกข้อมูล!AG45","v":""},{"$f":"กรอกข้อมูล!AI45","v":""},{"$f":"กรอกข้อมูล!AJ45","v":""},{"$f":"กรอกข้อมูล!AK45","v":""},{"$f":"กรอกข้อมูล!AL45","v":""}]
[{"$f":"กรอกข้อมูล!O46","v":""},{"$f":"กรอกข้อมูล!P46","v":""},{"$f":"กรอกข้อมูล!Q46","v":""},{"$f":"กรอกข้อมูล!R46","v":""},{"$f":"กรอกข้อมูล!S46","v":""},{"$f":"กรอกข้อมูล!T46","v":""},{"$f":"กรอกข้อมูล!Z46","v":""},{"$f":"กรอกข้อมูล!W46","v":""},{"$f":"กรอกข้อมูล!X46","v":""},{"$f":"กรอกข้อมูล!AA46","v":""},{"$f":"กรอกข้อมูล!AB46","v":""},{"$f":"กรอกข้อมูล!AC46","v":""},{"$f":"กรอกข้อมูล!AD46","v":""},{"$f":"กรอกข้อมูล!AE46","v":""},{"$f":"กรอกข้อมูล!AF46","v":""},{"$f":"กรอกข้อมูล!AG46","v":""},{"$f":"กรอกข้อมูล!AI46","v":""},{"$f":"กรอกข้อมูล!AJ46","v":""},{"$f":"กรอกข้อมูล!AK46","v":""},{"$f":"กรอกข้อมูล!AL46","v":""}]
[{"$f":"กรอกข้อมูล!O47","v":""},{"$f":"กรอกข้อมูล!P47","v":""},{"$f":"กรอกข้อมูล!Q47","v":""},{"$f":"กรอกข้อมูล!R47","v":""},{"$f":"กรอกข้อมูล!S47","v":""},{"$f":"กรอกข้อมูล!T47","v":""},{"$f":"กรอกข้อมูล!Z47","v":""},{"$f":"กรอกข้อมูล!W47","v":""},{"$f":"กรอกข้อมูล!X47","v":""},{"$f":"กรอกข้อมูล!AA47","v":""},{"$f":"กรอกข้อมูล!AB47","v":""},{"$f":"กรอกข้อมูล!AC47","v":""},{"$f":"กรอกข้อมูล!AD47","v":""},{"$f":"กรอกข้อมูล!AE47","v":""},{"$f":"กรอกข้อมูล!AF47","v":""},{"$f":"กรอกข้อมูล!AG47","v":""},{"$f":"กรอกข้อมูล!AI47","v":""},{"$f":"กรอกข้อมูล!AJ47","v":""},{"$f":"กรอกข้อมูล!AK47","v":""},{"$f":"กรอกข้อมูล!AL47","v":""}]
[{"$f":"กรอกข้อมูล!O48","v":""},{"$f":"กรอกข้อมูล!P48","v":""},{"$f":"กรอกข้อมูล!Q48","v":""},{"$f":"กรอกข้อมูล!R48","v":""},{"$f":"กรอกข้อมูล!S48","v":""},{"$f":"กรอกข้อมูล!T48","v":""},{"$f":"กรอกข้อมูล!Z48","v":""},{"$f":"กรอกข้อมูล!W48","v":""},{"$f":"กรอกข้อมูล!X48","v":""},{"$f":"กรอกข้อมูล!AA48","v":""},{"$f":"กรอกข้อมูล!AB48","v":""},{"$f":"กรอกข้อมูล!AC48","v":""},{"$f":"กรอกข้อมูล!AD48","v":""},{"$f":"กรอกข้อมูล!AE48","v":""},{"$f":"กรอกข้อมูล!AF48","v":""},{"$f":"กรอกข้อมูล!AG48","v":""},{"$f":"กรอกข้อมูล!AI48","v":""},{"$f":"กรอกข้อมูล!AJ48","v":""},{"$f":"กรอกข้อมูล!AK48","v":""},{"$f":"กรอกข้อมูล!AL48","v":""}]
[{"$f":"กรอกข้อมูล!O49","v":""},{"$f":"กรอกข้อมูล!P49","v":""},{"$f":"กรอกข้อมูล!Q49","v":""},{"$f":"กรอกข้อมูล!R49","v":""},{"$f":"กรอกข้อมูล!S49","v":""},{"$f":"กรอกข้อมูล!T49","v":""},{"$f":"กรอกข้อมูล!Z49","v":""},{"$f":"กรอกข้อมูล!W49","v":""},{"$f":"กรอกข้อมูล!X49","v":""},{"$f":"กรอกข้อมูล!AA49","v":""},{"$f":"กรอกข้อมูล!AB49","v":""},{"$f":"กรอกข้อมูล!AC49","v":""},{"$f":"กรอกข้อมูล!AD49","v":""},{"$f":"กรอกข้อมูล!AE49","v":""},{"$f":"กรอกข้อมูล!AF49","v":""},{"$f":"กรอกข้อมูล!AG49","v":""},{"$f":"กรอกข้อมูล!AI49","v":""},{"$f":"กรอกข้อมูล!AJ49","v":""},{"$f":"กรอกข้อมูล!AK49","v":""},{"$f":"กรอกข้อมูล!AL49","v":""}]
[{"$f":"กรอกข้อมูล!O50","v":""},{"$f":"กรอกข้อมูล!P50","v":""},{"$f":"กรอกข้อมูล!Q50","v":""},{"$f":"กรอกข้อมูล!R50","v":""},{"$f":"กรอกข้อมูล!S50","v":""},{"$f":"กรอกข้อมูล!T50","v":""},{"$f":"กรอกข้อมูล!Z50","v":""},{"$f":"กรอกข้อมูล!W50","v":""},{"$f":"กรอกข้อมูล!X50","v":""},{"$f":"กรอกข้อมูล!AA50","v":""},{"$f":"กรอกข้อมูล!AB50","v":""},{"$f":"กรอกข้อมูล!AC50","v":""},{"$f":"กรอกข้อมูล!AD50","v":""},{"$f":"กรอกข้อมูล!AE50","v":""},{"$f":"กรอกข้อมูล!AF50","v":""},{"$f":"กรอกข้อมูล!AG50","v":""},{"$f":"กรอกข้อมูล!AI50","v":""},{"$f":"กรอกข้อมูล!AJ50","v":""},{"$f":"กรอกข้อมูล!AK50","v":""},{"$f":"กรอกข้อมูล!AL50","v":""}]
[{"$f":"กรอกข้อมูล!O51","v":""},{"$f":"กรอกข้อมูล!P51","v":""},{"$f":"กรอกข้อมูล!Q51","v":""},{"$f":"กรอกข้อมูล!R51","v":""},{"$f":"กรอกข้อมูล!S51","v":""},{"$f":"กรอกข้อมูล!T51","v":""},{"$f":"กรอกข้อมูล!Z51","v":""},{"$f":"กรอกข้อมูล!W51","v":""},{"$f":"กรอกข้อมูล!X51","v":""},{"$f":"กรอกข้อมูล!AA51","v":""},{"$f":"กรอกข้อมูล!AB51","v":""},{"$f":"กรอกข้อมูล!AC51","v":""},{"$f":"กรอกข้อมูล!AD51","v":""},{"$f":"กรอกข้อมูล!AE51","v":""},{"$f":"กรอกข้อมูล!AF51","v":""},{"$f":"กรอกข้อมูล!AG51","v":""},{"$f":"กรอกข้อมูล!AI51","v":""},{"$f":"กรอกข้อมูล!AJ51","v":""},{"$f":"กรอกข้อมูล!AK51","v":""},{"$f":"กรอกข้อมูล!AL51","v":""}]
["รวม",{"$nulls":5},{"$f":"กรอกข้อมูล!Z52","v":154},{"$f":"กรอกข้อมูล!W52","v":50},{"$f":"กรอกข้อมูล!X52","v":206},{"$f":"กรอกข้อมูล!AA52","v":1082},{"$f":"กรอกข้อมูล!AB52","v":24578},{"$f":"กรอกข้อมูล!AC52","v":2.519999999999996},{"$f":"กรอกข้อมูล!AD52","v":252.90719999999999},{"$f":"กรอกข้อมูล!AE52","v":1163.52},{"$f":"กรอกข้อมูล!AF52","v":1},{"$f":"กรอกข้อมูล!AG52","v":100},{"$f":"กรอกข้อมูล!AI52","v":0},{"$f":"กรอกข้อมูล!AJ52","v":-6},{"$f":"กรอกข้อมูล!AK52","v":28},{"$f":"กรอกข้อมูล!AL52","v":130}]
[{"$nulls":6},{"$f":"VLOOKUP(MAX(H2:H51),H2:P51,2,FALSE)","v":32},{"$f":"MAX(H2:H51)","v":12}]

{"sheet":"PDQไม่แจกแจง","index":7,"n_rows":20,"n_cols":7,"rows_kept":20,"cut":false,"hidden":true,"merged":[[16,3,16,5],[17,3,17,5],[18,3,18,5],[19,3,19,5],[0,0,0,5]]}
["  การคำนวณหาคะแนน ณ ตำแหน่งเปอร์เซ็นไทล์ เดไซล์ และควอไทล์ ที่กำหนด",{"$nulls":5}," "]
[]
["สูตรการคำนวณหาตำแหน่งเปอร์เซ็นไทล์ (Percentile = P)"]
[]
[]
["สูตรการคำนวณหาตำแหน่งเดไซล์ (Dacile = D)"]
[]
[]
["สูตรการคำนวณหาตำแหน่งะควอไทล์ (Quartile = Q) "]
[]
[]
["N =","จำนวนข้อมูลทั้งหมด =",null,{"$f":"กรอกข้อมูล!AO52","v":50}]
[null,"ตรงกับตำแหน่ง PDQ ที่ =",null,{"$f":"(C16/100)*(D12+1)","v":12.75},{"$f":"(C19/10)*(D12+1)","v":12.75},{"$f":"(C20/4)*(D12+1)","v":12.75}]
[null,"อยู่ระหว่างตำแหน่งที่ =",null,{"$f":"กรอกข้อมูล!$AP$37","v":12},"กับ",{"$f":"กรอกข้อมูล!$AR$37","v":13}]
[null,"ตรงกับข้อมูลค่าคะแนน =",null,{"$f":"กรอกข้อมูล!$AP$38","v":18},"กับ",{"$f":"กรอกข้อมูล!$AR$38","v":18}]
[" r = ตำแหน่งของข้อมูล P =",null,25,"<= กรอกคะแนน"]
[" ซึ่งจะมีตำแหน่งของข้อมูล ได้แก่",null,null,"เทียบเป็นค่าคะแนนได้"]
[null,"P =",{"$f":"$C$16","v":25},{"$f":"D15+((F15-D15)/(F14-D14))*(D13-D14)","v":18}]
[null,"D =",{"$f":"C16/10","v":2.5},{"$f":"$D$18","v":18}]
[null,"Q =",{"$f":"C16/25","v":1},{"$f":"$D$18","v":18}]

{"sheet":"PDQ","index":8,"n_rows":23,"n_cols":11,"rows_kept":23,"cut":false,"hidden":true,"merged":[[0,0,0,5],[0,6,0,12]]}
["การคำนวณหาตำแหน่งเปอร์เซ็นไทล์ เดไซล์ และควอไทล์ ของคะแนนที่กำหนด",{"$nulls":5},"การคำนวณหาคะแนน ณ ตำแหน่งเปอร์เซ็นไทล์ เดไซล์ และควอไทล์ ที่กำหนด"]
[]
["สูตรการคำนวณหาตำแหน่งเปอร์เซ็นไทล์ (Percentile = P)",{"$nulls":6},"สูตรการคำนวณหาคะแนน ณ ตำแหน่งเปอร์เซ็นไทล์ที่กำหนด"]
[]
[]
["สูตรการคำนวณหาตำแหน่งเดไซล์ (Dacile = D)",{"$nulls":6},"สูตรการคำนวณหาคะแนน ณ ตำแหน่งเดไซล์ ที่กำหนด"]
[]
[]
["สูตรการคำนวณหาตำแหน่งะควอไทล์ (Quartile = Q) ",{"$nulls":6},"สูตรการคำนวณหาคะแนน ณ ตำแหน่งควอไทล์ ที่กำหนด"]
[]
[]
[]
["F =","ความถี่สะสมของคะแนนต่ำสุดถึง L =",null,null,{"$f":"กรอกข้อมูล!AO50","v":32},null,null,"ถ้ากำหนดให้ P =",null,75,"<= กรอกคะแนน P"]
["f =","ความถี่ของคะแนนในชั้นที่ X อยู่ =",null,null,{"$f":"กรอกข้อมูล!AO51","v":10},null,null,"  ดังนั้นจะมีค่าคะแนน =",null,{"$f":"กรอกข้อมูล!AQ54","v":25.15}]
["L =","ขีดจำกัดล่างที่แท้จริงที่คะแนน X อยู่ =",null,null,{"$f":"กรอกข้อมูล!$AO$48","v":23.5},null,null,"ถ้ากำหนดให้ D =",null,7.5,"<= กรอกคะแนน D"]
["i =","อันตรภาคชั้น =",null,null,{"$f":"กรอกข้อมูล!$AQ$3","v":3},null,null,"  ดังนั้นจะมีค่าคะแนน =",null,{"$f":"กรอกข้อมูล!AQ55","v":25.15}]
["N =","จำนวนข้อมูลทั้งหมด =",null,null,{"$f":"กรอกข้อมูล!AO52","v":50},null,null,"ถ้ากำหนดให้ Q =",null,3,"<= กรอกคะแนน Q"]
[{"$nulls":7},"  ดังนั้นจะมีค่าคะแนน =",null,{"$f":"กรอกข้อมูล!AQ56","v":25.15}]
["ถ้ากำหนดให้มีค่าคะแนน =",null,25,"<= กรอกคะแนน"]
["  ดังนั้นจะมีตำแหน่งของคะแนน ดังนี้"]
[null,"P =",{"$f":"กรอกข้อมูล!AO54","v":74}]
[null,"D =",{"$f":"กรอกข้อมูล!AO55","v":7.4}]
[null,"Q =",{"$f":"กรอกข้อมูล!AO56","v":2.96}]

{"sheet":"TมาตรฐานT","index":9,"n_rows":102,"n_cols":27,"rows_kept":102,"cut":false,"hidden":false,"merged":[]}
["คะแนน","ความถี่ (f)","cf","cf+1/2f","Percentile","T-score","ความถี่ (f)","ความถี่ (f)","cf","cf","cf+1/2f","cf+1/2f","Percentile","Percentile","T-score","T-score",{"$f":"gradeD!AL3","v":"Grade (5/5)"},{"$f":"gradeD!AM3","v":"Grade (8/8)"},{"$f":"gradeD!AP3","v":"Gradeคะแนนดิบ (5)"},{"$f":"gradeD!AR3","v":"Gradeคะแนนดิบ (8)"},null,null,"คะแนนที่ได้","T-score"]
[100,{"$f":"H2","v":""},{"$f":"J2","v":""},{"$f":"L2","v":""},{"$f":"N2","v":""},{"$f":"P2","v":""},{"$f":"COUNTIF(กรอกข้อมูล!A$2:A$401,A2)","v":0},{"$f":"IF(G2=0,\"\",G2)","v":""},{"$f":"I3+G2","v":50},{"$f":"IF(G2=0,\"\",I2)","v":""},{"$f":"I3+1/2*G2","v":50},{"$f":"IF(G2=0,\"\",K2)","v":""},{"$f":"K2*100/กรอกข้อมูล!AO$7","v":100},{"$f":"IF(G2=0,\"\",M2)","v":""},{"$f":"VLOOKUP(M2,Ttable!A$2:B$82,2)","v":90},{"$f":"IF(G2=0,\"\",O2)","v":""},{"$f":"gradeD!AL4","v":""},{"$f":"gradeD!AM4","v":""},{"$f":"gradeD!AP4","v":""},{"$f":"gradeD!AR4","v":""},null,"ค่าคะแนนเฉลี่ย",{"$f":"Z2","v":21.58},19.82,null,{"$f":"SUM(กรอกข้อมูล!A2:A401)/กรอกข้อมูล!D12","v":21.58},{"$f":"SUM(F2:F102)/กรอกข้อมูล!D12","v":19.82}]
[99,"","","","","",{"$f":"COUNTIF(กรอกข้อมูล!A$2:A$401,A3)","v":0},{"$f":"IF(G3=0,\"\",G3)","v":""},50,{"$f":"IF(G3=0,\"\",I3)","v":""},50,{"$f":"IF(G3=0,\"\",K3)","v":""},{"$f":"K3*100/กรอกข้อมูล!AO$7","v":100},{"$f":"IF(G3=0,\"\",M3)","v":""},{"$f":"VLOOKUP(M3,Ttable!A$2:B$82,2)","v":90},{"$f":"IF(G3=0,\"\",O3)","v":""},{"$f":"gradeD!AL5","v":""},{"$f":"gradeD!AM5","v":""},{"$f":"gradeD!AP5","v":""},{"$f":"gradeD!AR5","v":""},null,"ค่า S.D.",4.8533178216093606,12.184869824154003,null,{"$f":"STDEV(กรอกข้อมูล!A2:A401)","v":4.8533178216093606},{"$f":"STDEV(F2:F102)","v":12.184869824154003}]
[98,"","","","","",{"$f":"COUNTIF(กรอกข้อมูล!A$2:A$401,A4)","v":0},"",50,"",50,"",{"$f":"K4*100/กรอกข้อมูล!AO$7","v":100},"",{"$f":"VLOOKUP(M4,Ttable!A$2:B$82,2)","v":90},"",{"$f":"gradeD!AL6","v":""},{"$f":"gradeD!AM6","v":""},{"$f":"gradeD!AP6","v":""},{"$f":"gradeD!AR6","v":""},null,"ค่ามากที่สุด",31,73,null,{"$f":"MAX(กรอกข้อมูล!A2:A401)","v":31},{"$f":"MAX(F2:F102)","v":73}]
[97,"","","","","",{"$f":"COUNTIF(กรอกข้อมูล!A$2:A$401,A5)","v":0},"",50,"",50,"",{"$f":"K5*100/กรอกข้อมูล!AO$7","v":100},"",{"$f":"VLOOKUP(M5,Ttable!A$2:B$82,2)","v":90},"",{"$f":"gradeD!AL7","v":""},{"$f":"gradeD!AM7","v":""},{"$f":"gradeD!AP7","v":""},{"$f":"gradeD!AR7","v":""},null,"ค่าน้อยที่สุด",12,29,null,{"$f":"MIN(กรอกข้อมูล!A2:A401)","v":12},{"$f":"MIN(F2:F102)","v":29}]
[96,"","","","","",{"$f":"COUNTIF(กรอกข้อมูล!A$2:A$401,A6)","v":0},"",50,"",50,"",{"$f":"K6*100/กรอกข้อมูล!AO$7","v":100},"",{"$f":"VLOOKUP(M6,Ttable!A$2:B$82,2)","v":90},"",{"$f":"gradeD!AL8","v":""},{"$f":"gradeD!AM8","v":""},{"$f":"gradeD!AP8","v":""},{"$f":"gradeD!AR8","v":""}]
[95,"","","","","",{"$f":"COUNTIF(กรอกข้อมูล!A$2:A$401,A7)","v":0},"",50,"",50,"",{"$f":"K7*100/กรอกข้อมูล!AO$7","v":100},"",{"$f":"VLOOKUP(M7,Ttable!A$2:B$82,2)","v":90},"",{"$f":"gradeD!AL9","v":""},{"$f":"gradeD!AM9","v":""},{"$f":"gradeD!AP9","v":""},{"$f":"gradeD!AR9","v":""}]
[94,"","","","","",{"$f":"COUNTIF(กรอกข้อมูล!A$2:A$401,A8)","v":0},"",50,"",50,"",{"$f":"K8*100/กรอกข้อมูล!AO$7","v":100},"",{"$f":"VLOOKUP(M8,Ttable!A$2:B$82,2)","v":90},"",{"$f":"gradeD!AL10","v":""},{"$f":"gradeD!AM10","v":""},{"$f":"gradeD!AP10","v":""},{"$f":"gradeD!AR10","v":""}]
[93,"","","","","",{"$f":"COUNTIF(กรอกข้อมูล!A$2:A$401,A9)","v":0},"",50,"",50,"",{"$f":"K9*100/กรอกข้อมูล!AO$7","v":100},"",{"$f":"VLOOKUP(M9,Ttable!A$2:B$82,2)","v":90},"",{"$f":"gradeD!AL11","v":""},{"$f":"gradeD!AM11","v":""},{"$f":"gradeD!AP11","v":""},{"$f":"gradeD!AR11","v":""}]
[92,"","","","","",{"$f":"COUNTIF(กรอกข้อมูล!A$2:A$401,A10)","v":0},"",50,"",50,"",{"$f":"K10*100/กรอกข้อมูล!AO$7","v":100},"",{"$f":"VLOOKUP(M10,Ttable!A$2:B$82,2)","v":90},"",{"$f":"gradeD!AL12","v":""},{"$f":"gradeD!AM12","v":""},{"$f":"gradeD!AP12","v":""},{"$f":"gradeD!AR12","v":""}]
[91,"","","","","",{"$f":"COUNTIF(กรอกข้อมูล!A$2:A$401,A11)","v":0},"",50,"",50,"",{"$f":"K11*100/กรอกข้อมูล!AO$7","v":100},"",{"$f":"VLOOKUP(M11,Ttable!A$2:B$82,2)","v":90},"",{"$f":"gradeD!AL13","v":""},{"$f":"gradeD!AM13","v":""},{"$f":"gradeD!AP13","v":""},{"$f":"gradeD!AR13","v":""}]
[90,"","","","","",{"$f":"COUNTIF(กรอกข้อมูล!A$2:A$401,A12)","v":0},"",50,"",50,"",{"$f":"K12*100/กรอกข้อมูล!AO$7","v":100},"",{"$f":"VLOOKUP(M12,Ttable!A$2:B$82,2)","v":90},"",{"$f":"gradeD!AL14","v":""},{"$f":"gradeD!AM14","v":""},{"$f":"gradeD!AP14","v":""},{"$f":"gradeD!AR14","v":""}]
[89,"","","","","",{"$f":"COUNTIF(กรอกข้อมูล!A$2:A$401,A13)","v":0},"",50,"",50,"",{"$f":"K13*100/กรอกข้อมูล!AO$7","v":100},"",{"$f":"VLOOKUP(M13,Ttable!A$2:B$82,2)","v":90},"",{"$f":"gradeD!AL15","v":""},{"$f":"gradeD!AM15","v":""},{"$f":"gradeD!AP15","v":""},{"$f":"gradeD!AR15","v":""}]
[88,"","","","","",{"$f":"COUNTIF(กรอกข้อมูล!A$2:A$401,A14)","v":0},"",50,"",50,"",{"$f":"K14*100/กรอกข้อมูล!AO$7","v":100},"",{"$f":"VLOOKUP(M14,Ttable!A$2:B$82,2)","v":90},"",{"$f":"gradeD!AL16","v":""},{"$f":"gradeD!AM16","v":""},{"$f":"gradeD!AP16","v":""},{"$f":"gradeD!AR16","v":""}]
[87,"","","","","",{"$f":"COUNTIF(กรอกข้อมูล!A$2:A$401,A15)","v":0},"",50,"",50,"",{"$f":"K15*100/กรอกข้อมูล!AO$7","v":100},"",{"$f":"VLOOKUP(M15,Ttable!A$2:B$82,2)","v":90},"",{"$f":"gradeD!AL17","v":""},{"$f":"gradeD!AM17","v":""},{"$f":"gradeD!AP17","v":""},{"$f":"gradeD!AR17","v":""}]
[86,"","","","","",{"$f":"COUNTIF(กรอกข้อมูล!A$2:A$401,A16)","v":0},"",50,"",50,"",{"$f":"K16*100/กรอกข้อมูล!AO$7","v":100},"",{"$f":"VLOOKUP(M16,Ttable!A$2:B$82,2)","v":90},"",{"$f":"gradeD!AL18","v":""},{"$f":"gradeD!AM18","v":""},{"$f":"gradeD!AP18","v":""},{"$f":"gradeD!AR18","v":""}]
[85,"","","","","",{"$f":"COUNTIF(กรอกข้อมูล!A$2:A$401,A17)","v":0},"",50,"",50,"",{"$f":"K17*100/กรอกข้อมูล!AO$7","v":100},"",{"$f":"VLOOKUP(M17,Ttable!A$2:B$82,2)","v":90},"",{"$f":"gradeD!AL19","v":""},{"$f":"gradeD!AM19","v":""},{"$f":"gradeD!AP19","v":""},{"$f":"gradeD!AR19","v":""}]
[84,"","","","","",{"$f":"COUNTIF(กรอกข้อมูล!A$2:A$401,A18)","v":0},"",50,"",50,"",{"$f":"K18*100/กรอกข้อมูล!AO$7","v":100},"",{"$f":"VLOOKUP(M18,Ttable!A$2:B$82,2)","v":90},"",{"$f":"gradeD!AL20","v":""},{"$f":"gradeD!AM20","v":""},{"$f":"gradeD!AP20","v":""},{"$f":"gradeD!AR20","v":""}]
[83,"","","","","",{"$f":"COUNTIF(กรอกข้อมูล!A$2:A$401,A19)","v":0},"",50,"",50,"",{"$f":"K19*100/กรอกข้อมูล!AO$7","v":100},"",{"$f":"VLOOKUP(M19,Ttable!A$2:B$82,2)","v":90},"",{"$f":"gradeD!AL21","v":""},{"$f":"gradeD!AM21","v":""},{"$f":"gradeD!AP21","v":""},{"$f":"gradeD!AR21","v":""}]
[82,"","","","","",{"$f":"COUNTIF(กรอกข้อมูล!A$2:A$401,A20)","v":0},"",50,"",50,"",{"$f":"K20*100/กรอกข้อมูล!AO$7","v":100},"",{"$f":"VLOOKUP(M20,Ttable!A$2:B$82,2)","v":90},"",{"$f":"gradeD!AL22","v":""},{"$f":"gradeD!AM22","v":""},{"$f":"gradeD!AP22","v":""},{"$f":"gradeD!AR22","v":""}]
[81,"","","","","",{"$f":"COUNTIF(กรอกข้อมูล!A$2:A$401,A21)","v":0},"",50,"",50,"",{"$f":"K21*100/กรอกข้อมูล!AO$7","v":100},"",{"$f":"VLOOKUP(M21,Ttable!A$2:B$82,2)","v":90},"",{"$f":"gradeD!AL23","v":""},{"$f":"gradeD!AM23","v":""},{"$f":"gradeD!AP23","v":""},{"$f":"gradeD!AR23","v":""}]
[80,"","","","","",{"$f":"COUNTIF(กรอกข้อมูล!A$2:A$401,A22)","v":0},"",50,"",50,"",{"$f":"K22*100/กรอกข้อมูล!AO$7","v":100},"",{"$f":"VLOOKUP(M22,Ttable!A$2:B$82,2)","v":90},"",{"$f":"gradeD!AL24","v":""},{"$f":"gradeD!AM24","v":""},{"$f":"gradeD!AP24","v":""},{"$f":"gradeD!AR24","v":""}]
[79,"","","","","",{"$f":"COUNTIF(กรอกข้อมูล!A$2:A$401,A23)","v":0},"",50,"",50,"",{"$f":"K23*100/กรอกข้อมูล!AO$7","v":100},"",{"$f":"VLOOKUP(M23,Ttable!A$2:B$82,2)","v":90},"",{"$f":"gradeD!AL25","v":""},{"$f":"gradeD!AM25","v":""},{"$f":"gradeD!AP25","v":""},{"$f":"gradeD!AR25","v":""}]
[78,"","","","","",{"$f":"COUNTIF(กรอกข้อมูล!A$2:A$401,A24)","v":0},"",50,"",50,"",{"$f":"K24*100/กรอกข้อมูล!AO$7","v":100},"",{"$f":"VLOOKUP(M24,Ttable!A$2:B$82,2)","v":90},"",{"$f":"gradeD!AL26","v":""},{"$f":"gradeD!AM26","v":""},{"$f":"gradeD!AP26","v":""},{"$f":"gradeD!AR26","v":""}]
[77,"","","","","",{"$f":"COUNTIF(กรอกข้อมูล!A$2:A$401,A25)","v":0},"",50,"",50,"",{"$f":"K25*100/กรอกข้อมูล!AO$7","v":100},"",{"$f":"VLOOKUP(M25,Ttable!A$2:B$82,2)","v":90},"",{"$f":"gradeD!AL27","v":""},{"$f":"gradeD!AM27","v":""},{"$f":"gradeD!AP27","v":""},{"$f":"gradeD!AR27","v":""}]
[76,"","","","","",{"$f":"COUNTIF(กรอกข้อมูล!A$2:A$401,A26)","v":0},"",50,"",50,"",{"$f":"K26*100/กรอกข้อมูล!AO$7","v":100},"",{"$f":"VLOOKUP(M26,Ttable!A$2:B$82,2)","v":90},"",{"$f":"gradeD!AL28","v":""},{"$f":"gradeD!AM28","v":""},{"$f":"gradeD!AP28","v":""},{"$f":"gradeD!AR28","v":""}]
[75,"","","","","",{"$f":"COUNTIF(กรอกข้อมูล!A$2:A$401,A27)","v":0},"",50,"",50,"",{"$f":"K27*100/กรอกข้อมูล!AO$7","v":100},"",{"$f":"VLOOKUP(M27,Ttable!A$2:B$82,2)","v":90},"",{"$f":"gradeD!AL29","v":""},{"$f":"gradeD!AM29","v":""},{"$f":"gradeD!AP29","v":""},{"$f":"gradeD!AR29","v":""}]
[74,"","","","","",{"$f":"COUNTIF(กรอกข้อมูล!A$2:A$401,A28)","v":0},"",50,"",50,"",{"$f":"K28*100/กรอกข้อมูล!AO$7","v":100},"",{"$f":"VLOOKUP(M28,Ttable!A$2:B$82,2)","v":90},"",{"$f":"gradeD!AL30","v":""},{"$f":"gradeD!AM30","v":""},{"$f":"gradeD!AP30","v":""},{"$f":"gradeD!AR30","v":""}]
[73,"","","","","",{"$f":"COUNTIF(กรอกข้อมูล!A$2:A$401,A29)","v":0},"",50,"",50,"",{"$f":"K29*100/กรอกข้อมูล!AO$7","v":100},"",{"$f":"VLOOKUP(M29,Ttable!A$2:B$82,2)","v":90},"",{"$f":"gradeD!AL31","v":""},{"$f":"gradeD!AM31","v":""},{"$f":"gradeD!AP31","v":""},{"$f":"gradeD!AR31","v":""}]
[72,"","","","","",{"$f":"COUNTIF(กรอกข้อมูล!A$2:A$401,A30)","v":0},"",50,"",50,"",{"$f":"K30*100/กรอกข้อมูล!AO$7","v":100},"",{"$f":"VLOOKUP(M30,Ttable!A$2:B$82,2)","v":90},"",{"$f":"gradeD!AL32","v":""},{"$f":"gradeD!AM32","v":""},{"$f":"gradeD!AP32","v":""},{"$f":"gradeD!AR32","v":""}]
[71,"","","","","",{"$f":"COUNTIF(กรอกข้อมูล!A$2:A$401,A31)","v":0},"",50,"",50,"",{"$f":"K31*100/กรอกข้อมูล!AO$7","v":100},"",{"$f":"VLOOKUP(M31,Ttable!A$2:B$82,2)","v":90},"",{"$f":"gradeD!AL33","v":""},{"$f":"gradeD!AM33","v":""},{"$f":"gradeD!AP33","v":""},{"$f":"gradeD!AR33","v":""}]
[70,"","","","","",{"$f":"COUNTIF(กรอกข้อมูล!A$2:A$401,A32)","v":0},"",50,"",50,"",{"$f":"K32*100/กรอกข้อมูล!AO$7","v":100},"",{"$f":"VLOOKUP(M32,Ttable!A$2:B$82,2)","v":90},"",{"$f":"gradeD!AL34","v":""},{"$f":"gradeD!AM34","v":""},{"$f":"gradeD!AP34","v":""},{"$f":"gradeD!AR34","v":""},null,null,{"$f":"W1","v":"คะแนนที่ได้"},"T-score"]
[69,"","","","","",{"$f":"COUNTIF(กรอกข้อมูล!A$2:A$401,A33)","v":0},"",50,"",50,"",{"$f":"K33*100/กรอกข้อมูล!AO$7","v":100},"",{"$f":"VLOOKUP(M33,Ttable!A$2:B$82,2)","v":90},"",{"$f":"gradeD!AL35","v":""},{"$f":"gradeD!AM35","v":""},{"$f":"gradeD!AP35","v":""},{"$f":"gradeD!AR35","v":""},null,"ค่าคะแนนเฉลี่ย",21.58,19.82]
[68,{"$f":"H34","v":""},{"$f":"J34","v":""},{"$f":"L34","v":""},{"$f":"N34","v":""},{"$f":"P34","v":""},{"$f":"COUNTIF(กรอกข้อมูล!A$2:A$401,A34)","v":0},"",50,"",50,"",{"$f":"K34*100/กรอกข้อมูล!AO$7","v":100},"",{"$f":"VLOOKUP(M34,Ttable!A$2:B$82,2)","v":90},"",{"$f":"gradeD!AL36","v":""},{"$f":"gradeD!AM36","v":""},{"$f":"gradeD!AP36","v":""},{"$f":"gradeD!AR36","v":""},null,"ค่า S.D.",4.8533178216093606,12.184869824154003]
[67,"","","","","",{"$f":"COUNTIF(กรอกข้อมูล!A$2:A$401,A35)","v":0},"",50,"",50,"",{"$f":"K35*100/กรอกข้อมูล!AO$7","v":100},"",{"$f":"VLOOKUP(M35,Ttable!A$2:B$82,2)","v":90},"",{"$f":"gradeD!AL37","v":""},{"$f":"gradeD!AM37","v":""},{"$f":"gradeD!AP37","v":""},{"$f":"gradeD!AR37","v":""},null,"ค่ามากที่สุด",31,73]
[66,"","","","","",{"$f":"COUNTIF(กรอกข้อมูล!A$2:A$401,A36)","v":0},"",50,"",50,"",{"$f":"K36*100/กรอกข้อมูล!AO$7","v":100},"",{"$f":"VLOOKUP(M36,Ttable!A$2:B$82,2)","v":90},"",{"$f":"gradeD!AL38","v":""},{"$f":"gradeD!AM38","v":""},{"$f":"gradeD!AP38","v":""},{"$f":"gradeD!AR38","v":""},null,"ค่าน้อยที่สุด",12,29]
[65,"","","","","",{"$f":"COUNTIF(กรอกข้อมูล!A$2:A$401,A37)","v":0},"",50,"",50,"",{"$f":"K37*100/กรอกข้อมูล!AO$7","v":100},"",{"$f":"VLOOKUP(M37,Ttable!A$2:B$82,2)","v":90},"",{"$f":"gradeD!AL39","v":""},{"$f":"gradeD!AM39","v":""},{"$f":"gradeD!AP39","v":""},{"$f":"gradeD!AR39","v":""}]
[64,"","","","","",{"$f":"COUNTIF(กรอกข้อมูล!A$2:A$401,A38)","v":0},"",50,"",50,"",{"$f":"K38*100/กรอกข้อมูล!AO$7","v":100},"",{"$f":"VLOOKUP(M38,Ttable!A$2:B$82,2)","v":90},"",{"$f":"gradeD!AL40","v":""},{"$f":"gradeD!AM40","v":""},{"$f":"gradeD!AP40","v":""},{"$f":"gradeD!AR40","v":""}]
[63,"","","","","",{"$f":"COUNTIF(กรอกข้อมูล!A$2:A$401,A39)","v":0},"",50,"",50,"",{"$f":"K39*100/กรอกข้อมูล!AO$7","v":100},"",{"$f":"VLOOKUP(M39,Ttable!A$2:B$82,2)","v":90},"",{"$f":"gradeD!AL41","v":""},{"$f":"gradeD!AM41","v":""},{"$f":"gradeD!AP41","v":""},{"$f":"gradeD!AR41","v":""}]
[62,"","","","","",{"$f":"COUNTIF(กรอกข้อมูล!A$2:A$401,A40)","v":0},"",50,"",50,"",{"$f":"K40*100/กรอกข้อมูล!AO$7","v":100},"",{"$f":"VLOOKUP(M40,Ttable!A$2:B$82,2)","v":90},"",{"$f":"gradeD!AL42","v":""},{"$f":"gradeD!AM42","v":""},{"$f":"gradeD!AP42","v":""},{"$f":"gradeD!AR42","v":""}]
[61,"","","","","",{"$f":"COUNTIF(กรอกข้อมูล!A$2:A$401,A41)","v":0},"",50,"",50,"",{"$f":"K41*100/กรอกข้อมูล!AO$7","v":100},"",{"$f":"VLOOKUP(M41,Ttable!A$2:B$82,2)","v":90},"",{"$f":"gradeD!AL43","v":""},{"$f":"gradeD!AM43","v":""},{"$f":"gradeD!AP43","v":""},{"$f":"gradeD!AR43","v":""}]
[60,"","","","","",{"$f":"COUNTIF(กรอกข้อมูล!A$2:A$401,A42)","v":0},"",50,"",50,"",{"$f":"K42*100/กรอกข้อมูล!AO$7","v":100},"",{"$f":"VLOOKUP(M42,Ttable!A$2:B$82,2)","v":90},"",{"$f":"gradeD!AL44","v":""},{"$f":"gradeD!AM44","v":""},{"$f":"gradeD!AP44","v":""},{"$f":"gradeD!AR44","v":""}]
[59,"","","","","",{"$f":"COUNTIF(กรอกข้อมูล!A$2:A$401,A43)","v":0},"",50,"",50,"",{"$f":"K43*100/กรอกข้อมูล!AO$7","v":100},"",{"$f":"VLOOKUP(M43,Ttable!A$2:B$82,2)","v":90},"",{"$f":"gradeD!AL45","v":""},{"$f":"gradeD!AM45","v":""},{"$f":"gradeD!AP45","v":""},{"$f":"gradeD!AR45","v":""}]
[58,"","","","","",{"$f":"COUNTIF(กรอกข้อมูล!A$2:A$401,A44)","v":0},"",50,"",50,"",{"$f":"K44*100/กรอกข้อมูล!AO$7","v":100},"",{"$f":"VLOOKUP(M44,Ttable!A$2:B$82,2)","v":90},"",{"$f":"gradeD!AL46","v":""},{"$f":"gradeD!AM46","v":""},{"$f":"gradeD!AP46","v":""},{"$f":"gradeD!AR46","v":""}]
[57,"","","","","",{"$f":"COUNTIF(กรอกข้อมูล!A$2:A$401,A45)","v":0},"",50,"",50,"",{"$f":"K45*100/กรอกข้อมูล!AO$7","v":100},"",{"$f":"VLOOKUP(M45,Ttable!A$2:B$82,2)","v":90},"",{"$f":"gradeD!AL47","v":""},{"$f":"gradeD!AM47","v":""},{"$f":"gradeD!AP47","v":""},{"$f":"gradeD!AR47","v":""}]
[56,"","","","","",{"$f":"COUNTIF(กรอกข้อมูล!A$2:A$401,A46)","v":0},"",50,"",50,"",{"$f":"K46*100/กรอกข้อมูล!AO$7","v":100},"",{"$f":"VLOOKUP(M46,Ttable!A$2:B$82,2)","v":90},"",{"$f":"gradeD!AL48","v":""},{"$f":"gradeD!AM48","v":""},{"$f":"gradeD!AP48","v":""},{"$f":"gradeD!AR48","v":""}]
[55,"","","","","",{"$f":"COUNTIF(กรอกข้อมูล!A$2:A$401,A47)","v":0},"",50,"",50,"",{"$f":"K47*100/กรอกข้อมูล!AO$7","v":100},"",{"$f":"VLOOKUP(M47,Ttable!A$2:B$82,2)","v":90},"",{"$f":"gradeD!AL49","v":""},{"$f":"gradeD!AM49","v":""},{"$f":"gradeD!AP49","v":""},{"$f":"gradeD!AR49","v":""}]
[54,"","","","","",{"$f":"COUNTIF(กรอกข้อมูล!A$2:A$401,A48)","v":0},"",50,"",50,"",{"$f":"K48*100/กรอกข้อมูล!AO$7","v":100},"",{"$f":"VLOOKUP(M48,Ttable!A$2:B$82,2)","v":90},"",{"$f":"gradeD!AL50","v":""},{"$f":"gradeD!AM50","v":""},{"$f":"gradeD!AP50","v":""},{"$f":"gradeD!AR50","v":""}]
[53,"","","","","",{"$f":"COUNTIF(กรอกข้อมูล!A$2:A$401,A49)","v":0},"",50,"",50,"",{"$f":"K49*100/กรอกข้อมูล!AO$7","v":100},"",{"$f":"VLOOKUP(M49,Ttable!A$2:B$82,2)","v":90},"",{"$f":"gradeD!AL51","v":""},{"$f":"gradeD!AM51","v":""},{"$f":"gradeD!AP51","v":""},{"$f":"gradeD!AR51","v":""}]
[52,"","","","","",{"$f":"COUNTIF(กรอกข้อมูล!A$2:A$401,A50)","v":0},"",50,"",50,"",{"$f":"K50*100/กรอกข้อมูล!AO$7","v":100},"",{"$f":"VLOOKUP(M50,Ttable!A$2:B$82,2)","v":90},"",{"$f":"gradeD!AL52","v":""},{"$f":"gradeD!AM52","v":""},{"$f":"gradeD!AP52","v":""},{"$f":"gradeD!AR52","v":""}]
[51,"","","","","",{"$f":"COUNTIF(กรอกข้อมูล!A$2:A$401,A51)","v":0},"",50,"",50,"",{"$f":"K51*100/กรอกข้อมูล!AO$7","v":100},"",{"$f":"VLOOKUP(M51,Ttable!A$2:B$82,2)","v":90},"",{"$f":"gradeD!AL53","v":""},{"$f":"gradeD!AM53","v":""},{"$f":"gradeD!AP53","v":""},{"$f":"gradeD!AR53","v":""}]
[50,"","","","","",{"$f":"COUNTIF(กรอกข้อมูล!A$2:A$401,A52)","v":0},"",50,"",50,"",{"$f":"K52*100/กรอกข้อมูล!AO$7","v":100},"",{"$f":"VLOOKUP(M52,Ttable!A$2:B$82,2)","v":90},"",{"$f":"gradeD!AL54","v":""},{"$f":"gradeD!AM54","v":""},{"$f":"gradeD!AP54","v":""},{"$f":"gradeD!AR54","v":""},null,null,{"$f":"W1","v":"คะแนนที่ได้"},"T-score"]
[49,"","","","","",{"$f":"COUNTIF(กรอกข้อมูล!A$2:A$401,A53)","v":0},"",50,"",50,"",{"$f":"K53*100/กรอกข้อมูล!AO$7","v":100},"",{"$f":"VLOOKUP(M53,Ttable!A$2:B$82,2)","v":90},"",{"$f":"gradeD!AL55","v":""},{"$f":"gradeD!AM55","v":""},{"$f":"gradeD!AP55","v":""},{"$f":"gradeD!AR55","v":""},null,"ค่าคะแนนเฉลี่ย",21.58,19.82]
[48,"","","","","",{"$f":"COUNTIF(กรอกข้อมูล!A$2:A$401,A54)","v":0},"",50,"",50,"",{"$f":"K54*100/กรอกข้อมูล!AO$7","v":100},"",{"$f":"VLOOKUP(M54,Ttable!A$2:B$82,2)","v":90},"",{"$f":"gradeD!AL56","v":""},{"$f":"gradeD!AM56","v":""},{"$f":"gradeD!AP56","v":""},{"$f":"gradeD!AR56","v":""},null,"ค่า S.D.",4.8533178216093606,12.184869824154003]
[47,"","","","","",{"$f":"COUNTIF(กรอกข้อมูล!A$2:A$401,A55)","v":0},"",50,"",50,"",{"$f":"K55*100/กรอกข้อมูล!AO$7","v":100},"",{"$f":"VLOOKUP(M55,Ttable!A$2:B$82,2)","v":90},"",{"$f":"gradeD!AL57","v":""},{"$f":"gradeD!AM57","v":""},{"$f":"gradeD!AP57","v":""},{"$f":"gradeD!AR57","v":""},null,"ค่ามากที่สุด",31,73]
[46,"","","","","",{"$f":"COUNTIF(กรอกข้อมูล!A$2:A$401,A56)","v":0},"",50,"",50,"",{"$f":"K56*100/กรอกข้อมูล!AO$7","v":100},"",{"$f":"VLOOKUP(M56,Ttable!A$2:B$82,2)","v":90},"",{"$f":"gradeD!AL58","v":""},{"$f":"gradeD!AM58","v":""},{"$f":"gradeD!AP58","v":""},{"$f":"gradeD!AR58","v":""},null,"ค่าน้อยที่สุด",12,29]
[45,"","","","","",{"$f":"COUNTIF(กรอกข้อมูล!A$2:A$401,A57)","v":0},"",50,"",50,"",{"$f":"K57*100/กรอกข้อมูล!AO$7","v":100},"",{"$f":"VLOOKUP(M57,Ttable!A$2:B$82,2)","v":90},"",{"$f":"gradeD!AL59","v":""},{"$f":"gradeD!AM59","v":""},{"$f":"gradeD!AP59","v":""},{"$f":"gradeD!AR59","v":""}]
[44,"","","","","",{"$f":"COUNTIF(กรอกข้อมูล!A$2:A$401,A58)","v":0},"",50,"",50,"",{"$f":"K58*100/กรอกข้อมูล!AO$7","v":100},"",{"$f":"VLOOKUP(M58,Ttable!A$2:B$82,2)","v":90},"",{"$f":"gradeD!AL60","v":""},{"$f":"gradeD!AM60","v":""},{"$f":"gradeD!AP60","v":""},{"$f":"gradeD!AR60","v":""}]
[43,"","","","","",{"$f":"COUNTIF(กรอกข้อมูล!A$2:A$401,A59)","v":0},"",50,"",50,"",{"$f":"K59*100/กรอกข้อมูล!AO$7","v":100},"",{"$f":"VLOOKUP(M59,Ttable!A$2:B$82,2)","v":90},"",{"$f":"gradeD!AL61","v":""},{"$f":"gradeD!AM61","v":""},{"$f":"gradeD!AP61","v":""},{"$f":"gradeD!AR61","v":""}]
[42,"","","","","",{"$f":"COUNTIF(กรอกข้อมูล!A$2:A$401,A60)","v":0},"",50,"",50,"",{"$f":"K60*100/กรอกข้อมูล!AO$7","v":100},"",{"$f":"VLOOKUP(M60,Ttable!A$2:B$82,2)","v":90},"",{"$f":"gradeD!AL62","v":""},{"$f":"gradeD!AM62","v":""},{"$f":"gradeD!AP62","v":""},{"$f":"gradeD!AR62","v":""}]
[41,"","","","","",{"$f":"COUNTIF(กรอกข้อมูล!A$2:A$401,A61)","v":0},"",50,"",50,"",{"$f":"K61*100/กรอกข้อมูล!AO$7","v":100},"",{"$f":"VLOOKUP(M61,Ttable!A$2:B$82,2)","v":90},"",{"$f":"gradeD!AL63","v":""},{"$f":"gradeD!AM63","v":""},{"$f":"gradeD!AP63","v":""},{"$f":"gradeD!AR63","v":""}]
[40,"","","","","",{"$f":"COUNTIF(กรอกข้อมูล!A$2:A$401,A62)","v":0},"",50,"",50,"",{"$f":"K62*100/กรอกข้อมูล!AO$7","v":100},"",{"$f":"VLOOKUP(M62,Ttable!A$2:B$82,2)","v":90},"",{"$f":"gradeD!AL64","v":""},{"$f":"gradeD!AM64","v":""},{"$f":"gradeD!AP64","v":""},{"$f":"gradeD!AR64","v":""}]
[39,"","","","","",{"$f":"COUNTIF(กรอกข้อมูล!A$2:A$401,A63)","v":0},"",50,"",50,"",{"$f":"K63*100/กรอกข้อมูล!AO$7","v":100},"",{"$f":"VLOOKUP(M63,Ttable!A$2:B$82,2)","v":90},"",{"$f":"gradeD!AL65","v":""},{"$f":"gradeD!AM65","v":""},{"$f":"gradeD!AP65","v":""},{"$f":"gradeD!AR65","v":""}]
[38,"","","","","",{"$f":"COUNTIF(กรอกข้อมูล!A$2:A$401,A64)","v":0},"",50,"",50,"",{"$f":"K64*100/กรอกข้อมูล!AO$7","v":100},"",{"$f":"VLOOKUP(M64,Ttable!A$2:B$82,2)","v":90},"",{"$f":"gradeD!AL66","v":""},{"$f":"gradeD!AM66","v":""},{"$f":"gradeD!AP66","v":""},{"$f":"gradeD!AR66","v":""}]
[37,"","","","","",{"$f":"COUNTIF(กรอกข้อมูล!A$2:A$401,A65)","v":0},"",50,"",50,"",{"$f":"K65*100/กรอกข้อมูล!AO$7","v":100},"",{"$f":"VLOOKUP(M65,Ttable!A$2:B$82,2)","v":90},"",{"$f":"gradeD!AL67","v":""},{"$f":"gradeD!AM67","v":""},{"$f":"gradeD!AP67","v":""},{"$f":"gradeD!AR67","v":""}]
[36,{"$f":"H66","v":""},{"$f":"J66","v":""},{"$f":"L66","v":""},{"$f":"N66","v":""},{"$f":"P66","v":""},{"$f":"COUNTIF(กรอกข้อมูล!A$2:A$401,A66)","v":0},"",{"$f":"I67+G66","v":50},"",{"$f":"I67+1/2*G66","v":50},"",{"$f":"K66*100/กรอกข้อมูล!AO$7","v":100},"",{"$f":"VLOOKUP(M66,Ttable!A$2:B$82,2)","v":90},"",{"$f":"gradeD!AL68","v":""},{"$f":"gradeD!AM68","v":""},{"$f":"gradeD!AP68","v":""},{"$f":"gradeD!AR68","v":""}]
[35,"","","","","",{"$f":"COUNTIF(กรอกข้อมูล!A$2:A$401,A67)","v":0},{"$f":"IF(G67=0,\"\",G67)","v":""},50,{"$f":"IF(G67=0,\"\",I67)","v":""},50,{"$f":"IF(G67=0,\"\",K67)","v":""},{"$f":"K67*100/กรอกข้อมูล!AO$7","v":100},{"$f":"IF(G67=0,\"\",M67)","v":""},{"$f":"VLOOKUP(M67,Ttable!A$2:B$82,2)","v":90},{"$f":"IF(G67=0,\"\",O67)","v":""},{"$f":"gradeD!AL69","v":""},{"$f":"gradeD!AM69","v":""},{"$f":"gradeD!AP69","v":""},{"$f":"gradeD!AR69","v":""}]
[34,"","","","","",{"$f":"COUNTIF(กรอกข้อมูล!A$2:A$401,A68)","v":0},"",50,"",50,"",{"$f":"K68*100/กรอกข้อมูล!AO$7","v":100},"",{"$f":"VLOOKUP(M68,Ttable!A$2:B$82,2)","v":90},"",{"$f":"gradeD!AL70","v":""},{"$f":"gradeD!AM70","v":""},{"$f":"gradeD!AP70","v":""},{"$f":"gradeD!AR70","v":""}]
[33,"","","","","",{"$f":"COUNTIF(กรอกข้อมูล!A$2:A$401,A69)","v":0},"",50,"",50,"",{"$f":"K69*100/กรอกข้อมูล!AO$7","v":100},"",{"$f":"VLOOKUP(M69,Ttable!A$2:B$82,2)","v":90},"",{"$f":"gradeD!AL71","v":""},{"$f":"gradeD!AM71","v":""},{"$f":"gradeD!AP71","v":""},{"$f":"gradeD!AR71","v":""}]
[32,"","","","","",{"$f":"COUNTIF(กรอกข้อมูล!A$2:A$401,A70)","v":0},"",50,"",50,"",{"$f":"K70*100/กรอกข้อมูล!AO$7","v":100},"",{"$f":"VLOOKUP(M70,Ttable!A$2:B$82,2)","v":90},"",{"$f":"gradeD!AL72","v":""},{"$f":"gradeD!AM72","v":""},{"$f":"gradeD!AP72","v":""},{"$f":"gradeD!AR72","v":""}]
[31,1,50,49.5,99,73,{"$f":"COUNTIF(กรอกข้อมูล!A$2:A$401,A71)","v":1},1,50,50,49.5,49.5,{"$f":"K71*100/กรอกข้อมูล!AO$7","v":99},99,{"$f":"VLOOKUP(M71,Ttable!A$2:B$82,2)","v":73},73,{"$f":"gradeD!AL73","v":4},{"$f":"gradeD!AM73","v":4},{"$f":"gradeD!AP73","v":0},{"$f":"gradeD!AR73","v":0}]
[30,2,49,48,96,67,{"$f":"COUNTIF(กรอกข้อมูล!A$2:A$401,A72)","v":2},2,49,49,48,48,{"$f":"K72*100/กรอกข้อมูล!AO$7","v":96},96,{"$f":"VLOOKUP(M72,Ttable!A$2:B$82,2)","v":67},67,{"$f":"gradeD!AL74","v":4},{"$f":"gradeD!AM74","v":4},{"$f":"gradeD!AP74","v":0},{"$f":"gradeD!AR74","v":0},null,null,{"$f":"W1","v":"คะแนนที่ได้"},"T-score"]
[29,1,47,46.5,93,64,{"$f":"COUNTIF(กรอกข้อมูล!A$2:A$401,A73)","v":1},1,47,47,46.5,46.5,{"$f":"K73*100/กรอกข้อมูล!AO$7","v":93},93,{"$f":"VLOOKUP(M73,Ttable!A$2:B$82,2)","v":64},64,{"$f":"gradeD!AL75","v":3},{"$f":"gradeD!AM75","v":3.5},{"$f":"gradeD!AP75","v":0},{"$f":"gradeD!AR75","v":0},null,"ค่าคะแนนเฉลี่ย",21.58,19.82]
[28,2,46,45,90,62,{"$f":"COUNTIF(กรอกข้อมูล!A$2:A$401,A74)","v":2},2,46,46,45,45,{"$f":"K74*100/กรอกข้อมูล!AO$7","v":90},90,{"$f":"VLOOKUP(M74,Ttable!A$2:B$82,2)","v":62},62,{"$f":"gradeD!AL76","v":3},{"$f":"gradeD!AM76","v":3},{"$f":"gradeD!AP76","v":0},{"$f":"gradeD!AR76","v":0},null,"ค่า S.D.",4.8533178216093606,12.184869824154003]
[27,2,44,43,86,60,{"$f":"COUNTIF(กรอกข้อมูล!A$2:A$401,A75)","v":2},2,44,44,43,43,{"$f":"K75*100/กรอกข้อมูล!AO$7","v":86},86,{"$f":"VLOOKUP(M75,Ttable!A$2:B$82,2)","v":60},60,{"$f":"gradeD!AL77","v":3},{"$f":"gradeD!AM77","v":3},{"$f":"gradeD!AP77","v":0},{"$f":"gradeD!AR77","v":0},null,"ค่ามากที่สุด",31,73]
[26,4,42,40,80,58,{"$f":"COUNTIF(กรอกข้อมูล!A$2:A$401,A76)","v":4},4,42,42,40,40,{"$f":"K76*100/กรอกข้อมูล!AO$7","v":80},80,{"$f":"VLOOKUP(M76,Ttable!A$2:B$82,2)","v":58},58,{"$f":"gradeD!AL78","v":2},{"$f":"gradeD!AM78","v":2.5},{"$f":"gradeD!AP78","v":0},{"$f":"gradeD!AR78","v":0},null,"ค่าน้อยที่สุด",12,29]
[25,3,38,36.5,73,56,{"$f":"COUNTIF(กรอกข้อมูล!A$2:A$401,A77)","v":3},3,38,38,36.5,36.5,{"$f":"K77*100/กรอกข้อมูล!AO$7","v":73},73,{"$f":"VLOOKUP(M77,Ttable!A$2:B$82,2)","v":56},56,{"$f":"gradeD!AL79","v":2},{"$f":"gradeD!AM79","v":2.5},{"$f":"gradeD!AP79","v":0},{"$f":"gradeD!AR79","v":0}]
[24,3,35,33.5,67,54,{"$f":"COUNTIF(กรอกข้อมูล!A$2:A$401,A78)","v":3},3,35,35,33.5,33.5,{"$f":"K78*100/กรอกข้อมูล!AO$7","v":67},67,{"$f":"VLOOKUP(M78,Ttable!A$2:B$82,2)","v":54},54,{"$f":"gradeD!AL80","v":2},{"$f":"gradeD!AM80","v":2.5},{"$f":"gradeD!AP80","v":0},{"$f":"gradeD!AR80","v":0}]
[23,4,32,30,60,52,{"$f":"COUNTIF(กรอกข้อมูล!A$2:A$401,A79)","v":4},4,32,32,30,30,{"$f":"K79*100/กรอกข้อมูล!AO$7","v":60},60,{"$f":"VLOOKUP(M79,Ttable!A$2:B$82,2)","v":52},52,{"$f":"gradeD!AL81","v":2},{"$f":"gradeD!AM81","v":2.5},{"$f":"gradeD!AP81","v":0},{"$f":"gradeD!AR81","v":0}]
[22,2,28,27,54,51,{"$f":"COUNTIF(กรอกข้อมูล!A$2:A$401,A80)","v":2},2,28,28,27,27,{"$f":"K80*100/กรอกข้อมูล!AO$7","v":54},54,{"$f":"VLOOKUP(M80,Ttable!A$2:B$82,2)","v":51},51,{"$f":"gradeD!AL82","v":2},{"$f":"gradeD!AM82","v":2},{"$f":"gradeD!AP82","v":0},{"$f":"gradeD!AR82","v":0}]
[21,6,26,23,46,48,{"$f":"COUNTIF(กรอกข้อมูล!A$2:A$401,A81)","v":6},6,26,26,23,23,{"$f":"K81*100/กรอกข้อมูล!AO$7","v":46},46,{"$f":"VLOOKUP(M81,Ttable!A$2:B$82,2)","v":48},48,{"$f":"gradeD!AL83","v":2},{"$f":"gradeD!AM83","v":2},{"$f":"gradeD!AP83","v":0},{"$f":"gradeD!AR83","v":0}]
[20,3,20,18.5,37,46,{"$f":"COUNTIF(กรอกข้อมูล!A$2:A$401,A82)","v":3},3,20,20,18.5,18.5,{"$f":"K82*100/กรอกข้อมูล!AO$7","v":37},37,{"$f":"VLOOKUP(M82,Ttable!A$2:B$82,2)","v":46},46,{"$f":"gradeD!AL84","v":2},{"$f":"gradeD!AM84","v":2},{"$f":"gradeD!AP84","v":0},{"$f":"gradeD!AR84","v":0}]
[19,4,17,15,30,44,{"$f":"COUNTIF(กรอกข้อมูล!A$2:A$401,A83)","v":4},4,17,17,15,15,{"$f":"K83*100/กรอกข้อมูล!AO$7","v":30},30,{"$f":"VLOOKUP(M83,Ttable!A$2:B$82,2)","v":44},44,{"$f":"gradeD!AL85","v":2},{"$f":"gradeD!AM85","v":2},{"$f":"gradeD!AP85","v":0},{"$f":"gradeD!AR85","v":0}]
[18,2,13,12,24,42,{"$f":"COUNTIF(กรอกข้อมูล!A$2:A$401,A84)","v":2},2,13,13,12,12,{"$f":"K84*100/กรอกข้อมูล!AO$7","v":24},24,{"$f":"VLOOKUP(M84,Ttable!A$2:B$82,2)","v":42},42,{"$f":"gradeD!AL86","v":1},{"$f":"gradeD!AM86","v":1.5},{"$f":"gradeD!AP86","v":0},{"$f":"gradeD!AR86","v":0}]
[17,3,11,9.5,19,41,{"$f":"COUNTIF(กรอกข้อมูล!A$2:A$401,A85)","v":3},3,11,11,9.5,9.5,{"$f":"K85*100/กรอกข้อมูล!AO$7","v":19},19,{"$f":"VLOOKUP(M85,Ttable!A$2:B$82,2)","v":41},41,{"$f":"gradeD!AL87","v":1},{"$f":"gradeD!AM87","v":1.5},{"$f":"gradeD!AP87","v":0},{"$f":"gradeD!AR87","v":0}]
[16,2,8,7,14,39,{"$f":"COUNTIF(กรอกข้อมูล!A$2:A$401,A86)","v":2},2,8,8,7,7,{"$f":"K86*100/กรอกข้อมูล!AO$7","v":14},14,{"$f":"VLOOKUP(M86,Ttable!A$2:B$82,2)","v":39},39,{"$f":"gradeD!AL88","v":1},{"$f":"gradeD!AM88","v":1},{"$f":"gradeD!AP88","v":0},{"$f":"gradeD!AR88","v":0}]
[15,2,6,5,10,37,{"$f":"COUNTIF(กรอกข้อมูล!A$2:A$401,A87)","v":2},2,6,6,5,5,{"$f":"K87*100/กรอกข้อมูล!AO$7","v":10},10,{"$f":"VLOOKUP(M87,Ttable!A$2:B$82,2)","v":37},37,{"$f":"gradeD!AL89","v":1},{"$f":"gradeD!AM89","v":1},{"$f":"gradeD!AP89","v":0},{"$f":"gradeD!AR89","v":0}]
[14,1,4,3.5,7,35,{"$f":"COUNTIF(กรอกข้อมูล!A$2:A$401,A88)","v":1},1,4,4,3.5,3.5,{"$f":"K88*100/กรอกข้อมูล!AO$7","v":7},7,{"$f":"VLOOKUP(M88,Ttable!A$2:B$82,2)","v":35},35,{"$f":"gradeD!AL90","v":0},{"$f":"gradeD!AM90","v":0},{"$f":"gradeD!AP90","v":0},{"$f":"gradeD!AR90","v":0}]
[13,1,3,2.5,5,33,{"$f":"COUNTIF(กรอกข้อมูล!A$2:A$401,A89)","v":1},1,3,3,2.5,2.5,{"$f":"K89*100/กรอกข้อมูล!AO$7","v":5},5,{"$f":"VLOOKUP(M89,Ttable!A$2:B$82,2)","v":33},33,{"$f":"gradeD!AL91","v":0},{"$f":"gradeD!AM91","v":0},{"$f":"gradeD!AP91","v":0},{"$f":"gradeD!AR91","v":0}]
[12,2,2,1,2,29,{"$f":"COUNTIF(กรอกข้อมูล!A$2:A$401,A90)","v":2},2,2,2,1,1,{"$f":"K90*100/กรอกข้อมูล!AO$7","v":2},2,{"$f":"VLOOKUP(M90,Ttable!A$2:B$82,2)","v":29},29,{"$f":"gradeD!AL92","v":0},{"$f":"gradeD!AM92","v":0},{"$f":"gradeD!AP92","v":0},{"$f":"gradeD!AR92","v":0}]
[11,"","","","","",{"$f":"COUNTIF(กรอกข้อมูล!A$2:A$401,A91)","v":0},"",0,"",0,"",{"$f":"K91*100/กรอกข้อมูล!AO$7","v":0},"",{"$f":"VLOOKUP(M91,Ttable!A$2:B$82,2)","v":{"$error":"#N/A"}},"",{"$f":"gradeD!AL93","v":""},{"$f":"gradeD!AM93","v":""},{"$f":"gradeD!AP93","v":""},{"$f":"gradeD!AR93","v":""}]
[10,"","","","","",{"$f":"COUNTIF(กรอกข้อมูล!A$2:A$401,A92)","v":0},"",0,"",0,"",{"$f":"K92*100/กรอกข้อมูล!AO$7","v":0},"",{"$f":"VLOOKUP(M92,Ttable!A$2:B$82,2)","v":{"$error":"#N/A"}},"",{"$f":"gradeD!AL94","v":""},{"$f":"gradeD!AM94","v":""},{"$f":"gradeD!AP94","v":""},{"$f":"gradeD!AR94","v":""},null,null,{"$f":"W1","v":"คะแนนที่ได้"},"T-score"]
[9,"","","","","",{"$f":"COUNTIF(กรอกข้อมูล!A$2:A$401,A93)","v":0},"",{"$f":"I94+G93","v":0},"",{"$f":"I94+1/2*G93","v":0},"",{"$f":"K93*100/กรอกข้อมูล!AO$7","v":0},"",{"$f":"VLOOKUP(M93,Ttable!A$2:B$82,2)","v":{"$error":"#N/A"}},"",{"$f":"gradeD!AL95","v":""},{"$f":"gradeD!AM95","v":""},{"$f":"gradeD!AP95","v":""},{"$f":"gradeD!AR95","v":""},null,"ค่าคะแนนเฉลี่ย",21.58,19.82]
[8,"","","","","",{"$f":"COUNTIF(กรอกข้อมูล!A$2:A$401,A94)","v":0},"",{"$f":"I95+G94","v":0},"",0,"",{"$f":"K94*100/กรอกข้อมูล!AO$7","v":0},"",{"$f":"VLOOKUP(M94,Ttable!A$2:B$82,2)","v":{"$error":"#N/A"}},"",{"$f":"gradeD!AL96","v":""},{"$f":"gradeD!AM96","v":""},{"$f":"gradeD!AP96","v":""},{"$f":"gradeD!AR96","v":""},null,"ค่า S.D.",4.8533178216093606,12.184869824154003]
[7,"","","","","",{"$f":"COUNTIF(กรอกข้อมูล!A$2:A$401,A95)","v":0},"",0,"",0,"",{"$f":"K95*100/กรอกข้อมูล!AO$7","v":0},"",{"$f":"VLOOKUP(M95,Ttable!A$2:B$82,2)","v":{"$error":"#N/A"}},"",{"$f":"gradeD!AL97","v":""},{"$f":"gradeD!AM97","v":""},{"$f":"gradeD!AP97","v":""},{"$f":"gradeD!AR97","v":""},null,"ค่ามากที่สุด",31,73]
[6,"","","","","",{"$f":"COUNTIF(กรอกข้อมูล!A$2:A$401,A96)","v":0},"",0,"",0,"",{"$f":"K96*100/กรอกข้อมูล!AO$7","v":0},"",{"$f":"VLOOKUP(M96,Ttable!A$2:B$82,2)","v":{"$error":"#N/A"}},"",{"$f":"gradeD!AL98","v":""},{"$f":"gradeD!AM98","v":""},{"$f":"gradeD!AP98","v":""},{"$f":"gradeD!AR98","v":""},null,"ค่าน้อยที่สุด",12,29]
[5,"","","","","",{"$f":"COUNTIF(กรอกข้อมูล!A$2:A$401,A97)","v":0},"",0,"",0,"",{"$f":"K97*100/กรอกข้อมูล!AO$7","v":0},"",{"$f":"VLOOKUP(M97,Ttable!A$2:B$82,2)","v":{"$error":"#N/A"}},"",{"$f":"gradeD!AL99","v":""},{"$f":"gradeD!AM99","v":""},{"$f":"gradeD!AP99","v":""},{"$f":"gradeD!AR99","v":""}]
[4,"","","","","",{"$f":"COUNTIF(กรอกข้อมูล!A$2:A$401,A98)","v":0},"",0,"",0,"",{"$f":"K98*100/กรอกข้อมูล!AO$7","v":0},"",{"$f":"VLOOKUP(M98,Ttable!A$2:B$82,2)","v":{"$error":"#N/A"}},"",{"$f":"gradeD!AL100","v":""},{"$f":"gradeD!AM100","v":""},{"$f":"gradeD!AP100","v":""},{"$f":"gradeD!AR100","v":""}]
[3,"","","","","",{"$f":"COUNTIF(กรอกข้อมูล!A$2:A$401,A99)","v":0},"",0,"",0,"",{"$f":"K99*100/กรอกข้อมูล!AO$7","v":0},"",{"$f":"VLOOKUP(M99,Ttable!A$2:B$82,2)","v":{"$error":"#N/A"}},"",{"$f":"gradeD!AL101","v":""},{"$f":"gradeD!AM101","v":""},{"$f":"gradeD!AP101","v":""},{"$f":"gradeD!AR101","v":""}]
[2,"","","","","",{"$f":"COUNTIF(กรอกข้อมูล!A$2:A$401,A100)","v":0},"",0,"",0,"",{"$f":"K100*100/กรอกข้อมูล!AO$7","v":0},"",{"$f":"VLOOKUP(M100,Ttable!A$2:B$82,2)","v":{"$error":"#N/A"}},"",{"$f":"gradeD!AL102","v":""},{"$f":"gradeD!AM102","v":""},{"$f":"gradeD!AP102","v":""},{"$f":"gradeD!AR102","v":""}]
[1,"","","","","",{"$f":"COUNTIF(กรอกข้อมูล!A$2:A$401,A101)","v":0},"",{"$f":"I102+G101","v":0},"",{"$f":"I102+1/2*G101","v":0},"",{"$f":"K101*100/กรอกข้อมูล!AO$7","v":0},"",{"$f":"VLOOKUP(M101,Ttable!A$2:B$82,2)","v":{"$error":"#N/A"}},"",{"$f":"gradeD!AL103","v":""},{"$f":"gradeD!AM103","v":""},{"$f":"gradeD!AP103","v":""},{"$f":"gradeD!AR103","v":""}]
[0,"",{"$nulls":4},{"$f":"COUNTIF(กรอกข้อมูล!A$2:A$401,A102)","v":0},"",0,"",{"$f":"I103+1/2*G102","v":0}]

{"sheet":"gradeD","index":10,"n_rows":103,"n_cols":44,"rows_kept":103,"cut":false,"hidden":false,"merged":[[0,0,0,9]]}
["การคำนวณจำนวนเกรดจากวิธีของดักลาส (Douglas Method) สำหรับแผ่นงาน TมาตรฐานT"]
[]
["ตารางเทียบจำนวนเกรด แบบ 5 เกรด",{"$nulls":5},"คำนวณแบบ 5 เกรดตามเกณฑ์",{"$nulls":4},"คำนวณแบบ 8 เกรดตามเกณฑ์",{"$nulls":6},{"$f":"TมาตรฐานT!G1","v":"ความถี่ (f)"},{"$f":"TมาตรฐานT!P1","v":"T-score"},"Grade (5/5)","Grade (5/5)","Grade (8/8)","Grade (8/8)","Grade (3/5)","Grade (3/5)","Grade (3/8)","Grade (3/8)","Grade (4/5)","Grade (4/5)","Grade (4/8)","Grade (4/8)","Grade (2/5)","Grade (2/5)","Grade (2/8)","Grade (2/8)",null,{"$f":"IF($D$10=5,V3,IF($D$10=4,AD3,IF($D$10=3,Z3,AH3)))","v":"Grade (5/5)"},{"$f":"IF($D$10=5,X3,IF($D$10=4,AF3,IF($D$10=3,AB3,AJ3)))","v":"Grade (8/8)"},{"$f":"TมาตรฐานT!A1","v":"คะแนน"},"Gradeคะแนนดิบ (5)","Gradeคะแนนดิบ (5)","Gradeคะแนนดิบ (8)","Gradeคะแนนดิบ (8)"]
["                     Min/Max",null,null,"จำนวนเกรด","ตัวหารพิสัย",null,null,"ค่าคะแนน",null,"เกรด",null,null,"ค่าคะแนน",null,"เกรด",null,null,null,{"$f":"TมาตรฐานT!G2","v":0},{"$f":"TมาตรฐานT!O2","v":90},{"$f":"IF(T4>=gradeD!B$37,gradeD!D$37,IF(T4>=gradeD!B$38,gradeD!D$38,IF(T4>=gradeD!B$39,gradeD!D$39,IF(T4>=gradeD!B$40,gradeD!D$40,gradeD!D$41))))","v":4},{"$f":"IF(S4=0,\"\",U4)","v":""},{"$f":"IF(T4>=gradeD!E$37,gradeD!G$37,IF(T4>=gradeD!E$38,gradeD!G$38,IF(T4>=gradeD!E$39,gradeD!G$39,IF(T4>=gradeD!E$40,gradeD!G$40,IF(T4>=gradeD!E$41,gradeD!G$41,IF(T4>=gradeD!E$42,gradeD!G$42,IF(T4>=gradeD!E$43,gradeD!G$43,gradeD!G$44)))))))","v":4},{"$f":"IF(S4=0,\"\",W4)","v":""},{"$f":"IF(T4>=gradeD!I$42,gradeD!K$42,IF(T4>=gradeD!I$43,gradeD!K$43,gradeD!K$44))","v":3},{"$f":"IF(S4=0,\"\",Y4)","v":""},{"$f":"IF(T4>=L$38,N$38,IF(T4>=L$39,N$39,IF(T4>=L$40,N$40,IF(T4>=L$41,N$41,N$42))))","v":3},{"$f":"IF(S4=0,\"\",AA4)","v":""},{"$f":"IF(T4>=B$47,D$47,IF(T4>=B$48,D$48,IF(T4>=B$49,D$49,D$50)))","v":4},{"$f":"IF(S4=0,\"\",AC4)","v":""},{"$f":"IF(T4>=B$52,D$52,IF(T4>=B$53,D$53,IF(T4>=B$54,D$54,IF(T4>=B$55,D$55,IF(T4>=B$56,D$56,IF(T4>=B$57,D$57,D$58))))))","v":4},{"$f":"IF(S4=0,\"\",AE4)","v":""},{"$f":"IF(T4>=F$48,G$48,G$49)","v":3},{"$f":"IF(S4=0,\"\",AG4)","v":""},{"$f":"IF(T4>=E$52,G$52,IF(T4>=E$53,G$53,G$54))","v":3},{"$f":"IF(S4=0,\"\",AI4)","v":""},null,{"$f":"IF($D$10=5,V4,IF($D$10=4,AD4,IF($D$10=3,Z4,AH4)))","v":""},{"$f":"IF($D$10=5,X4,IF($D$10=4,AF4,IF($D$10=3,AB4,AJ4)))","v":""},{"$f":"TมาตรฐานT!A2","v":100},{"$f":"IF(AN4>=G$9,J$9,IF(AN4>=G$8,J$8,IF(AN4>=G$7,J$7,IF(AN4>=G$6,J$6,J$5))))","v":4},{"$f":"IF(S4=0,\"\",AO4)","v":""},{"$f":"IF(AN4>=L$12,O$12,IF(AN4>=L$11,O$11,IF(AN4>=L$10,O$10,IF(AN4>=L$9,O$9,IF(AN4>=L$8,O$8,IF(AN4>=L$7,O$7,IF(AN4>=L$6,O$6,O$5)))))))","v":4},{"$f":"IF(S4=0,\"\",AQ4)","v":""}]
[0,"-",0.49,5,6,null,0,"-",49,0,null,0,"-",49,0,null,null,null,{"$f":"TมาตรฐานT!G3","v":0},{"$f":"TมาตรฐานT!O3","v":90},{"$f":"IF(T5>=gradeD!B$37,gradeD!D$37,IF(T5>=gradeD!B$38,gradeD!D$38,IF(T5>=gradeD!B$39,gradeD!D$39,IF(T5>=gradeD!B$40,gradeD!D$40,gradeD!D$41))))","v":4},{"$f":"IF(S5=0,\"\",U5)","v":""},{"$f":"IF(T5>=gradeD!E$37,gradeD!G$37,IF(T5>=gradeD!E$38,gradeD!G$38,IF(T5>=gradeD!E$39,gradeD!G$39,IF(T5>=gradeD!E$40,gradeD!G$40,IF(T5>=gradeD!E$41,gradeD!G$41,IF(T5>=gradeD!E$42,gradeD!G$42,IF(T5>=gradeD!E$43,gradeD!G$43,gradeD!G$44)))))))","v":4},{"$f":"IF(S5=0,\"\",W5)","v":""},{"$f":"IF(T5>=gradeD!I$42,gradeD!K$42,IF(T5>=gradeD!I$43,gradeD!K$43,gradeD!K$44))","v":3},{"$f":"IF(S5=0,\"\",Y5)","v":""},3,{"$f":"IF(S5=0,\"\",AA5)","v":""},4,{"$f":"IF(S5=0,\"\",AC5)","v":""},4,{"$f":"IF(S5=0,\"\",AE5)","v":""},3,{"$f":"IF(S5=0,\"\",AG5)","v":""},3,{"$f":"IF(S5=0,\"\",AI5)","v":""},null,"","",{"$f":"TมาตรฐานT!A3","v":99},{"$f":"IF(AN5>=G$9,J$9,IF(AN5>=G$8,J$8,IF(AN5>=G$7,J$7,IF(AN5>=G$6,J$6,J$5))))","v":4},{"$f":"IF(S5=0,\"\",AO5)","v":""},{"$f":"IF(AN5>=L$12,O$12,IF(AN5>=L$11,O$11,IF(AN5>=L$10,O$10,IF(AN5>=L$9,O$9,IF(AN5>=L$8,O$8,IF(AN5>=L$7,O$7,IF(AN5>=L$6,O$6,O$5)))))))","v":4},{"$f":"IF(S5=0,\"\",AQ5)","v":""}]
[0.5,"-",0.69,4,5,null,50,"-",59,1,null,50,null,54,1,null,null,null,{"$f":"TมาตรฐานT!G4","v":0},{"$f":"TมาตรฐานT!O4","v":90},{"$f":"IF(T6>=gradeD!B$37,gradeD!D$37,IF(T6>=gradeD!B$38,gradeD!D$38,IF(T6>=gradeD!B$39,gradeD!D$39,IF(T6>=gradeD!B$40,gradeD!D$40,gradeD!D$41))))","v":4},"",{"$f":"IF(T6>=gradeD!E$37,gradeD!G$37,IF(T6>=gradeD!E$38,gradeD!G$38,IF(T6>=gradeD!E$39,gradeD!G$39,IF(T6>=gradeD!E$40,gradeD!G$40,IF(T6>=gradeD!E$41,gradeD!G$41,IF(T6>=gradeD!E$42,gradeD!G$42,IF(T6>=gradeD!E$43,gradeD!G$43,gradeD!G$44)))))))","v":4},"",{"$f":"IF(T6>=gradeD!I$42,gradeD!K$42,IF(T6>=gradeD!I$43,gradeD!K$43,gradeD!K$44))","v":3},"",3,"",4,"",4,"",3,"",3,"",null,"","",{"$f":"TมาตรฐานT!A4","v":98},4,"",4,""]
[0.7,"-",0.89,3,4,null,60,"-",69,2,null,55,"-",59,1.5,null,null,null,{"$f":"TมาตรฐานT!G5","v":0},{"$f":"TมาตรฐานT!O5","v":90},{"$f":"IF(T7>=gradeD!B$37,gradeD!D$37,IF(T7>=gradeD!B$38,gradeD!D$38,IF(T7>=gradeD!B$39,gradeD!D$39,IF(T7>=gradeD!B$40,gradeD!D$40,gradeD!D$41))))","v":4},"",{"$f":"IF(T7>=gradeD!E$37,gradeD!G$37,IF(T7>=gradeD!E$38,gradeD!G$38,IF(T7>=gradeD!E$39,gradeD!G$39,IF(T7>=gradeD!E$40,gradeD!G$40,IF(T7>=gradeD!E$41,gradeD!G$41,IF(T7>=gradeD!E$42,gradeD!G$42,IF(T7>=gradeD!E$43,gradeD!G$43,gradeD!G$44)))))))","v":4},"",{"$f":"IF(T7>=gradeD!I$42,gradeD!K$42,IF(T7>=gradeD!I$43,gradeD!K$43,gradeD!K$44))","v":3},"",3,"",4,"",4,"",3,"",3,"",null,"","",{"$f":"TมาตรฐานT!A5","v":97},4,"",4,""]
[0.9,"-",0.94,2,3,null,70,"-",79,3,null,60,null,64,2,null,null,null,{"$f":"TมาตรฐานT!G6","v":0},{"$f":"TมาตรฐานT!O6","v":90},{"$f":"IF(T8>=gradeD!B$37,gradeD!D$37,IF(T8>=gradeD!B$38,gradeD!D$38,IF(T8>=gradeD!B$39,gradeD!D$39,IF(T8>=gradeD!B$40,gradeD!D$40,gradeD!D$41))))","v":4},"",{"$f":"IF(T8>=gradeD!E$37,gradeD!G$37,IF(T8>=gradeD!E$38,gradeD!G$38,IF(T8>=gradeD!E$39,gradeD!G$39,IF(T8>=gradeD!E$40,gradeD!G$40,IF(T8>=gradeD!E$41,gradeD!G$41,IF(T8>=gradeD!E$42,gradeD!G$42,IF(T8>=gradeD!E$43,gradeD!G$43,gradeD!G$44)))))))","v":4},"",{"$f":"IF(T8>=gradeD!I$42,gradeD!K$42,IF(T8>=gradeD!I$43,gradeD!K$43,gradeD!K$44))","v":3},"",3,"",4,"",4,"",3,"",3,"",null,"","",{"$f":"TมาตรฐานT!A6","v":96},4,"",4,""]
[0.95,"-",1,1,2,null,80,"-",100,4,null,65,"-",69,2.5,null,null,null,{"$f":"TมาตรฐานT!G7","v":0},{"$f":"TมาตรฐานT!O7","v":90},{"$f":"IF(T9>=gradeD!B$37,gradeD!D$37,IF(T9>=gradeD!B$38,gradeD!D$38,IF(T9>=gradeD!B$39,gradeD!D$39,IF(T9>=gradeD!B$40,gradeD!D$40,gradeD!D$41))))","v":4},"",{"$f":"IF(T9>=gradeD!E$37,gradeD!G$37,IF(T9>=gradeD!E$38,gradeD!G$38,IF(T9>=gradeD!E$39,gradeD!G$39,IF(T9>=gradeD!E$40,gradeD!G$40,IF(T9>=gradeD!E$41,gradeD!G$41,IF(T9>=gradeD!E$42,gradeD!G$42,IF(T9>=gradeD!E$43,gradeD!G$43,gradeD!G$44)))))))","v":4},"",{"$f":"IF(T9>=gradeD!I$42,gradeD!K$42,IF(T9>=gradeD!I$43,gradeD!K$43,gradeD!K$44))","v":3},"",3,"",4,"",4,"",3,"",3,"",null,"","",{"$f":"TมาตรฐานT!A7","v":95},4,"",4,""]
["Min/Max =",{"$f":"MIN(TมาตรฐานT!P2:P101)/MAX(TมาตรฐานT!P2:P101)","v":0.39726027397260272},null,{"$f":"VLOOKUP(B10,A5:D9,4)","v":5},{"$f":"VLOOKUP(B10,A5:E9,5)","v":6},{"$nulls":6},70,null,74,3,null,null,null,{"$f":"TมาตรฐานT!G8","v":0},{"$f":"TมาตรฐานT!O8","v":90},{"$f":"IF(T10>=gradeD!B$37,gradeD!D$37,IF(T10>=gradeD!B$38,gradeD!D$38,IF(T10>=gradeD!B$39,gradeD!D$39,IF(T10>=gradeD!B$40,gradeD!D$40,gradeD!D$41))))","v":4},"",{"$f":"IF(T10>=gradeD!E$37,gradeD!G$37,IF(T10>=gradeD!E$38,gradeD!G$38,IF(T10>=gradeD!E$39,gradeD!G$39,IF(T10>=gradeD!E$40,gradeD!G$40,IF(T10>=gradeD!E$41,gradeD!G$41,IF(T10>=gradeD!E$42,gradeD!G$42,IF(T10>=gradeD!E$43,gradeD!G$43,gradeD!G$44)))))))","v":4},"",{"$f":"IF(T10>=gradeD!I$42,gradeD!K$42,IF(T10>=gradeD!I$43,gradeD!K$43,gradeD!K$44))","v":3},"",3,"",4,"",4,"",3,"",3,"",null,"","",{"$f":"TมาตรฐานT!A8","v":94},4,"",4,""]
[{"$nulls":11},75,"-",79,3.5,null,null,null,{"$f":"TมาตรฐานT!G9","v":0},{"$f":"TมาตรฐานT!O9","v":90},{"$f":"IF(T11>=gradeD!B$37,gradeD!D$37,IF(T11>=gradeD!B$38,gradeD!D$38,IF(T11>=gradeD!B$39,gradeD!D$39,IF(T11>=gradeD!B$40,gradeD!D$40,gradeD!D$41))))","v":4},"",{"$f":"IF(T11>=gradeD!E$37,gradeD!G$37,IF(T11>=gradeD!E$38,gradeD!G$38,IF(T11>=gradeD!E$39,gradeD!G$39,IF(T11>=gradeD!E$40,gradeD!G$40,IF(T11>=gradeD!E$41,gradeD!G$41,IF(T11>=gradeD!E$42,gradeD!G$42,IF(T11>=gradeD!E$43,gradeD!G$43,gradeD!G$44)))))))","v":4},"",{"$f":"IF(T11>=gradeD!I$42,gradeD!K$42,IF(T11>=gradeD!I$43,gradeD!K$43,gradeD!K$44))","v":3},"",3,"",4,"",4,"",3,"",3,"",null,"","",{"$f":"TมาตรฐานT!A9","v":93},4,"",4,""]
[" พิสัย =",{"$f":"MAX(TมาตรฐานT!P2:P101)-MIN(TมาตรฐานT!P2:P101)+1","v":45},null,"เกรดเลขคู่/คี่",{"$nulls":7},80,"-",100,4,null,null,null,{"$f":"TมาตรฐานT!G10","v":0},{"$f":"TมาตรฐานT!O10","v":90},{"$f":"IF(T12>=gradeD!B$37,gradeD!D$37,IF(T12>=gradeD!B$38,gradeD!D$38,IF(T12>=gradeD!B$39,gradeD!D$39,IF(T12>=gradeD!B$40,gradeD!D$40,gradeD!D$41))))","v":4},"",{"$f":"IF(T12>=gradeD!E$37,gradeD!G$37,IF(T12>=gradeD!E$38,gradeD!G$38,IF(T12>=gradeD!E$39,gradeD!G$39,IF(T12>=gradeD!E$40,gradeD!G$40,IF(T12>=gradeD!E$41,gradeD!G$41,IF(T12>=gradeD!E$42,gradeD!G$42,IF(T12>=gradeD!E$43,gradeD!G$43,gradeD!G$44)))))))","v":4},"",{"$f":"IF(T12>=gradeD!I$42,gradeD!K$42,IF(T12>=gradeD!I$43,gradeD!K$43,gradeD!K$44))","v":3},"",3,"",4,"",4,"",3,"",3,"",null,"","",{"$f":"TมาตรฐานT!A10","v":92},4,"",4,""]
["อันตรภาคชั้น (I) =",{"$f":"B12/E10","v":7.5},{"$f":"CEILING(B13,0.5)","v":7.5},{"$f":"ISEVEN(D10)","v":false},{"$nulls":14},{"$f":"TมาตรฐานT!G11","v":0},{"$f":"TมาตรฐานT!O11","v":90},{"$f":"IF(T13>=gradeD!B$37,gradeD!D$37,IF(T13>=gradeD!B$38,gradeD!D$38,IF(T13>=gradeD!B$39,gradeD!D$39,IF(T13>=gradeD!B$40,gradeD!D$40,gradeD!D$41))))","v":4},"",{"$f":"IF(T13>=gradeD!E$37,gradeD!G$37,IF(T13>=gradeD!E$38,gradeD!G$38,IF(T13>=gradeD!E$39,gradeD!G$39,IF(T13>=gradeD!E$40,gradeD!G$40,IF(T13>=gradeD!E$41,gradeD!G$41,IF(T13>=gradeD!E$42,gradeD!G$42,IF(T13>=gradeD!E$43,gradeD!G$43,gradeD!G$44)))))))","v":4},"",{"$f":"IF(T13>=gradeD!I$42,gradeD!K$42,IF(T13>=gradeD!I$43,gradeD!K$43,gradeD!K$44))","v":3},"",3,"",4,"",4,"",3,"",3,"",null,"","",{"$f":"TมาตรฐานT!A11","v":91},4,"",4,""]
[{"$nulls":18},{"$f":"TมาตรฐานT!G12","v":0},{"$f":"TมาตรฐานT!O12","v":90},{"$f":"IF(T14>=gradeD!B$37,gradeD!D$37,IF(T14>=gradeD!B$38,gradeD!D$38,IF(T14>=gradeD!B$39,gradeD!D$39,IF(T14>=gradeD!B$40,gradeD!D$40,gradeD!D$41))))","v":4},"",{"$f":"IF(T14>=gradeD!E$37,gradeD!G$37,IF(T14>=gradeD!E$38,gradeD!G$38,IF(T14>=gradeD!E$39,gradeD!G$39,IF(T14>=gradeD!E$40,gradeD!G$40,IF(T14>=gradeD!E$41,gradeD!G$41,IF(T14>=gradeD!E$42,gradeD!G$42,IF(T14>=gradeD!E$43,gradeD!G$43,gradeD!G$44)))))))","v":4},"",{"$f":"IF(T14>=gradeD!I$42,gradeD!K$42,IF(T14>=gradeD!I$43,gradeD!K$43,gradeD!K$44))","v":3},"",3,"",4,"",4,"",3,"",3,"",null,"","",{"$f":"TมาตรฐานT!A12","v":90},4,"",4,""]
["ถ้าจำนวนเกรดเป็นเลขคี่ ค่าอันตรภาคชั้น (I) ของเกรดตัวกลางจะมีจำนวน 2 เท่าของอันตรภาคชั้น (I)",{"$nulls":17},{"$f":"TมาตรฐานT!G13","v":0},{"$f":"TมาตรฐานT!O13","v":90},{"$f":"IF(T15>=gradeD!B$37,gradeD!D$37,IF(T15>=gradeD!B$38,gradeD!D$38,IF(T15>=gradeD!B$39,gradeD!D$39,IF(T15>=gradeD!B$40,gradeD!D$40,gradeD!D$41))))","v":4},"",{"$f":"IF(T15>=gradeD!E$37,gradeD!G$37,IF(T15>=gradeD!E$38,gradeD!G$38,IF(T15>=gradeD!E$39,gradeD!G$39,IF(T15>=gradeD!E$40,gradeD!G$40,IF(T15>=gradeD!E$41,gradeD!G$41,IF(T15>=gradeD!E$42,gradeD!G$42,IF(T15>=gradeD!E$43,gradeD!G$43,gradeD!G$44)))))))","v":4},"",{"$f":"IF(T15>=gradeD!I$42,gradeD!K$42,IF(T15>=gradeD!I$43,gradeD!K$43,gradeD!K$44))","v":3},"",3,"",4,"",4,"",3,"",3,"",null,"","",{"$f":"TมาตรฐานT!A13","v":89},4,"",4,""]
[" ท่านสามารถเปลี่ยนตัวเลขเกรดตามความสามารถของกลุ่มผู้เรียนได้ เช่น จำนวนเกรดเป็น 3 เกรด อาจจะเป็น 4 3 2 หรือ 3 2 1 หรือ 2 1 0 เป็นต้น",{"$nulls":17},{"$f":"TมาตรฐานT!G14","v":0},{"$f":"TมาตรฐานT!O14","v":90},{"$f":"IF(T16>=gradeD!B$37,gradeD!D$37,IF(T16>=gradeD!B$38,gradeD!D$38,IF(T16>=gradeD!B$39,gradeD!D$39,IF(T16>=gradeD!B$40,gradeD!D$40,gradeD!D$41))))","v":4},"",{"$f":"IF(T16>=gradeD!E$37,gradeD!G$37,IF(T16>=gradeD!E$38,gradeD!G$38,IF(T16>=gradeD!E$39,gradeD!G$39,IF(T16>=gradeD!E$40,gradeD!G$40,IF(T16>=gradeD!E$41,gradeD!G$41,IF(T16>=gradeD!E$42,gradeD!G$42,IF(T16>=gradeD!E$43,gradeD!G$43,gradeD!G$44)))))))","v":4},"",{"$f":"IF(T16>=gradeD!I$42,gradeD!K$42,IF(T16>=gradeD!I$43,gradeD!K$43,gradeD!K$44))","v":3},"",3,"",4,"",4,"",3,"",3,"",null,"","",{"$f":"TมาตรฐานT!A14","v":88},4,"",4,""]
[{"$nulls":18},{"$f":"TมาตรฐานT!G15","v":0},{"$f":"TมาตรฐานT!O15","v":90},{"$f":"IF(T17>=gradeD!B$37,gradeD!D$37,IF(T17>=gradeD!B$38,gradeD!D$38,IF(T17>=gradeD!B$39,gradeD!D$39,IF(T17>=gradeD!B$40,gradeD!D$40,gradeD!D$41))))","v":4},"",{"$f":"IF(T17>=gradeD!E$37,gradeD!G$37,IF(T17>=gradeD!E$38,gradeD!G$38,IF(T17>=gradeD!E$39,gradeD!G$39,IF(T17>=gradeD!E$40,gradeD!G$40,IF(T17>=gradeD!E$41,gradeD!G$41,IF(T17>=gradeD!E$42,gradeD!G$42,IF(T17>=gradeD!E$43,gradeD!G$43,gradeD!G$44)))))))","v":4},"",{"$f":"IF(T17>=gradeD!I$42,gradeD!K$42,IF(T17>=gradeD!I$43,gradeD!K$43,gradeD!K$44))","v":3},"",3,"",4,"",4,"",3,"",3,"",null,"","",{"$f":"TมาตรฐานT!A15","v":87},4,"",4,""]
[null,"เกรด","I (5 เกรด)","I (3 เกรด)",{"$nulls":14},{"$f":"TมาตรฐานT!G16","v":0},{"$f":"TมาตรฐานT!O16","v":90},{"$f":"IF(T18>=gradeD!B$37,gradeD!D$37,IF(T18>=gradeD!B$38,gradeD!D$38,IF(T18>=gradeD!B$39,gradeD!D$39,IF(T18>=gradeD!B$40,gradeD!D$40,gradeD!D$41))))","v":4},"",{"$f":"IF(T18>=gradeD!E$37,gradeD!G$37,IF(T18>=gradeD!E$38,gradeD!G$38,IF(T18>=gradeD!E$39,gradeD!G$39,IF(T18>=gradeD!E$40,gradeD!G$40,IF(T18>=gradeD!E$41,gradeD!G$41,IF(T18>=gradeD!E$42,gradeD!G$42,IF(T18>=gradeD!E$43,gradeD!G$43,gradeD!G$44)))))))","v":4},"",{"$f":"IF(T18>=gradeD!I$42,gradeD!K$42,IF(T18>=gradeD!I$43,gradeD!K$43,gradeD!K$44))","v":3},"",3,"",4,"",4,"",3,"",3,"",null,"","",{"$f":"TมาตรฐานT!A16","v":86},4,"",4,""]
["ถ้าจำนวน 3 เกรด",4,{"$f":"C$13","v":7.5},{"$nulls":15},{"$f":"TมาตรฐานT!G17","v":0},{"$f":"TมาตรฐานT!O17","v":90},{"$f":"IF(T19>=gradeD!B$37,gradeD!D$37,IF(T19>=gradeD!B$38,gradeD!D$38,IF(T19>=gradeD!B$39,gradeD!D$39,IF(T19>=gradeD!B$40,gradeD!D$40,gradeD!D$41))))","v":4},"",{"$f":"IF(T19>=gradeD!E$37,gradeD!G$37,IF(T19>=gradeD!E$38,gradeD!G$38,IF(T19>=gradeD!E$39,gradeD!G$39,IF(T19>=gradeD!E$40,gradeD!G$40,IF(T19>=gradeD!E$41,gradeD!G$41,IF(T19>=gradeD!E$42,gradeD!G$42,IF(T19>=gradeD!E$43,gradeD!G$43,gradeD!G$44)))))))","v":4},"",{"$f":"IF(T19>=gradeD!I$42,gradeD!K$42,IF(T19>=gradeD!I$43,gradeD!K$43,gradeD!K$44))","v":3},"",3,"",4,"",4,"",3,"",3,"",null,"","",{"$f":"TมาตรฐานT!A17","v":85},4,"",4,""]
["พิมพ์เปลี่ยนที่นี่ =>",3,{"$f":"C$13","v":7.5},{"$f":"$C$13","v":7.5},{"$nulls":14},{"$f":"TมาตรฐานT!G18","v":0},{"$f":"TมาตรฐานT!O18","v":90},{"$f":"IF(T20>=gradeD!B$37,gradeD!D$37,IF(T20>=gradeD!B$38,gradeD!D$38,IF(T20>=gradeD!B$39,gradeD!D$39,IF(T20>=gradeD!B$40,gradeD!D$40,gradeD!D$41))))","v":4},"",{"$f":"IF(T20>=gradeD!E$37,gradeD!G$37,IF(T20>=gradeD!E$38,gradeD!G$38,IF(T20>=gradeD!E$39,gradeD!G$39,IF(T20>=gradeD!E$40,gradeD!G$40,IF(T20>=gradeD!E$41,gradeD!G$41,IF(T20>=gradeD!E$42,gradeD!G$42,IF(T20>=gradeD!E$43,gradeD!G$43,gradeD!G$44)))))))","v":4},"",{"$f":"IF(T20>=gradeD!I$42,gradeD!K$42,IF(T20>=gradeD!I$43,gradeD!K$43,gradeD!K$44))","v":3},"",3,"",4,"",4,"",3,"",3,"",null,"","",{"$f":"TมาตรฐานT!A18","v":84},4,"",4,""]
["พิมพ์เปลี่ยนที่นี่ =>",2,{"$f":"C$13*2","v":15},{"$f":"$C$13*2","v":15}," 2 เท่า",{"$nulls":13},{"$f":"TมาตรฐานT!G19","v":0},{"$f":"TมาตรฐานT!O19","v":90},{"$f":"IF(T21>=gradeD!B$37,gradeD!D$37,IF(T21>=gradeD!B$38,gradeD!D$38,IF(T21>=gradeD!B$39,gradeD!D$39,IF(T21>=gradeD!B$40,gradeD!D$40,gradeD!D$41))))","v":4},"",{"$f":"IF(T21>=gradeD!E$37,gradeD!G$37,IF(T21>=gradeD!E$38,gradeD!G$38,IF(T21>=gradeD!E$39,gradeD!G$39,IF(T21>=gradeD!E$40,gradeD!G$40,IF(T21>=gradeD!E$41,gradeD!G$41,IF(T21>=gradeD!E$42,gradeD!G$42,IF(T21>=gradeD!E$43,gradeD!G$43,gradeD!G$44)))))))","v":4},"",{"$f":"IF(T21>=gradeD!I$42,gradeD!K$42,IF(T21>=gradeD!I$43,gradeD!K$43,gradeD!K$44))","v":3},"",3,"",4,"",4,"",3,"",3,"",null,"","",{"$f":"TมาตรฐานT!A19","v":83},4,"",4,""]
["พิมพ์เปลี่ยนที่นี่ =>",1,{"$f":"C$13","v":7.5},{"$f":"$C$13","v":7.5},{"$nulls":14},{"$f":"TมาตรฐานT!G20","v":0},{"$f":"TมาตรฐานT!O20","v":90},{"$f":"IF(T22>=gradeD!B$37,gradeD!D$37,IF(T22>=gradeD!B$38,gradeD!D$38,IF(T22>=gradeD!B$39,gradeD!D$39,IF(T22>=gradeD!B$40,gradeD!D$40,gradeD!D$41))))","v":4},"",{"$f":"IF(T22>=gradeD!E$37,gradeD!G$37,IF(T22>=gradeD!E$38,gradeD!G$38,IF(T22>=gradeD!E$39,gradeD!G$39,IF(T22>=gradeD!E$40,gradeD!G$40,IF(T22>=gradeD!E$41,gradeD!G$41,IF(T22>=gradeD!E$42,gradeD!G$42,IF(T22>=gradeD!E$43,gradeD!G$43,gradeD!G$44)))))))","v":4},"",{"$f":"IF(T22>=gradeD!I$42,gradeD!K$42,IF(T22>=gradeD!I$43,gradeD!K$43,gradeD!K$44))","v":3},"",3,"",4,"",4,"",3,"",3,"",null,"","",{"$f":"TมาตรฐานT!A20","v":82},4,"",4,""]
[null,0,{"$f":"C$13","v":7.5},{"$nulls":15},{"$f":"TมาตรฐานT!G21","v":0},{"$f":"TมาตรฐานT!O21","v":90},{"$f":"IF(T23>=gradeD!B$37,gradeD!D$37,IF(T23>=gradeD!B$38,gradeD!D$38,IF(T23>=gradeD!B$39,gradeD!D$39,IF(T23>=gradeD!B$40,gradeD!D$40,gradeD!D$41))))","v":4},"",{"$f":"IF(T23>=gradeD!E$37,gradeD!G$37,IF(T23>=gradeD!E$38,gradeD!G$38,IF(T23>=gradeD!E$39,gradeD!G$39,IF(T23>=gradeD!E$40,gradeD!G$40,IF(T23>=gradeD!E$41,gradeD!G$41,IF(T23>=gradeD!E$42,gradeD!G$42,IF(T23>=gradeD!E$43,gradeD!G$43,gradeD!G$44)))))))","v":4},"",{"$f":"IF(T23>=gradeD!I$42,gradeD!K$42,IF(T23>=gradeD!I$43,gradeD!K$43,gradeD!K$44))","v":3},"",3,"",4,"",4,"",3,"",3,"",null,"","",{"$f":"TมาตรฐานT!A21","v":81},4,"",4,""]
[null,"รวม",{"$f":"SUM(C19:C23)","v":45},{"$f":"SUM(D19:D23)","v":30},{"$nulls":14},{"$f":"TมาตรฐานT!G22","v":0},{"$f":"TมาตรฐานT!O22","v":90},{"$f":"IF(T24>=gradeD!B$37,gradeD!D$37,IF(T24>=gradeD!B$38,gradeD!D$38,IF(T24>=gradeD!B$39,gradeD!D$39,IF(T24>=gradeD!B$40,gradeD!D$40,gradeD!D$41))))","v":4},"",{"$f":"IF(T24>=gradeD!E$37,gradeD!G$37,IF(T24>=gradeD!E$38,gradeD!G$38,IF(T24>=gradeD!E$39,gradeD!G$39,IF(T24>=gradeD!E$40,gradeD!G$40,IF(T24>=gradeD!E$41,gradeD!G$41,IF(T24>=gradeD!E$42,gradeD!G$42,IF(T24>=gradeD!E$43,gradeD!G$43,gradeD!G$44)))))))","v":4},"",{"$f":"IF(T24>=gradeD!I$42,gradeD!K$42,IF(T24>=gradeD!I$43,gradeD!K$43,gradeD!K$44))","v":3},"",3,"",4,"",4,"",3,"",3,"",null,"","",{"$f":"TมาตรฐานT!A22","v":80},4,"",4,""]
[{"$nulls":18},{"$f":"TมาตรฐานT!G23","v":0},{"$f":"TมาตรฐานT!O23","v":90},{"$f":"IF(T25>=gradeD!B$37,gradeD!D$37,IF(T25>=gradeD!B$38,gradeD!D$38,IF(T25>=gradeD!B$39,gradeD!D$39,IF(T25>=gradeD!B$40,gradeD!D$40,gradeD!D$41))))","v":4},"",{"$f":"IF(T25>=gradeD!E$37,gradeD!G$37,IF(T25>=gradeD!E$38,gradeD!G$38,IF(T25>=gradeD!E$39,gradeD!G$39,IF(T25>=gradeD!E$40,gradeD!G$40,IF(T25>=gradeD!E$41,gradeD!G$41,IF(T25>=gradeD!E$42,gradeD!G$42,IF(T25>=gradeD!E$43,gradeD!G$43,gradeD!G$44)))))))","v":4},"",{"$f":"IF(T25>=gradeD!I$42,gradeD!K$42,IF(T25>=gradeD!I$43,gradeD!K$43,gradeD!K$44))","v":3},"",3,"",4,"",4,"",3,"",3,"",null,"","",{"$f":"TมาตรฐานT!A23","v":79},3,"",3.5,""]
["ถ้าจำนวนเกรดเป็นเลขคู่ ค่าอันตรภาคชั้น (I) ของเกรดตัวกลางที่มี 2 ค่าจะมีจำนวนอันตรภาคชั้น (I) เป็น 1.5 ",{"$nulls":17},{"$f":"TมาตรฐานT!G24","v":0},{"$f":"TมาตรฐานT!O24","v":90},{"$f":"IF(T26>=gradeD!B$37,gradeD!D$37,IF(T26>=gradeD!B$38,gradeD!D$38,IF(T26>=gradeD!B$39,gradeD!D$39,IF(T26>=gradeD!B$40,gradeD!D$40,gradeD!D$41))))","v":4},"",{"$f":"IF(T26>=gradeD!E$37,gradeD!G$37,IF(T26>=gradeD!E$38,gradeD!G$38,IF(T26>=gradeD!E$39,gradeD!G$39,IF(T26>=gradeD!E$40,gradeD!G$40,IF(T26>=gradeD!E$41,gradeD!G$41,IF(T26>=gradeD!E$42,gradeD!G$42,IF(T26>=gradeD!E$43,gradeD!G$43,gradeD!G$44)))))))","v":4},"",{"$f":"IF(T26>=gradeD!I$42,gradeD!K$42,IF(T26>=gradeD!I$43,gradeD!K$43,gradeD!K$44))","v":3},"",3,"",4,"",4,"",3,"",3,"",null,"","",{"$f":"TมาตรฐานT!A24","v":78},3,"",3.5,""]
[{"$nulls":18},{"$f":"TมาตรฐานT!G25","v":0},{"$f":"TมาตรฐานT!O25","v":90},{"$f":"IF(T27>=gradeD!B$37,gradeD!D$37,IF(T27>=gradeD!B$38,gradeD!D$38,IF(T27>=gradeD!B$39,gradeD!D$39,IF(T27>=gradeD!B$40,gradeD!D$40,gradeD!D$41))))","v":4},"",{"$f":"IF(T27>=gradeD!E$37,gradeD!G$37,IF(T27>=gradeD!E$38,gradeD!G$38,IF(T27>=gradeD!E$39,gradeD!G$39,IF(T27>=gradeD!E$40,gradeD!G$40,IF(T27>=gradeD!E$41,gradeD!G$41,IF(T27>=gradeD!E$42,gradeD!G$42,IF(T27>=gradeD!E$43,gradeD!G$43,gradeD!G$44)))))))","v":4},"",{"$f":"IF(T27>=gradeD!I$42,gradeD!K$42,IF(T27>=gradeD!I$43,gradeD!K$43,gradeD!K$44))","v":3},"",3,"",4,"",4,"",3,"",3,"",null,"","",{"$f":"TมาตรฐานT!A25","v":77},3,"",3.5,""]
[null,"เกรด","I (4 เกรด)","I (2 เกรด)",{"$nulls":14},{"$f":"TมาตรฐานT!G26","v":0},{"$f":"TมาตรฐานT!O26","v":90},{"$f":"IF(T28>=gradeD!B$37,gradeD!D$37,IF(T28>=gradeD!B$38,gradeD!D$38,IF(T28>=gradeD!B$39,gradeD!D$39,IF(T28>=gradeD!B$40,gradeD!D$40,gradeD!D$41))))","v":4},"",{"$f":"IF(T28>=gradeD!E$37,gradeD!G$37,IF(T28>=gradeD!E$38,gradeD!G$38,IF(T28>=gradeD!E$39,gradeD!G$39,IF(T28>=gradeD!E$40,gradeD!G$40,IF(T28>=gradeD!E$41,gradeD!G$41,IF(T28>=gradeD!E$42,gradeD!G$42,IF(T28>=gradeD!E$43,gradeD!G$43,gradeD!G$44)))))))","v":4},"",{"$f":"IF(T28>=gradeD!I$42,gradeD!K$42,IF(T28>=gradeD!I$43,gradeD!K$43,gradeD!K$44))","v":3},"",3,"",4,"",4,"",3,"",3,"",null,"","",{"$f":"TมาตรฐานT!A26","v":76},3,"",3.5,""]
["พิมพ์เปลี่ยนที่นี่ =>",4,{"$f":"$C$13","v":7.5},{"$nulls":15},{"$f":"TมาตรฐานT!G27","v":0},{"$f":"TมาตรฐานT!O27","v":90},{"$f":"IF(T29>=gradeD!B$37,gradeD!D$37,IF(T29>=gradeD!B$38,gradeD!D$38,IF(T29>=gradeD!B$39,gradeD!D$39,IF(T29>=gradeD!B$40,gradeD!D$40,gradeD!D$41))))","v":4},"",{"$f":"IF(T29>=gradeD!E$37,gradeD!G$37,IF(T29>=gradeD!E$38,gradeD!G$38,IF(T29>=gradeD!E$39,gradeD!G$39,IF(T29>=gradeD!E$40,gradeD!G$40,IF(T29>=gradeD!E$41,gradeD!G$41,IF(T29>=gradeD!E$42,gradeD!G$42,IF(T29>=gradeD!E$43,gradeD!G$43,gradeD!G$44)))))))","v":4},"",{"$f":"IF(T29>=gradeD!I$42,gradeD!K$42,IF(T29>=gradeD!I$43,gradeD!K$43,gradeD!K$44))","v":3},"",3,"",4,"",4,"",3,"",3,"",null,"","",{"$f":"TมาตรฐานT!A27","v":75},3,"",3.5,""]
["พิมพ์เปลี่ยนที่นี่ =>",3,{"$f":"$C$13+$C$13/2","v":11.25},{"$f":"$C$13+$C$13/2","v":11.25},"1.5 เท่า",{"$nulls":13},{"$f":"TมาตรฐานT!G28","v":0},{"$f":"TมาตรฐานT!O28","v":90},{"$f":"IF(T30>=gradeD!B$37,gradeD!D$37,IF(T30>=gradeD!B$38,gradeD!D$38,IF(T30>=gradeD!B$39,gradeD!D$39,IF(T30>=gradeD!B$40,gradeD!D$40,gradeD!D$41))))","v":4},"",{"$f":"IF(T30>=gradeD!E$37,gradeD!G$37,IF(T30>=gradeD!E$38,gradeD!G$38,IF(T30>=gradeD!E$39,gradeD!G$39,IF(T30>=gradeD!E$40,gradeD!G$40,IF(T30>=gradeD!E$41,gradeD!G$41,IF(T30>=gradeD!E$42,gradeD!G$42,IF(T30>=gradeD!E$43,gradeD!G$43,gradeD!G$44)))))))","v":4},"",{"$f":"IF(T30>=gradeD!I$42,gradeD!K$42,IF(T30>=gradeD!I$43,gradeD!K$43,gradeD!K$44))","v":3},"",3,"",4,"",4,"",3,"",3,"",null,"","",{"$f":"TมาตรฐานT!A28","v":74},3,"",3,""]
["พิมพ์เปลี่ยนที่นี่ =>",2,{"$f":"$C$13+$C$13/2","v":11.25},{"$f":"$C$13+$C$13/2","v":11.25},"1.5 เท่า",{"$nulls":13},{"$f":"TมาตรฐานT!G29","v":0},{"$f":"TมาตรฐานT!O29","v":90},{"$f":"IF(T31>=gradeD!B$37,gradeD!D$37,IF(T31>=gradeD!B$38,gradeD!D$38,IF(T31>=gradeD!B$39,gradeD!D$39,IF(T31>=gradeD!B$40,gradeD!D$40,gradeD!D$41))))","v":4},"",{"$f":"IF(T31>=gradeD!E$37,gradeD!G$37,IF(T31>=gradeD!E$38,gradeD!G$38,IF(T31>=gradeD!E$39,gradeD!G$39,IF(T31>=gradeD!E$40,gradeD!G$40,IF(T31>=gradeD!E$41,gradeD!G$41,IF(T31>=gradeD!E$42,gradeD!G$42,IF(T31>=gradeD!E$43,gradeD!G$43,gradeD!G$44)))))))","v":4},"",{"$f":"IF(T31>=gradeD!I$42,gradeD!K$42,IF(T31>=gradeD!I$43,gradeD!K$43,gradeD!K$44))","v":3},"",3,"",4,"",4,"",3,"",3,"",null,"","",{"$f":"TมาตรฐานT!A29","v":73},3,"",3,""]
["พิมพ์เปลี่ยนที่นี่ =>",1,{"$f":"$C$13","v":7.5},{"$nulls":15},{"$f":"TมาตรฐานT!G30","v":0},{"$f":"TมาตรฐานT!O30","v":90},{"$f":"IF(T32>=gradeD!B$37,gradeD!D$37,IF(T32>=gradeD!B$38,gradeD!D$38,IF(T32>=gradeD!B$39,gradeD!D$39,IF(T32>=gradeD!B$40,gradeD!D$40,gradeD!D$41))))","v":4},"",{"$f":"IF(T32>=gradeD!E$37,gradeD!G$37,IF(T32>=gradeD!E$38,gradeD!G$38,IF(T32>=gradeD!E$39,gradeD!G$39,IF(T32>=gradeD!E$40,gradeD!G$40,IF(T32>=gradeD!E$41,gradeD!G$41,IF(T32>=gradeD!E$42,gradeD!G$42,IF(T32>=gradeD!E$43,gradeD!G$43,gradeD!G$44)))))))","v":4},"",{"$f":"IF(T32>=gradeD!I$42,gradeD!K$42,IF(T32>=gradeD!I$43,gradeD!K$43,gradeD!K$44))","v":3},"",3,"",4,"",4,"",3,"",3,"",null,"","",{"$f":"TมาตรฐานT!A30","v":72},3,"",3,""]
[null,"รวม",{"$f":"SUM(C29:C32)","v":37.5},{"$f":"SUM(D29:D32)","v":22.5},{"$nulls":14},{"$f":"TมาตรฐานT!G31","v":0},{"$f":"TมาตรฐานT!O31","v":90},{"$f":"IF(T33>=gradeD!B$37,gradeD!D$37,IF(T33>=gradeD!B$38,gradeD!D$38,IF(T33>=gradeD!B$39,gradeD!D$39,IF(T33>=gradeD!B$40,gradeD!D$40,gradeD!D$41))))","v":4},"",{"$f":"IF(T33>=gradeD!E$37,gradeD!G$37,IF(T33>=gradeD!E$38,gradeD!G$38,IF(T33>=gradeD!E$39,gradeD!G$39,IF(T33>=gradeD!E$40,gradeD!G$40,IF(T33>=gradeD!E$41,gradeD!G$41,IF(T33>=gradeD!E$42,gradeD!G$42,IF(T33>=gradeD!E$43,gradeD!G$43,gradeD!G$44)))))))","v":4},"",{"$f":"IF(T33>=gradeD!I$42,gradeD!K$42,IF(T33>=gradeD!I$43,gradeD!K$43,gradeD!K$44))","v":3},"",3,"",4,"",4,"",3,"",3,"",null,"","",{"$f":"TมาตรฐานT!A31","v":71},3,"",3,""]
["ถ้าจำนวนเกรดเป็น 2 เกรด ให้พิมพ์ 2 ค่ากลางเท่านั้น",{"$nulls":17},{"$f":"TมาตรฐานT!G32","v":0},{"$f":"TมาตรฐานT!O32","v":90},{"$f":"IF(T34>=gradeD!B$37,gradeD!D$37,IF(T34>=gradeD!B$38,gradeD!D$38,IF(T34>=gradeD!B$39,gradeD!D$39,IF(T34>=gradeD!B$40,gradeD!D$40,gradeD!D$41))))","v":4},"",{"$f":"IF(T34>=gradeD!E$37,gradeD!G$37,IF(T34>=gradeD!E$38,gradeD!G$38,IF(T34>=gradeD!E$39,gradeD!G$39,IF(T34>=gradeD!E$40,gradeD!G$40,IF(T34>=gradeD!E$41,gradeD!G$41,IF(T34>=gradeD!E$42,gradeD!G$42,IF(T34>=gradeD!E$43,gradeD!G$43,gradeD!G$44)))))))","v":4},"",{"$f":"IF(T34>=gradeD!I$42,gradeD!K$42,IF(T34>=gradeD!I$43,gradeD!K$43,gradeD!K$44))","v":3},"",3,"",4,"",4,"",3,"",3,"",null,"","",{"$f":"TมาตรฐานT!A32","v":70},3,"",3,""]
[{"$nulls":18},{"$f":"TมาตรฐานT!G33","v":0},{"$f":"TมาตรฐานT!O33","v":90},{"$f":"IF(T35>=gradeD!B$37,gradeD!D$37,IF(T35>=gradeD!B$38,gradeD!D$38,IF(T35>=gradeD!B$39,gradeD!D$39,IF(T35>=gradeD!B$40,gradeD!D$40,gradeD!D$41))))","v":4},"",{"$f":"IF(T35>=gradeD!E$37,gradeD!G$37,IF(T35>=gradeD!E$38,gradeD!G$38,IF(T35>=gradeD!E$39,gradeD!G$39,IF(T35>=gradeD!E$40,gradeD!G$40,IF(T35>=gradeD!E$41,gradeD!G$41,IF(T35>=gradeD!E$42,gradeD!G$42,IF(T35>=gradeD!E$43,gradeD!G$43,gradeD!G$44)))))))","v":4},"",{"$f":"IF(T35>=gradeD!I$42,gradeD!K$42,IF(T35>=gradeD!I$43,gradeD!K$43,gradeD!K$44))","v":3},"",3,"",4,"",4,"",3,"",3,"",null,"","",{"$f":"TมาตรฐานT!A33","v":69},2,"",2.5,""]
[null,"I (5 เกรด)","I5","I5","I3","I3","I3","I5","I3",{"$nulls":9},{"$f":"TมาตรฐานT!G34","v":0},{"$f":"TมาตรฐานT!O34","v":90},{"$f":"IF(T36>=gradeD!B$37,gradeD!D$37,IF(T36>=gradeD!B$38,gradeD!D$38,IF(T36>=gradeD!B$39,gradeD!D$39,IF(T36>=gradeD!B$40,gradeD!D$40,gradeD!D$41))))","v":4},"",{"$f":"IF(T36>=gradeD!E$37,gradeD!G$37,IF(T36>=gradeD!E$38,gradeD!G$38,IF(T36>=gradeD!E$39,gradeD!G$39,IF(T36>=gradeD!E$40,gradeD!G$40,IF(T36>=gradeD!E$41,gradeD!G$41,IF(T36>=gradeD!E$42,gradeD!G$42,IF(T36>=gradeD!E$43,gradeD!G$43,gradeD!G$44)))))))","v":4},"",{"$f":"IF(T36>=gradeD!I$42,gradeD!K$42,IF(T36>=gradeD!I$43,gradeD!K$43,gradeD!K$44))","v":3},"",{"$f":"IF(T36>=L$38,N$38,IF(T36>=L$39,N$39,IF(T36>=L$40,N$40,IF(T36>=L$41,N$41,N$42))))","v":3},"",{"$f":"IF(T36>=B$47,D$47,IF(T36>=B$48,D$48,IF(T36>=B$49,D$49,D$50)))","v":4},"",{"$f":"IF(T36>=B$52,D$52,IF(T36>=B$53,D$53,IF(T36>=B$54,D$54,IF(T36>=B$55,D$55,IF(T36>=B$56,D$56,IF(T36>=B$57,D$57,D$58))))))","v":4},"",{"$f":"IF(T36>=F$48,G$48,G$49)","v":3},"",{"$f":"IF(T36>=E$52,G$52,IF(T36>=E$53,G$53,G$54))","v":3},"",null,"","",{"$f":"TมาตรฐานT!A34","v":68},2,"",2.5,""]
[null,{"$f":"B38+C20","v":66.5},{"$f":"B37+C19-1","v":73},{"$f":"B19","v":4},{"$f":"B37","v":66.5},{"$f":"C37","v":73},4,{"$nulls":4},"I (3 เกรด)",{"$nulls":6},{"$f":"TมาตรฐานT!G35","v":0},{"$f":"TมาตรฐานT!O35","v":90},{"$f":"IF(T37>=gradeD!B$37,gradeD!D$37,IF(T37>=gradeD!B$38,gradeD!D$38,IF(T37>=gradeD!B$39,gradeD!D$39,IF(T37>=gradeD!B$40,gradeD!D$40,gradeD!D$41))))","v":4},"",{"$f":"IF(T37>=gradeD!E$37,gradeD!G$37,IF(T37>=gradeD!E$38,gradeD!G$38,IF(T37>=gradeD!E$39,gradeD!G$39,IF(T37>=gradeD!E$40,gradeD!G$40,IF(T37>=gradeD!E$41,gradeD!G$41,IF(T37>=gradeD!E$42,gradeD!G$42,IF(T37>=gradeD!E$43,gradeD!G$43,gradeD!G$44)))))))","v":4},"",{"$f":"IF(T37>=gradeD!I$42,gradeD!K$42,IF(T37>=gradeD!I$43,gradeD!K$43,gradeD!K$44))","v":3},"",3,"",4,"",4,"",3,"",3,"",null,"","",{"$f":"TมาตรฐานT!A35","v":67},2,"",2.5,""]
[null,{"$f":"B39+C21","v":59},{"$f":"B37-1","v":65.5},{"$f":"B20","v":3},{"$f":"E39+H38","v":62.75},{"$f":"C38","v":65.5},3.5,{"$f":"C20/2","v":3.75},3.75,null,null,{"$f":"I42","v":51.5},{"$f":"J42","v":58},{"$f":"B20","v":3},{"$nulls":4},{"$f":"TมาตรฐานT!G36","v":0},{"$f":"TมาตรฐานT!O36","v":90},{"$f":"IF(T38>=gradeD!B$37,gradeD!D$37,IF(T38>=gradeD!B$38,gradeD!D$38,IF(T38>=gradeD!B$39,gradeD!D$39,IF(T38>=gradeD!B$40,gradeD!D$40,gradeD!D$41))))","v":4},"",{"$f":"IF(T38>=gradeD!E$37,gradeD!G$37,IF(T38>=gradeD!E$38,gradeD!G$38,IF(T38>=gradeD!E$39,gradeD!G$39,IF(T38>=gradeD!E$40,gradeD!G$40,IF(T38>=gradeD!E$41,gradeD!G$41,IF(T38>=gradeD!E$42,gradeD!G$42,IF(T38>=gradeD!E$43,gradeD!G$43,gradeD!G$44)))))))","v":4},"",{"$f":"IF(T38>=gradeD!I$42,gradeD!K$42,IF(T38>=gradeD!I$43,gradeD!K$43,gradeD!K$44))","v":3},"",3,"",4,"",4,"",3,"",3,"",null,"","",{"$f":"TมาตรฐานT!A36","v":66},2,"",2.5,""]
[null,{"$f":"B40+C22","v":44},{"$f":"B38-1","v":58},{"$f":"B21","v":2},{"$f":"B38","v":59},null,3,7.5,7.5,null,null,{"$f":"L40+I39","v":44},{"$f":"J43","v":50.5},{"$f":"0.5+N40","v":2.5},{"$nulls":4},{"$f":"TมาตรฐานT!G37","v":0},{"$f":"TมาตรฐานT!O37","v":90},{"$f":"IF(T39>=gradeD!B$37,gradeD!D$37,IF(T39>=gradeD!B$38,gradeD!D$38,IF(T39>=gradeD!B$39,gradeD!D$39,IF(T39>=gradeD!B$40,gradeD!D$40,gradeD!D$41))))","v":4},"",{"$f":"IF(T39>=gradeD!E$37,gradeD!G$37,IF(T39>=gradeD!E$38,gradeD!G$38,IF(T39>=gradeD!E$39,gradeD!G$39,IF(T39>=gradeD!E$40,gradeD!G$40,IF(T39>=gradeD!E$41,gradeD!G$41,IF(T39>=gradeD!E$42,gradeD!G$42,IF(T39>=gradeD!E$43,gradeD!G$43,gradeD!G$44)))))))","v":4},"",{"$f":"IF(T39>=gradeD!I$42,gradeD!K$42,IF(T39>=gradeD!I$43,gradeD!K$43,gradeD!K$44))","v":3},"",3,"",4,"",4,"",3,"",3,"",null,"","",{"$f":"TมาตรฐานT!A37","v":65},2,"",2.5,""]
[null,{"$f":"B41+C23","v":36.5},{"$f":"B39-1","v":43},{"$f":"B22","v":1},{"$f":"E41+H39","v":51.5},{"$f":"C39","v":58},2.5,3.75,3.75,null,null,{"$f":"I43","v":36.5},null,{"$f":"B21","v":2},{"$nulls":4},{"$f":"TมาตรฐานT!G38","v":0},{"$f":"TมาตรฐานT!O38","v":90},{"$f":"IF(T40>=gradeD!B$37,gradeD!D$37,IF(T40>=gradeD!B$38,gradeD!D$38,IF(T40>=gradeD!B$39,gradeD!D$39,IF(T40>=gradeD!B$40,gradeD!D$40,gradeD!D$41))))","v":4},"",{"$f":"IF(T40>=gradeD!E$37,gradeD!G$37,IF(T40>=gradeD!E$38,gradeD!G$38,IF(T40>=gradeD!E$39,gradeD!G$39,IF(T40>=gradeD!E$40,gradeD!G$40,IF(T40>=gradeD!E$41,gradeD!G$41,IF(T40>=gradeD!E$42,gradeD!G$42,IF(T40>=gradeD!E$43,gradeD!G$43,gradeD!G$44)))))))","v":4},"",{"$f":"IF(T40>=gradeD!I$42,gradeD!K$42,IF(T40>=gradeD!I$43,gradeD!K$43,gradeD!K$44))","v":3},"",3,"",4,"",4,"",3,"",3,"",null,"","",{"$f":"TมาตรฐานT!A38","v":64},2,"",2,""]
[null,{"$f":"MIN(TมาตรฐานT!P2:P101)","v":29},{"$f":"B40-1","v":35.5},{"$f":"B23","v":0},{"$f":"B39","v":44},null,2,null,"I (3 เกรด)",null,null,{"$f":"I40+L42","v":32.75},{"$f":"J44","v":35.5},{"$f":"0.5+N42","v":1.5},{"$nulls":4},{"$f":"TมาตรฐานT!G39","v":0},{"$f":"TมาตรฐานT!O39","v":90},{"$f":"IF(T41>=gradeD!B$37,gradeD!D$37,IF(T41>=gradeD!B$38,gradeD!D$38,IF(T41>=gradeD!B$39,gradeD!D$39,IF(T41>=gradeD!B$40,gradeD!D$40,gradeD!D$41))))","v":4},"",{"$f":"IF(T41>=gradeD!E$37,gradeD!G$37,IF(T41>=gradeD!E$38,gradeD!G$38,IF(T41>=gradeD!E$39,gradeD!G$39,IF(T41>=gradeD!E$40,gradeD!G$40,IF(T41>=gradeD!E$41,gradeD!G$41,IF(T41>=gradeD!E$42,gradeD!G$42,IF(T41>=gradeD!E$43,gradeD!G$43,gradeD!G$44)))))))","v":4},"",{"$f":"IF(T41>=gradeD!I$42,gradeD!K$42,IF(T41>=gradeD!I$43,gradeD!K$43,gradeD!K$44))","v":3},"",3,"",4,"",4,"",3,"",3,"",null,"","",{"$f":"TมาตรฐานT!A39","v":63},2,"",2,""]
[{"$nulls":4},{"$f":"E43+H40","v":40.25},{"$f":"C40","v":43},1.5,null,{"$f":"I43+D21","v":51.5},{"$f":"I42+D20-1","v":58},{"$f":"B20","v":3},{"$f":"I44","v":29},null,{"$f":"B22","v":1},{"$nulls":4},{"$f":"TมาตรฐานT!G40","v":0},{"$f":"TมาตรฐานT!O40","v":90},{"$f":"IF(T42>=gradeD!B$37,gradeD!D$37,IF(T42>=gradeD!B$38,gradeD!D$38,IF(T42>=gradeD!B$39,gradeD!D$39,IF(T42>=gradeD!B$40,gradeD!D$40,gradeD!D$41))))","v":4},"",{"$f":"IF(T42>=gradeD!E$37,gradeD!G$37,IF(T42>=gradeD!E$38,gradeD!G$38,IF(T42>=gradeD!E$39,gradeD!G$39,IF(T42>=gradeD!E$40,gradeD!G$40,IF(T42>=gradeD!E$41,gradeD!G$41,IF(T42>=gradeD!E$42,gradeD!G$42,IF(T42>=gradeD!E$43,gradeD!G$43,gradeD!G$44)))))))","v":4},"",{"$f":"IF(T42>=gradeD!I$42,gradeD!K$42,IF(T42>=gradeD!I$43,gradeD!K$43,gradeD!K$44))","v":3},"",3,"",4,"",4,"",3,"",3,"",null,"","",{"$f":"TมาตรฐานT!A40","v":62},2,"",2,""]
[{"$nulls":4},{"$f":"B40","v":36.5},null,1,null,{"$f":"I44+D22","v":36.5},{"$f":"I42-1","v":50.5},{"$f":"B21","v":2},{"$nulls":7},{"$f":"TมาตรฐานT!G41","v":0},{"$f":"TมาตรฐานT!O41","v":90},{"$f":"IF(T43>=gradeD!B$37,gradeD!D$37,IF(T43>=gradeD!B$38,gradeD!D$38,IF(T43>=gradeD!B$39,gradeD!D$39,IF(T43>=gradeD!B$40,gradeD!D$40,gradeD!D$41))))","v":4},"",{"$f":"IF(T43>=gradeD!E$37,gradeD!G$37,IF(T43>=gradeD!E$38,gradeD!G$38,IF(T43>=gradeD!E$39,gradeD!G$39,IF(T43>=gradeD!E$40,gradeD!G$40,IF(T43>=gradeD!E$41,gradeD!G$41,IF(T43>=gradeD!E$42,gradeD!G$42,IF(T43>=gradeD!E$43,gradeD!G$43,gradeD!G$44)))))))","v":4},"",{"$f":"IF(T43>=gradeD!I$42,gradeD!K$42,IF(T43>=gradeD!I$43,gradeD!K$43,gradeD!K$44))","v":3},"",3,"",4,"",4,"",3,"",3,"",null,"","",{"$f":"TมาตรฐานT!A41","v":61},2,"",2,""]
[{"$nulls":4},{"$f":"B41","v":29},{"$f":"C41","v":35.5},0,null,{"$f":"MIN(TมาตรฐานT!P2:P101)","v":29},{"$f":"I43-1","v":35.5},{"$f":"B22","v":1},{"$nulls":7},{"$f":"TมาตรฐานT!G42","v":0},{"$f":"TมาตรฐานT!O42","v":90},{"$f":"IF(T44>=gradeD!B$37,gradeD!D$37,IF(T44>=gradeD!B$38,gradeD!D$38,IF(T44>=gradeD!B$39,gradeD!D$39,IF(T44>=gradeD!B$40,gradeD!D$40,gradeD!D$41))))","v":4},"",{"$f":"IF(T44>=gradeD!E$37,gradeD!G$37,IF(T44>=gradeD!E$38,gradeD!G$38,IF(T44>=gradeD!E$39,gradeD!G$39,IF(T44>=gradeD!E$40,gradeD!G$40,IF(T44>=gradeD!E$41,gradeD!G$41,IF(T44>=gradeD!E$42,gradeD!G$42,IF(T44>=gradeD!E$43,gradeD!G$43,gradeD!G$44)))))))","v":4},"",{"$f":"IF(T44>=gradeD!I$42,gradeD!K$42,IF(T44>=gradeD!I$43,gradeD!K$43,gradeD!K$44))","v":3},"",3,"",4,"",4,"",3,"",3,"",null,"","",{"$f":"TมาตรฐานT!A42","v":60},2,"",2,""]
[{"$nulls":18},{"$f":"TมาตรฐานT!G43","v":0},{"$f":"TมาตรฐานT!O43","v":90},{"$f":"IF(T45>=gradeD!B$37,gradeD!D$37,IF(T45>=gradeD!B$38,gradeD!D$38,IF(T45>=gradeD!B$39,gradeD!D$39,IF(T45>=gradeD!B$40,gradeD!D$40,gradeD!D$41))))","v":4},"",{"$f":"IF(T45>=gradeD!E$37,gradeD!G$37,IF(T45>=gradeD!E$38,gradeD!G$38,IF(T45>=gradeD!E$39,gradeD!G$39,IF(T45>=gradeD!E$40,gradeD!G$40,IF(T45>=gradeD!E$41,gradeD!G$41,IF(T45>=gradeD!E$42,gradeD!G$42,IF(T45>=gradeD!E$43,gradeD!G$43,gradeD!G$44)))))))","v":4},"",{"$f":"IF(T45>=gradeD!I$42,gradeD!K$42,IF(T45>=gradeD!I$43,gradeD!K$43,gradeD!K$44))","v":3},"",3,"",4,"",4,"",3,"",3,"",null,"","",{"$f":"TมาตรฐานT!A43","v":59},1,"",1.5,""]
[null,"I (4 เกรด)","I4","I4","I (2 เกรด)","I2","I2",null,"เกรดเลขคี่","เกรดเลขคู่",{"$nulls":8},{"$f":"TมาตรฐานT!G44","v":0},{"$f":"TมาตรฐานT!O44","v":90},{"$f":"IF(T46>=gradeD!B$37,gradeD!D$37,IF(T46>=gradeD!B$38,gradeD!D$38,IF(T46>=gradeD!B$39,gradeD!D$39,IF(T46>=gradeD!B$40,gradeD!D$40,gradeD!D$41))))","v":4},"",{"$f":"IF(T46>=gradeD!E$37,gradeD!G$37,IF(T46>=gradeD!E$38,gradeD!G$38,IF(T46>=gradeD!E$39,gradeD!G$39,IF(T46>=gradeD!E$40,gradeD!G$40,IF(T46>=gradeD!E$41,gradeD!G$41,IF(T46>=gradeD!E$42,gradeD!G$42,IF(T46>=gradeD!E$43,gradeD!G$43,gradeD!G$44)))))))","v":4},"",{"$f":"IF(T46>=gradeD!I$42,gradeD!K$42,IF(T46>=gradeD!I$43,gradeD!K$43,gradeD!K$44))","v":3},"",3,"",4,"",4,"",3,"",3,"",null,"","",{"$f":"TมาตรฐานT!A44","v":58},1,"",1.5,""]
[null,{"$f":"B48+C30","v":59},{"$f":"B47+C29-1","v":65.5},{"$f":"B29","v":4},{"$nulls":4},{"$f":"AND(D10=5,D13=FALSE)","v":true},{"$f":"AND(D10=4,D13=TRUE)","v":false},{"$nulls":8},{"$f":"TมาตรฐานT!G45","v":0},{"$f":"TมาตรฐานT!O45","v":90},{"$f":"IF(T47>=gradeD!B$37,gradeD!D$37,IF(T47>=gradeD!B$38,gradeD!D$38,IF(T47>=gradeD!B$39,gradeD!D$39,IF(T47>=gradeD!B$40,gradeD!D$40,gradeD!D$41))))","v":4},"",{"$f":"IF(T47>=gradeD!E$37,gradeD!G$37,IF(T47>=gradeD!E$38,gradeD!G$38,IF(T47>=gradeD!E$39,gradeD!G$39,IF(T47>=gradeD!E$40,gradeD!G$40,IF(T47>=gradeD!E$41,gradeD!G$41,IF(T47>=gradeD!E$42,gradeD!G$42,IF(T47>=gradeD!E$43,gradeD!G$43,gradeD!G$44)))))))","v":4},"",{"$f":"IF(T47>=gradeD!I$42,gradeD!K$42,IF(T47>=gradeD!I$43,gradeD!K$43,gradeD!K$44))","v":3},"",3,"",4,"",4,"",3,"",3,"",null,"","",{"$f":"TมาตรฐานT!A45","v":57},1,"",1.5,""]
[null,{"$f":"B49+C31","v":47.75},{"$f":"B47-1","v":58},{"$f":"B30","v":3},{"$f":"E49+D31","v":40.25},{"$f":"E48+D30-1","v":50.5},{"$f":"B30","v":3},null,{"$f":"AND(D10=3,D13=FALSE)","v":false},{"$f":"AND(D10=2,D13=TRUE)","v":false},{"$nulls":8},{"$f":"TมาตรฐานT!G46","v":0},{"$f":"TมาตรฐานT!O46","v":90},{"$f":"IF(T48>=gradeD!B$37,gradeD!D$37,IF(T48>=gradeD!B$38,gradeD!D$38,IF(T48>=gradeD!B$39,gradeD!D$39,IF(T48>=gradeD!B$40,gradeD!D$40,gradeD!D$41))))","v":4},"",{"$f":"IF(T48>=gradeD!E$37,gradeD!G$37,IF(T48>=gradeD!E$38,gradeD!G$38,IF(T48>=gradeD!E$39,gradeD!G$39,IF(T48>=gradeD!E$40,gradeD!G$40,IF(T48>=gradeD!E$41,gradeD!G$41,IF(T48>=gradeD!E$42,gradeD!G$42,IF(T48>=gradeD!E$43,gradeD!G$43,gradeD!G$44)))))))","v":4},"",{"$f":"IF(T48>=gradeD!I$42,gradeD!K$42,IF(T48>=gradeD!I$43,gradeD!K$43,gradeD!K$44))","v":3},"",3,"",4,"",4,"",3,"",3,"",null,"","",{"$f":"TมาตรฐานT!A46","v":56},1,"",1.5,""]
[null,{"$f":"B50+C32","v":36.5},{"$f":"B48-1","v":46.75},{"$f":"B31","v":2},{"$f":"MIN(TมาตรฐานT!P2:P101)","v":29},{"$f":"E48-1","v":39.25},{"$f":"B31","v":2},{"$nulls":11},{"$f":"TมาตรฐานT!G47","v":0},{"$f":"TมาตรฐานT!O47","v":90},{"$f":"IF(T49>=gradeD!B$37,gradeD!D$37,IF(T49>=gradeD!B$38,gradeD!D$38,IF(T49>=gradeD!B$39,gradeD!D$39,IF(T49>=gradeD!B$40,gradeD!D$40,gradeD!D$41))))","v":4},"",{"$f":"IF(T49>=gradeD!E$37,gradeD!G$37,IF(T49>=gradeD!E$38,gradeD!G$38,IF(T49>=gradeD!E$39,gradeD!G$39,IF(T49>=gradeD!E$40,gradeD!G$40,IF(T49>=gradeD!E$41,gradeD!G$41,IF(T49>=gradeD!E$42,gradeD!G$42,IF(T49>=gradeD!E$43,gradeD!G$43,gradeD!G$44)))))))","v":4},"",{"$f":"IF(T49>=gradeD!I$42,gradeD!K$42,IF(T49>=gradeD!I$43,gradeD!K$43,gradeD!K$44))","v":3},"",3,"",4,"",4,"",3,"",3,"",null,"","",{"$f":"TมาตรฐานT!A47","v":55},1,"",1.5,""]
[null,{"$f":"MIN(TมาตรฐานT!P2:P101)","v":29},{"$f":"B49-1","v":35.5},{"$f":"B32","v":1},{"$nulls":14},{"$f":"TมาตรฐานT!G48","v":0},{"$f":"TมาตรฐานT!O48","v":90},{"$f":"IF(T50>=gradeD!B$37,gradeD!D$37,IF(T50>=gradeD!B$38,gradeD!D$38,IF(T50>=gradeD!B$39,gradeD!D$39,IF(T50>=gradeD!B$40,gradeD!D$40,gradeD!D$41))))","v":4},"",{"$f":"IF(T50>=gradeD!E$37,gradeD!G$37,IF(T50>=gradeD!E$38,gradeD!G$38,IF(T50>=gradeD!E$39,gradeD!G$39,IF(T50>=gradeD!E$40,gradeD!G$40,IF(T50>=gradeD!E$41,gradeD!G$41,IF(T50>=gradeD!E$42,gradeD!G$42,IF(T50>=gradeD!E$43,gradeD!G$43,gradeD!G$44)))))))","v":4},"",{"$f":"IF(T50>=gradeD!I$42,gradeD!K$42,IF(T50>=gradeD!I$43,gradeD!K$43,gradeD!K$44))","v":3},"",3,"",4,"",4,"",3,"",3,"",null,"","",{"$f":"TมาตรฐานT!A48","v":54},1,"",1,""]
[{"$nulls":18},{"$f":"TมาตรฐานT!G49","v":0},{"$f":"TมาตรฐานT!O49","v":90},{"$f":"IF(T51>=gradeD!B$37,gradeD!D$37,IF(T51>=gradeD!B$38,gradeD!D$38,IF(T51>=gradeD!B$39,gradeD!D$39,IF(T51>=gradeD!B$40,gradeD!D$40,gradeD!D$41))))","v":4},"",{"$f":"IF(T51>=gradeD!E$37,gradeD!G$37,IF(T51>=gradeD!E$38,gradeD!G$38,IF(T51>=gradeD!E$39,gradeD!G$39,IF(T51>=gradeD!E$40,gradeD!G$40,IF(T51>=gradeD!E$41,gradeD!G$41,IF(T51>=gradeD!E$42,gradeD!G$42,IF(T51>=gradeD!E$43,gradeD!G$43,gradeD!G$44)))))))","v":4},"",{"$f":"IF(T51>=gradeD!I$42,gradeD!K$42,IF(T51>=gradeD!I$43,gradeD!K$43,gradeD!K$44))","v":3},"",3,"",4,"",4,"",3,"",3,"",null,"","",{"$f":"TมาตรฐานT!A49","v":53},1,"",1,""]
[null,{"$f":"B47","v":59},{"$f":"C47","v":65.5},{"$f":"B29","v":4},{"$f":"E48","v":40.25},50.5,3,{"$f":"D30/2","v":5.625},{"$nulls":10},{"$f":"TมาตรฐานT!G50","v":0},{"$f":"TมาตรฐานT!O50","v":90},{"$f":"IF(T52>=gradeD!B$37,gradeD!D$37,IF(T52>=gradeD!B$38,gradeD!D$38,IF(T52>=gradeD!B$39,gradeD!D$39,IF(T52>=gradeD!B$40,gradeD!D$40,gradeD!D$41))))","v":4},"",{"$f":"IF(T52>=gradeD!E$37,gradeD!G$37,IF(T52>=gradeD!E$38,gradeD!G$38,IF(T52>=gradeD!E$39,gradeD!G$39,IF(T52>=gradeD!E$40,gradeD!G$40,IF(T52>=gradeD!E$41,gradeD!G$41,IF(T52>=gradeD!E$42,gradeD!G$42,IF(T52>=gradeD!E$43,gradeD!G$43,gradeD!G$44)))))))","v":4},"",{"$f":"IF(T52>=gradeD!I$42,gradeD!K$42,IF(T52>=gradeD!I$43,gradeD!K$43,gradeD!K$44))","v":3},"",3,"",4,"",4,"",3,"",3,"",null,"","",{"$f":"TมาตรฐานT!A50","v":52},1,"",1,""]
[{"$f":"C29/2","v":3.75},{"$f":"B54+A54","v":53.375},58,{"$f":"D52-0.5","v":3.5},{"$f":"E54+H53","v":34.625},{"$f":"F49","v":39.25},{"$f":"G52-0.5","v":2.5},{"$f":"D31/2","v":5.625},{"$nulls":10},{"$f":"TมาตรฐานT!G51","v":0},{"$f":"TมาตรฐานT!O51","v":90},{"$f":"IF(T53>=gradeD!B$37,gradeD!D$37,IF(T53>=gradeD!B$38,gradeD!D$38,IF(T53>=gradeD!B$39,gradeD!D$39,IF(T53>=gradeD!B$40,gradeD!D$40,gradeD!D$41))))","v":4},"",{"$f":"IF(T53>=gradeD!E$37,gradeD!G$37,IF(T53>=gradeD!E$38,gradeD!G$38,IF(T53>=gradeD!E$39,gradeD!G$39,IF(T53>=gradeD!E$40,gradeD!G$40,IF(T53>=gradeD!E$41,gradeD!G$41,IF(T53>=gradeD!E$42,gradeD!G$42,IF(T53>=gradeD!E$43,gradeD!G$43,gradeD!G$44)))))))","v":4},"",{"$f":"IF(T53>=gradeD!I$42,gradeD!K$42,IF(T53>=gradeD!I$43,gradeD!K$43,gradeD!K$44))","v":3},"",3,"",4,"",4,"",3,"",3,"",null,"","",{"$f":"TมาตรฐานT!A51","v":51},1,"",1,""]
[{"$f":"C30/2","v":5.625},{"$f":"B48","v":47.75},null,{"$f":"B30","v":3},{"$f":"E49","v":29},null,{"$f":"G49","v":2},{"$nulls":11},{"$f":"TมาตรฐานT!G52","v":0},{"$f":"TมาตรฐานT!O52","v":90},{"$f":"IF(T54>=gradeD!B$37,gradeD!D$37,IF(T54>=gradeD!B$38,gradeD!D$38,IF(T54>=gradeD!B$39,gradeD!D$39,IF(T54>=gradeD!B$40,gradeD!D$40,gradeD!D$41))))","v":4},"",{"$f":"IF(T54>=gradeD!E$37,gradeD!G$37,IF(T54>=gradeD!E$38,gradeD!G$38,IF(T54>=gradeD!E$39,gradeD!G$39,IF(T54>=gradeD!E$40,gradeD!G$40,IF(T54>=gradeD!E$41,gradeD!G$41,IF(T54>=gradeD!E$42,gradeD!G$42,IF(T54>=gradeD!E$43,gradeD!G$43,gradeD!G$44)))))))","v":4},"",{"$f":"IF(T54>=gradeD!I$42,gradeD!K$42,IF(T54>=gradeD!I$43,gradeD!K$43,gradeD!K$44))","v":3},"",3,"",4,"",4,"",3,"",3,"",null,"","",{"$f":"TมาตรฐานT!A52","v":50},1,"",1,""]
[{"$f":"C31/2","v":5.625},{"$f":"B56+A55","v":42.125},{"$f":"C49","v":46.75},{"$f":"D54-0.5","v":2.5},{"$nulls":14},{"$f":"TมาตรฐานT!G53","v":0},{"$f":"TมาตรฐานT!O53","v":90},{"$f":"IF(T55>=gradeD!B$37,gradeD!D$37,IF(T55>=gradeD!B$38,gradeD!D$38,IF(T55>=gradeD!B$39,gradeD!D$39,IF(T55>=gradeD!B$40,gradeD!D$40,gradeD!D$41))))","v":4},"",{"$f":"IF(T55>=gradeD!E$37,gradeD!G$37,IF(T55>=gradeD!E$38,gradeD!G$38,IF(T55>=gradeD!E$39,gradeD!G$39,IF(T55>=gradeD!E$40,gradeD!G$40,IF(T55>=gradeD!E$41,gradeD!G$41,IF(T55>=gradeD!E$42,gradeD!G$42,IF(T55>=gradeD!E$43,gradeD!G$43,gradeD!G$44)))))))","v":4},"",{"$f":"IF(T55>=gradeD!I$42,gradeD!K$42,IF(T55>=gradeD!I$43,gradeD!K$43,gradeD!K$44))","v":3},"",3,"",4,"",4,"",3,"",3,"",null,"","",{"$f":"TมาตรฐานT!A53","v":49},0,"",0,""]
[{"$f":"C32/2","v":3.75},{"$f":"B49","v":36.5},null,{"$f":"B31","v":2},{"$nulls":14},{"$f":"TมาตรฐานT!G54","v":0},{"$f":"TมาตรฐานT!O54","v":90},{"$f":"IF(T56>=gradeD!B$37,gradeD!D$37,IF(T56>=gradeD!B$38,gradeD!D$38,IF(T56>=gradeD!B$39,gradeD!D$39,IF(T56>=gradeD!B$40,gradeD!D$40,gradeD!D$41))))","v":4},"",{"$f":"IF(T56>=gradeD!E$37,gradeD!G$37,IF(T56>=gradeD!E$38,gradeD!G$38,IF(T56>=gradeD!E$39,gradeD!G$39,IF(T56>=gradeD!E$40,gradeD!G$40,IF(T56>=gradeD!E$41,gradeD!G$41,IF(T56>=gradeD!E$42,gradeD!G$42,IF(T56>=gradeD!E$43,gradeD!G$43,gradeD!G$44)))))))","v":4},"",{"$f":"IF(T56>=gradeD!I$42,gradeD!K$42,IF(T56>=gradeD!I$43,gradeD!K$43,gradeD!K$44))","v":3},"",3,"",4,"",4,"",3,"",3,"",null,"","",{"$f":"TมาตรฐานT!A54","v":48},0,"",0,""]
[null,{"$f":"B58+A56","v":32.75},{"$f":"C50","v":35.5},{"$f":"D56-0.5","v":1.5},{"$nulls":14},{"$f":"TมาตรฐานT!G55","v":0},{"$f":"TมาตรฐานT!O55","v":90},{"$f":"IF(T57>=gradeD!B$37,gradeD!D$37,IF(T57>=gradeD!B$38,gradeD!D$38,IF(T57>=gradeD!B$39,gradeD!D$39,IF(T57>=gradeD!B$40,gradeD!D$40,gradeD!D$41))))","v":4},"",{"$f":"IF(T57>=gradeD!E$37,gradeD!G$37,IF(T57>=gradeD!E$38,gradeD!G$38,IF(T57>=gradeD!E$39,gradeD!G$39,IF(T57>=gradeD!E$40,gradeD!G$40,IF(T57>=gradeD!E$41,gradeD!G$41,IF(T57>=gradeD!E$42,gradeD!G$42,IF(T57>=gradeD!E$43,gradeD!G$43,gradeD!G$44)))))))","v":4},"",{"$f":"IF(T57>=gradeD!I$42,gradeD!K$42,IF(T57>=gradeD!I$43,gradeD!K$43,gradeD!K$44))","v":3},"",3,"",4,"",4,"",3,"",3,"",null,"","",{"$f":"TมาตรฐานT!A55","v":47},0,"",0,""]
[null,{"$f":"B50","v":29},null,{"$f":"B32","v":1},{"$nulls":14},{"$f":"TมาตรฐานT!G56","v":0},{"$f":"TมาตรฐานT!O56","v":90},{"$f":"IF(T58>=gradeD!B$37,gradeD!D$37,IF(T58>=gradeD!B$38,gradeD!D$38,IF(T58>=gradeD!B$39,gradeD!D$39,IF(T58>=gradeD!B$40,gradeD!D$40,gradeD!D$41))))","v":4},"",{"$f":"IF(T58>=gradeD!E$37,gradeD!G$37,IF(T58>=gradeD!E$38,gradeD!G$38,IF(T58>=gradeD!E$39,gradeD!G$39,IF(T58>=gradeD!E$40,gradeD!G$40,IF(T58>=gradeD!E$41,gradeD!G$41,IF(T58>=gradeD!E$42,gradeD!G$42,IF(T58>=gradeD!E$43,gradeD!G$43,gradeD!G$44)))))))","v":4},"",{"$f":"IF(T58>=gradeD!I$42,gradeD!K$42,IF(T58>=gradeD!I$43,gradeD!K$43,gradeD!K$44))","v":3},"",3,"",4,"",4,"",3,"",3,"",null,"","",{"$f":"TมาตรฐานT!A56","v":46},0,"",0,""]
[{"$nulls":18},{"$f":"TมาตรฐานT!G57","v":0},{"$f":"TมาตรฐานT!O57","v":90},{"$f":"IF(T59>=gradeD!B$37,gradeD!D$37,IF(T59>=gradeD!B$38,gradeD!D$38,IF(T59>=gradeD!B$39,gradeD!D$39,IF(T59>=gradeD!B$40,gradeD!D$40,gradeD!D$41))))","v":4},"",{"$f":"IF(T59>=gradeD!E$37,gradeD!G$37,IF(T59>=gradeD!E$38,gradeD!G$38,IF(T59>=gradeD!E$39,gradeD!G$39,IF(T59>=gradeD!E$40,gradeD!G$40,IF(T59>=gradeD!E$41,gradeD!G$41,IF(T59>=gradeD!E$42,gradeD!G$42,IF(T59>=gradeD!E$43,gradeD!G$43,gradeD!G$44)))))))","v":4},"",{"$f":"IF(T59>=gradeD!I$42,gradeD!K$42,IF(T59>=gradeD!I$43,gradeD!K$43,gradeD!K$44))","v":3},"",3,"",4,"",4,"",3,"",3,"",null,"","",{"$f":"TมาตรฐานT!A57","v":45},0,"",0,""]
[{"$nulls":18},{"$f":"TมาตรฐานT!G58","v":0},{"$f":"TมาตรฐานT!O58","v":90},{"$f":"IF(T60>=gradeD!B$37,gradeD!D$37,IF(T60>=gradeD!B$38,gradeD!D$38,IF(T60>=gradeD!B$39,gradeD!D$39,IF(T60>=gradeD!B$40,gradeD!D$40,gradeD!D$41))))","v":4},"",{"$f":"IF(T60>=gradeD!E$37,gradeD!G$37,IF(T60>=gradeD!E$38,gradeD!G$38,IF(T60>=gradeD!E$39,gradeD!G$39,IF(T60>=gradeD!E$40,gradeD!G$40,IF(T60>=gradeD!E$41,gradeD!G$41,IF(T60>=gradeD!E$42,gradeD!G$42,IF(T60>=gradeD!E$43,gradeD!G$43,gradeD!G$44)))))))","v":4},"",{"$f":"IF(T60>=gradeD!I$42,gradeD!K$42,IF(T60>=gradeD!I$43,gradeD!K$43,gradeD!K$44))","v":3},"",3,"",4,"",4,"",3,"",3,"",null,"","",{"$f":"TมาตรฐานT!A58","v":44},0,"",0,""]
[{"$nulls":18},{"$f":"TมาตรฐานT!G59","v":0},{"$f":"TมาตรฐานT!O59","v":90},{"$f":"IF(T61>=gradeD!B$37,gradeD!D$37,IF(T61>=gradeD!B$38,gradeD!D$38,IF(T61>=gradeD!B$39,gradeD!D$39,IF(T61>=gradeD!B$40,gradeD!D$40,gradeD!D$41))))","v":4},"",{"$f":"IF(T61>=gradeD!E$37,gradeD!G$37,IF(T61>=gradeD!E$38,gradeD!G$38,IF(T61>=gradeD!E$39,gradeD!G$39,IF(T61>=gradeD!E$40,gradeD!G$40,IF(T61>=gradeD!E$41,gradeD!G$41,IF(T61>=gradeD!E$42,gradeD!G$42,IF(T61>=gradeD!E$43,gradeD!G$43,gradeD!G$44)))))))","v":4},"",{"$f":"IF(T61>=gradeD!I$42,gradeD!K$42,IF(T61>=gradeD!I$43,gradeD!K$43,gradeD!K$44))","v":3},"",3,"",4,"",4,"",3,"",3,"",null,"","",{"$f":"TมาตรฐานT!A59","v":43},0,"",0,""]
[{"$nulls":18},{"$f":"TมาตรฐานT!G60","v":0},{"$f":"TมาตรฐานT!O60","v":90},{"$f":"IF(T62>=gradeD!B$37,gradeD!D$37,IF(T62>=gradeD!B$38,gradeD!D$38,IF(T62>=gradeD!B$39,gradeD!D$39,IF(T62>=gradeD!B$40,gradeD!D$40,gradeD!D$41))))","v":4},"",{"$f":"IF(T62>=gradeD!E$37,gradeD!G$37,IF(T62>=gradeD!E$38,gradeD!G$38,IF(T62>=gradeD!E$39,gradeD!G$39,IF(T62>=gradeD!E$40,gradeD!G$40,IF(T62>=gradeD!E$41,gradeD!G$41,IF(T62>=gradeD!E$42,gradeD!G$42,IF(T62>=gradeD!E$43,gradeD!G$43,gradeD!G$44)))))))","v":4},"",{"$f":"IF(T62>=gradeD!I$42,gradeD!K$42,IF(T62>=gradeD!I$43,gradeD!K$43,gradeD!K$44))","v":3},"",3,"",4,"",4,"",3,"",3,"",null,"","",{"$f":"TมาตรฐานT!A60","v":42},0,"",0,""]
[{"$nulls":18},{"$f":"TมาตรฐานT!G61","v":0},{"$f":"TมาตรฐานT!O61","v":90},{"$f":"IF(T63>=gradeD!B$37,gradeD!D$37,IF(T63>=gradeD!B$38,gradeD!D$38,IF(T63>=gradeD!B$39,gradeD!D$39,IF(T63>=gradeD!B$40,gradeD!D$40,gradeD!D$41))))","v":4},"",{"$f":"IF(T63>=gradeD!E$37,gradeD!G$37,IF(T63>=gradeD!E$38,gradeD!G$38,IF(T63>=gradeD!E$39,gradeD!G$39,IF(T63>=gradeD!E$40,gradeD!G$40,IF(T63>=gradeD!E$41,gradeD!G$41,IF(T63>=gradeD!E$42,gradeD!G$42,IF(T63>=gradeD!E$43,gradeD!G$43,gradeD!G$44)))))))","v":4},"",{"$f":"IF(T63>=gradeD!I$42,gradeD!K$42,IF(T63>=gradeD!I$43,gradeD!K$43,gradeD!K$44))","v":3},"",3,"",4,"",4,"",3,"",3,"",null,"","",{"$f":"TมาตรฐานT!A61","v":41},0,"",0,""]
[{"$nulls":18},{"$f":"TมาตรฐานT!G62","v":0},{"$f":"TมาตรฐานT!O62","v":90},{"$f":"IF(T64>=gradeD!B$37,gradeD!D$37,IF(T64>=gradeD!B$38,gradeD!D$38,IF(T64>=gradeD!B$39,gradeD!D$39,IF(T64>=gradeD!B$40,gradeD!D$40,gradeD!D$41))))","v":4},"",{"$f":"IF(T64>=gradeD!E$37,gradeD!G$37,IF(T64>=gradeD!E$38,gradeD!G$38,IF(T64>=gradeD!E$39,gradeD!G$39,IF(T64>=gradeD!E$40,gradeD!G$40,IF(T64>=gradeD!E$41,gradeD!G$41,IF(T64>=gradeD!E$42,gradeD!G$42,IF(T64>=gradeD!E$43,gradeD!G$43,gradeD!G$44)))))))","v":4},"",{"$f":"IF(T64>=gradeD!I$42,gradeD!K$42,IF(T64>=gradeD!I$43,gradeD!K$43,gradeD!K$44))","v":3},"",3,"",4,"",4,"",3,"",3,"",null,"","",{"$f":"TมาตรฐานT!A62","v":40},0,"",0,""]
[{"$nulls":18},{"$f":"TมาตรฐานT!G63","v":0},{"$f":"TมาตรฐานT!O63","v":90},{"$f":"IF(T65>=gradeD!B$37,gradeD!D$37,IF(T65>=gradeD!B$38,gradeD!D$38,IF(T65>=gradeD!B$39,gradeD!D$39,IF(T65>=gradeD!B$40,gradeD!D$40,gradeD!D$41))))","v":4},"",{"$f":"IF(T65>=gradeD!E$37,gradeD!G$37,IF(T65>=gradeD!E$38,gradeD!G$38,IF(T65>=gradeD!E$39,gradeD!G$39,IF(T65>=gradeD!E$40,gradeD!G$40,IF(T65>=gradeD!E$41,gradeD!G$41,IF(T65>=gradeD!E$42,gradeD!G$42,IF(T65>=gradeD!E$43,gradeD!G$43,gradeD!G$44)))))))","v":4},"",{"$f":"IF(T65>=gradeD!I$42,gradeD!K$42,IF(T65>=gradeD!I$43,gradeD!K$43,gradeD!K$44))","v":3},"",3,"",4,"",4,"",3,"",3,"",null,"","",{"$f":"TมาตรฐานT!A63","v":39},0,"",0,""]
[{"$nulls":18},{"$f":"TมาตรฐานT!G64","v":0},{"$f":"TมาตรฐานT!O64","v":90},{"$f":"IF(T66>=gradeD!B$37,gradeD!D$37,IF(T66>=gradeD!B$38,gradeD!D$38,IF(T66>=gradeD!B$39,gradeD!D$39,IF(T66>=gradeD!B$40,gradeD!D$40,gradeD!D$41))))","v":4},"",{"$f":"IF(T66>=gradeD!E$37,gradeD!G$37,IF(T66>=gradeD!E$38,gradeD!G$38,IF(T66>=gradeD!E$39,gradeD!G$39,IF(T66>=gradeD!E$40,gradeD!G$40,IF(T66>=gradeD!E$41,gradeD!G$41,IF(T66>=gradeD!E$42,gradeD!G$42,IF(T66>=gradeD!E$43,gradeD!G$43,gradeD!G$44)))))))","v":4},"",{"$f":"IF(T66>=gradeD!I$42,gradeD!K$42,IF(T66>=gradeD!I$43,gradeD!K$43,gradeD!K$44))","v":3},"",3,"",4,"",4,"",3,"",3,"",null,"","",{"$f":"TมาตรฐานT!A64","v":38},0,"",0,""]
[{"$nulls":18},{"$f":"TมาตรฐานT!G65","v":0},{"$f":"TมาตรฐานT!O65","v":90},{"$f":"IF(T67>=gradeD!B$37,gradeD!D$37,IF(T67>=gradeD!B$38,gradeD!D$38,IF(T67>=gradeD!B$39,gradeD!D$39,IF(T67>=gradeD!B$40,gradeD!D$40,gradeD!D$41))))","v":4},"",{"$f":"IF(T67>=gradeD!E$37,gradeD!G$37,IF(T67>=gradeD!E$38,gradeD!G$38,IF(T67>=gradeD!E$39,gradeD!G$39,IF(T67>=gradeD!E$40,gradeD!G$40,IF(T67>=gradeD!E$41,gradeD!G$41,IF(T67>=gradeD!E$42,gradeD!G$42,IF(T67>=gradeD!E$43,gradeD!G$43,gradeD!G$44)))))))","v":4},"",{"$f":"IF(T67>=gradeD!I$42,gradeD!K$42,IF(T67>=gradeD!I$43,gradeD!K$43,gradeD!K$44))","v":3},"",3,"",4,"",4,"",3,"",3,"",null,"","",{"$f":"TมาตรฐานT!A65","v":37},0,"",0,""]
[{"$nulls":18},{"$f":"TมาตรฐานT!G66","v":0},{"$f":"TมาตรฐานT!O66","v":90},{"$f":"IF(T68>=gradeD!B$37,gradeD!D$37,IF(T68>=gradeD!B$38,gradeD!D$38,IF(T68>=gradeD!B$39,gradeD!D$39,IF(T68>=gradeD!B$40,gradeD!D$40,gradeD!D$41))))","v":4},"",{"$f":"IF(T68>=gradeD!E$37,gradeD!G$37,IF(T68>=gradeD!E$38,gradeD!G$38,IF(T68>=gradeD!E$39,gradeD!G$39,IF(T68>=gradeD!E$40,gradeD!G$40,IF(T68>=gradeD!E$41,gradeD!G$41,IF(T68>=gradeD!E$42,gradeD!G$42,IF(T68>=gradeD!E$43,gradeD!G$43,gradeD!G$44)))))))","v":4},"",{"$f":"IF(T68>=gradeD!I$42,gradeD!K$42,IF(T68>=gradeD!I$43,gradeD!K$43,gradeD!K$44))","v":3},"",{"$f":"IF(T68>=L$38,N$38,IF(T68>=L$39,N$39,IF(T68>=L$40,N$40,IF(T68>=L$41,N$41,N$42))))","v":3},"",{"$f":"IF(T68>=B$47,D$47,IF(T68>=B$48,D$48,IF(T68>=B$49,D$49,D$50)))","v":4},"",{"$f":"IF(T68>=B$52,D$52,IF(T68>=B$53,D$53,IF(T68>=B$54,D$54,IF(T68>=B$55,D$55,IF(T68>=B$56,D$56,IF(T68>=B$57,D$57,D$58))))))","v":4},"",{"$f":"IF(T68>=F$48,G$48,G$49)","v":3},"",{"$f":"IF(T68>=E$52,G$52,IF(T68>=E$53,G$53,G$54))","v":3},"",null,{"$f":"IF($D$10=5,V68,IF($D$10=4,AD68,IF($D$10=3,Z68,AH68)))","v":""},{"$f":"IF($D$10=5,X68,IF($D$10=4,AF68,IF($D$10=3,AB68,AJ68)))","v":""},{"$f":"TมาตรฐานT!A66","v":36},0,"",0,""]
[{"$nulls":18},{"$f":"TมาตรฐานT!G67","v":0},{"$f":"TมาตรฐานT!O67","v":90},{"$f":"IF(T69>=gradeD!B$37,gradeD!D$37,IF(T69>=gradeD!B$38,gradeD!D$38,IF(T69>=gradeD!B$39,gradeD!D$39,IF(T69>=gradeD!B$40,gradeD!D$40,gradeD!D$41))))","v":4},{"$f":"IF(S69=0,\"\",U69)","v":""},{"$f":"IF(T69>=gradeD!E$37,gradeD!G$37,IF(T69>=gradeD!E$38,gradeD!G$38,IF(T69>=gradeD!E$39,gradeD!G$39,IF(T69>=gradeD!E$40,gradeD!G$40,IF(T69>=gradeD!E$41,gradeD!G$41,IF(T69>=gradeD!E$42,gradeD!G$42,IF(T69>=gradeD!E$43,gradeD!G$43,gradeD!G$44)))))))","v":4},{"$f":"IF(S69=0,\"\",W69)","v":""},{"$f":"IF(T69>=gradeD!I$42,gradeD!K$42,IF(T69>=gradeD!I$43,gradeD!K$43,gradeD!K$44))","v":3},{"$f":"IF(S69=0,\"\",Y69)","v":""},3,{"$f":"IF(S69=0,\"\",AA69)","v":""},4,{"$f":"IF(S69=0,\"\",AC69)","v":""},4,{"$f":"IF(S69=0,\"\",AE69)","v":""},3,{"$f":"IF(S69=0,\"\",AG69)","v":""},3,{"$f":"IF(S69=0,\"\",AI69)","v":""},null,"","",{"$f":"TมาตรฐานT!A67","v":35},{"$f":"IF(AN69>=G$9,J$9,IF(AN69>=G$8,J$8,IF(AN69>=G$7,J$7,IF(AN69>=G$6,J$6,J$5))))","v":0},{"$f":"IF(S69=0,\"\",AO69)","v":""},{"$f":"IF(AN69>=L$12,O$12,IF(AN69>=L$11,O$11,IF(AN69>=L$10,O$10,IF(AN69>=L$9,O$9,IF(AN69>=L$8,O$8,IF(AN69>=L$7,O$7,IF(AN69>=L$6,O$6,O$5)))))))","v":0},{"$f":"IF(S69=0,\"\",AQ69)","v":""}]
[{"$nulls":18},{"$f":"TมาตรฐานT!G68","v":0},{"$f":"TมาตรฐานT!O68","v":90},{"$f":"IF(T70>=gradeD!B$37,gradeD!D$37,IF(T70>=gradeD!B$38,gradeD!D$38,IF(T70>=gradeD!B$39,gradeD!D$39,IF(T70>=gradeD!B$40,gradeD!D$40,gradeD!D$41))))","v":4},"",{"$f":"IF(T70>=gradeD!E$37,gradeD!G$37,IF(T70>=gradeD!E$38,gradeD!G$38,IF(T70>=gradeD!E$39,gradeD!G$39,IF(T70>=gradeD!E$40,gradeD!G$40,IF(T70>=gradeD!E$41,gradeD!G$41,IF(T70>=gradeD!E$42,gradeD!G$42,IF(T70>=gradeD!E$43,gradeD!G$43,gradeD!G$44)))))))","v":4},"",{"$f":"IF(T70>=gradeD!I$42,gradeD!K$42,IF(T70>=gradeD!I$43,gradeD!K$43,gradeD!K$44))","v":3},"",3,"",4,"",4,"",3,"",3,"",null,"","",{"$f":"TมาตรฐานT!A68","v":34},0,"",0,""]
[{"$nulls":18},{"$f":"TมาตรฐานT!G69","v":0},{"$f":"TมาตรฐานT!O69","v":90},{"$f":"IF(T71>=gradeD!B$37,gradeD!D$37,IF(T71>=gradeD!B$38,gradeD!D$38,IF(T71>=gradeD!B$39,gradeD!D$39,IF(T71>=gradeD!B$40,gradeD!D$40,gradeD!D$41))))","v":4},"",{"$f":"IF(T71>=gradeD!E$37,gradeD!G$37,IF(T71>=gradeD!E$38,gradeD!G$38,IF(T71>=gradeD!E$39,gradeD!G$39,IF(T71>=gradeD!E$40,gradeD!G$40,IF(T71>=gradeD!E$41,gradeD!G$41,IF(T71>=gradeD!E$42,gradeD!G$42,IF(T71>=gradeD!E$43,gradeD!G$43,gradeD!G$44)))))))","v":4},"",{"$f":"IF(T71>=gradeD!I$42,gradeD!K$42,IF(T71>=gradeD!I$43,gradeD!K$43,gradeD!K$44))","v":3},"",3,"",4,"",4,"",3,"",3,"",null,"","",{"$f":"TมาตรฐานT!A69","v":33},0,"",0,""]
[{"$nulls":18},{"$f":"TมาตรฐานT!G70","v":0},{"$f":"TมาตรฐานT!O70","v":90},{"$f":"IF(T72>=gradeD!B$37,gradeD!D$37,IF(T72>=gradeD!B$38,gradeD!D$38,IF(T72>=gradeD!B$39,gradeD!D$39,IF(T72>=gradeD!B$40,gradeD!D$40,gradeD!D$41))))","v":4},"",{"$f":"IF(T72>=gradeD!E$37,gradeD!G$37,IF(T72>=gradeD!E$38,gradeD!G$38,IF(T72>=gradeD!E$39,gradeD!G$39,IF(T72>=gradeD!E$40,gradeD!G$40,IF(T72>=gradeD!E$41,gradeD!G$41,IF(T72>=gradeD!E$42,gradeD!G$42,IF(T72>=gradeD!E$43,gradeD!G$43,gradeD!G$44)))))))","v":4},"",{"$f":"IF(T72>=gradeD!I$42,gradeD!K$42,IF(T72>=gradeD!I$43,gradeD!K$43,gradeD!K$44))","v":3},"",3,"",4,"",4,"",3,"",3,"",null,"","",{"$f":"TมาตรฐานT!A70","v":32},0,"",0,""]
[{"$nulls":18},{"$f":"TมาตรฐานT!G71","v":1},{"$f":"TมาตรฐานT!O71","v":73},{"$f":"IF(T73>=gradeD!B$37,gradeD!D$37,IF(T73>=gradeD!B$38,gradeD!D$38,IF(T73>=gradeD!B$39,gradeD!D$39,IF(T73>=gradeD!B$40,gradeD!D$40,gradeD!D$41))))","v":4},4,{"$f":"IF(T73>=gradeD!E$37,gradeD!G$37,IF(T73>=gradeD!E$38,gradeD!G$38,IF(T73>=gradeD!E$39,gradeD!G$39,IF(T73>=gradeD!E$40,gradeD!G$40,IF(T73>=gradeD!E$41,gradeD!G$41,IF(T73>=gradeD!E$42,gradeD!G$42,IF(T73>=gradeD!E$43,gradeD!G$43,gradeD!G$44)))))))","v":4},4,{"$f":"IF(T73>=gradeD!I$42,gradeD!K$42,IF(T73>=gradeD!I$43,gradeD!K$43,gradeD!K$44))","v":3},3,3,3,4,4,4,4,3,3,3,3,null,4,4,{"$f":"TมาตรฐานT!A71","v":31},0,0,0,0]
[{"$nulls":18},{"$f":"TมาตรฐานT!G72","v":2},{"$f":"TมาตรฐานT!O72","v":67},{"$f":"IF(T74>=gradeD!B$37,gradeD!D$37,IF(T74>=gradeD!B$38,gradeD!D$38,IF(T74>=gradeD!B$39,gradeD!D$39,IF(T74>=gradeD!B$40,gradeD!D$40,gradeD!D$41))))","v":4},4,{"$f":"IF(T74>=gradeD!E$37,gradeD!G$37,IF(T74>=gradeD!E$38,gradeD!G$38,IF(T74>=gradeD!E$39,gradeD!G$39,IF(T74>=gradeD!E$40,gradeD!G$40,IF(T74>=gradeD!E$41,gradeD!G$41,IF(T74>=gradeD!E$42,gradeD!G$42,IF(T74>=gradeD!E$43,gradeD!G$43,gradeD!G$44)))))))","v":4},4,{"$f":"IF(T74>=gradeD!I$42,gradeD!K$42,IF(T74>=gradeD!I$43,gradeD!K$43,gradeD!K$44))","v":3},3,3,3,4,4,4,4,3,3,3,3,null,4,4,{"$f":"TมาตรฐานT!A72","v":30},0,0,0,0]
[{"$nulls":18},{"$f":"TมาตรฐานT!G73","v":1},{"$f":"TมาตรฐานT!O73","v":64},{"$f":"IF(T75>=gradeD!B$37,gradeD!D$37,IF(T75>=gradeD!B$38,gradeD!D$38,IF(T75>=gradeD!B$39,gradeD!D$39,IF(T75>=gradeD!B$40,gradeD!D$40,gradeD!D$41))))","v":3},3,{"$f":"IF(T75>=gradeD!E$37,gradeD!G$37,IF(T75>=gradeD!E$38,gradeD!G$38,IF(T75>=gradeD!E$39,gradeD!G$39,IF(T75>=gradeD!E$40,gradeD!G$40,IF(T75>=gradeD!E$41,gradeD!G$41,IF(T75>=gradeD!E$42,gradeD!G$42,IF(T75>=gradeD!E$43,gradeD!G$43,gradeD!G$44)))))))","v":3.5},3.5,{"$f":"IF(T75>=gradeD!I$42,gradeD!K$42,IF(T75>=gradeD!I$43,gradeD!K$43,gradeD!K$44))","v":3},3,3,3,4,4,4,4,3,3,3,3,null,3,3.5,{"$f":"TมาตรฐานT!A73","v":29},0,0,0,0]
[{"$nulls":18},{"$f":"TมาตรฐานT!G74","v":2},{"$f":"TมาตรฐานT!O74","v":62},{"$f":"IF(T76>=gradeD!B$37,gradeD!D$37,IF(T76>=gradeD!B$38,gradeD!D$38,IF(T76>=gradeD!B$39,gradeD!D$39,IF(T76>=gradeD!B$40,gradeD!D$40,gradeD!D$41))))","v":3},3,{"$f":"IF(T76>=gradeD!E$37,gradeD!G$37,IF(T76>=gradeD!E$38,gradeD!G$38,IF(T76>=gradeD!E$39,gradeD!G$39,IF(T76>=gradeD!E$40,gradeD!G$40,IF(T76>=gradeD!E$41,gradeD!G$41,IF(T76>=gradeD!E$42,gradeD!G$42,IF(T76>=gradeD!E$43,gradeD!G$43,gradeD!G$44)))))))","v":3},3,{"$f":"IF(T76>=gradeD!I$42,gradeD!K$42,IF(T76>=gradeD!I$43,gradeD!K$43,gradeD!K$44))","v":3},3,3,3,4,4,4,4,3,3,3,3,null,3,3,{"$f":"TมาตรฐานT!A74","v":28},0,0,0,0]
[{"$nulls":18},{"$f":"TมาตรฐานT!G75","v":2},{"$f":"TมาตรฐานT!O75","v":60},{"$f":"IF(T77>=gradeD!B$37,gradeD!D$37,IF(T77>=gradeD!B$38,gradeD!D$38,IF(T77>=gradeD!B$39,gradeD!D$39,IF(T77>=gradeD!B$40,gradeD!D$40,gradeD!D$41))))","v":3},3,{"$f":"IF(T77>=gradeD!E$37,gradeD!G$37,IF(T77>=gradeD!E$38,gradeD!G$38,IF(T77>=gradeD!E$39,gradeD!G$39,IF(T77>=gradeD!E$40,gradeD!G$40,IF(T77>=gradeD!E$41,gradeD!G$41,IF(T77>=gradeD!E$42,gradeD!G$42,IF(T77>=gradeD!E$43,gradeD!G$43,gradeD!G$44)))))))","v":3},3,{"$f":"IF(T77>=gradeD!I$42,gradeD!K$42,IF(T77>=gradeD!I$43,gradeD!K$43,gradeD!K$44))","v":3},3,3,3,4,4,4,4,3,3,3,3,null,3,3,{"$f":"TมาตรฐานT!A75","v":27},0,0,0,0]
[{"$nulls":18},{"$f":"TมาตรฐานT!G76","v":4},{"$f":"TมาตรฐานT!O76","v":58},{"$f":"IF(T78>=gradeD!B$37,gradeD!D$37,IF(T78>=gradeD!B$38,gradeD!D$38,IF(T78>=gradeD!B$39,gradeD!D$39,IF(T78>=gradeD!B$40,gradeD!D$40,gradeD!D$41))))","v":2},2,{"$f":"IF(T78>=gradeD!E$37,gradeD!G$37,IF(T78>=gradeD!E$38,gradeD!G$38,IF(T78>=gradeD!E$39,gradeD!G$39,IF(T78>=gradeD!E$40,gradeD!G$40,IF(T78>=gradeD!E$41,gradeD!G$41,IF(T78>=gradeD!E$42,gradeD!G$42,IF(T78>=gradeD!E$43,gradeD!G$43,gradeD!G$44)))))))","v":2.5},2.5,{"$f":"IF(T78>=gradeD!I$42,gradeD!K$42,IF(T78>=gradeD!I$43,gradeD!K$43,gradeD!K$44))","v":3},3,3,3,3,3,3.5,3.5,3,3,3,3,null,2,2.5,{"$f":"TมาตรฐานT!A76","v":26},0,0,0,0]
[{"$nulls":18},{"$f":"TมาตรฐานT!G77","v":3},{"$f":"TมาตรฐานT!O77","v":56},{"$f":"IF(T79>=gradeD!B$37,gradeD!D$37,IF(T79>=gradeD!B$38,gradeD!D$38,IF(T79>=gradeD!B$39,gradeD!D$39,IF(T79>=gradeD!B$40,gradeD!D$40,gradeD!D$41))))","v":2},2,{"$f":"IF(T79>=gradeD!E$37,gradeD!G$37,IF(T79>=gradeD!E$38,gradeD!G$38,IF(T79>=gradeD!E$39,gradeD!G$39,IF(T79>=gradeD!E$40,gradeD!G$40,IF(T79>=gradeD!E$41,gradeD!G$41,IF(T79>=gradeD!E$42,gradeD!G$42,IF(T79>=gradeD!E$43,gradeD!G$43,gradeD!G$44)))))))","v":2.5},2.5,{"$f":"IF(T79>=gradeD!I$42,gradeD!K$42,IF(T79>=gradeD!I$43,gradeD!K$43,gradeD!K$44))","v":3},3,3,3,3,3,3.5,3.5,3,3,3,3,null,2,2.5,{"$f":"TมาตรฐานT!A77","v":25},0,0,0,0]
[{"$nulls":18},{"$f":"TมาตรฐานT!G78","v":3},{"$f":"TมาตรฐานT!O78","v":54},{"$f":"IF(T80>=gradeD!B$37,gradeD!D$37,IF(T80>=gradeD!B$38,gradeD!D$38,IF(T80>=gradeD!B$39,gradeD!D$39,IF(T80>=gradeD!B$40,gradeD!D$40,gradeD!D$41))))","v":2},2,{"$f":"IF(T80>=gradeD!E$37,gradeD!G$37,IF(T80>=gradeD!E$38,gradeD!G$38,IF(T80>=gradeD!E$39,gradeD!G$39,IF(T80>=gradeD!E$40,gradeD!G$40,IF(T80>=gradeD!E$41,gradeD!G$41,IF(T80>=gradeD!E$42,gradeD!G$42,IF(T80>=gradeD!E$43,gradeD!G$43,gradeD!G$44)))))))","v":2.5},2.5,{"$f":"IF(T80>=gradeD!I$42,gradeD!K$42,IF(T80>=gradeD!I$43,gradeD!K$43,gradeD!K$44))","v":3},3,3,3,3,3,3.5,3.5,3,3,3,3,null,2,2.5,{"$f":"TมาตรฐานT!A78","v":24},0,0,0,0]
[{"$nulls":18},{"$f":"TมาตรฐานT!G79","v":4},{"$f":"TมาตรฐานT!O79","v":52},{"$f":"IF(T81>=gradeD!B$37,gradeD!D$37,IF(T81>=gradeD!B$38,gradeD!D$38,IF(T81>=gradeD!B$39,gradeD!D$39,IF(T81>=gradeD!B$40,gradeD!D$40,gradeD!D$41))))","v":2},2,{"$f":"IF(T81>=gradeD!E$37,gradeD!G$37,IF(T81>=gradeD!E$38,gradeD!G$38,IF(T81>=gradeD!E$39,gradeD!G$39,IF(T81>=gradeD!E$40,gradeD!G$40,IF(T81>=gradeD!E$41,gradeD!G$41,IF(T81>=gradeD!E$42,gradeD!G$42,IF(T81>=gradeD!E$43,gradeD!G$43,gradeD!G$44)))))))","v":2.5},2.5,{"$f":"IF(T81>=gradeD!I$42,gradeD!K$42,IF(T81>=gradeD!I$43,gradeD!K$43,gradeD!K$44))","v":3},3,3,3,3,3,3,3,3,3,3,3,null,2,2.5,{"$f":"TมาตรฐานT!A79","v":23},0,0,0,0]
[{"$nulls":18},{"$f":"TมาตรฐานT!G80","v":2},{"$f":"TมาตรฐานT!O80","v":51},{"$f":"IF(T82>=gradeD!B$37,gradeD!D$37,IF(T82>=gradeD!B$38,gradeD!D$38,IF(T82>=gradeD!B$39,gradeD!D$39,IF(T82>=gradeD!B$40,gradeD!D$40,gradeD!D$41))))","v":2},2,{"$f":"IF(T82>=gradeD!E$37,gradeD!G$37,IF(T82>=gradeD!E$38,gradeD!G$38,IF(T82>=gradeD!E$39,gradeD!G$39,IF(T82>=gradeD!E$40,gradeD!G$40,IF(T82>=gradeD!E$41,gradeD!G$41,IF(T82>=gradeD!E$42,gradeD!G$42,IF(T82>=gradeD!E$43,gradeD!G$43,gradeD!G$44)))))))","v":2},{"$f":"IF(S82=0,\"\",W82)","v":2},{"$f":"IF(T82>=gradeD!I$42,gradeD!K$42,IF(T82>=gradeD!I$43,gradeD!K$43,gradeD!K$44))","v":2},2,2.5,2.5,3,3,3,3,3,3,3,3,null,2,2,{"$f":"TมาตรฐานT!A80","v":22},0,0,0,0]
[{"$nulls":18},{"$f":"TมาตรฐานT!G81","v":6},{"$f":"TมาตรฐานT!O81","v":48},{"$f":"IF(T83>=gradeD!B$37,gradeD!D$37,IF(T83>=gradeD!B$38,gradeD!D$38,IF(T83>=gradeD!B$39,gradeD!D$39,IF(T83>=gradeD!B$40,gradeD!D$40,gradeD!D$41))))","v":2},2,{"$f":"IF(T83>=gradeD!E$37,gradeD!G$37,IF(T83>=gradeD!E$38,gradeD!G$38,IF(T83>=gradeD!E$39,gradeD!G$39,IF(T83>=gradeD!E$40,gradeD!G$40,IF(T83>=gradeD!E$41,gradeD!G$41,IF(T83>=gradeD!E$42,gradeD!G$42,IF(T83>=gradeD!E$43,gradeD!G$43,gradeD!G$44)))))))","v":2},{"$f":"IF(S83=0,\"\",W83)","v":2},{"$f":"IF(T83>=gradeD!I$42,gradeD!K$42,IF(T83>=gradeD!I$43,gradeD!K$43,gradeD!K$44))","v":2},2,2.5,2.5,3,3,3,3,2,2,3,3,null,2,2,{"$f":"TมาตรฐานT!A81","v":21},0,0,0,0]
[{"$nulls":18},{"$f":"TมาตรฐานT!G82","v":3},{"$f":"TมาตรฐานT!O82","v":46},{"$f":"IF(T84>=gradeD!B$37,gradeD!D$37,IF(T84>=gradeD!B$38,gradeD!D$38,IF(T84>=gradeD!B$39,gradeD!D$39,IF(T84>=gradeD!B$40,gradeD!D$40,gradeD!D$41))))","v":2},2,{"$f":"IF(T84>=gradeD!E$37,gradeD!G$37,IF(T84>=gradeD!E$38,gradeD!G$38,IF(T84>=gradeD!E$39,gradeD!G$39,IF(T84>=gradeD!E$40,gradeD!G$40,IF(T84>=gradeD!E$41,gradeD!G$41,IF(T84>=gradeD!E$42,gradeD!G$42,IF(T84>=gradeD!E$43,gradeD!G$43,gradeD!G$44)))))))","v":2},2,{"$f":"IF(T84>=gradeD!I$42,gradeD!K$42,IF(T84>=gradeD!I$43,gradeD!K$43,gradeD!K$44))","v":2},2,2.5,2.5,2,2,2.5,2.5,2,2,3,3,null,2,2,{"$f":"TมาตรฐานT!A82","v":20},0,0,0,0]
[{"$nulls":18},{"$f":"TมาตรฐานT!G83","v":4},{"$f":"TมาตรฐานT!O83","v":44},{"$f":"IF(T85>=gradeD!B$37,gradeD!D$37,IF(T85>=gradeD!B$38,gradeD!D$38,IF(T85>=gradeD!B$39,gradeD!D$39,IF(T85>=gradeD!B$40,gradeD!D$40,gradeD!D$41))))","v":2},2,{"$f":"IF(T85>=gradeD!E$37,gradeD!G$37,IF(T85>=gradeD!E$38,gradeD!G$38,IF(T85>=gradeD!E$39,gradeD!G$39,IF(T85>=gradeD!E$40,gradeD!G$40,IF(T85>=gradeD!E$41,gradeD!G$41,IF(T85>=gradeD!E$42,gradeD!G$42,IF(T85>=gradeD!E$43,gradeD!G$43,gradeD!G$44)))))))","v":2},2,{"$f":"IF(T85>=gradeD!I$42,gradeD!K$42,IF(T85>=gradeD!I$43,gradeD!K$43,gradeD!K$44))","v":2},2,2.5,2.5,2,2,2.5,2.5,2,2,3,3,null,2,2,{"$f":"TมาตรฐานT!A83","v":19},0,0,0,0]
[{"$nulls":18},{"$f":"TมาตรฐานT!G84","v":2},{"$f":"TมาตรฐานT!O84","v":42},{"$f":"IF(T86>=gradeD!B$37,gradeD!D$37,IF(T86>=gradeD!B$38,gradeD!D$38,IF(T86>=gradeD!B$39,gradeD!D$39,IF(T86>=gradeD!B$40,gradeD!D$40,gradeD!D$41))))","v":1},1,{"$f":"IF(T86>=gradeD!E$37,gradeD!G$37,IF(T86>=gradeD!E$38,gradeD!G$38,IF(T86>=gradeD!E$39,gradeD!G$39,IF(T86>=gradeD!E$40,gradeD!G$40,IF(T86>=gradeD!E$41,gradeD!G$41,IF(T86>=gradeD!E$42,gradeD!G$42,IF(T86>=gradeD!E$43,gradeD!G$43,gradeD!G$44)))))))","v":1.5},1.5,{"$f":"IF(T86>=gradeD!I$42,gradeD!K$42,IF(T86>=gradeD!I$43,gradeD!K$43,gradeD!K$44))","v":2},2,2,2,2,2,2,2,2,2,3,3,null,1,1.5,{"$f":"TมาตรฐานT!A84","v":18},0,0,0,0]
[{"$nulls":18},{"$f":"TมาตรฐานT!G85","v":3},{"$f":"TมาตรฐานT!O85","v":41},{"$f":"IF(T87>=gradeD!B$37,gradeD!D$37,IF(T87>=gradeD!B$38,gradeD!D$38,IF(T87>=gradeD!B$39,gradeD!D$39,IF(T87>=gradeD!B$40,gradeD!D$40,gradeD!D$41))))","v":1},1,{"$f":"IF(T87>=gradeD!E$37,gradeD!G$37,IF(T87>=gradeD!E$38,gradeD!G$38,IF(T87>=gradeD!E$39,gradeD!G$39,IF(T87>=gradeD!E$40,gradeD!G$40,IF(T87>=gradeD!E$41,gradeD!G$41,IF(T87>=gradeD!E$42,gradeD!G$42,IF(T87>=gradeD!E$43,gradeD!G$43,gradeD!G$44)))))))","v":1.5},1.5,{"$f":"IF(T87>=gradeD!I$42,gradeD!K$42,IF(T87>=gradeD!I$43,gradeD!K$43,gradeD!K$44))","v":2},2,2,2,2,2,2,2,2,2,3,3,null,1,1.5,{"$f":"TมาตรฐานT!A85","v":17},0,0,0,0]
[{"$nulls":18},{"$f":"TมาตรฐานT!G86","v":2},{"$f":"TมาตรฐานT!O86","v":39},{"$f":"IF(T88>=gradeD!B$37,gradeD!D$37,IF(T88>=gradeD!B$38,gradeD!D$38,IF(T88>=gradeD!B$39,gradeD!D$39,IF(T88>=gradeD!B$40,gradeD!D$40,gradeD!D$41))))","v":1},1,{"$f":"IF(T88>=gradeD!E$37,gradeD!G$37,IF(T88>=gradeD!E$38,gradeD!G$38,IF(T88>=gradeD!E$39,gradeD!G$39,IF(T88>=gradeD!E$40,gradeD!G$40,IF(T88>=gradeD!E$41,gradeD!G$41,IF(T88>=gradeD!E$42,gradeD!G$42,IF(T88>=gradeD!E$43,gradeD!G$43,gradeD!G$44)))))))","v":1},1,{"$f":"IF(T88>=gradeD!I$42,gradeD!K$42,IF(T88>=gradeD!I$43,gradeD!K$43,gradeD!K$44))","v":2},2,2,2,2,2,2,2,2,2,2.5,2.5,null,1,1,{"$f":"TมาตรฐานT!A86","v":16},0,0,0,0]
[{"$nulls":18},{"$f":"TมาตรฐานT!G87","v":2},{"$f":"TมาตรฐานT!O87","v":37},{"$f":"IF(T89>=gradeD!B$37,gradeD!D$37,IF(T89>=gradeD!B$38,gradeD!D$38,IF(T89>=gradeD!B$39,gradeD!D$39,IF(T89>=gradeD!B$40,gradeD!D$40,gradeD!D$41))))","v":1},1,{"$f":"IF(T89>=gradeD!E$37,gradeD!G$37,IF(T89>=gradeD!E$38,gradeD!G$38,IF(T89>=gradeD!E$39,gradeD!G$39,IF(T89>=gradeD!E$40,gradeD!G$40,IF(T89>=gradeD!E$41,gradeD!G$41,IF(T89>=gradeD!E$42,gradeD!G$42,IF(T89>=gradeD!E$43,gradeD!G$43,gradeD!G$44)))))))","v":1},1,{"$f":"IF(T89>=gradeD!I$42,gradeD!K$42,IF(T89>=gradeD!I$43,gradeD!K$43,gradeD!K$44))","v":2},2,2,2,2,2,2,2,2,2,2.5,2.5,null,1,1,{"$f":"TมาตรฐานT!A87","v":15},0,0,0,0]
[{"$nulls":18},{"$f":"TมาตรฐานT!G88","v":1},{"$f":"TมาตรฐานT!O88","v":35},{"$f":"IF(T90>=gradeD!B$37,gradeD!D$37,IF(T90>=gradeD!B$38,gradeD!D$38,IF(T90>=gradeD!B$39,gradeD!D$39,IF(T90>=gradeD!B$40,gradeD!D$40,gradeD!D$41))))","v":0},0,{"$f":"IF(T90>=gradeD!E$37,gradeD!G$37,IF(T90>=gradeD!E$38,gradeD!G$38,IF(T90>=gradeD!E$39,gradeD!G$39,IF(T90>=gradeD!E$40,gradeD!G$40,IF(T90>=gradeD!E$41,gradeD!G$41,IF(T90>=gradeD!E$42,gradeD!G$42,IF(T90>=gradeD!E$43,gradeD!G$43,gradeD!G$44)))))))","v":0},0,{"$f":"IF(T90>=gradeD!I$42,gradeD!K$42,IF(T90>=gradeD!I$43,gradeD!K$43,gradeD!K$44))","v":1},1,1.5,1.5,1,1,1.5,1.5,2,2,2.5,2.5,null,0,0,{"$f":"TมาตรฐานT!A88","v":14},0,0,0,0]
[{"$nulls":18},{"$f":"TมาตรฐานT!G89","v":1},{"$f":"TมาตรฐานT!O89","v":33},{"$f":"IF(T91>=gradeD!B$37,gradeD!D$37,IF(T91>=gradeD!B$38,gradeD!D$38,IF(T91>=gradeD!B$39,gradeD!D$39,IF(T91>=gradeD!B$40,gradeD!D$40,gradeD!D$41))))","v":0},0,{"$f":"IF(T91>=gradeD!E$37,gradeD!G$37,IF(T91>=gradeD!E$38,gradeD!G$38,IF(T91>=gradeD!E$39,gradeD!G$39,IF(T91>=gradeD!E$40,gradeD!G$40,IF(T91>=gradeD!E$41,gradeD!G$41,IF(T91>=gradeD!E$42,gradeD!G$42,IF(T91>=gradeD!E$43,gradeD!G$43,gradeD!G$44)))))))","v":0},0,{"$f":"IF(T91>=gradeD!I$42,gradeD!K$42,IF(T91>=gradeD!I$43,gradeD!K$43,gradeD!K$44))","v":1},1,1.5,1.5,1,1,1.5,1.5,2,2,2,2,null,0,0,{"$f":"TมาตรฐานT!A89","v":13},0,0,0,0]
[{"$nulls":18},{"$f":"TมาตรฐานT!G90","v":2},{"$f":"TมาตรฐานT!O90","v":29},{"$f":"IF(T92>=gradeD!B$37,gradeD!D$37,IF(T92>=gradeD!B$38,gradeD!D$38,IF(T92>=gradeD!B$39,gradeD!D$39,IF(T92>=gradeD!B$40,gradeD!D$40,gradeD!D$41))))","v":0},0,{"$f":"IF(T92>=gradeD!E$37,gradeD!G$37,IF(T92>=gradeD!E$38,gradeD!G$38,IF(T92>=gradeD!E$39,gradeD!G$39,IF(T92>=gradeD!E$40,gradeD!G$40,IF(T92>=gradeD!E$41,gradeD!G$41,IF(T92>=gradeD!E$42,gradeD!G$42,IF(T92>=gradeD!E$43,gradeD!G$43,gradeD!G$44)))))))","v":0},0,{"$f":"IF(T92>=gradeD!I$42,gradeD!K$42,IF(T92>=gradeD!I$43,gradeD!K$43,gradeD!K$44))","v":1},1,1,1,1,1,1,1,2,2,2,2,null,0,0,{"$f":"TมาตรฐานT!A90","v":12},0,0,0,0]
[{"$nulls":18},{"$f":"TมาตรฐานT!G91","v":0},{"$f":"TมาตรฐานT!O91","v":{"$error":"#N/A"}},{"$f":"IF(T93>=gradeD!B$37,gradeD!D$37,IF(T93>=gradeD!B$38,gradeD!D$38,IF(T93>=gradeD!B$39,gradeD!D$39,IF(T93>=gradeD!B$40,gradeD!D$40,gradeD!D$41))))","v":{"$error":"#N/A"}},"",{"$f":"IF(T93>=gradeD!E$37,gradeD!G$37,IF(T93>=gradeD!E$38,gradeD!G$38,IF(T93>=gradeD!E$39,gradeD!G$39,IF(T93>=gradeD!E$40,gradeD!G$40,IF(T93>=gradeD!E$41,gradeD!G$41,IF(T93>=gradeD!E$42,gradeD!G$42,IF(T93>=gradeD!E$43,gradeD!G$43,gradeD!G$44)))))))","v":{"$error":"#N/A"}},"",{"$f":"IF(T93>=gradeD!I$42,gradeD!K$42,IF(T93>=gradeD!I$43,gradeD!K$43,gradeD!K$44))","v":{"$error":"#N/A"}},"",{"$error":"#N/A"},"",{"$error":"#N/A"},"",{"$error":"#N/A"},"",{"$error":"#N/A"},"",{"$error":"#N/A"},"",null,"","",{"$f":"TมาตรฐานT!A91","v":11},0,"",0,""]
[{"$nulls":18},{"$f":"TมาตรฐานT!G92","v":0},{"$f":"TมาตรฐานT!O92","v":{"$error":"#N/A"}},{"$f":"IF(T94>=gradeD!B$37,gradeD!D$37,IF(T94>=gradeD!B$38,gradeD!D$38,IF(T94>=gradeD!B$39,gradeD!D$39,IF(T94>=gradeD!B$40,gradeD!D$40,gradeD!D$41))))","v":{"$error":"#N/A"}},"",{"$f":"IF(T94>=gradeD!E$37,gradeD!G$37,IF(T94>=gradeD!E$38,gradeD!G$38,IF(T94>=gradeD!E$39,gradeD!G$39,IF(T94>=gradeD!E$40,gradeD!G$40,IF(T94>=gradeD!E$41,gradeD!G$41,IF(T94>=gradeD!E$42,gradeD!G$42,IF(T94>=gradeD!E$43,gradeD!G$43,gradeD!G$44)))))))","v":{"$error":"#N/A"}},"",{"$f":"IF(T94>=gradeD!I$42,gradeD!K$42,IF(T94>=gradeD!I$43,gradeD!K$43,gradeD!K$44))","v":{"$error":"#N/A"}},"",{"$error":"#N/A"},"",{"$error":"#N/A"},"",{"$error":"#N/A"},"",{"$error":"#N/A"},"",{"$error":"#N/A"},"",null,"","",{"$f":"TมาตรฐานT!A92","v":10},0,"",0,""]
[{"$nulls":18},{"$f":"TมาตรฐานT!G93","v":0},{"$f":"TมาตรฐานT!O93","v":{"$error":"#N/A"}},{"$f":"IF(T95>=gradeD!B$37,gradeD!D$37,IF(T95>=gradeD!B$38,gradeD!D$38,IF(T95>=gradeD!B$39,gradeD!D$39,IF(T95>=gradeD!B$40,gradeD!D$40,gradeD!D$41))))","v":{"$error":"#N/A"}},"",{"$f":"IF(T95>=gradeD!E$37,gradeD!G$37,IF(T95>=gradeD!E$38,gradeD!G$38,IF(T95>=gradeD!E$39,gradeD!G$39,IF(T95>=gradeD!E$40,gradeD!G$40,IF(T95>=gradeD!E$41,gradeD!G$41,IF(T95>=gradeD!E$42,gradeD!G$42,IF(T95>=gradeD!E$43,gradeD!G$43,gradeD!G$44)))))))","v":{"$error":"#N/A"}},"",{"$f":"IF(T95>=gradeD!I$42,gradeD!K$42,IF(T95>=gradeD!I$43,gradeD!K$43,gradeD!K$44))","v":{"$error":"#N/A"}},"",{"$error":"#N/A"},"",{"$error":"#N/A"},"",{"$error":"#N/A"},"",{"$error":"#N/A"},"",{"$error":"#N/A"},"",null,"","",{"$f":"TมาตรฐานT!A93","v":9},0,"",0,""]
[{"$nulls":18},{"$f":"TมาตรฐานT!G94","v":0},{"$f":"TมาตรฐานT!O94","v":{"$error":"#N/A"}},{"$f":"IF(T96>=gradeD!B$37,gradeD!D$37,IF(T96>=gradeD!B$38,gradeD!D$38,IF(T96>=gradeD!B$39,gradeD!D$39,IF(T96>=gradeD!B$40,gradeD!D$40,gradeD!D$41))))","v":{"$error":"#N/A"}},"",{"$f":"IF(T96>=gradeD!E$37,gradeD!G$37,IF(T96>=gradeD!E$38,gradeD!G$38,IF(T96>=gradeD!E$39,gradeD!G$39,IF(T96>=gradeD!E$40,gradeD!G$40,IF(T96>=gradeD!E$41,gradeD!G$41,IF(T96>=gradeD!E$42,gradeD!G$42,IF(T96>=gradeD!E$43,gradeD!G$43,gradeD!G$44)))))))","v":{"$error":"#N/A"}},"",{"$f":"IF(T96>=gradeD!I$42,gradeD!K$42,IF(T96>=gradeD!I$43,gradeD!K$43,gradeD!K$44))","v":{"$error":"#N/A"}},"",{"$error":"#N/A"},"",{"$error":"#N/A"},"",{"$error":"#N/A"},"",{"$error":"#N/A"},"",{"$error":"#N/A"},"",null,"","",{"$f":"TมาตรฐานT!A94","v":8},0,"",0,""]
[{"$nulls":18},{"$f":"TมาตรฐานT!G95","v":0},{"$f":"TมาตรฐานT!O95","v":{"$error":"#N/A"}},{"$f":"IF(T97>=gradeD!B$37,gradeD!D$37,IF(T97>=gradeD!B$38,gradeD!D$38,IF(T97>=gradeD!B$39,gradeD!D$39,IF(T97>=gradeD!B$40,gradeD!D$40,gradeD!D$41))))","v":{"$error":"#N/A"}},"",{"$f":"IF(T97>=gradeD!E$37,gradeD!G$37,IF(T97>=gradeD!E$38,gradeD!G$38,IF(T97>=gradeD!E$39,gradeD!G$39,IF(T97>=gradeD!E$40,gradeD!G$40,IF(T97>=gradeD!E$41,gradeD!G$41,IF(T97>=gradeD!E$42,gradeD!G$42,IF(T97>=gradeD!E$43,gradeD!G$43,gradeD!G$44)))))))","v":{"$error":"#N/A"}},"",{"$f":"IF(T97>=gradeD!I$42,gradeD!K$42,IF(T97>=gradeD!I$43,gradeD!K$43,gradeD!K$44))","v":{"$error":"#N/A"}},"",{"$error":"#N/A"},"",{"$error":"#N/A"},"",{"$error":"#N/A"},"",{"$error":"#N/A"},"",{"$error":"#N/A"},"",null,"","",{"$f":"TมาตรฐานT!A95","v":7},0,"",0,""]
[{"$nulls":18},{"$f":"TมาตรฐานT!G96","v":0},{"$f":"TมาตรฐานT!O96","v":{"$error":"#N/A"}},{"$f":"IF(T98>=gradeD!B$37,gradeD!D$37,IF(T98>=gradeD!B$38,gradeD!D$38,IF(T98>=gradeD!B$39,gradeD!D$39,IF(T98>=gradeD!B$40,gradeD!D$40,gradeD!D$41))))","v":{"$error":"#N/A"}},"",{"$f":"IF(T98>=gradeD!E$37,gradeD!G$37,IF(T98>=gradeD!E$38,gradeD!G$38,IF(T98>=gradeD!E$39,gradeD!G$39,IF(T98>=gradeD!E$40,gradeD!G$40,IF(T98>=gradeD!E$41,gradeD!G$41,IF(T98>=gradeD!E$42,gradeD!G$42,IF(T98>=gradeD!E$43,gradeD!G$43,gradeD!G$44)))))))","v":{"$error":"#N/A"}},"",{"$f":"IF(T98>=gradeD!I$42,gradeD!K$42,IF(T98>=gradeD!I$43,gradeD!K$43,gradeD!K$44))","v":{"$error":"#N/A"}},"",{"$error":"#N/A"},"",{"$error":"#N/A"},"",{"$error":"#N/A"},"",{"$error":"#N/A"},"",{"$error":"#N/A"},"",null,"","",{"$f":"TมาตรฐานT!A96","v":6},0,"",0,""]
[{"$nulls":18},{"$f":"TมาตรฐานT!G97","v":0},{"$f":"TมาตรฐานT!O97","v":{"$error":"#N/A"}},{"$f":"IF(T99>=gradeD!B$37,gradeD!D$37,IF(T99>=gradeD!B$38,gradeD!D$38,IF(T99>=gradeD!B$39,gradeD!D$39,IF(T99>=gradeD!B$40,gradeD!D$40,gradeD!D$41))))","v":{"$error":"#N/A"}},"",{"$f":"IF(T99>=gradeD!E$37,gradeD!G$37,IF(T99>=gradeD!E$38,gradeD!G$38,IF(T99>=gradeD!E$39,gradeD!G$39,IF(T99>=gradeD!E$40,gradeD!G$40,IF(T99>=gradeD!E$41,gradeD!G$41,IF(T99>=gradeD!E$42,gradeD!G$42,IF(T99>=gradeD!E$43,gradeD!G$43,gradeD!G$44)))))))","v":{"$error":"#N/A"}},"",{"$f":"IF(T99>=gradeD!I$42,gradeD!K$42,IF(T99>=gradeD!I$43,gradeD!K$43,gradeD!K$44))","v":{"$error":"#N/A"}},"",{"$error":"#N/A"},"",{"$error":"#N/A"},"",{"$error":"#N/A"},"",{"$error":"#N/A"},"",{"$error":"#N/A"},"",null,"","",{"$f":"TมาตรฐานT!A97","v":5},0,"",0,""]
[{"$nulls":18},{"$f":"TมาตรฐานT!G98","v":0},{"$f":"TมาตรฐานT!O98","v":{"$error":"#N/A"}},{"$f":"IF(T100>=gradeD!B$37,gradeD!D$37,IF(T100>=gradeD!B$38,gradeD!D$38,IF(T100>=gradeD!B$39,gradeD!D$39,IF(T100>=gradeD!B$40,gradeD!D$40,gradeD!D$41))))","v":{"$error":"#N/A"}},"",{"$f":"IF(T100>=gradeD!E$37,gradeD!G$37,IF(T100>=gradeD!E$38,gradeD!G$38,IF(T100>=gradeD!E$39,gradeD!G$39,IF(T100>=gradeD!E$40,gradeD!G$40,IF(T100>=gradeD!E$41,gradeD!G$41,IF(T100>=gradeD!E$42,gradeD!G$42,IF(T100>=gradeD!E$43,gradeD!G$43,gradeD!G$44)))))))","v":{"$error":"#N/A"}},"",{"$f":"IF(T100>=gradeD!I$42,gradeD!K$42,IF(T100>=gradeD!I$43,gradeD!K$43,gradeD!K$44))","v":{"$error":"#N/A"}},"",{"$error":"#N/A"},"",{"$error":"#N/A"},"",{"$error":"#N/A"},"",{"$error":"#N/A"},"",{"$error":"#N/A"},"",null,"","",{"$f":"TมาตรฐานT!A98","v":4},0,"",0,""]
[{"$nulls":18},{"$f":"TมาตรฐานT!G99","v":0},{"$f":"TมาตรฐานT!O99","v":{"$error":"#N/A"}},{"$f":"IF(T101>=gradeD!B$37,gradeD!D$37,IF(T101>=gradeD!B$38,gradeD!D$38,IF(T101>=gradeD!B$39,gradeD!D$39,IF(T101>=gradeD!B$40,gradeD!D$40,gradeD!D$41))))","v":{"$error":"#N/A"}},"",{"$f":"IF(T101>=gradeD!E$37,gradeD!G$37,IF(T101>=gradeD!E$38,gradeD!G$38,IF(T101>=gradeD!E$39,gradeD!G$39,IF(T101>=gradeD!E$40,gradeD!G$40,IF(T101>=gradeD!E$41,gradeD!G$41,IF(T101>=gradeD!E$42,gradeD!G$42,IF(T101>=gradeD!E$43,gradeD!G$43,gradeD!G$44)))))))","v":{"$error":"#N/A"}},"",{"$f":"IF(T101>=gradeD!I$42,gradeD!K$42,IF(T101>=gradeD!I$43,gradeD!K$43,gradeD!K$44))","v":{"$error":"#N/A"}},"",{"$error":"#N/A"},"",{"$error":"#N/A"},"",{"$error":"#N/A"},"",{"$error":"#N/A"},"",{"$error":"#N/A"},"",null,"","",{"$f":"TมาตรฐานT!A99","v":3},0,"",0,""]
[{"$nulls":18},{"$f":"TมาตรฐานT!G100","v":0},{"$f":"TมาตรฐานT!O100","v":{"$error":"#N/A"}},{"$f":"IF(T102>=gradeD!B$37,gradeD!D$37,IF(T102>=gradeD!B$38,gradeD!D$38,IF(T102>=gradeD!B$39,gradeD!D$39,IF(T102>=gradeD!B$40,gradeD!D$40,gradeD!D$41))))","v":{"$error":"#N/A"}},"",{"$f":"IF(T102>=gradeD!E$37,gradeD!G$37,IF(T102>=gradeD!E$38,gradeD!G$38,IF(T102>=gradeD!E$39,gradeD!G$39,IF(T102>=gradeD!E$40,gradeD!G$40,IF(T102>=gradeD!E$41,gradeD!G$41,IF(T102>=gradeD!E$42,gradeD!G$42,IF(T102>=gradeD!E$43,gradeD!G$43,gradeD!G$44)))))))","v":{"$error":"#N/A"}},"",{"$f":"IF(T102>=gradeD!I$42,gradeD!K$42,IF(T102>=gradeD!I$43,gradeD!K$43,gradeD!K$44))","v":{"$error":"#N/A"}},"",{"$error":"#N/A"},"",{"$error":"#N/A"},"",{"$error":"#N/A"},"",{"$error":"#N/A"},"",{"$error":"#N/A"},"",null,"","",{"$f":"TมาตรฐานT!A100","v":2},0,"",0,""]
[{"$nulls":18},{"$f":"TมาตรฐานT!G101","v":0},{"$f":"TมาตรฐานT!O101","v":{"$error":"#N/A"}},{"$f":"IF(T103>=gradeD!B$37,gradeD!D$37,IF(T103>=gradeD!B$38,gradeD!D$38,IF(T103>=gradeD!B$39,gradeD!D$39,IF(T103>=gradeD!B$40,gradeD!D$40,gradeD!D$41))))","v":{"$error":"#N/A"}},"",{"$f":"IF(T103>=gradeD!E$37,gradeD!G$37,IF(T103>=gradeD!E$38,gradeD!G$38,IF(T103>=gradeD!E$39,gradeD!G$39,IF(T103>=gradeD!E$40,gradeD!G$40,IF(T103>=gradeD!E$41,gradeD!G$41,IF(T103>=gradeD!E$42,gradeD!G$42,IF(T103>=gradeD!E$43,gradeD!G$43,gradeD!G$44)))))))","v":{"$error":"#N/A"}},"",{"$f":"IF(T103>=gradeD!I$42,gradeD!K$42,IF(T103>=gradeD!I$43,gradeD!K$43,gradeD!K$44))","v":{"$error":"#N/A"}},"",{"$error":"#N/A"},"",{"$error":"#N/A"},"",{"$error":"#N/A"},"",{"$error":"#N/A"},"",{"$error":"#N/A"},"",null,"","",{"$f":"TมาตรฐานT!A101","v":1},0,"",0,""]

{"sheet":"TมาตรฐานZ","index":11,"n_rows":102,"n_cols":29,"rows_kept":102,"cut":false,"hidden":false,"merged":[]}
["คะแนน","ความถี่ (f)","cf","cf+1/2f","Percentile","Z","T-score","ความถี่ (f)","ความถี่ (f)","cf","cf","cf+1/2f","cf+1/2f","Percentile","Percentile","Z","Z","T-score","T-score",{"$f":"'gradeD (2)'!AL3","v":"Grade (5/5)"},{"$f":"'gradeD (2)'!AM3","v":"Grade (8/8)"},"Gradeคะแนนดิบ (5/5)","Gradeคะแนนดิบ (8/8)",null,null,"คะแนนที่ได้","T-score"]
[100,{"$f":"I2","v":""},{"$f":"K2","v":""},{"$f":"M2","v":""},{"$f":"O2","v":""},{"$f":"Q2","v":""},{"$f":"S2","v":""},{"$f":"COUNTIF(กรอกข้อมูล!A$2:A$401,A2)","v":0},{"$f":"IF(H2=0,\"\",H2)","v":""},{"$f":"J3+H2","v":50},{"$f":"IF(H2=0,\"\",J2)","v":""},{"$f":"J3+1/2*H2","v":50},{"$f":"IF(H2=0,\"\",L2)","v":""},{"$f":"L2*100/กรอกข้อมูล!AO$7","v":100},{"$f":"IF(H2=0,\"\",N2)","v":""},{"$f":"VLOOKUP(N2,Ztable!D2:G1389,4)","v":5},{"$f":"IF(H2=0,\"\",P2)","v":""},{"$f":"10*P2+50","v":100},{"$f":"IF(H2=0,\"\",R2)","v":""},{"$f":"'gradeD (2)'!AL4","v":""},{"$f":"'gradeD (2)'!AM4","v":""},{"$f":"'gradeD (2)'!AP4","v":""},{"$f":"'gradeD (2)'!AR4","v":""},null,"ค่าคะแนนเฉลี่ย",{"$f":"TมาตรฐานT!Z2","v":21.58},{"$f":"AC2","v":20.009},null,{"$f":"SUM(G2:G102)/กรอกข้อมูล!D12","v":20.009}]
[99,"","","","","","",{"$f":"COUNTIF(กรอกข้อมูล!A$2:A$401,A3)","v":0},{"$f":"IF(H3=0,\"\",H3)","v":""},50,{"$f":"IF(H3=0,\"\",J3)","v":""},50,{"$f":"IF(H3=0,\"\",L3)","v":""},{"$f":"L3*100/กรอกข้อมูล!AO$7","v":100},{"$f":"IF(H3=0,\"\",N3)","v":""},{"$f":"VLOOKUP(N3,Ztable!D3:G1390,4)","v":5},{"$f":"IF(H3=0,\"\",P3)","v":""},{"$f":"10*P3+50","v":100},{"$f":"IF(H3=0,\"\",R3)","v":""},{"$f":"'gradeD (2)'!AL5","v":""},{"$f":"'gradeD (2)'!AM5","v":""},{"$f":"'gradeD (2)'!AP5","v":""},{"$f":"'gradeD (2)'!AR5","v":""},null,"ค่า S.D.",{"$f":"TมาตรฐานT!Z3","v":4.8533178216093606},{"$f":"AC3","v":12.229714406873287},null,{"$f":"STDEV(G2:G102)","v":12.229714406873287}]
[98,"","","","","","",{"$f":"COUNTIF(กรอกข้อมูล!A$2:A$401,A4)","v":0},"",50,"",50,"",{"$f":"L4*100/กรอกข้อมูล!AO$7","v":100},"",{"$f":"VLOOKUP(N4,Ztable!D4:G1391,4)","v":5},"",100,"",{"$f":"'gradeD (2)'!AL6","v":""},{"$f":"'gradeD (2)'!AM6","v":""},{"$f":"'gradeD (2)'!AP6","v":""},{"$f":"'gradeD (2)'!AR6","v":""},null,"ค่ามากที่สุด",{"$f":"TมาตรฐานT!Z4","v":31},{"$f":"AC4","v":73.25},null,{"$f":"MAX(G2:G102)","v":73.25}]
[97,"","","","","","",{"$f":"COUNTIF(กรอกข้อมูล!A$2:A$401,A5)","v":0},"",50,"",50,"",{"$f":"L5*100/กรอกข้อมูล!AO$7","v":100},"",{"$f":"VLOOKUP(N5,Ztable!D5:G1392,4)","v":5},"",100,"",{"$f":"'gradeD (2)'!AL7","v":""},{"$f":"'gradeD (2)'!AM7","v":""},{"$f":"'gradeD (2)'!AP7","v":""},{"$f":"'gradeD (2)'!AR7","v":""},null,"ค่าน้อยที่สุด",{"$f":"TมาตรฐานT!Z5","v":12},{"$f":"AC5","v":29.45},null,{"$f":"MIN(G2:G102)","v":29.45}]
[96,"","","","","","",{"$f":"COUNTIF(กรอกข้อมูล!A$2:A$401,A6)","v":0},"",50,"",50,"",{"$f":"L6*100/กรอกข้อมูล!AO$7","v":100},"",{"$f":"VLOOKUP(N6,Ztable!D6:G1393,4)","v":5},"",100,"",{"$f":"'gradeD (2)'!AL8","v":""},{"$f":"'gradeD (2)'!AM8","v":""},{"$f":"'gradeD (2)'!AP8","v":""},{"$f":"'gradeD (2)'!AR8","v":""}]
[95,"","","","","","",{"$f":"COUNTIF(กรอกข้อมูล!A$2:A$401,A7)","v":0},"",50,"",50,"",{"$f":"L7*100/กรอกข้อมูล!AO$7","v":100},"",{"$f":"VLOOKUP(N7,Ztable!D7:G1394,4)","v":5},"",100,"",{"$f":"'gradeD (2)'!AL9","v":""},{"$f":"'gradeD (2)'!AM9","v":""},{"$f":"'gradeD (2)'!AP9","v":""},{"$f":"'gradeD (2)'!AR9","v":""}]
[94,"","","","","","",{"$f":"COUNTIF(กรอกข้อมูล!A$2:A$401,A8)","v":0},"",50,"",50,"",{"$f":"L8*100/กรอกข้อมูล!AO$7","v":100},"",{"$f":"VLOOKUP(N8,Ztable!D8:G1395,4)","v":5},"",100,"",{"$f":"'gradeD (2)'!AL10","v":""},{"$f":"'gradeD (2)'!AM10","v":""},{"$f":"'gradeD (2)'!AP10","v":""},{"$f":"'gradeD (2)'!AR10","v":""}]
[93,"","","","","","",{"$f":"COUNTIF(กรอกข้อมูล!A$2:A$401,A9)","v":0},"",50,"",50,"",{"$f":"L9*100/กรอกข้อมูล!AO$7","v":100},"",{"$f":"VLOOKUP(N9,Ztable!D9:G1396,4)","v":5},"",100,"",{"$f":"'gradeD (2)'!AL11","v":""},{"$f":"'gradeD (2)'!AM11","v":""},{"$f":"'gradeD (2)'!AP11","v":""},{"$f":"'gradeD (2)'!AR11","v":""}]
[92,"","","","","","",{"$f":"COUNTIF(กรอกข้อมูล!A$2:A$401,A10)","v":0},"",50,"",50,"",{"$f":"L10*100/กรอกข้อมูล!AO$7","v":100},"",{"$f":"VLOOKUP(N10,Ztable!D10:G1397,4)","v":5},"",100,"",{"$f":"'gradeD (2)'!AL12","v":""},{"$f":"'gradeD (2)'!AM12","v":""},{"$f":"'gradeD (2)'!AP12","v":""},{"$f":"'gradeD (2)'!AR12","v":""}]
[91,"","","","","","",{"$f":"COUNTIF(กรอกข้อมูล!A$2:A$401,A11)","v":0},"",50,"",50,"",{"$f":"L11*100/กรอกข้อมูล!AO$7","v":100},"",{"$f":"VLOOKUP(N11,Ztable!D11:G1398,4)","v":5},"",100,"",{"$f":"'gradeD (2)'!AL13","v":""},{"$f":"'gradeD (2)'!AM13","v":""},{"$f":"'gradeD (2)'!AP13","v":""},{"$f":"'gradeD (2)'!AR13","v":""}]
[90,"","","","","","",{"$f":"COUNTIF(กรอกข้อมูล!A$2:A$401,A12)","v":0},"",50,"",50,"",{"$f":"L12*100/กรอกข้อมูล!AO$7","v":100},"",{"$f":"VLOOKUP(N12,Ztable!D12:G1399,4)","v":5},"",100,"",{"$f":"'gradeD (2)'!AL14","v":""},{"$f":"'gradeD (2)'!AM14","v":""},{"$f":"'gradeD (2)'!AP14","v":""},{"$f":"'gradeD (2)'!AR14","v":""}]
[89,"","","","","","",{"$f":"COUNTIF(กรอกข้อมูล!A$2:A$401,A13)","v":0},"",50,"",50,"",{"$f":"L13*100/กรอกข้อมูล!AO$7","v":100},"",{"$f":"VLOOKUP(N13,Ztable!D13:G1400,4)","v":5},"",100,"",{"$f":"'gradeD (2)'!AL15","v":""},{"$f":"'gradeD (2)'!AM15","v":""},{"$f":"'gradeD (2)'!AP15","v":""},{"$f":"'gradeD (2)'!AR15","v":""}]
[88,"","","","","","",{"$f":"COUNTIF(กรอกข้อมูล!A$2:A$401,A14)","v":0},"",50,"",50,"",{"$f":"L14*100/กรอกข้อมูล!AO$7","v":100},"",{"$f":"VLOOKUP(N14,Ztable!D14:G1401,4)","v":5},"",100,"",{"$f":"'gradeD (2)'!AL16","v":""},{"$f":"'gradeD (2)'!AM16","v":""},{"$f":"'gradeD (2)'!AP16","v":""},{"$f":"'gradeD (2)'!AR16","v":""}]
[87,"","","","","","",{"$f":"COUNTIF(กรอกข้อมูล!A$2:A$401,A15)","v":0},"",50,"",50,"",{"$f":"L15*100/กรอกข้อมูล!AO$7","v":100},"",{"$f":"VLOOKUP(N15,Ztable!D15:G1402,4)","v":5},"",100,"",{"$f":"'gradeD (2)'!AL17","v":""},{"$f":"'gradeD (2)'!AM17","v":""},{"$f":"'gradeD (2)'!AP17","v":""},{"$f":"'gradeD (2)'!AR17","v":""}]
[86,"","","","","","",{"$f":"COUNTIF(กรอกข้อมูล!A$2:A$401,A16)","v":0},"",50,"",50,"",{"$f":"L16*100/กรอกข้อมูล!AO$7","v":100},"",{"$f":"VLOOKUP(N16,Ztable!D16:G1403,4)","v":5},"",100,"",{"$f":"'gradeD (2)'!AL18","v":""},{"$f":"'gradeD (2)'!AM18","v":""},{"$f":"'gradeD (2)'!AP18","v":""},{"$f":"'gradeD (2)'!AR18","v":""}]
[85,"","","","","","",{"$f":"COUNTIF(กรอกข้อมูล!A$2:A$401,A17)","v":0},"",50,"",50,"",{"$f":"L17*100/กรอกข้อมูล!AO$7","v":100},"",{"$f":"VLOOKUP(N17,Ztable!D17:G1404,4)","v":5},"",100,"",{"$f":"'gradeD (2)'!AL19","v":""},{"$f":"'gradeD (2)'!AM19","v":""},{"$f":"'gradeD (2)'!AP19","v":""},{"$f":"'gradeD (2)'!AR19","v":""}]
[84,"","","","","","",{"$f":"COUNTIF(กรอกข้อมูล!A$2:A$401,A18)","v":0},"",50,"",50,"",{"$f":"L18*100/กรอกข้อมูล!AO$7","v":100},"",{"$f":"VLOOKUP(N18,Ztable!D18:G1405,4)","v":5},"",100,"",{"$f":"'gradeD (2)'!AL20","v":""},{"$f":"'gradeD (2)'!AM20","v":""},{"$f":"'gradeD (2)'!AP20","v":""},{"$f":"'gradeD (2)'!AR20","v":""}]
[83,"","","","","","",{"$f":"COUNTIF(กรอกข้อมูล!A$2:A$401,A19)","v":0},"",50,"",50,"",{"$f":"L19*100/กรอกข้อมูล!AO$7","v":100},"",{"$f":"VLOOKUP(N19,Ztable!D19:G1406,4)","v":5},"",100,"",{"$f":"'gradeD (2)'!AL21","v":""},{"$f":"'gradeD (2)'!AM21","v":""},{"$f":"'gradeD (2)'!AP21","v":""},{"$f":"'gradeD (2)'!AR21","v":""}]
[82,"","","","","","",{"$f":"COUNTIF(กรอกข้อมูล!A$2:A$401,A20)","v":0},"",50,"",50,"",{"$f":"L20*100/กรอกข้อมูล!AO$7","v":100},"",{"$f":"VLOOKUP(N20,Ztable!D20:G1407,4)","v":5},"",100,"",{"$f":"'gradeD (2)'!AL22","v":""},{"$f":"'gradeD (2)'!AM22","v":""},{"$f":"'gradeD (2)'!AP22","v":""},{"$f":"'gradeD (2)'!AR22","v":""}]
[81,"","","","","","",{"$f":"COUNTIF(กรอกข้อมูล!A$2:A$401,A21)","v":0},"",50,"",50,"",{"$f":"L21*100/กรอกข้อมูล!AO$7","v":100},"",{"$f":"VLOOKUP(N21,Ztable!D21:G1408,4)","v":5},"",100,"",{"$f":"'gradeD (2)'!AL23","v":""},{"$f":"'gradeD (2)'!AM23","v":""},{"$f":"'gradeD (2)'!AP23","v":""},{"$f":"'gradeD (2)'!AR23","v":""}]
[80,"","","","","","",{"$f":"COUNTIF(กรอกข้อมูล!A$2:A$401,A22)","v":0},"",50,"",50,"",{"$f":"L22*100/กรอกข้อมูล!AO$7","v":100},"",{"$f":"VLOOKUP(N22,Ztable!D22:G1409,4)","v":5},"",100,"",{"$f":"'gradeD (2)'!AL24","v":""},{"$f":"'gradeD (2)'!AM24","v":""},{"$f":"'gradeD (2)'!AP24","v":""},{"$f":"'gradeD (2)'!AR24","v":""}]
[79,"","","","","","",{"$f":"COUNTIF(กรอกข้อมูล!A$2:A$401,A23)","v":0},"",50,"",50,"",{"$f":"L23*100/กรอกข้อมูล!AO$7","v":100},"",{"$f":"VLOOKUP(N23,Ztable!D23:G1410,4)","v":5},"",100,"",{"$f":"'gradeD (2)'!AL25","v":""},{"$f":"'gradeD (2)'!AM25","v":""},{"$f":"'gradeD (2)'!AP25","v":""},{"$f":"'gradeD (2)'!AR25","v":""}]
[78,"","","","","","",{"$f":"COUNTIF(กรอกข้อมูล!A$2:A$401,A24)","v":0},"",50,"",50,"",{"$f":"L24*100/กรอกข้อมูล!AO$7","v":100},"",{"$f":"VLOOKUP(N24,Ztable!D24:G1411,4)","v":5},"",100,"",{"$f":"'gradeD (2)'!AL26","v":""},{"$f":"'gradeD (2)'!AM26","v":""},{"$f":"'gradeD (2)'!AP26","v":""},{"$f":"'gradeD (2)'!AR26","v":""}]
[77,"","","","","","",{"$f":"COUNTIF(กรอกข้อมูล!A$2:A$401,A25)","v":0},"",50,"",50,"",{"$f":"L25*100/กรอกข้อมูล!AO$7","v":100},"",{"$f":"VLOOKUP(N25,Ztable!D25:G1412,4)","v":5},"",100,"",{"$f":"'gradeD (2)'!AL27","v":""},{"$f":"'gradeD (2)'!AM27","v":""},{"$f":"'gradeD (2)'!AP27","v":""},{"$f":"'gradeD (2)'!AR27","v":""}]
[76,"","","","","","",{"$f":"COUNTIF(กรอกข้อมูล!A$2:A$401,A26)","v":0},"",50,"",50,"",{"$f":"L26*100/กรอกข้อมูล!AO$7","v":100},"",{"$f":"VLOOKUP(N26,Ztable!D26:G1413,4)","v":5},"",100,"",{"$f":"'gradeD (2)'!AL28","v":""},{"$f":"'gradeD (2)'!AM28","v":""},{"$f":"'gradeD (2)'!AP28","v":""},{"$f":"'gradeD (2)'!AR28","v":""}]
[75,"","","","","","",{"$f":"COUNTIF(กรอกข้อมูล!A$2:A$401,A27)","v":0},"",50,"",50,"",{"$f":"L27*100/กรอกข้อมูล!AO$7","v":100},"",{"$f":"VLOOKUP(N27,Ztable!D27:G1414,4)","v":5},"",100,"",{"$f":"'gradeD (2)'!AL29","v":""},{"$f":"'gradeD (2)'!AM29","v":""},{"$f":"'gradeD (2)'!AP29","v":""},{"$f":"'gradeD (2)'!AR29","v":""}]
[74,"","","","","","",{"$f":"COUNTIF(กรอกข้อมูล!A$2:A$401,A28)","v":0},"",50,"",50,"",{"$f":"L28*100/กรอกข้อมูล!AO$7","v":100},"",{"$f":"VLOOKUP(N28,Ztable!D28:G1415,4)","v":5},"",100,"",{"$f":"'gradeD (2)'!AL30","v":""},{"$f":"'gradeD (2)'!AM30","v":""},{"$f":"'gradeD (2)'!AP30","v":""},{"$f":"'gradeD (2)'!AR30","v":""}]
[73,"","","","","","",{"$f":"COUNTIF(กรอกข้อมูล!A$2:A$401,A29)","v":0},"",50,"",50,"",{"$f":"L29*100/กรอกข้อมูล!AO$7","v":100},"",{"$f":"VLOOKUP(N29,Ztable!D29:G1416,4)","v":5},"",100,"",{"$f":"'gradeD (2)'!AL31","v":""},{"$f":"'gradeD (2)'!AM31","v":""},{"$f":"'gradeD (2)'!AP31","v":""},{"$f":"'gradeD (2)'!AR31","v":""}]
[72,"","","","","","",{"$f":"COUNTIF(กรอกข้อมูล!A$2:A$401,A30)","v":0},"",50,"",50,"",{"$f":"L30*100/กรอกข้อมูล!AO$7","v":100},"",{"$f":"VLOOKUP(N30,Ztable!D30:G1417,4)","v":5},"",100,"",{"$f":"'gradeD (2)'!AL32","v":""},{"$f":"'gradeD (2)'!AM32","v":""},{"$f":"'gradeD (2)'!AP32","v":""},{"$f":"'gradeD (2)'!AR32","v":""}]
[71,"","","","","","",{"$f":"COUNTIF(กรอกข้อมูล!A$2:A$401,A31)","v":0},"",50,"",50,"",{"$f":"L31*100/กรอกข้อมูล!AO$7","v":100},"",{"$f":"VLOOKUP(N31,Ztable!D31:G1418,4)","v":5},"",100,"",{"$f":"'gradeD (2)'!AL33","v":""},{"$f":"'gradeD (2)'!AM33","v":""},{"$f":"'gradeD (2)'!AP33","v":""},{"$f":"'gradeD (2)'!AR33","v":""}]
[70,"","","","","","",{"$f":"COUNTIF(กรอกข้อมูล!A$2:A$401,A32)","v":0},"",50,"",50,"",{"$f":"L32*100/กรอกข้อมูล!AO$7","v":100},"",{"$f":"VLOOKUP(N32,Ztable!D32:G1419,4)","v":5},"",100,"",{"$f":"'gradeD (2)'!AL34","v":""},{"$f":"'gradeD (2)'!AM34","v":""},{"$f":"'gradeD (2)'!AP34","v":""},{"$f":"'gradeD (2)'!AR34","v":""},null,{"$f":"Y1","v":0},"คะแนนที่ได้","T-score"]
[69,"","","","","","",{"$f":"COUNTIF(กรอกข้อมูล!A$2:A$401,A33)","v":0},"",50,"",50,"",{"$f":"L33*100/กรอกข้อมูล!AO$7","v":100},"",{"$f":"VLOOKUP(N33,Ztable!D33:G1420,4)","v":5},"",100,"",{"$f":"'gradeD (2)'!AL35","v":""},{"$f":"'gradeD (2)'!AM35","v":""},{"$f":"'gradeD (2)'!AP35","v":""},{"$f":"'gradeD (2)'!AR35","v":""},null,"ค่าคะแนนเฉลี่ย",21.58,20.009]
[68,{"$f":"I34","v":""},{"$f":"K34","v":""},{"$f":"M34","v":""},{"$f":"O34","v":""},{"$f":"Q34","v":""},{"$f":"S34","v":""},{"$f":"COUNTIF(กรอกข้อมูล!A$2:A$401,A34)","v":0},"",50,"",50,"",{"$f":"L34*100/กรอกข้อมูล!AO$7","v":100},"",{"$f":"VLOOKUP(N34,Ztable!D34:G1421,4)","v":5},"",100,"",{"$f":"'gradeD (2)'!AL36","v":""},{"$f":"'gradeD (2)'!AM36","v":""},{"$f":"'gradeD (2)'!AP36","v":""},{"$f":"'gradeD (2)'!AR36","v":""},null,"ค่า S.D.",4.8533178216093606,12.229714406873287]
[67,"","","","","","",{"$f":"COUNTIF(กรอกข้อมูล!A$2:A$401,A35)","v":0},"",50,"",50,"",{"$f":"L35*100/กรอกข้อมูล!AO$7","v":100},"",{"$f":"VLOOKUP(N35,Ztable!D35:G1422,4)","v":5},"",100,"",{"$f":"'gradeD (2)'!AL37","v":""},{"$f":"'gradeD (2)'!AM37","v":""},{"$f":"'gradeD (2)'!AP37","v":""},{"$f":"'gradeD (2)'!AR37","v":""},null,"ค่ามากที่สุด",31,73.25]
[66,"","","","","","",{"$f":"COUNTIF(กรอกข้อมูล!A$2:A$401,A36)","v":0},"",50,"",50,"",{"$f":"L36*100/กรอกข้อมูล!AO$7","v":100},"",{"$f":"VLOOKUP(N36,Ztable!D36:G1423,4)","v":5},"",100,"",{"$f":"'gradeD (2)'!AL38","v":""},{"$f":"'gradeD (2)'!AM38","v":""},{"$f":"'gradeD (2)'!AP38","v":""},{"$f":"'gradeD (2)'!AR38","v":""},null,"ค่าน้อยที่สุด",12,29.45]
[65,"","","","","","",{"$f":"COUNTIF(กรอกข้อมูล!A$2:A$401,A37)","v":0},"",50,"",50,"",{"$f":"L37*100/กรอกข้อมูล!AO$7","v":100},"",{"$f":"VLOOKUP(N37,Ztable!D37:G1424,4)","v":5},"",100,"",{"$f":"'gradeD (2)'!AL39","v":""},{"$f":"'gradeD (2)'!AM39","v":""},{"$f":"'gradeD (2)'!AP39","v":""},{"$f":"'gradeD (2)'!AR39","v":""}]
[64,"","","","","","",{"$f":"COUNTIF(กรอกข้อมูล!A$2:A$401,A38)","v":0},"",50,"",50,"",{"$f":"L38*100/กรอกข้อมูล!AO$7","v":100},"",{"$f":"VLOOKUP(N38,Ztable!D38:G1425,4)","v":5},"",100,"",{"$f":"'gradeD (2)'!AL40","v":""},{"$f":"'gradeD (2)'!AM40","v":""},{"$f":"'gradeD (2)'!AP40","v":""},{"$f":"'gradeD (2)'!AR40","v":""}]
[63,"","","","","","",{"$f":"COUNTIF(กรอกข้อมูล!A$2:A$401,A39)","v":0},"",50,"",50,"",{"$f":"L39*100/กรอกข้อมูล!AO$7","v":100},"",{"$f":"VLOOKUP(N39,Ztable!D39:G1426,4)","v":5},"",100,"",{"$f":"'gradeD (2)'!AL41","v":""},{"$f":"'gradeD (2)'!AM41","v":""},{"$f":"'gradeD (2)'!AP41","v":""},{"$f":"'gradeD (2)'!AR41","v":""}]
[62,"","","","","","",{"$f":"COUNTIF(กรอกข้อมูล!A$2:A$401,A40)","v":0},"",50,"",50,"",{"$f":"L40*100/กรอกข้อมูล!AO$7","v":100},"",{"$f":"VLOOKUP(N40,Ztable!D40:G1427,4)","v":5},"",100,"",{"$f":"'gradeD (2)'!AL42","v":""},{"$f":"'gradeD (2)'!AM42","v":""},{"$f":"'gradeD (2)'!AP42","v":""},{"$f":"'gradeD (2)'!AR42","v":""}]
[61,"","","","","","",{"$f":"COUNTIF(กรอกข้อมูล!A$2:A$401,A41)","v":0},"",50,"",50,"",{"$f":"L41*100/กรอกข้อมูล!AO$7","v":100},"",{"$f":"VLOOKUP(N41,Ztable!D41:G1428,4)","v":5},"",100,"",{"$f":"'gradeD (2)'!AL43","v":""},{"$f":"'gradeD (2)'!AM43","v":""},{"$f":"'gradeD (2)'!AP43","v":""},{"$f":"'gradeD (2)'!AR43","v":""}]
[60,"","","","","","",{"$f":"COUNTIF(กรอกข้อมูล!A$2:A$401,A42)","v":0},"",50,"",50,"",{"$f":"L42*100/กรอกข้อมูล!AO$7","v":100},"",{"$f":"VLOOKUP(N42,Ztable!D42:G1429,4)","v":5},"",100,"",{"$f":"'gradeD (2)'!AL44","v":""},{"$f":"'gradeD (2)'!AM44","v":""},{"$f":"'gradeD (2)'!AP44","v":""},{"$f":"'gradeD (2)'!AR44","v":""}]
[59,"","","","","","",{"$f":"COUNTIF(กรอกข้อมูล!A$2:A$401,A43)","v":0},"",50,"",50,"",{"$f":"L43*100/กรอกข้อมูล!AO$7","v":100},"",{"$f":"VLOOKUP(N43,Ztable!D43:G1430,4)","v":5},"",100,"",{"$f":"'gradeD (2)'!AL45","v":""},{"$f":"'gradeD (2)'!AM45","v":""},{"$f":"'gradeD (2)'!AP45","v":""},{"$f":"'gradeD (2)'!AR45","v":""}]
[58,"","","","","","",{"$f":"COUNTIF(กรอกข้อมูล!A$2:A$401,A44)","v":0},"",50,"",50,"",{"$f":"L44*100/กรอกข้อมูล!AO$7","v":100},"",{"$f":"VLOOKUP(N44,Ztable!D44:G1431,4)","v":5},"",100,"",{"$f":"'gradeD (2)'!AL46","v":""},{"$f":"'gradeD (2)'!AM46","v":""},{"$f":"'gradeD (2)'!AP46","v":""},{"$f":"'gradeD (2)'!AR46","v":""}]
[57,"","","","","","",{"$f":"COUNTIF(กรอกข้อมูล!A$2:A$401,A45)","v":0},"",50,"",50,"",{"$f":"L45*100/กรอกข้อมูล!AO$7","v":100},"",{"$f":"VLOOKUP(N45,Ztable!D45:G1432,4)","v":5},"",100,"",{"$f":"'gradeD (2)'!AL47","v":""},{"$f":"'gradeD (2)'!AM47","v":""},{"$f":"'gradeD (2)'!AP47","v":""},{"$f":"'gradeD (2)'!AR47","v":""}]
[56,"","","","","","",{"$f":"COUNTIF(กรอกข้อมูล!A$2:A$401,A46)","v":0},"",50,"",50,"",{"$f":"L46*100/กรอกข้อมูล!AO$7","v":100},"",{"$f":"VLOOKUP(N46,Ztable!D46:G1433,4)","v":5},"",100,"",{"$f":"'gradeD (2)'!AL48","v":""},{"$f":"'gradeD (2)'!AM48","v":""},{"$f":"'gradeD (2)'!AP48","v":""},{"$f":"'gradeD (2)'!AR48","v":""}]
[55,"","","","","","",{"$f":"COUNTIF(กรอกข้อมูล!A$2:A$401,A47)","v":0},"",50,"",50,"",{"$f":"L47*100/กรอกข้อมูล!AO$7","v":100},"",{"$f":"VLOOKUP(N47,Ztable!D47:G1434,4)","v":5},"",100,"",{"$f":"'gradeD (2)'!AL49","v":""},{"$f":"'gradeD (2)'!AM49","v":""},{"$f":"'gradeD (2)'!AP49","v":""},{"$f":"'gradeD (2)'!AR49","v":""}]
[54,"","","","","","",{"$f":"COUNTIF(กรอกข้อมูล!A$2:A$401,A48)","v":0},"",50,"",50,"",{"$f":"L48*100/กรอกข้อมูล!AO$7","v":100},"",{"$f":"VLOOKUP(N48,Ztable!D48:G1435,4)","v":5},"",100,"",{"$f":"'gradeD (2)'!AL50","v":""},{"$f":"'gradeD (2)'!AM50","v":""},{"$f":"'gradeD (2)'!AP50","v":""},{"$f":"'gradeD (2)'!AR50","v":""}]
[53,"","","","","","",{"$f":"COUNTIF(กรอกข้อมูล!A$2:A$401,A49)","v":0},"",50,"",50,"",{"$f":"L49*100/กรอกข้อมูล!AO$7","v":100},"",{"$f":"VLOOKUP(N49,Ztable!D49:G1436,4)","v":5},"",100,"",{"$f":"'gradeD (2)'!AL51","v":""},{"$f":"'gradeD (2)'!AM51","v":""},{"$f":"'gradeD (2)'!AP51","v":""},{"$f":"'gradeD (2)'!AR51","v":""}]
[52,"","","","","","",{"$f":"COUNTIF(กรอกข้อมูล!A$2:A$401,A50)","v":0},"",50,"",50,"",{"$f":"L50*100/กรอกข้อมูล!AO$7","v":100},"",{"$f":"VLOOKUP(N50,Ztable!D50:G1437,4)","v":5},"",100,"",{"$f":"'gradeD (2)'!AL52","v":""},{"$f":"'gradeD (2)'!AM52","v":""},{"$f":"'gradeD (2)'!AP52","v":""},{"$f":"'gradeD (2)'!AR52","v":""}]
[51,"","","","","","",{"$f":"COUNTIF(กรอกข้อมูล!A$2:A$401,A51)","v":0},"",50,"",50,"",{"$f":"L51*100/กรอกข้อมูล!AO$7","v":100},"",{"$f":"VLOOKUP(N51,Ztable!D51:G1438,4)","v":5},"",100,"",{"$f":"'gradeD (2)'!AL53","v":""},{"$f":"'gradeD (2)'!AM53","v":""},{"$f":"'gradeD (2)'!AP53","v":""},{"$f":"'gradeD (2)'!AR53","v":""}]
[50,"","","","","","",{"$f":"COUNTIF(กรอกข้อมูล!A$2:A$401,A52)","v":0},"",50,"",50,"",{"$f":"L52*100/กรอกข้อมูล!AO$7","v":100},"",{"$f":"VLOOKUP(N52,Ztable!D52:G1439,4)","v":5},"",100,"",{"$f":"'gradeD (2)'!AL54","v":""},{"$f":"'gradeD (2)'!AM54","v":""},{"$f":"'gradeD (2)'!AP54","v":""},{"$f":"'gradeD (2)'!AR54","v":""},null,null,{"$f":"Z1","v":"คะแนนที่ได้"},"T-score"]
[49,"","","","","","",{"$f":"COUNTIF(กรอกข้อมูล!A$2:A$401,A53)","v":0},"",50,"",50,"",{"$f":"L53*100/กรอกข้อมูล!AO$7","v":100},"",{"$f":"VLOOKUP(N53,Ztable!D53:G1440,4)","v":5},"",100,"",{"$f":"'gradeD (2)'!AL55","v":""},{"$f":"'gradeD (2)'!AM55","v":""},{"$f":"'gradeD (2)'!AP55","v":""},{"$f":"'gradeD (2)'!AR55","v":""},null,"ค่าคะแนนเฉลี่ย",21.58,20.009]
[48,"","","","","","",{"$f":"COUNTIF(กรอกข้อมูล!A$2:A$401,A54)","v":0},"",50,"",50,"",{"$f":"L54*100/กรอกข้อมูล!AO$7","v":100},"",{"$f":"VLOOKUP(N54,Ztable!D54:G1441,4)","v":5},"",100,"",{"$f":"'gradeD (2)'!AL56","v":""},{"$f":"'gradeD (2)'!AM56","v":""},{"$f":"'gradeD (2)'!AP56","v":""},{"$f":"'gradeD (2)'!AR56","v":""},null,"ค่า S.D.",4.8533178216093606,12.229714406873287]
[47,"","","","","","",{"$f":"COUNTIF(กรอกข้อมูล!A$2:A$401,A55)","v":0},"",50,"",50,"",{"$f":"L55*100/กรอกข้อมูล!AO$7","v":100},"",{"$f":"VLOOKUP(N55,Ztable!D55:G1442,4)","v":5},"",100,"",{"$f":"'gradeD (2)'!AL57","v":""},{"$f":"'gradeD (2)'!AM57","v":""},{"$f":"'gradeD (2)'!AP57","v":""},{"$f":"'gradeD (2)'!AR57","v":""},null,"ค่ามากที่สุด",31,73.25]
[46,"","","","","","",{"$f":"COUNTIF(กรอกข้อมูล!A$2:A$401,A56)","v":0},"",50,"",50,"",{"$f":"L56*100/กรอกข้อมูล!AO$7","v":100},"",{"$f":"VLOOKUP(N56,Ztable!D56:G1443,4)","v":5},"",100,"",{"$f":"'gradeD (2)'!AL58","v":""},{"$f":"'gradeD (2)'!AM58","v":""},{"$f":"'gradeD (2)'!AP58","v":""},{"$f":"'gradeD (2)'!AR58","v":""},null,"ค่าน้อยที่สุด",12,29.45]
[45,"","","","","","",{"$f":"COUNTIF(กรอกข้อมูล!A$2:A$401,A57)","v":0},"",50,"",50,"",{"$f":"L57*100/กรอกข้อมูล!AO$7","v":100},"",{"$f":"VLOOKUP(N57,Ztable!D57:G1444,4)","v":5},"",100,"",{"$f":"'gradeD (2)'!AL59","v":""},{"$f":"'gradeD (2)'!AM59","v":""},{"$f":"'gradeD (2)'!AP59","v":""},{"$f":"'gradeD (2)'!AR59","v":""}]
[44,"","","","","","",{"$f":"COUNTIF(กรอกข้อมูล!A$2:A$401,A58)","v":0},"",50,"",50,"",{"$f":"L58*100/กรอกข้อมูล!AO$7","v":100},"",{"$f":"VLOOKUP(N58,Ztable!D58:G1445,4)","v":5},"",100,"",{"$f":"'gradeD (2)'!AL60","v":""},{"$f":"'gradeD (2)'!AM60","v":""},{"$f":"'gradeD (2)'!AP60","v":""},{"$f":"'gradeD (2)'!AR60","v":""}]
[43,"","","","","","",{"$f":"COUNTIF(กรอกข้อมูล!A$2:A$401,A59)","v":0},"",50,"",50,"",{"$f":"L59*100/กรอกข้อมูล!AO$7","v":100},"",{"$f":"VLOOKUP(N59,Ztable!D59:G1446,4)","v":5},"",100,"",{"$f":"'gradeD (2)'!AL61","v":""},{"$f":"'gradeD (2)'!AM61","v":""},{"$f":"'gradeD (2)'!AP61","v":""},{"$f":"'gradeD (2)'!AR61","v":""}]
[42,"","","","","","",{"$f":"COUNTIF(กรอกข้อมูล!A$2:A$401,A60)","v":0},"",50,"",50,"",{"$f":"L60*100/กรอกข้อมูล!AO$7","v":100},"",{"$f":"VLOOKUP(N60,Ztable!D60:G1447,4)","v":5},"",100,"",{"$f":"'gradeD (2)'!AL62","v":""},{"$f":"'gradeD (2)'!AM62","v":""},{"$f":"'gradeD (2)'!AP62","v":""},{"$f":"'gradeD (2)'!AR62","v":""}]
[41,"","","","","","",{"$f":"COUNTIF(กรอกข้อมูล!A$2:A$401,A61)","v":0},"",50,"",50,"",{"$f":"L61*100/กรอกข้อมูล!AO$7","v":100},"",{"$f":"VLOOKUP(N61,Ztable!D61:G1448,4)","v":5},"",100,"",{"$f":"'gradeD (2)'!AL63","v":""},{"$f":"'gradeD (2)'!AM63","v":""},{"$f":"'gradeD (2)'!AP63","v":""},{"$f":"'gradeD (2)'!AR63","v":""}]
[40,"","","","","","",{"$f":"COUNTIF(กรอกข้อมูล!A$2:A$401,A62)","v":0},"",50,"",50,"",{"$f":"L62*100/กรอกข้อมูล!AO$7","v":100},"",{"$f":"VLOOKUP(N62,Ztable!D62:G1449,4)","v":5},"",100,"",{"$f":"'gradeD (2)'!AL64","v":""},{"$f":"'gradeD (2)'!AM64","v":""},{"$f":"'gradeD (2)'!AP64","v":""},{"$f":"'gradeD (2)'!AR64","v":""}]
[39,"","","","","","",{"$f":"COUNTIF(กรอกข้อมูล!A$2:A$401,A63)","v":0},"",50,"",50,"",{"$f":"L63*100/กรอกข้อมูล!AO$7","v":100},"",{"$f":"VLOOKUP(N63,Ztable!D63:G1450,4)","v":5},"",100,"",{"$f":"'gradeD (2)'!AL65","v":""},{"$f":"'gradeD (2)'!AM65","v":""},{"$f":"'gradeD (2)'!AP65","v":""},{"$f":"'gradeD (2)'!AR65","v":""}]
[38,"","","","","","",{"$f":"COUNTIF(กรอกข้อมูล!A$2:A$401,A64)","v":0},"",50,"",50,"",{"$f":"L64*100/กรอกข้อมูล!AO$7","v":100},"",{"$f":"VLOOKUP(N64,Ztable!D64:G1451,4)","v":5},"",100,"",{"$f":"'gradeD (2)'!AL66","v":""},{"$f":"'gradeD (2)'!AM66","v":""},{"$f":"'gradeD (2)'!AP66","v":""},{"$f":"'gradeD (2)'!AR66","v":""}]
[37,"","","","","","",{"$f":"COUNTIF(กรอกข้อมูล!A$2:A$401,A65)","v":0},"",50,"",50,"",{"$f":"L65*100/กรอกข้อมูล!AO$7","v":100},"",{"$f":"VLOOKUP(N65,Ztable!D65:G1452,4)","v":5},"",100,"",{"$f":"'gradeD (2)'!AL67","v":""},{"$f":"'gradeD (2)'!AM67","v":""},{"$f":"'gradeD (2)'!AP67","v":""},{"$f":"'gradeD (2)'!AR67","v":""}]
[36,{"$f":"I66","v":""},{"$f":"K66","v":""},{"$f":"M66","v":""},{"$f":"O66","v":""},{"$f":"Q66","v":""},{"$f":"S66","v":""},{"$f":"COUNTIF(กรอกข้อมูล!A$2:A$401,A66)","v":0},"",{"$f":"J67+H66","v":50},"",{"$f":"J67+1/2*H66","v":50},"",{"$f":"L66*100/กรอกข้อมูล!AO$7","v":100},"",{"$f":"VLOOKUP(N66,Ztable!D66:G1453,4)","v":5},"",100,"",{"$f":"'gradeD (2)'!AL68","v":""},{"$f":"'gradeD (2)'!AM68","v":""},{"$f":"'gradeD (2)'!AP68","v":""},{"$f":"'gradeD (2)'!AR68","v":""}]
[35,"","","","","","",{"$f":"COUNTIF(กรอกข้อมูล!A$2:A$401,A67)","v":0},{"$f":"IF(H67=0,\"\",H67)","v":""},50,{"$f":"IF(H67=0,\"\",J67)","v":""},50,{"$f":"IF(H67=0,\"\",L67)","v":""},{"$f":"L67*100/กรอกข้อมูล!AO$7","v":100},{"$f":"IF(H67=0,\"\",N67)","v":""},{"$f":"VLOOKUP(N67,Ztable!D67:G1454,4)","v":5},{"$f":"IF(H67=0,\"\",P67)","v":""},{"$f":"10*P67+50","v":100},{"$f":"IF(H67=0,\"\",R67)","v":""},{"$f":"'gradeD (2)'!AL69","v":""},{"$f":"'gradeD (2)'!AM69","v":""},{"$f":"'gradeD (2)'!AP69","v":""},{"$f":"'gradeD (2)'!AR69","v":""}]
[34,"","","","","","",{"$f":"COUNTIF(กรอกข้อมูล!A$2:A$401,A68)","v":0},"",50,"",50,"",{"$f":"L68*100/กรอกข้อมูล!AO$7","v":100},"",{"$f":"VLOOKUP(N68,Ztable!D68:G1455,4)","v":5},"",100,"",{"$f":"'gradeD (2)'!AL70","v":""},{"$f":"'gradeD (2)'!AM70","v":""},{"$f":"'gradeD (2)'!AP70","v":""},{"$f":"'gradeD (2)'!AR70","v":""}]
[33,"","","","","","",{"$f":"COUNTIF(กรอกข้อมูล!A$2:A$401,A69)","v":0},"",50,"",50,"",{"$f":"L69*100/กรอกข้อมูล!AO$7","v":100},"",{"$f":"VLOOKUP(N69,Ztable!D69:G1456,4)","v":5},"",100,"",{"$f":"'gradeD (2)'!AL71","v":""},{"$f":"'gradeD (2)'!AM71","v":""},{"$f":"'gradeD (2)'!AP71","v":""},{"$f":"'gradeD (2)'!AR71","v":""}]
[32,"","","","","","",{"$f":"COUNTIF(กรอกข้อมูล!A$2:A$401,A70)","v":0},"",50,"",50,"",{"$f":"L70*100/กรอกข้อมูล!AO$7","v":100},"",{"$f":"VLOOKUP(N70,Ztable!D70:G1457,4)","v":5},"",100,"",{"$f":"'gradeD (2)'!AL72","v":""},{"$f":"'gradeD (2)'!AM72","v":""},{"$f":"'gradeD (2)'!AP72","v":""},{"$f":"'gradeD (2)'!AR72","v":""}]
[31,1,50,49.5,99,2.3250000000000002,73.25,{"$f":"COUNTIF(กรอกข้อมูล!A$2:A$401,A71)","v":1},1,50,50,49.5,49.5,{"$f":"L71*100/กรอกข้อมูล!AO$7","v":99},99,{"$f":"VLOOKUP(N71,Ztable!D71:G1458,4)","v":2.3250000000000002},{"$f":"IF(H71=0,\"\",P71)","v":2.3250000000000002},73.25,73.25,{"$f":"'gradeD (2)'!AL73","v":4},{"$f":"'gradeD (2)'!AM73","v":4},{"$f":"'gradeD (2)'!AP73","v":0},{"$f":"'gradeD (2)'!AR73","v":0}]
[30,2,49,48,96,1.75,67.5,{"$f":"COUNTIF(กรอกข้อมูล!A$2:A$401,A72)","v":2},2,49,49,48,48,{"$f":"L72*100/กรอกข้อมูล!AO$7","v":96},96,{"$f":"VLOOKUP(N72,Ztable!D72:G1459,4)","v":1.75},1.75,67.5,67.5,{"$f":"'gradeD (2)'!AL74","v":4},{"$f":"'gradeD (2)'!AM74","v":4},{"$f":"'gradeD (2)'!AP74","v":0},{"$f":"'gradeD (2)'!AR74","v":0},null,null,{"$f":"Z1","v":"คะแนนที่ได้"},"T-score"]
[29,1,47,46.5,93,1.4750000000000001,64.75,{"$f":"COUNTIF(กรอกข้อมูล!A$2:A$401,A73)","v":1},1,47,47,46.5,46.5,{"$f":"L73*100/กรอกข้อมูล!AO$7","v":93},93,{"$f":"VLOOKUP(N73,Ztable!D73:G1460,4)","v":1.4750000000000001},1.4750000000000001,64.75,64.75,{"$f":"'gradeD (2)'!AL75","v":3},{"$f":"'gradeD (2)'!AM75","v":3.5},{"$f":"'gradeD (2)'!AP75","v":0},{"$f":"'gradeD (2)'!AR75","v":0},null,"ค่าคะแนนเฉลี่ย",21.58,20.009]
[28,2,46,45,90,1.28,62.8,{"$f":"COUNTIF(กรอกข้อมูล!A$2:A$401,A74)","v":2},2,46,46,45,45,{"$f":"L74*100/กรอกข้อมูล!AO$7","v":90},90,{"$f":"VLOOKUP(N74,Ztable!D74:G1461,4)","v":1.28},1.28,62.8,62.8,{"$f":"'gradeD (2)'!AL76","v":3},{"$f":"'gradeD (2)'!AM76","v":3.5},{"$f":"'gradeD (2)'!AP76","v":0},{"$f":"'gradeD (2)'!AR76","v":0},null,"ค่า S.D.",4.8533178216093606,12.229714406873287]
[27,2,44,43,86,1.08,60.8,{"$f":"COUNTIF(กรอกข้อมูล!A$2:A$401,A75)","v":2},2,44,44,43,43,{"$f":"L75*100/กรอกข้อมูล!AO$7","v":86},86,{"$f":"VLOOKUP(N75,Ztable!D75:G1462,4)","v":1.08},1.08,60.8,60.8,{"$f":"'gradeD (2)'!AL77","v":3},{"$f":"'gradeD (2)'!AM77","v":3},{"$f":"'gradeD (2)'!AP77","v":0},{"$f":"'gradeD (2)'!AR77","v":0},null,"ค่ามากที่สุด",31,73.25]
[26,4,42,40,80,0.84,58.4,{"$f":"COUNTIF(กรอกข้อมูล!A$2:A$401,A76)","v":4},4,42,42,40,40,{"$f":"L76*100/กรอกข้อมูล!AO$7","v":80},80,{"$f":"VLOOKUP(N76,Ztable!D76:G1463,4)","v":0.84},0.84,58.4,58.4,{"$f":"'gradeD (2)'!AL78","v":2},{"$f":"'gradeD (2)'!AM78","v":2.5},{"$f":"'gradeD (2)'!AP78","v":0},{"$f":"'gradeD (2)'!AR78","v":0},null,"ค่าน้อยที่สุด",12,29.45]
[25,3,38,36.5,73,0.61,56.1,{"$f":"COUNTIF(กรอกข้อมูล!A$2:A$401,A77)","v":3},3,38,38,36.5,36.5,{"$f":"L77*100/กรอกข้อมูล!AO$7","v":73},73,{"$f":"VLOOKUP(N77,Ztable!D77:G1464,4)","v":0.61},0.61,56.1,56.1,{"$f":"'gradeD (2)'!AL79","v":2},{"$f":"'gradeD (2)'!AM79","v":2.5},{"$f":"'gradeD (2)'!AP79","v":0},{"$f":"'gradeD (2)'!AR79","v":0}]
[24,3,35,33.5,67,0.44,54.4,{"$f":"COUNTIF(กรอกข้อมูล!A$2:A$401,A78)","v":3},3,35,35,33.5,33.5,{"$f":"L78*100/กรอกข้อมูล!AO$7","v":67},67,{"$f":"VLOOKUP(N78,Ztable!D78:G1465,4)","v":0.44},0.44,54.4,54.4,{"$f":"'gradeD (2)'!AL80","v":2},{"$f":"'gradeD (2)'!AM80","v":2.5},{"$f":"'gradeD (2)'!AP80","v":0},{"$f":"'gradeD (2)'!AR80","v":0}]
[23,4,32,30,60,0.25,52.5,{"$f":"COUNTIF(กรอกข้อมูล!A$2:A$401,A79)","v":4},4,32,32,30,30,{"$f":"L79*100/กรอกข้อมูล!AO$7","v":60},60,{"$f":"VLOOKUP(N79,Ztable!D79:G1466,4)","v":0.25},0.25,52.5,52.5,{"$f":"'gradeD (2)'!AL81","v":2},{"$f":"'gradeD (2)'!AM81","v":2.5},{"$f":"'gradeD (2)'!AP81","v":0},{"$f":"'gradeD (2)'!AR81","v":0}]
[22,2,28,27,54,0.1,51,{"$f":"COUNTIF(กรอกข้อมูล!A$2:A$401,A80)","v":2},2,28,28,27,27,{"$f":"L80*100/กรอกข้อมูล!AO$7","v":54},54,{"$f":"VLOOKUP(N80,Ztable!D80:G1467,4)","v":0.1},0.1,51,51,{"$f":"'gradeD (2)'!AL82","v":2},{"$f":"'gradeD (2)'!AM82","v":2},{"$f":"'gradeD (2)'!AP82","v":0},{"$f":"'gradeD (2)'!AR82","v":0}]
[21,6,26,23,46,-0.105,48.95,{"$f":"COUNTIF(กรอกข้อมูล!A$2:A$401,A81)","v":6},6,26,26,23,23,{"$f":"L81*100/กรอกข้อมูล!AO$7","v":46},46,{"$f":"VLOOKUP(N81,Ztable!D81:G1468,4)","v":-0.105},-0.105,48.95,48.95,{"$f":"'gradeD (2)'!AL83","v":2},{"$f":"'gradeD (2)'!AM83","v":2},{"$f":"'gradeD (2)'!AP83","v":0},{"$f":"'gradeD (2)'!AR83","v":0}]
[20,3,20,18.5,37,-0.33500000000000002,46.65,{"$f":"COUNTIF(กรอกข้อมูล!A$2:A$401,A82)","v":3},3,20,20,18.5,18.5,{"$f":"L82*100/กรอกข้อมูล!AO$7","v":37},37,{"$f":"VLOOKUP(N82,Ztable!D82:G1469,4)","v":-0.33500000000000002},-0.33500000000000002,46.65,46.65,{"$f":"'gradeD (2)'!AL84","v":2},{"$f":"'gradeD (2)'!AM84","v":2},{"$f":"'gradeD (2)'!AP84","v":0},{"$f":"'gradeD (2)'!AR84","v":0}]
[19,4,17,15,30,-0.52500000000000002,44.75,{"$f":"COUNTIF(กรอกข้อมูล!A$2:A$401,A83)","v":4},4,17,17,15,15,{"$f":"L83*100/กรอกข้อมูล!AO$7","v":30},30,{"$f":"VLOOKUP(N83,Ztable!D83:G1470,4)","v":-0.52500000000000002},-0.52500000000000002,44.75,44.75,{"$f":"'gradeD (2)'!AL85","v":2},{"$f":"'gradeD (2)'!AM85","v":2},{"$f":"'gradeD (2)'!AP85","v":0},{"$f":"'gradeD (2)'!AR85","v":0}]
[18,2,13,12,24,-0.71,42.9,{"$f":"COUNTIF(กรอกข้อมูล!A$2:A$401,A84)","v":2},2,13,13,12,12,{"$f":"L84*100/กรอกข้อมูล!AO$7","v":24},24,{"$f":"VLOOKUP(N84,Ztable!D84:G1471,4)","v":-0.71},-0.71,42.9,42.9,{"$f":"'gradeD (2)'!AL86","v":1},{"$f":"'gradeD (2)'!AM86","v":1.5},{"$f":"'gradeD (2)'!AP86","v":0},{"$f":"'gradeD (2)'!AR86","v":0}]
[17,3,11,9.5,19,-0.88,41.2,{"$f":"COUNTIF(กรอกข้อมูล!A$2:A$401,A85)","v":3},3,11,11,9.5,9.5,{"$f":"L85*100/กรอกข้อมูล!AO$7","v":19},19,{"$f":"VLOOKUP(N85,Ztable!D85:G1472,4)","v":-0.88},-0.88,41.2,41.2,{"$f":"'gradeD (2)'!AL87","v":1},{"$f":"'gradeD (2)'!AM87","v":1.5},{"$f":"'gradeD (2)'!AP87","v":0},{"$f":"'gradeD (2)'!AR87","v":0}]
[16,2,8,7,14,-1.085,39.15,{"$f":"COUNTIF(กรอกข้อมูล!A$2:A$401,A86)","v":2},2,8,8,7,7,{"$f":"L86*100/กรอกข้อมูล!AO$7","v":14},14,{"$f":"VLOOKUP(N86,Ztable!D86:G1473,4)","v":-1.085},-1.085,39.15,39.15,{"$f":"'gradeD (2)'!AL88","v":1},{"$f":"'gradeD (2)'!AM88","v":1},{"$f":"'gradeD (2)'!AP88","v":0},{"$f":"'gradeD (2)'!AR88","v":0}]
[15,2,6,5,10,-1.2849999999999999,37.15,{"$f":"COUNTIF(กรอกข้อมูล!A$2:A$401,A87)","v":2},2,6,6,5,5,{"$f":"L87*100/กรอกข้อมูล!AO$7","v":10},10,{"$f":"VLOOKUP(N87,Ztable!D87:G1474,4)","v":-1.2849999999999999},-1.2849999999999999,37.15,37.15,{"$f":"'gradeD (2)'!AL89","v":1},{"$f":"'gradeD (2)'!AM89","v":1},{"$f":"'gradeD (2)'!AP89","v":0},{"$f":"'gradeD (2)'!AR89","v":0}]
[14,1,4,3.5,7,-1.48,35.200000000000003,{"$f":"COUNTIF(กรอกข้อมูล!A$2:A$401,A88)","v":1},1,4,4,3.5,3.5,{"$f":"L88*100/กรอกข้อมูล!AO$7","v":7},7,{"$f":"VLOOKUP(N88,Ztable!D88:G1475,4)","v":-1.48},-1.48,35.200000000000003,35.200000000000003,{"$f":"'gradeD (2)'!AL90","v":0},{"$f":"'gradeD (2)'!AM90","v":0},{"$f":"'gradeD (2)'!AP90","v":0},{"$f":"'gradeD (2)'!AR90","v":0}]
[13,1,3,2.5,5,-1.645,33.549999999999997,{"$f":"COUNTIF(กรอกข้อมูล!A$2:A$401,A89)","v":1},1,3,3,2.5,2.5,{"$f":"L89*100/กรอกข้อมูล!AO$7","v":5},5,{"$f":"VLOOKUP(N89,Ztable!D89:G1476,4)","v":-1.645},-1.645,33.549999999999997,33.549999999999997,{"$f":"'gradeD (2)'!AL91","v":0},{"$f":"'gradeD (2)'!AM91","v":0},{"$f":"'gradeD (2)'!AP91","v":0},{"$f":"'gradeD (2)'!AR91","v":0}]
[12,2,2,1,2,-2.0550000000000002,29.45,{"$f":"COUNTIF(กรอกข้อมูล!A$2:A$401,A90)","v":2},2,2,2,1,1,{"$f":"L90*100/กรอกข้อมูล!AO$7","v":2},2,{"$f":"VLOOKUP(N90,Ztable!D90:G1477,4)","v":-2.0550000000000002},-2.0550000000000002,29.45,29.45,{"$f":"'gradeD (2)'!AL92","v":0},{"$f":"'gradeD (2)'!AM92","v":0},{"$f":"'gradeD (2)'!AP92","v":0},{"$f":"'gradeD (2)'!AR92","v":0}]
[11,"","","","","","",{"$f":"COUNTIF(กรอกข้อมูล!A$2:A$401,A91)","v":0},"",0,"",0,"",{"$f":"L91*100/กรอกข้อมูล!AO$7","v":0},"",{"$f":"VLOOKUP(N91,Ztable!D91:G1478,4)","v":{"$error":"#N/A"}},"",{"$error":"#N/A"},"",{"$f":"'gradeD (2)'!AL93","v":""},{"$f":"'gradeD (2)'!AM93","v":""},{"$f":"'gradeD (2)'!AP93","v":""},{"$f":"'gradeD (2)'!AR93","v":""}]
[10,"","","","","","",{"$f":"COUNTIF(กรอกข้อมูล!A$2:A$401,A92)","v":0},"",0,"",0,"",{"$f":"L92*100/กรอกข้อมูล!AO$7","v":0},"",{"$f":"VLOOKUP(N92,Ztable!D92:G1479,4)","v":{"$error":"#N/A"}},"",{"$error":"#N/A"},"",{"$f":"'gradeD (2)'!AL94","v":""},{"$f":"'gradeD (2)'!AM94","v":""},{"$f":"'gradeD (2)'!AP94","v":""},{"$f":"'gradeD (2)'!AR94","v":""},null,null,{"$f":"Z1","v":"คะแนนที่ได้"},"T-score"]
[9,"","","","","","",{"$f":"COUNTIF(กรอกข้อมูล!A$2:A$401,A93)","v":0},"",{"$f":"J94+H93","v":0},"",{"$f":"J94+1/2*H93","v":0},"",{"$f":"L93*100/กรอกข้อมูล!AO$7","v":0},"",{"$f":"VLOOKUP(N93,Ztable!D93:G1480,4)","v":{"$error":"#N/A"}},"",{"$error":"#N/A"},"",{"$f":"'gradeD (2)'!AL95","v":""},{"$f":"'gradeD (2)'!AM95","v":""},{"$f":"'gradeD (2)'!AP95","v":""},{"$f":"'gradeD (2)'!AR95","v":""},null,"ค่าคะแนนเฉลี่ย",21.58,20.009]
[8,"","","","","","",{"$f":"COUNTIF(กรอกข้อมูล!A$2:A$401,A94)","v":0},"",{"$f":"J95+H94","v":0},"",0,"",{"$f":"L94*100/กรอกข้อมูล!AO$7","v":0},"",{"$f":"VLOOKUP(N94,Ztable!D94:G1481,4)","v":{"$error":"#N/A"}},"",{"$error":"#N/A"},"",{"$f":"'gradeD (2)'!AL96","v":""},{"$f":"'gradeD (2)'!AM96","v":""},{"$f":"'gradeD (2)'!AP96","v":""},{"$f":"'gradeD (2)'!AR96","v":""},null,"ค่า S.D.",4.8533178216093606,12.229714406873287]
[7,"","","","","","",{"$f":"COUNTIF(กรอกข้อมูล!A$2:A$401,A95)","v":0},"",0,"",0,"",{"$f":"L95*100/กรอกข้อมูล!AO$7","v":0},"",{"$f":"VLOOKUP(N95,Ztable!D95:G1482,4)","v":{"$error":"#N/A"}},"",{"$error":"#N/A"},"",{"$f":"'gradeD (2)'!AL97","v":""},{"$f":"'gradeD (2)'!AM97","v":""},{"$f":"'gradeD (2)'!AP97","v":""},{"$f":"'gradeD (2)'!AR97","v":""},null,"ค่ามากที่สุด",31,73.25]
[6,"","","","","","",{"$f":"COUNTIF(กรอกข้อมูล!A$2:A$401,A96)","v":0},"",0,"",0,"",{"$f":"L96*100/กรอกข้อมูล!AO$7","v":0},"",{"$f":"VLOOKUP(N96,Ztable!D96:G1483,4)","v":{"$error":"#N/A"}},"",{"$error":"#N/A"},"",{"$f":"'gradeD (2)'!AL98","v":""},{"$f":"'gradeD (2)'!AM98","v":""},{"$f":"'gradeD (2)'!AP98","v":""},{"$f":"'gradeD (2)'!AR98","v":""},null,"ค่าน้อยที่สุด",12,29.45]
[5,"","","","","","",{"$f":"COUNTIF(กรอกข้อมูล!A$2:A$401,A97)","v":0},"",0,"",0,"",{"$f":"L97*100/กรอกข้อมูล!AO$7","v":0},"",{"$f":"VLOOKUP(N97,Ztable!D97:G1484,4)","v":{"$error":"#N/A"}},"",{"$error":"#N/A"},"",{"$f":"'gradeD (2)'!AL99","v":""},{"$f":"'gradeD (2)'!AM99","v":""},{"$f":"'gradeD (2)'!AP99","v":""},{"$f":"'gradeD (2)'!AR99","v":""}]
[4,"","","","","","",{"$f":"COUNTIF(กรอกข้อมูล!A$2:A$401,A98)","v":0},"",0,"",0,"",{"$f":"L98*100/กรอกข้อมูล!AO$7","v":0},"",{"$f":"VLOOKUP(N98,Ztable!D98:G1485,4)","v":{"$error":"#N/A"}},"",{"$error":"#N/A"},"",{"$f":"'gradeD (2)'!AL100","v":""},{"$f":"'gradeD (2)'!AM100","v":""},{"$f":"'gradeD (2)'!AP100","v":""},{"$f":"'gradeD (2)'!AR100","v":""}]
[3,"","","","","","",{"$f":"COUNTIF(กรอกข้อมูล!A$2:A$401,A99)","v":0},"",0,"",0,"",{"$f":"L99*100/กรอกข้อมูล!AO$7","v":0},"",{"$f":"VLOOKUP(N99,Ztable!D99:G1486,4)","v":{"$error":"#N/A"}},"",{"$error":"#N/A"},"",{"$f":"'gradeD (2)'!AL101","v":""},{"$f":"'gradeD (2)'!AM101","v":""},{"$f":"'gradeD (2)'!AP101","v":""},{"$f":"'gradeD (2)'!AR101","v":""}]
[2,"","","","","","",{"$f":"COUNTIF(กรอกข้อมูล!A$2:A$401,A100)","v":0},"",0,"",0,"",{"$f":"L100*100/กรอกข้อมูล!AO$7","v":0},"",{"$f":"VLOOKUP(N100,Ztable!D100:G1487,4)","v":{"$error":"#N/A"}},"",{"$error":"#N/A"},"",{"$f":"'gradeD (2)'!AL102","v":""},{"$f":"'gradeD (2)'!AM102","v":""},{"$f":"'gradeD (2)'!AP102","v":""},{"$f":"'gradeD (2)'!AR102","v":""}]
[1,"","","","","","",{"$f":"COUNTIF(กรอกข้อมูล!A$2:A$401,A101)","v":0},"",{"$f":"J102+H101","v":0},"",{"$f":"J102+1/2*H101","v":0},"",{"$f":"L101*100/กรอกข้อมูล!AO$7","v":0},"",{"$f":"VLOOKUP(N101,Ztable!D101:G1488,4)","v":{"$error":"#N/A"}},"",{"$error":"#N/A"},"",{"$f":"'gradeD (2)'!AL103","v":""},{"$f":"'gradeD (2)'!AM103","v":""},{"$f":"'gradeD (2)'!AP103","v":""},{"$f":"'gradeD (2)'!AR103","v":""}]
[0,{"$nulls":6},{"$f":"COUNTIF(กรอกข้อมูล!A$2:A$401,A102)","v":0},"",0,"",{"$f":"J103+1/2*H102","v":0}]

{"sheet":"gradeD (2)","index":12,"n_rows":103,"n_cols":44,"rows_kept":103,"cut":false,"hidden":false,"merged":[[0,0,0,9]]}
["การคำนวณจำนวนเกรดจากวิธีของดักลาส (Douglas Method) สำหรับแผ่นงาน TมาตรฐานZ"]
[]
["ตารางเทียบจำนวนเกรด แบบ 5 เกรด",{"$nulls":5},"คำนวณแบบ 5 เกรดตามเกณฑ์",{"$nulls":4},"คำนวณแบบ 8 เกรดตามเกณฑ์",{"$nulls":6},{"$f":"TมาตรฐานT!G1","v":"ความถี่ (f)"},{"$f":"TมาตรฐานT!P1","v":"T-score"},"Grade (5/5)","Grade (5/5)","Grade (8/8)","Grade (8/8)","Grade (3/5)","Grade (3/5)","Grade (3/8)","Grade (3/8)","Grade (4/5)","Grade (4/5)","Grade (4/8)","Grade (4/8)","Grade (2/5)","Grade (2/5)","Grade (2/8)","Grade (2/8)",null,{"$f":"IF($D$10=5,V3,IF($D$10=4,AD3,IF($D$10=3,Z3,AH3)))","v":"Grade (5/5)"},{"$f":"IF($D$10=5,X3,IF($D$10=4,AF3,IF($D$10=3,AB3,AJ3)))","v":"Grade (8/8)"},{"$f":"TมาตรฐานT!A1","v":"คะแนน"},"Gradeคะแนนดิบ (5)","Gradeคะแนนดิบ (5)","Gradeคะแนนดิบ (8)","Gradeคะแนนดิบ (8)"]
["                     Min/Max",null,null,"จำนวนเกรด","ตัวหารพิสัย",null,null,"ค่าคะแนน",null,"เกรด",null,null,"ค่าคะแนน",null,"เกรด",null,null,null,{"$f":"TมาตรฐานT!G2","v":0},{"$f":"TมาตรฐานZ!R2","v":100},{"$f":"IF(T4>='gradeD (2)'!B$37,'gradeD (2)'!D$37,IF(T4>='gradeD (2)'!B$38,'gradeD (2)'!D$38,IF(T4>='gradeD (2)'!B$39,'gradeD (2)'!D$39,IF(T4>='gradeD (2)'!B$40,'gradeD (2)'!D$40,'gradeD (2)'!D$41))))","v":4},{"$f":"IF(S4=0,\"\",U4)","v":""},{"$f":"IF(T4>='gradeD (2)'!E$37,'gradeD (2)'!G$37,IF(T4>='gradeD (2)'!E$38,'gradeD (2)'!G$38,IF(T4>='gradeD (2)'!E$39,'gradeD (2)'!G$39,IF(T4>='gradeD (2)'!E$40,'gradeD (2)'!G$40,IF(T4>='gradeD (2)'!E$41,'gradeD (2)'!G$41,IF(T4>='gradeD (2)'!E$42,'gradeD (2)'!G$42,IF(T4>='gradeD (2)'!E$43,'gradeD (2)'!G$43,'gradeD (2)'!G$44)))))))","v":4},{"$f":"IF(S4=0,\"\",W4)","v":""},{"$f":"IF(T4>='gradeD (2)'!I$42,'gradeD (2)'!K$42,IF(T4>='gradeD (2)'!I$43,'gradeD (2)'!K$43,'gradeD (2)'!K$44))","v":3},{"$f":"IF(S4=0,\"\",Y4)","v":""},{"$f":"IF(T4>=L$38,N$38,IF(T4>=L$39,N$39,IF(T4>=L$40,N$40,IF(T4>=L$41,N$41,N$42))))","v":3},{"$f":"IF(S4=0,\"\",AA4)","v":""},{"$f":"IF(T4>=B$47,D$47,IF(T4>=B$48,D$48,IF(T4>=B$49,D$49,D$50)))","v":4},{"$f":"IF(S4=0,\"\",AC4)","v":""},{"$f":"IF(T4>=B$52,D$52,IF(T4>=B$53,D$53,IF(T4>=B$54,D$54,IF(T4>=B$55,D$55,IF(T4>=B$56,D$56,IF(T4>=B$57,D$57,D$58))))))","v":4},{"$f":"IF(S4=0,\"\",AE4)","v":""},{"$f":"IF(T4>=F$48,G$48,G$49)","v":3},{"$f":"IF(S4=0,\"\",AG4)","v":""},{"$f":"IF(T4>=E$52,G$52,IF(T4>=E$53,G$53,G$54))","v":3},{"$f":"IF(S4=0,\"\",AI4)","v":""},null,{"$f":"IF($D$10=5,V4,IF($D$10=4,AD4,IF($D$10=3,Z4,AH4)))","v":""},{"$f":"IF($D$10=5,X4,IF($D$10=4,AF4,IF($D$10=3,AB4,AJ4)))","v":""},{"$f":"TมาตรฐานT!A2","v":100},{"$f":"IF(AN4>=G$9,J$9,IF(AN4>=G$8,J$8,IF(AN4>=G$7,J$7,IF(AN4>=G$6,J$6,J$5))))","v":4},{"$f":"IF(S4=0,\"\",AO4)","v":""},{"$f":"IF(AN4>=L$12,O$12,IF(AN4>=L$11,O$11,IF(AN4>=L$10,O$10,IF(AN4>=L$9,O$9,IF(AN4>=L$8,O$8,IF(AN4>=L$7,O$7,IF(AN4>=L$6,O$6,O$5)))))))","v":4},{"$f":"IF(S4=0,\"\",AQ4)","v":""}]
[0,"-",0.49,5,6,null,0,"-",49,0,null,0,"-",49,0,null,null,null,{"$f":"TมาตรฐานT!G3","v":0},{"$f":"TมาตรฐานZ!R3","v":100},{"$f":"IF(T5>='gradeD (2)'!B$37,'gradeD (2)'!D$37,IF(T5>='gradeD (2)'!B$38,'gradeD (2)'!D$38,IF(T5>='gradeD (2)'!B$39,'gradeD (2)'!D$39,IF(T5>='gradeD (2)'!B$40,'gradeD (2)'!D$40,'gradeD (2)'!D$41))))","v":4},{"$f":"IF(S5=0,\"\",U5)","v":""},{"$f":"IF(T5>='gradeD (2)'!E$37,'gradeD (2)'!G$37,IF(T5>='gradeD (2)'!E$38,'gradeD (2)'!G$38,IF(T5>='gradeD (2)'!E$39,'gradeD (2)'!G$39,IF(T5>='gradeD (2)'!E$40,'gradeD (2)'!G$40,IF(T5>='gradeD (2)'!E$41,'gradeD (2)'!G$41,IF(T5>='gradeD (2)'!E$42,'gradeD (2)'!G$42,IF(T5>='gradeD (2)'!E$43,'gradeD (2)'!G$43,'gradeD (2)'!G$44)))))))","v":4},{"$f":"IF(S5=0,\"\",W5)","v":""},{"$f":"IF(T5>='gradeD (2)'!I$42,'gradeD (2)'!K$42,IF(T5>='gradeD (2)'!I$43,'gradeD (2)'!K$43,'gradeD (2)'!K$44))","v":3},{"$f":"IF(S5=0,\"\",Y5)","v":""},3,{"$f":"IF(S5=0,\"\",AA5)","v":""},4,{"$f":"IF(S5=0,\"\",AC5)","v":""},4,{"$f":"IF(S5=0,\"\",AE5)","v":""},3,{"$f":"IF(S5=0,\"\",AG5)","v":""},3,{"$f":"IF(S5=0,\"\",AI5)","v":""},null,{"$f":"IF($D$10=5,V5,IF($D$10=4,AD5,IF($D$10=3,Z5,AH5)))","v":""},"",{"$f":"TมาตรฐานT!A3","v":99},{"$f":"IF(AN5>=G$9,J$9,IF(AN5>=G$8,J$8,IF(AN5>=G$7,J$7,IF(AN5>=G$6,J$6,J$5))))","v":4},{"$f":"IF(S5=0,\"\",AO5)","v":""},{"$f":"IF(AN5>=L$12,O$12,IF(AN5>=L$11,O$11,IF(AN5>=L$10,O$10,IF(AN5>=L$9,O$9,IF(AN5>=L$8,O$8,IF(AN5>=L$7,O$7,IF(AN5>=L$6,O$6,O$5)))))))","v":4},{"$f":"IF(S5=0,\"\",AQ5)","v":""}]
[0.5,"-",0.69,4,5,null,50,"-",59,1,null,50,null,54,1,null,null,null,{"$f":"TมาตรฐานT!G4","v":0},{"$f":"TมาตรฐานZ!R4","v":100},{"$f":"IF(T6>='gradeD (2)'!B$37,'gradeD (2)'!D$37,IF(T6>='gradeD (2)'!B$38,'gradeD (2)'!D$38,IF(T6>='gradeD (2)'!B$39,'gradeD (2)'!D$39,IF(T6>='gradeD (2)'!B$40,'gradeD (2)'!D$40,'gradeD (2)'!D$41))))","v":4},"",{"$f":"IF(T6>='gradeD (2)'!E$37,'gradeD (2)'!G$37,IF(T6>='gradeD (2)'!E$38,'gradeD (2)'!G$38,IF(T6>='gradeD (2)'!E$39,'gradeD (2)'!G$39,IF(T6>='gradeD (2)'!E$40,'gradeD (2)'!G$40,IF(T6>='gradeD (2)'!E$41,'gradeD (2)'!G$41,IF(T6>='gradeD (2)'!E$42,'gradeD (2)'!G$42,IF(T6>='gradeD (2)'!E$43,'gradeD (2)'!G$43,'gradeD (2)'!G$44)))))))","v":4},"",{"$f":"IF(T6>='gradeD (2)'!I$42,'gradeD (2)'!K$42,IF(T6>='gradeD (2)'!I$43,'gradeD (2)'!K$43,'gradeD (2)'!K$44))","v":3},"",3,"",4,"",4,"",3,"",3,"",null,"","",{"$f":"TมาตรฐานT!A4","v":98},4,"",4,""]
[0.7,"-",0.89,3,4,null,60,"-",69,2,null,55,"-",59,1.5,null,null,null,{"$f":"TมาตรฐานT!G5","v":0},{"$f":"TมาตรฐานZ!R5","v":100},{"$f":"IF(T7>='gradeD (2)'!B$37,'gradeD (2)'!D$37,IF(T7>='gradeD (2)'!B$38,'gradeD (2)'!D$38,IF(T7>='gradeD (2)'!B$39,'gradeD (2)'!D$39,IF(T7>='gradeD (2)'!B$40,'gradeD (2)'!D$40,'gradeD (2)'!D$41))))","v":4},"",{"$f":"IF(T7>='gradeD (2)'!E$37,'gradeD (2)'!G$37,IF(T7>='gradeD (2)'!E$38,'gradeD (2)'!G$38,IF(T7>='gradeD (2)'!E$39,'gradeD (2)'!G$39,IF(T7>='gradeD (2)'!E$40,'gradeD (2)'!G$40,IF(T7>='gradeD (2)'!E$41,'gradeD (2)'!G$41,IF(T7>='gradeD (2)'!E$42,'gradeD (2)'!G$42,IF(T7>='gradeD (2)'!E$43,'gradeD (2)'!G$43,'gradeD (2)'!G$44)))))))","v":4},"",{"$f":"IF(T7>='gradeD (2)'!I$42,'gradeD (2)'!K$42,IF(T7>='gradeD (2)'!I$43,'gradeD (2)'!K$43,'gradeD (2)'!K$44))","v":3},"",3,"",4,"",4,"",3,"",3,"",null,"","",{"$f":"TมาตรฐานT!A5","v":97},4,"",4,""]
[0.9,"-",0.94,2,3,null,70,"-",79,3,null,60,null,64,2,null,null,null,{"$f":"TมาตรฐานT!G6","v":0},{"$f":"TมาตรฐานZ!R6","v":100},{"$f":"IF(T8>='gradeD (2)'!B$37,'gradeD (2)'!D$37,IF(T8>='gradeD (2)'!B$38,'gradeD (2)'!D$38,IF(T8>='gradeD (2)'!B$39,'gradeD (2)'!D$39,IF(T8>='gradeD (2)'!B$40,'gradeD (2)'!D$40,'gradeD (2)'!D$41))))","v":4},"",{"$f":"IF(T8>='gradeD (2)'!E$37,'gradeD (2)'!G$37,IF(T8>='gradeD (2)'!E$38,'gradeD (2)'!G$38,IF(T8>='gradeD (2)'!E$39,'gradeD (2)'!G$39,IF(T8>='gradeD (2)'!E$40,'gradeD (2)'!G$40,IF(T8>='gradeD (2)'!E$41,'gradeD (2)'!G$41,IF(T8>='gradeD (2)'!E$42,'gradeD (2)'!G$42,IF(T8>='gradeD (2)'!E$43,'gradeD (2)'!G$43,'gradeD (2)'!G$44)))))))","v":4},"",{"$f":"IF(T8>='gradeD (2)'!I$42,'gradeD (2)'!K$42,IF(T8>='gradeD (2)'!I$43,'gradeD (2)'!K$43,'gradeD (2)'!K$44))","v":3},"",3,"",4,"",4,"",3,"",3,"",null,"","",{"$f":"TมาตรฐานT!A6","v":96},4,"",4,""]
[0.95,"-",1,1,2,null,80,"-",100,4,null,65,"-",69,2.5,null,null,null,{"$f":"TมาตรฐานT!G7","v":0},{"$f":"TมาตรฐานZ!R7","v":100},{"$f":"IF(T9>='gradeD (2)'!B$37,'gradeD (2)'!D$37,IF(T9>='gradeD (2)'!B$38,'gradeD (2)'!D$38,IF(T9>='gradeD (2)'!B$39,'gradeD (2)'!D$39,IF(T9>='gradeD (2)'!B$40,'gradeD (2)'!D$40,'gradeD (2)'!D$41))))","v":4},"",{"$f":"IF(T9>='gradeD (2)'!E$37,'gradeD (2)'!G$37,IF(T9>='gradeD (2)'!E$38,'gradeD (2)'!G$38,IF(T9>='gradeD (2)'!E$39,'gradeD (2)'!G$39,IF(T9>='gradeD (2)'!E$40,'gradeD (2)'!G$40,IF(T9>='gradeD (2)'!E$41,'gradeD (2)'!G$41,IF(T9>='gradeD (2)'!E$42,'gradeD (2)'!G$42,IF(T9>='gradeD (2)'!E$43,'gradeD (2)'!G$43,'gradeD (2)'!G$44)))))))","v":4},"",{"$f":"IF(T9>='gradeD (2)'!I$42,'gradeD (2)'!K$42,IF(T9>='gradeD (2)'!I$43,'gradeD (2)'!K$43,'gradeD (2)'!K$44))","v":3},"",3,"",4,"",4,"",3,"",3,"",null,"","",{"$f":"TมาตรฐานT!A7","v":95},4,"",4,""]
["Min/Max =",{"$f":"MIN(TมาตรฐานT!P2:P101)/MAX(TมาตรฐานT!P2:P101)","v":0.39726027397260272},null,{"$f":"VLOOKUP(B10,A5:D9,4)","v":5},{"$f":"VLOOKUP(B10,A5:E9,5)","v":6},{"$nulls":6},70,null,74,3,null,null,null,{"$f":"TมาตรฐานT!G8","v":0},{"$f":"TมาตรฐานZ!R8","v":100},{"$f":"IF(T10>='gradeD (2)'!B$37,'gradeD (2)'!D$37,IF(T10>='gradeD (2)'!B$38,'gradeD (2)'!D$38,IF(T10>='gradeD (2)'!B$39,'gradeD (2)'!D$39,IF(T10>='gradeD (2)'!B$40,'gradeD (2)'!D$40,'gradeD (2)'!D$41))))","v":4},"",{"$f":"IF(T10>='gradeD (2)'!E$37,'gradeD (2)'!G$37,IF(T10>='gradeD (2)'!E$38,'gradeD (2)'!G$38,IF(T10>='gradeD (2)'!E$39,'gradeD (2)'!G$39,IF(T10>='gradeD (2)'!E$40,'gradeD (2)'!G$40,IF(T10>='gradeD (2)'!E$41,'gradeD (2)'!G$41,IF(T10>='gradeD (2)'!E$42,'gradeD (2)'!G$42,IF(T10>='gradeD (2)'!E$43,'gradeD (2)'!G$43,'gradeD (2)'!G$44)))))))","v":4},"",{"$f":"IF(T10>='gradeD (2)'!I$42,'gradeD (2)'!K$42,IF(T10>='gradeD (2)'!I$43,'gradeD (2)'!K$43,'gradeD (2)'!K$44))","v":3},"",3,"",4,"",4,"",3,"",3,"",null,"","",{"$f":"TมาตรฐานT!A8","v":94},4,"",4,""]
[{"$nulls":11},75,"-",79,3.5,null,null,null,{"$f":"TมาตรฐานT!G9","v":0},{"$f":"TมาตรฐานZ!R9","v":100},{"$f":"IF(T11>='gradeD (2)'!B$37,'gradeD (2)'!D$37,IF(T11>='gradeD (2)'!B$38,'gradeD (2)'!D$38,IF(T11>='gradeD (2)'!B$39,'gradeD (2)'!D$39,IF(T11>='gradeD (2)'!B$40,'gradeD (2)'!D$40,'gradeD (2)'!D$41))))","v":4},"",{"$f":"IF(T11>='gradeD (2)'!E$37,'gradeD (2)'!G$37,IF(T11>='gradeD (2)'!E$38,'gradeD (2)'!G$38,IF(T11>='gradeD (2)'!E$39,'gradeD (2)'!G$39,IF(T11>='gradeD (2)'!E$40,'gradeD (2)'!G$40,IF(T11>='gradeD (2)'!E$41,'gradeD (2)'!G$41,IF(T11>='gradeD (2)'!E$42,'gradeD (2)'!G$42,IF(T11>='gradeD (2)'!E$43,'gradeD (2)'!G$43,'gradeD (2)'!G$44)))))))","v":4},"",{"$f":"IF(T11>='gradeD (2)'!I$42,'gradeD (2)'!K$42,IF(T11>='gradeD (2)'!I$43,'gradeD (2)'!K$43,'gradeD (2)'!K$44))","v":3},"",3,"",4,"",4,"",3,"",3,"",null,"","",{"$f":"TมาตรฐานT!A9","v":93},4,"",4,""]
[" พิสัย =",{"$f":"MAX(TมาตรฐานT!P2:P101)-MIN(TมาตรฐานT!P2:P101)+1","v":45},null,"เกรดเลขคู่",{"$nulls":7},80,"-",100,4,null,null,null,{"$f":"TมาตรฐานT!G10","v":0},{"$f":"TมาตรฐานZ!R10","v":100},{"$f":"IF(T12>='gradeD (2)'!B$37,'gradeD (2)'!D$37,IF(T12>='gradeD (2)'!B$38,'gradeD (2)'!D$38,IF(T12>='gradeD (2)'!B$39,'gradeD (2)'!D$39,IF(T12>='gradeD (2)'!B$40,'gradeD (2)'!D$40,'gradeD (2)'!D$41))))","v":4},"",{"$f":"IF(T12>='gradeD (2)'!E$37,'gradeD (2)'!G$37,IF(T12>='gradeD (2)'!E$38,'gradeD (2)'!G$38,IF(T12>='gradeD (2)'!E$39,'gradeD (2)'!G$39,IF(T12>='gradeD (2)'!E$40,'gradeD (2)'!G$40,IF(T12>='gradeD (2)'!E$41,'gradeD (2)'!G$41,IF(T12>='gradeD (2)'!E$42,'gradeD (2)'!G$42,IF(T12>='gradeD (2)'!E$43,'gradeD (2)'!G$43,'gradeD (2)'!G$44)))))))","v":4},"",{"$f":"IF(T12>='gradeD (2)'!I$42,'gradeD (2)'!K$42,IF(T12>='gradeD (2)'!I$43,'gradeD (2)'!K$43,'gradeD (2)'!K$44))","v":3},"",3,"",4,"",4,"",3,"",3,"",null,"","",{"$f":"TมาตรฐานT!A10","v":92},4,"",4,""]
["อันตรภาคชั้น (I) =",{"$f":"B12/E10","v":7.5},{"$f":"CEILING(B13,0.5)","v":7.5},{"$f":"ISEVEN(D10)","v":false},{"$nulls":14},{"$f":"TมาตรฐานT!G11","v":0},{"$f":"TมาตรฐานZ!R11","v":100},{"$f":"IF(T13>='gradeD (2)'!B$37,'gradeD (2)'!D$37,IF(T13>='gradeD (2)'!B$38,'gradeD (2)'!D$38,IF(T13>='gradeD (2)'!B$39,'gradeD (2)'!D$39,IF(T13>='gradeD (2)'!B$40,'gradeD (2)'!D$40,'gradeD (2)'!D$41))))","v":4},"",{"$f":"IF(T13>='gradeD (2)'!E$37,'gradeD (2)'!G$37,IF(T13>='gradeD (2)'!E$38,'gradeD (2)'!G$38,IF(T13>='gradeD (2)'!E$39,'gradeD (2)'!G$39,IF(T13>='gradeD (2)'!E$40,'gradeD (2)'!G$40,IF(T13>='gradeD (2)'!E$41,'gradeD (2)'!G$41,IF(T13>='gradeD (2)'!E$42,'gradeD (2)'!G$42,IF(T13>='gradeD (2)'!E$43,'gradeD (2)'!G$43,'gradeD (2)'!G$44)))))))","v":4},"",{"$f":"IF(T13>='gradeD (2)'!I$42,'gradeD (2)'!K$42,IF(T13>='gradeD (2)'!I$43,'gradeD (2)'!K$43,'gradeD (2)'!K$44))","v":3},"",3,"",4,"",4,"",3,"",3,"",null,"","",{"$f":"TมาตรฐานT!A11","v":91},4,"",4,""]
[{"$nulls":18},{"$f":"TมาตรฐานT!G12","v":0},{"$f":"TมาตรฐานZ!R12","v":100},{"$f":"IF(T14>='gradeD (2)'!B$37,'gradeD (2)'!D$37,IF(T14>='gradeD (2)'!B$38,'gradeD (2)'!D$38,IF(T14>='gradeD (2)'!B$39,'gradeD (2)'!D$39,IF(T14>='gradeD (2)'!B$40,'gradeD (2)'!D$40,'gradeD (2)'!D$41))))","v":4},"",{"$f":"IF(T14>='gradeD (2)'!E$37,'gradeD (2)'!G$37,IF(T14>='gradeD (2)'!E$38,'gradeD (2)'!G$38,IF(T14>='gradeD (2)'!E$39,'gradeD (2)'!G$39,IF(T14>='gradeD (2)'!E$40,'gradeD (2)'!G$40,IF(T14>='gradeD (2)'!E$41,'gradeD (2)'!G$41,IF(T14>='gradeD (2)'!E$42,'gradeD (2)'!G$42,IF(T14>='gradeD (2)'!E$43,'gradeD (2)'!G$43,'gradeD (2)'!G$44)))))))","v":4},"",{"$f":"IF(T14>='gradeD (2)'!I$42,'gradeD (2)'!K$42,IF(T14>='gradeD (2)'!I$43,'gradeD (2)'!K$43,'gradeD (2)'!K$44))","v":3},"",3,"",4,"",4,"",3,"",3,"",null,"","",{"$f":"TมาตรฐานT!A12","v":90},4,"",4,""]
["ถ้าจำนวนเกรดเป็นเลขคี่ ค่าอันตรภาคชั้น (I) ของเกรดตัวกลางจะมีจำนวน 2 เท่าของอันตรภาคชั้น (I)",{"$nulls":17},{"$f":"TมาตรฐานT!G13","v":0},{"$f":"TมาตรฐานZ!R13","v":100},{"$f":"IF(T15>='gradeD (2)'!B$37,'gradeD (2)'!D$37,IF(T15>='gradeD (2)'!B$38,'gradeD (2)'!D$38,IF(T15>='gradeD (2)'!B$39,'gradeD (2)'!D$39,IF(T15>='gradeD (2)'!B$40,'gradeD (2)'!D$40,'gradeD (2)'!D$41))))","v":4},"",{"$f":"IF(T15>='gradeD (2)'!E$37,'gradeD (2)'!G$37,IF(T15>='gradeD (2)'!E$38,'gradeD (2)'!G$38,IF(T15>='gradeD (2)'!E$39,'gradeD (2)'!G$39,IF(T15>='gradeD (2)'!E$40,'gradeD (2)'!G$40,IF(T15>='gradeD (2)'!E$41,'gradeD (2)'!G$41,IF(T15>='gradeD (2)'!E$42,'gradeD (2)'!G$42,IF(T15>='gradeD (2)'!E$43,'gradeD (2)'!G$43,'gradeD (2)'!G$44)))))))","v":4},"",{"$f":"IF(T15>='gradeD (2)'!I$42,'gradeD (2)'!K$42,IF(T15>='gradeD (2)'!I$43,'gradeD (2)'!K$43,'gradeD (2)'!K$44))","v":3},"",3,"",4,"",4,"",3,"",3,"",null,"","",{"$f":"TมาตรฐานT!A13","v":89},4,"",4,""]
[" ท่านสามารถเปลี่ยนตัวเลขเกรดตามความสามารถของกลุ่มผู้เรียนได้ เช่น จำนวนเกรดเป็น 3 เกรด อาจจะเป็น 4 3 2 หรือ 3 2 1 หรือ 2 1 0 เป็นต้น",{"$nulls":17},{"$f":"TมาตรฐานT!G14","v":0},{"$f":"TมาตรฐานZ!R14","v":100},{"$f":"IF(T16>='gradeD (2)'!B$37,'gradeD (2)'!D$37,IF(T16>='gradeD (2)'!B$38,'gradeD (2)'!D$38,IF(T16>='gradeD (2)'!B$39,'gradeD (2)'!D$39,IF(T16>='gradeD (2)'!B$40,'gradeD (2)'!D$40,'gradeD (2)'!D$41))))","v":4},"",{"$f":"IF(T16>='gradeD (2)'!E$37,'gradeD (2)'!G$37,IF(T16>='gradeD (2)'!E$38,'gradeD (2)'!G$38,IF(T16>='gradeD (2)'!E$39,'gradeD (2)'!G$39,IF(T16>='gradeD (2)'!E$40,'gradeD (2)'!G$40,IF(T16>='gradeD (2)'!E$41,'gradeD (2)'!G$41,IF(T16>='gradeD (2)'!E$42,'gradeD (2)'!G$42,IF(T16>='gradeD (2)'!E$43,'gradeD (2)'!G$43,'gradeD (2)'!G$44)))))))","v":4},"",{"$f":"IF(T16>='gradeD (2)'!I$42,'gradeD (2)'!K$42,IF(T16>='gradeD (2)'!I$43,'gradeD (2)'!K$43,'gradeD (2)'!K$44))","v":3},"",3,"",4,"",4,"",3,"",3,"",null,"","",{"$f":"TมาตรฐานT!A14","v":88},4,"",4,""]
[{"$nulls":18},{"$f":"TมาตรฐานT!G15","v":0},{"$f":"TมาตรฐานZ!R15","v":100},{"$f":"IF(T17>='gradeD (2)'!B$37,'gradeD (2)'!D$37,IF(T17>='gradeD (2)'!B$38,'gradeD (2)'!D$38,IF(T17>='gradeD (2)'!B$39,'gradeD (2)'!D$39,IF(T17>='gradeD (2)'!B$40,'gradeD (2)'!D$40,'gradeD (2)'!D$41))))","v":4},"",{"$f":"IF(T17>='gradeD (2)'!E$37,'gradeD (2)'!G$37,IF(T17>='gradeD (2)'!E$38,'gradeD (2)'!G$38,IF(T17>='gradeD (2)'!E$39,'gradeD (2)'!G$39,IF(T17>='gradeD (2)'!E$40,'gradeD (2)'!G$40,IF(T17>='gradeD (2)'!E$41,'gradeD (2)'!G$41,IF(T17>='gradeD (2)'!E$42,'gradeD (2)'!G$42,IF(T17>='gradeD (2)'!E$43,'gradeD (2)'!G$43,'gradeD (2)'!G$44)))))))","v":4},"",{"$f":"IF(T17>='gradeD (2)'!I$42,'gradeD (2)'!K$42,IF(T17>='gradeD (2)'!I$43,'gradeD (2)'!K$43,'gradeD (2)'!K$44))","v":3},"",3,"",4,"",4,"",3,"",3,"",null,"","",{"$f":"TมาตรฐานT!A15","v":87},4,"",4,""]
[null,"เกรด","I (5 เกรด)","I (3 เกรด)",{"$nulls":14},{"$f":"TมาตรฐานT!G16","v":0},{"$f":"TมาตรฐานZ!R16","v":100},{"$f":"IF(T18>='gradeD (2)'!B$37,'gradeD (2)'!D$37,IF(T18>='gradeD (2)'!B$38,'gradeD (2)'!D$38,IF(T18>='gradeD (2)'!B$39,'gradeD (2)'!D$39,IF(T18>='gradeD (2)'!B$40,'gradeD (2)'!D$40,'gradeD (2)'!D$41))))","v":4},"",{"$f":"IF(T18>='gradeD (2)'!E$37,'gradeD (2)'!G$37,IF(T18>='gradeD (2)'!E$38,'gradeD (2)'!G$38,IF(T18>='gradeD (2)'!E$39,'gradeD (2)'!G$39,IF(T18>='gradeD (2)'!E$40,'gradeD (2)'!G$40,IF(T18>='gradeD (2)'!E$41,'gradeD (2)'!G$41,IF(T18>='gradeD (2)'!E$42,'gradeD (2)'!G$42,IF(T18>='gradeD (2)'!E$43,'gradeD (2)'!G$43,'gradeD (2)'!G$44)))))))","v":4},"",{"$f":"IF(T18>='gradeD (2)'!I$42,'gradeD (2)'!K$42,IF(T18>='gradeD (2)'!I$43,'gradeD (2)'!K$43,'gradeD (2)'!K$44))","v":3},"",3,"",4,"",4,"",3,"",3,"",null,"","",{"$f":"TมาตรฐานT!A16","v":86},4,"",4,""]
["ถ้าจำนวน 3 เกรด",4,{"$f":"C$13","v":7.5},{"$nulls":15},{"$f":"TมาตรฐานT!G17","v":0},{"$f":"TมาตรฐานZ!R17","v":100},{"$f":"IF(T19>='gradeD (2)'!B$37,'gradeD (2)'!D$37,IF(T19>='gradeD (2)'!B$38,'gradeD (2)'!D$38,IF(T19>='gradeD (2)'!B$39,'gradeD (2)'!D$39,IF(T19>='gradeD (2)'!B$40,'gradeD (2)'!D$40,'gradeD (2)'!D$41))))","v":4},"",{"$f":"IF(T19>='gradeD (2)'!E$37,'gradeD (2)'!G$37,IF(T19>='gradeD (2)'!E$38,'gradeD (2)'!G$38,IF(T19>='gradeD (2)'!E$39,'gradeD (2)'!G$39,IF(T19>='gradeD (2)'!E$40,'gradeD (2)'!G$40,IF(T19>='gradeD (2)'!E$41,'gradeD (2)'!G$41,IF(T19>='gradeD (2)'!E$42,'gradeD (2)'!G$42,IF(T19>='gradeD (2)'!E$43,'gradeD (2)'!G$43,'gradeD (2)'!G$44)))))))","v":4},"",{"$f":"IF(T19>='gradeD (2)'!I$42,'gradeD (2)'!K$42,IF(T19>='gradeD (2)'!I$43,'gradeD (2)'!K$43,'gradeD (2)'!K$44))","v":3},"",3,"",4,"",4,"",3,"",3,"",null,"","",{"$f":"TมาตรฐานT!A17","v":85},4,"",4,""]
["พิมพ์เปลี่ยนที่นี่ =>",3,{"$f":"C$13","v":7.5},{"$f":"$C$13","v":7.5},{"$nulls":14},{"$f":"TมาตรฐานT!G18","v":0},{"$f":"TมาตรฐานZ!R18","v":100},{"$f":"IF(T20>='gradeD (2)'!B$37,'gradeD (2)'!D$37,IF(T20>='gradeD (2)'!B$38,'gradeD (2)'!D$38,IF(T20>='gradeD (2)'!B$39,'gradeD (2)'!D$39,IF(T20>='gradeD (2)'!B$40,'gradeD (2)'!D$40,'gradeD (2)'!D$41))))","v":4},"",{"$f":"IF(T20>='gradeD (2)'!E$37,'gradeD (2)'!G$37,IF(T20>='gradeD (2)'!E$38,'gradeD (2)'!G$38,IF(T20>='gradeD (2)'!E$39,'gradeD (2)'!G$39,IF(T20>='gradeD (2)'!E$40,'gradeD (2)'!G$40,IF(T20>='gradeD (2)'!E$41,'gradeD (2)'!G$41,IF(T20>='gradeD (2)'!E$42,'gradeD (2)'!G$42,IF(T20>='gradeD (2)'!E$43,'gradeD (2)'!G$43,'gradeD (2)'!G$44)))))))","v":4},"",{"$f":"IF(T20>='gradeD (2)'!I$42,'gradeD (2)'!K$42,IF(T20>='gradeD (2)'!I$43,'gradeD (2)'!K$43,'gradeD (2)'!K$44))","v":3},"",3,"",4,"",4,"",3,"",3,"",null,"","",{"$f":"TมาตรฐานT!A18","v":84},4,"",4,""]
["พิมพ์เปลี่ยนที่นี่ =>",2,{"$f":"C$13*2","v":15},{"$f":"$C$13*2","v":15}," 2 เท่า",{"$nulls":13},{"$f":"TมาตรฐานT!G19","v":0},{"$f":"TมาตรฐานZ!R19","v":100},{"$f":"IF(T21>='gradeD (2)'!B$37,'gradeD (2)'!D$37,IF(T21>='gradeD (2)'!B$38,'gradeD (2)'!D$38,IF(T21>='gradeD (2)'!B$39,'gradeD (2)'!D$39,IF(T21>='gradeD (2)'!B$40,'gradeD (2)'!D$40,'gradeD (2)'!D$41))))","v":4},"",{"$f":"IF(T21>='gradeD (2)'!E$37,'gradeD (2)'!G$37,IF(T21>='gradeD (2)'!E$38,'gradeD (2)'!G$38,IF(T21>='gradeD (2)'!E$39,'gradeD (2)'!G$39,IF(T21>='gradeD (2)'!E$40,'gradeD (2)'!G$40,IF(T21>='gradeD (2)'!E$41,'gradeD (2)'!G$41,IF(T21>='gradeD (2)'!E$42,'gradeD (2)'!G$42,IF(T21>='gradeD (2)'!E$43,'gradeD (2)'!G$43,'gradeD (2)'!G$44)))))))","v":4},"",{"$f":"IF(T21>='gradeD (2)'!I$42,'gradeD (2)'!K$42,IF(T21>='gradeD (2)'!I$43,'gradeD (2)'!K$43,'gradeD (2)'!K$44))","v":3},"",3,"",4,"",4,"",3,"",3,"",null,"","",{"$f":"TมาตรฐานT!A19","v":83},4,"",4,""]
["พิมพ์เปลี่ยนที่นี่ =>",1,{"$f":"C$13","v":7.5},{"$f":"$C$13","v":7.5},{"$nulls":14},{"$f":"TมาตรฐานT!G20","v":0},{"$f":"TมาตรฐานZ!R20","v":100},{"$f":"IF(T22>='gradeD (2)'!B$37,'gradeD (2)'!D$37,IF(T22>='gradeD (2)'!B$38,'gradeD (2)'!D$38,IF(T22>='gradeD (2)'!B$39,'gradeD (2)'!D$39,IF(T22>='gradeD (2)'!B$40,'gradeD (2)'!D$40,'gradeD (2)'!D$41))))","v":4},"",{"$f":"IF(T22>='gradeD (2)'!E$37,'gradeD (2)'!G$37,IF(T22>='gradeD (2)'!E$38,'gradeD (2)'!G$38,IF(T22>='gradeD (2)'!E$39,'gradeD (2)'!G$39,IF(T22>='gradeD (2)'!E$40,'gradeD (2)'!G$40,IF(T22>='gradeD (2)'!E$41,'gradeD (2)'!G$41,IF(T22>='gradeD (2)'!E$42,'gradeD (2)'!G$42,IF(T22>='gradeD (2)'!E$43,'gradeD (2)'!G$43,'gradeD (2)'!G$44)))))))","v":4},"",{"$f":"IF(T22>='gradeD (2)'!I$42,'gradeD (2)'!K$42,IF(T22>='gradeD (2)'!I$43,'gradeD (2)'!K$43,'gradeD (2)'!K$44))","v":3},"",3,"",4,"",4,"",3,"",3,"",null,"","",{"$f":"TมาตรฐานT!A20","v":82},4,"",4,""]
[null,0,{"$f":"C$13","v":7.5},{"$nulls":15},{"$f":"TมาตรฐานT!G21","v":0},{"$f":"TมาตรฐานZ!R21","v":100},{"$f":"IF(T23>='gradeD (2)'!B$37,'gradeD (2)'!D$37,IF(T23>='gradeD (2)'!B$38,'gradeD (2)'!D$38,IF(T23>='gradeD (2)'!B$39,'gradeD (2)'!D$39,IF(T23>='gradeD (2)'!B$40,'gradeD (2)'!D$40,'gradeD (2)'!D$41))))","v":4},"",{"$f":"IF(T23>='gradeD (2)'!E$37,'gradeD (2)'!G$37,IF(T23>='gradeD (2)'!E$38,'gradeD (2)'!G$38,IF(T23>='gradeD (2)'!E$39,'gradeD (2)'!G$39,IF(T23>='gradeD (2)'!E$40,'gradeD (2)'!G$40,IF(T23>='gradeD (2)'!E$41,'gradeD (2)'!G$41,IF(T23>='gradeD (2)'!E$42,'gradeD (2)'!G$42,IF(T23>='gradeD (2)'!E$43,'gradeD (2)'!G$43,'gradeD (2)'!G$44)))))))","v":4},"",{"$f":"IF(T23>='gradeD (2)'!I$42,'gradeD (2)'!K$42,IF(T23>='gradeD (2)'!I$43,'gradeD (2)'!K$43,'gradeD (2)'!K$44))","v":3},"",3,"",4,"",4,"",3,"",3,"",null,"","",{"$f":"TมาตรฐานT!A21","v":81},4,"",4,""]
[null,"รวม",{"$f":"SUM(C19:C23)","v":45},{"$f":"SUM(D19:D23)","v":30},{"$nulls":14},{"$f":"TมาตรฐานT!G22","v":0},{"$f":"TมาตรฐานZ!R22","v":100},{"$f":"IF(T24>='gradeD (2)'!B$37,'gradeD (2)'!D$37,IF(T24>='gradeD (2)'!B$38,'gradeD (2)'!D$38,IF(T24>='gradeD (2)'!B$39,'gradeD (2)'!D$39,IF(T24>='gradeD (2)'!B$40,'gradeD (2)'!D$40,'gradeD (2)'!D$41))))","v":4},"",{"$f":"IF(T24>='gradeD (2)'!E$37,'gradeD (2)'!G$37,IF(T24>='gradeD (2)'!E$38,'gradeD (2)'!G$38,IF(T24>='gradeD (2)'!E$39,'gradeD (2)'!G$39,IF(T24>='gradeD (2)'!E$40,'gradeD (2)'!G$40,IF(T24>='gradeD (2)'!E$41,'gradeD (2)'!G$41,IF(T24>='gradeD (2)'!E$42,'gradeD (2)'!G$42,IF(T24>='gradeD (2)'!E$43,'gradeD (2)'!G$43,'gradeD (2)'!G$44)))))))","v":4},"",{"$f":"IF(T24>='gradeD (2)'!I$42,'gradeD (2)'!K$42,IF(T24>='gradeD (2)'!I$43,'gradeD (2)'!K$43,'gradeD (2)'!K$44))","v":3},"",3,"",4,"",4,"",3,"",3,"",null,"","",{"$f":"TมาตรฐานT!A22","v":80},4,"",4,""]
[{"$nulls":18},{"$f":"TมาตรฐานT!G23","v":0},{"$f":"TมาตรฐานZ!R23","v":100},{"$f":"IF(T25>='gradeD (2)'!B$37,'gradeD (2)'!D$37,IF(T25>='gradeD (2)'!B$38,'gradeD (2)'!D$38,IF(T25>='gradeD (2)'!B$39,'gradeD (2)'!D$39,IF(T25>='gradeD (2)'!B$40,'gradeD (2)'!D$40,'gradeD (2)'!D$41))))","v":4},"",{"$f":"IF(T25>='gradeD (2)'!E$37,'gradeD (2)'!G$37,IF(T25>='gradeD (2)'!E$38,'gradeD (2)'!G$38,IF(T25>='gradeD (2)'!E$39,'gradeD (2)'!G$39,IF(T25>='gradeD (2)'!E$40,'gradeD (2)'!G$40,IF(T25>='gradeD (2)'!E$41,'gradeD (2)'!G$41,IF(T25>='gradeD (2)'!E$42,'gradeD (2)'!G$42,IF(T25>='gradeD (2)'!E$43,'gradeD (2)'!G$43,'gradeD (2)'!G$44)))))))","v":4},"",{"$f":"IF(T25>='gradeD (2)'!I$42,'gradeD (2)'!K$42,IF(T25>='gradeD (2)'!I$43,'gradeD (2)'!K$43,'gradeD (2)'!K$44))","v":3},"",3,"",4,"",4,"",3,"",3,"",null,"","",{"$f":"TมาตรฐานT!A23","v":79},3,"",3.5,""]
["ถ้าจำนวนเกรดเป็นเลขคู่ ค่าอันตรภาคชั้น (I) ของเกรดตัวกลางที่มี 2 ค่าจะมีจำนวนอันตรภาคชั้น (I) เป็น 1.5 ",{"$nulls":17},{"$f":"TมาตรฐานT!G24","v":0},{"$f":"TมาตรฐานZ!R24","v":100},{"$f":"IF(T26>='gradeD (2)'!B$37,'gradeD (2)'!D$37,IF(T26>='gradeD (2)'!B$38,'gradeD (2)'!D$38,IF(T26>='gradeD (2)'!B$39,'gradeD (2)'!D$39,IF(T26>='gradeD (2)'!B$40,'gradeD (2)'!D$40,'gradeD (2)'!D$41))))","v":4},"",{"$f":"IF(T26>='gradeD (2)'!E$37,'gradeD (2)'!G$37,IF(T26>='gradeD (2)'!E$38,'gradeD (2)'!G$38,IF(T26>='gradeD (2)'!E$39,'gradeD (2)'!G$39,IF(T26>='gradeD (2)'!E$40,'gradeD (2)'!G$40,IF(T26>='gradeD (2)'!E$41,'gradeD (2)'!G$41,IF(T26>='gradeD (2)'!E$42,'gradeD (2)'!G$42,IF(T26>='gradeD (2)'!E$43,'gradeD (2)'!G$43,'gradeD (2)'!G$44)))))))","v":4},"",{"$f":"IF(T26>='gradeD (2)'!I$42,'gradeD (2)'!K$42,IF(T26>='gradeD (2)'!I$43,'gradeD (2)'!K$43,'gradeD (2)'!K$44))","v":3},"",3,"",4,"",4,"",3,"",3,"",null,"","",{"$f":"TมาตรฐานT!A24","v":78},3,"",3.5,""]
[{"$nulls":18},{"$f":"TมาตรฐานT!G25","v":0},{"$f":"TมาตรฐานZ!R25","v":100},{"$f":"IF(T27>='gradeD (2)'!B$37,'gradeD (2)'!D$37,IF(T27>='gradeD (2)'!B$38,'gradeD (2)'!D$38,IF(T27>='gradeD (2)'!B$39,'gradeD (2)'!D$39,IF(T27>='gradeD (2)'!B$40,'gradeD (2)'!D$40,'gradeD (2)'!D$41))))","v":4},"",{"$f":"IF(T27>='gradeD (2)'!E$37,'gradeD (2)'!G$37,IF(T27>='gradeD (2)'!E$38,'gradeD (2)'!G$38,IF(T27>='gradeD (2)'!E$39,'gradeD (2)'!G$39,IF(T27>='gradeD (2)'!E$40,'gradeD (2)'!G$40,IF(T27>='gradeD (2)'!E$41,'gradeD (2)'!G$41,IF(T27>='gradeD (2)'!E$42,'gradeD (2)'!G$42,IF(T27>='gradeD (2)'!E$43,'gradeD (2)'!G$43,'gradeD (2)'!G$44)))))))","v":4},"",{"$f":"IF(T27>='gradeD (2)'!I$42,'gradeD (2)'!K$42,IF(T27>='gradeD (2)'!I$43,'gradeD (2)'!K$43,'gradeD (2)'!K$44))","v":3},"",3,"",4,"",4,"",3,"",3,"",null,"","",{"$f":"TมาตรฐานT!A25","v":77},3,"",3.5,""]
[null,"เกรด","I (4 เกรด)","I (2 เกรด)",{"$nulls":14},{"$f":"TมาตรฐานT!G26","v":0},{"$f":"TมาตรฐานZ!R26","v":100},{"$f":"IF(T28>='gradeD (2)'!B$37,'gradeD (2)'!D$37,IF(T28>='gradeD (2)'!B$38,'gradeD (2)'!D$38,IF(T28>='gradeD (2)'!B$39,'gradeD (2)'!D$39,IF(T28>='gradeD (2)'!B$40,'gradeD (2)'!D$40,'gradeD (2)'!D$41))))","v":4},"",{"$f":"IF(T28>='gradeD (2)'!E$37,'gradeD (2)'!G$37,IF(T28>='gradeD (2)'!E$38,'gradeD (2)'!G$38,IF(T28>='gradeD (2)'!E$39,'gradeD (2)'!G$39,IF(T28>='gradeD (2)'!E$40,'gradeD (2)'!G$40,IF(T28>='gradeD (2)'!E$41,'gradeD (2)'!G$41,IF(T28>='gradeD (2)'!E$42,'gradeD (2)'!G$42,IF(T28>='gradeD (2)'!E$43,'gradeD (2)'!G$43,'gradeD (2)'!G$44)))))))","v":4},"",{"$f":"IF(T28>='gradeD (2)'!I$42,'gradeD (2)'!K$42,IF(T28>='gradeD (2)'!I$43,'gradeD (2)'!K$43,'gradeD (2)'!K$44))","v":3},"",3,"",4,"",4,"",3,"",3,"",null,"","",{"$f":"TมาตรฐานT!A26","v":76},3,"",3.5,""]
["พิมพ์เปลี่ยนที่นี่ =>",4,{"$f":"$C$13","v":7.5},{"$nulls":15},{"$f":"TมาตรฐานT!G27","v":0},{"$f":"TมาตรฐานZ!R27","v":100},{"$f":"IF(T29>='gradeD (2)'!B$37,'gradeD (2)'!D$37,IF(T29>='gradeD (2)'!B$38,'gradeD (2)'!D$38,IF(T29>='gradeD (2)'!B$39,'gradeD (2)'!D$39,IF(T29>='gradeD (2)'!B$40,'gradeD (2)'!D$40,'gradeD (2)'!D$41))))","v":4},"",{"$f":"IF(T29>='gradeD (2)'!E$37,'gradeD (2)'!G$37,IF(T29>='gradeD (2)'!E$38,'gradeD (2)'!G$38,IF(T29>='gradeD (2)'!E$39,'gradeD (2)'!G$39,IF(T29>='gradeD (2)'!E$40,'gradeD (2)'!G$40,IF(T29>='gradeD (2)'!E$41,'gradeD (2)'!G$41,IF(T29>='gradeD (2)'!E$42,'gradeD (2)'!G$42,IF(T29>='gradeD (2)'!E$43,'gradeD (2)'!G$43,'gradeD (2)'!G$44)))))))","v":4},"",{"$f":"IF(T29>='gradeD (2)'!I$42,'gradeD (2)'!K$42,IF(T29>='gradeD (2)'!I$43,'gradeD (2)'!K$43,'gradeD (2)'!K$44))","v":3},"",3,"",4,"",4,"",3,"",3,"",null,"","",{"$f":"TมาตรฐานT!A27","v":75},3,"",3.5,""]
["พิมพ์เปลี่ยนที่นี่ =>",3,{"$f":"$C$13+$C$13/2","v":11.25},{"$f":"$C$13+$C$13/2","v":11.25},"1.5 เท่า",{"$nulls":13},{"$f":"TมาตรฐานT!G28","v":0},{"$f":"TมาตรฐานZ!R28","v":100},{"$f":"IF(T30>='gradeD (2)'!B$37,'gradeD (2)'!D$37,IF(T30>='gradeD (2)'!B$38,'gradeD (2)'!D$38,IF(T30>='gradeD (2)'!B$39,'gradeD (2)'!D$39,IF(T30>='gradeD (2)'!B$40,'gradeD (2)'!D$40,'gradeD (2)'!D$41))))","v":4},"",{"$f":"IF(T30>='gradeD (2)'!E$37,'gradeD (2)'!G$37,IF(T30>='gradeD (2)'!E$38,'gradeD (2)'!G$38,IF(T30>='gradeD (2)'!E$39,'gradeD (2)'!G$39,IF(T30>='gradeD (2)'!E$40,'gradeD (2)'!G$40,IF(T30>='gradeD (2)'!E$41,'gradeD (2)'!G$41,IF(T30>='gradeD (2)'!E$42,'gradeD (2)'!G$42,IF(T30>='gradeD (2)'!E$43,'gradeD (2)'!G$43,'gradeD (2)'!G$44)))))))","v":4},"",{"$f":"IF(T30>='gradeD (2)'!I$42,'gradeD (2)'!K$42,IF(T30>='gradeD (2)'!I$43,'gradeD (2)'!K$43,'gradeD (2)'!K$44))","v":3},"",3,"",4,"",4,"",3,"",3,"",null,"","",{"$f":"TมาตรฐานT!A28","v":74},3,"",3,""]
["พิมพ์เปลี่ยนที่นี่ =>",2,{"$f":"$C$13+$C$13/2","v":11.25},{"$f":"$C$13+$C$13/2","v":11.25},"1.5 เท่า",{"$nulls":13},{"$f":"TมาตรฐานT!G29","v":0},{"$f":"TมาตรฐานZ!R29","v":100},{"$f":"IF(T31>='gradeD (2)'!B$37,'gradeD (2)'!D$37,IF(T31>='gradeD (2)'!B$38,'gradeD (2)'!D$38,IF(T31>='gradeD (2)'!B$39,'gradeD (2)'!D$39,IF(T31>='gradeD (2)'!B$40,'gradeD (2)'!D$40,'gradeD (2)'!D$41))))","v":4},"",{"$f":"IF(T31>='gradeD (2)'!E$37,'gradeD (2)'!G$37,IF(T31>='gradeD (2)'!E$38,'gradeD (2)'!G$38,IF(T31>='gradeD (2)'!E$39,'gradeD (2)'!G$39,IF(T31>='gradeD (2)'!E$40,'gradeD (2)'!G$40,IF(T31>='gradeD (2)'!E$41,'gradeD (2)'!G$41,IF(T31>='gradeD (2)'!E$42,'gradeD (2)'!G$42,IF(T31>='gradeD (2)'!E$43,'gradeD (2)'!G$43,'gradeD (2)'!G$44)))))))","v":4},"",{"$f":"IF(T31>='gradeD (2)'!I$42,'gradeD (2)'!K$42,IF(T31>='gradeD (2)'!I$43,'gradeD (2)'!K$43,'gradeD (2)'!K$44))","v":3},"",3,"",4,"",4,"",3,"",3,"",null,"","",{"$f":"TมาตรฐานT!A29","v":73},3,"",3,""]
["พิมพ์เปลี่ยนที่นี่ =>",1,{"$f":"$C$13","v":7.5},{"$nulls":15},{"$f":"TมาตรฐานT!G30","v":0},{"$f":"TมาตรฐานZ!R30","v":100},{"$f":"IF(T32>='gradeD (2)'!B$37,'gradeD (2)'!D$37,IF(T32>='gradeD (2)'!B$38,'gradeD (2)'!D$38,IF(T32>='gradeD (2)'!B$39,'gradeD (2)'!D$39,IF(T32>='gradeD (2)'!B$40,'gradeD (2)'!D$40,'gradeD (2)'!D$41))))","v":4},"",{"$f":"IF(T32>='gradeD (2)'!E$37,'gradeD (2)'!G$37,IF(T32>='gradeD (2)'!E$38,'gradeD (2)'!G$38,IF(T32>='gradeD (2)'!E$39,'gradeD (2)'!G$39,IF(T32>='gradeD (2)'!E$40,'gradeD (2)'!G$40,IF(T32>='gradeD (2)'!E$41,'gradeD (2)'!G$41,IF(T32>='gradeD (2)'!E$42,'gradeD (2)'!G$42,IF(T32>='gradeD (2)'!E$43,'gradeD (2)'!G$43,'gradeD (2)'!G$44)))))))","v":4},"",{"$f":"IF(T32>='gradeD (2)'!I$42,'gradeD (2)'!K$42,IF(T32>='gradeD (2)'!I$43,'gradeD (2)'!K$43,'gradeD (2)'!K$44))","v":3},"",3,"",4,"",4,"",3,"",3,"",null,"","",{"$f":"TมาตรฐานT!A30","v":72},3,"",3,""]
[null,"รวม",{"$f":"SUM(C29:C32)","v":37.5},{"$f":"SUM(D29:D32)","v":22.5},{"$nulls":14},{"$f":"TมาตรฐานT!G31","v":0},{"$f":"TมาตรฐานZ!R31","v":100},{"$f":"IF(T33>='gradeD (2)'!B$37,'gradeD (2)'!D$37,IF(T33>='gradeD (2)'!B$38,'gradeD (2)'!D$38,IF(T33>='gradeD (2)'!B$39,'gradeD (2)'!D$39,IF(T33>='gradeD (2)'!B$40,'gradeD (2)'!D$40,'gradeD (2)'!D$41))))","v":4},"",{"$f":"IF(T33>='gradeD (2)'!E$37,'gradeD (2)'!G$37,IF(T33>='gradeD (2)'!E$38,'gradeD (2)'!G$38,IF(T33>='gradeD (2)'!E$39,'gradeD (2)'!G$39,IF(T33>='gradeD (2)'!E$40,'gradeD (2)'!G$40,IF(T33>='gradeD (2)'!E$41,'gradeD (2)'!G$41,IF(T33>='gradeD (2)'!E$42,'gradeD (2)'!G$42,IF(T33>='gradeD (2)'!E$43,'gradeD (2)'!G$43,'gradeD (2)'!G$44)))))))","v":4},"",{"$f":"IF(T33>='gradeD (2)'!I$42,'gradeD (2)'!K$42,IF(T33>='gradeD (2)'!I$43,'gradeD (2)'!K$43,'gradeD (2)'!K$44))","v":3},"",3,"",4,"",4,"",3,"",3,"",null,"","",{"$f":"TมาตรฐานT!A31","v":71},3,"",3,""]
["ถ้าจำนวนเกรดเป็น 2 เกรด ให้พิมพ์ 2 ค่ากลางเท่านั้น",{"$nulls":17},{"$f":"TมาตรฐานT!G32","v":0},{"$f":"TมาตรฐานZ!R32","v":100},{"$f":"IF(T34>='gradeD (2)'!B$37,'gradeD (2)'!D$37,IF(T34>='gradeD (2)'!B$38,'gradeD (2)'!D$38,IF(T34>='gradeD (2)'!B$39,'gradeD (2)'!D$39,IF(T34>='gradeD (2)'!B$40,'gradeD (2)'!D$40,'gradeD (2)'!D$41))))","v":4},"",{"$f":"IF(T34>='gradeD (2)'!E$37,'gradeD (2)'!G$37,IF(T34>='gradeD (2)'!E$38,'gradeD (2)'!G$38,IF(T34>='gradeD (2)'!E$39,'gradeD (2)'!G$39,IF(T34>='gradeD (2)'!E$40,'gradeD (2)'!G$40,IF(T34>='gradeD (2)'!E$41,'gradeD (2)'!G$41,IF(T34>='gradeD (2)'!E$42,'gradeD (2)'!G$42,IF(T34>='gradeD (2)'!E$43,'gradeD (2)'!G$43,'gradeD (2)'!G$44)))))))","v":4},"",{"$f":"IF(T34>='gradeD (2)'!I$42,'gradeD (2)'!K$42,IF(T34>='gradeD (2)'!I$43,'gradeD (2)'!K$43,'gradeD (2)'!K$44))","v":3},"",3,"",4,"",4,"",3,"",3,"",null,"","",{"$f":"TมาตรฐานT!A32","v":70},3,"",3,""]
[{"$nulls":18},{"$f":"TมาตรฐานT!G33","v":0},{"$f":"TมาตรฐานZ!R33","v":100},{"$f":"IF(T35>='gradeD (2)'!B$37,'gradeD (2)'!D$37,IF(T35>='gradeD (2)'!B$38,'gradeD (2)'!D$38,IF(T35>='gradeD (2)'!B$39,'gradeD (2)'!D$39,IF(T35>='gradeD (2)'!B$40,'gradeD (2)'!D$40,'gradeD (2)'!D$41))))","v":4},"",{"$f":"IF(T35>='gradeD (2)'!E$37,'gradeD (2)'!G$37,IF(T35>='gradeD (2)'!E$38,'gradeD (2)'!G$38,IF(T35>='gradeD (2)'!E$39,'gradeD (2)'!G$39,IF(T35>='gradeD (2)'!E$40,'gradeD (2)'!G$40,IF(T35>='gradeD (2)'!E$41,'gradeD (2)'!G$41,IF(T35>='gradeD (2)'!E$42,'gradeD (2)'!G$42,IF(T35>='gradeD (2)'!E$43,'gradeD (2)'!G$43,'gradeD (2)'!G$44)))))))","v":4},"",{"$f":"IF(T35>='gradeD (2)'!I$42,'gradeD (2)'!K$42,IF(T35>='gradeD (2)'!I$43,'gradeD (2)'!K$43,'gradeD (2)'!K$44))","v":3},"",3,"",4,"",4,"",3,"",3,"",null,"","",{"$f":"TมาตรฐานT!A33","v":69},2,"",2.5,""]
[null,"I (5 เกรด)","I5","I5","I3","I3","I3","I5","I3",{"$nulls":9},{"$f":"TมาตรฐานT!G34","v":0},{"$f":"TมาตรฐานZ!R34","v":100},{"$f":"IF(T36>='gradeD (2)'!B$37,'gradeD (2)'!D$37,IF(T36>='gradeD (2)'!B$38,'gradeD (2)'!D$38,IF(T36>='gradeD (2)'!B$39,'gradeD (2)'!D$39,IF(T36>='gradeD (2)'!B$40,'gradeD (2)'!D$40,'gradeD (2)'!D$41))))","v":4},"",{"$f":"IF(T36>='gradeD (2)'!E$37,'gradeD (2)'!G$37,IF(T36>='gradeD (2)'!E$38,'gradeD (2)'!G$38,IF(T36>='gradeD (2)'!E$39,'gradeD (2)'!G$39,IF(T36>='gradeD (2)'!E$40,'gradeD (2)'!G$40,IF(T36>='gradeD (2)'!E$41,'gradeD (2)'!G$41,IF(T36>='gradeD (2)'!E$42,'gradeD (2)'!G$42,IF(T36>='gradeD (2)'!E$43,'gradeD (2)'!G$43,'gradeD (2)'!G$44)))))))","v":4},"",{"$f":"IF(T36>='gradeD (2)'!I$42,'gradeD (2)'!K$42,IF(T36>='gradeD (2)'!I$43,'gradeD (2)'!K$43,'gradeD (2)'!K$44))","v":3},"",{"$f":"IF(T36>=L$38,N$38,IF(T36>=L$39,N$39,IF(T36>=L$40,N$40,IF(T36>=L$41,N$41,N$42))))","v":3},"",{"$f":"IF(T36>=B$47,D$47,IF(T36>=B$48,D$48,IF(T36>=B$49,D$49,D$50)))","v":4},"",{"$f":"IF(T36>=B$52,D$52,IF(T36>=B$53,D$53,IF(T36>=B$54,D$54,IF(T36>=B$55,D$55,IF(T36>=B$56,D$56,IF(T36>=B$57,D$57,D$58))))))","v":4},"",{"$f":"IF(T36>=F$48,G$48,G$49)","v":3},"",{"$f":"IF(T36>=E$52,G$52,IF(T36>=E$53,G$53,G$54))","v":3},"",null,"","",{"$f":"TมาตรฐานT!A34","v":68},2,"",2.5,""]
[null,{"$f":"B38+C20","v":66.5},{"$f":"B37+C19-1","v":73},{"$f":"B19","v":4},{"$f":"B37","v":66.5},{"$f":"C37","v":73},4,{"$nulls":4},"I (3 เกรด)",{"$nulls":6},{"$f":"TมาตรฐานT!G35","v":0},{"$f":"TมาตรฐานZ!R35","v":100},{"$f":"IF(T37>='gradeD (2)'!B$37,'gradeD (2)'!D$37,IF(T37>='gradeD (2)'!B$38,'gradeD (2)'!D$38,IF(T37>='gradeD (2)'!B$39,'gradeD (2)'!D$39,IF(T37>='gradeD (2)'!B$40,'gradeD (2)'!D$40,'gradeD (2)'!D$41))))","v":4},"",{"$f":"IF(T37>='gradeD (2)'!E$37,'gradeD (2)'!G$37,IF(T37>='gradeD (2)'!E$38,'gradeD (2)'!G$38,IF(T37>='gradeD (2)'!E$39,'gradeD (2)'!G$39,IF(T37>='gradeD (2)'!E$40,'gradeD (2)'!G$40,IF(T37>='gradeD (2)'!E$41,'gradeD (2)'!G$41,IF(T37>='gradeD (2)'!E$42,'gradeD (2)'!G$42,IF(T37>='gradeD (2)'!E$43,'gradeD (2)'!G$43,'gradeD (2)'!G$44)))))))","v":4},"",{"$f":"IF(T37>='gradeD (2)'!I$42,'gradeD (2)'!K$42,IF(T37>='gradeD (2)'!I$43,'gradeD (2)'!K$43,'gradeD (2)'!K$44))","v":3},"",3,"",4,"",4,"",3,"",3,"",null,"","",{"$f":"TมาตรฐานT!A35","v":67},2,"",2.5,""]
[null,{"$f":"B39+C21","v":59},{"$f":"B37-1","v":65.5},{"$f":"B20","v":3},{"$f":"E39+H38","v":62.75},{"$f":"C38","v":65.5},3.5,{"$f":"C20/2","v":3.75},3.75,null,null,{"$f":"I42","v":51.5},{"$f":"J42","v":58},{"$f":"B20","v":3},{"$nulls":4},{"$f":"TมาตรฐานT!G36","v":0},{"$f":"TมาตรฐานZ!R36","v":100},{"$f":"IF(T38>='gradeD (2)'!B$37,'gradeD (2)'!D$37,IF(T38>='gradeD (2)'!B$38,'gradeD (2)'!D$38,IF(T38>='gradeD (2)'!B$39,'gradeD (2)'!D$39,IF(T38>='gradeD (2)'!B$40,'gradeD (2)'!D$40,'gradeD (2)'!D$41))))","v":4},"",{"$f":"IF(T38>='gradeD (2)'!E$37,'gradeD (2)'!G$37,IF(T38>='gradeD (2)'!E$38,'gradeD (2)'!G$38,IF(T38>='gradeD (2)'!E$39,'gradeD (2)'!G$39,IF(T38>='gradeD (2)'!E$40,'gradeD (2)'!G$40,IF(T38>='gradeD (2)'!E$41,'gradeD (2)'!G$41,IF(T38>='gradeD (2)'!E$42,'gradeD (2)'!G$42,IF(T38>='gradeD (2)'!E$43,'gradeD (2)'!G$43,'gradeD (2)'!G$44)))))))","v":4},"",{"$f":"IF(T38>='gradeD (2)'!I$42,'gradeD (2)'!K$42,IF(T38>='gradeD (2)'!I$43,'gradeD (2)'!K$43,'gradeD (2)'!K$44))","v":3},"",3,"",4,"",4,"",3,"",3,"",null,"","",{"$f":"TมาตรฐานT!A36","v":66},2,"",2.5,""]
[null,{"$f":"B40+C22","v":44},{"$f":"B38-1","v":58},{"$f":"B21","v":2},{"$f":"B38","v":59},null,3,7.5,7.5,null,null,{"$f":"L40+I39","v":44},{"$f":"J43","v":50.5},{"$f":"0.5+N40","v":2.5},{"$nulls":4},{"$f":"TมาตรฐานT!G37","v":0},{"$f":"TมาตรฐานZ!R37","v":100},{"$f":"IF(T39>='gradeD (2)'!B$37,'gradeD (2)'!D$37,IF(T39>='gradeD (2)'!B$38,'gradeD (2)'!D$38,IF(T39>='gradeD (2)'!B$39,'gradeD (2)'!D$39,IF(T39>='gradeD (2)'!B$40,'gradeD (2)'!D$40,'gradeD (2)'!D$41))))","v":4},"",{"$f":"IF(T39>='gradeD (2)'!E$37,'gradeD (2)'!G$37,IF(T39>='gradeD (2)'!E$38,'gradeD (2)'!G$38,IF(T39>='gradeD (2)'!E$39,'gradeD (2)'!G$39,IF(T39>='gradeD (2)'!E$40,'gradeD (2)'!G$40,IF(T39>='gradeD (2)'!E$41,'gradeD (2)'!G$41,IF(T39>='gradeD (2)'!E$42,'gradeD (2)'!G$42,IF(T39>='gradeD (2)'!E$43,'gradeD (2)'!G$43,'gradeD (2)'!G$44)))))))","v":4},"",{"$f":"IF(T39>='gradeD (2)'!I$42,'gradeD (2)'!K$42,IF(T39>='gradeD (2)'!I$43,'gradeD (2)'!K$43,'gradeD (2)'!K$44))","v":3},"",3,"",4,"",4,"",3,"",3,"",null,"","",{"$f":"TมาตรฐานT!A37","v":65},2,"",2.5,""]
[null,{"$f":"B41+C23","v":36.5},{"$f":"B39-1","v":43},{"$f":"B22","v":1},{"$f":"E41+H39","v":51.5},{"$f":"C39","v":58},2.5,3.75,3.75,null,null,{"$f":"I43","v":36.5},null,{"$f":"B21","v":2},{"$nulls":4},{"$f":"TมาตรฐานT!G38","v":0},{"$f":"TมาตรฐานZ!R38","v":100},{"$f":"IF(T40>='gradeD (2)'!B$37,'gradeD (2)'!D$37,IF(T40>='gradeD (2)'!B$38,'gradeD (2)'!D$38,IF(T40>='gradeD (2)'!B$39,'gradeD (2)'!D$39,IF(T40>='gradeD (2)'!B$40,'gradeD (2)'!D$40,'gradeD (2)'!D$41))))","v":4},"",{"$f":"IF(T40>='gradeD (2)'!E$37,'gradeD (2)'!G$37,IF(T40>='gradeD (2)'!E$38,'gradeD (2)'!G$38,IF(T40>='gradeD (2)'!E$39,'gradeD (2)'!G$39,IF(T40>='gradeD (2)'!E$40,'gradeD (2)'!G$40,IF(T40>='gradeD (2)'!E$41,'gradeD (2)'!G$41,IF(T40>='gradeD (2)'!E$42,'gradeD (2)'!G$42,IF(T40>='gradeD (2)'!E$43,'gradeD (2)'!G$43,'gradeD (2)'!G$44)))))))","v":4},"",{"$f":"IF(T40>='gradeD (2)'!I$42,'gradeD (2)'!K$42,IF(T40>='gradeD (2)'!I$43,'gradeD (2)'!K$43,'gradeD (2)'!K$44))","v":3},"",3,"",4,"",4,"",3,"",3,"",null,"","",{"$f":"TมาตรฐานT!A38","v":64},2,"",2,""]
[null,{"$f":"MIN(TมาตรฐานT!P2:P101)","v":29},{"$f":"B40-1","v":35.5},{"$f":"B23","v":0},{"$f":"B39","v":44},null,2,null,"I (3 เกรด)",null,null,{"$f":"I40+L42","v":32.75},{"$f":"J44","v":35.5},{"$f":"0.5+N42","v":1.5},{"$nulls":4},{"$f":"TมาตรฐานT!G39","v":0},{"$f":"TมาตรฐานZ!R39","v":100},{"$f":"IF(T41>='gradeD (2)'!B$37,'gradeD (2)'!D$37,IF(T41>='gradeD (2)'!B$38,'gradeD (2)'!D$38,IF(T41>='gradeD (2)'!B$39,'gradeD (2)'!D$39,IF(T41>='gradeD (2)'!B$40,'gradeD (2)'!D$40,'gradeD (2)'!D$41))))","v":4},"",{"$f":"IF(T41>='gradeD (2)'!E$37,'gradeD (2)'!G$37,IF(T41>='gradeD (2)'!E$38,'gradeD (2)'!G$38,IF(T41>='gradeD (2)'!E$39,'gradeD (2)'!G$39,IF(T41>='gradeD (2)'!E$40,'gradeD (2)'!G$40,IF(T41>='gradeD (2)'!E$41,'gradeD (2)'!G$41,IF(T41>='gradeD (2)'!E$42,'gradeD (2)'!G$42,IF(T41>='gradeD (2)'!E$43,'gradeD (2)'!G$43,'gradeD (2)'!G$44)))))))","v":4},"",{"$f":"IF(T41>='gradeD (2)'!I$42,'gradeD (2)'!K$42,IF(T41>='gradeD (2)'!I$43,'gradeD (2)'!K$43,'gradeD (2)'!K$44))","v":3},"",3,"",4,"",4,"",3,"",3,"",null,"","",{"$f":"TมาตรฐานT!A39","v":63},2,"",2,""]
[{"$nulls":4},{"$f":"E43+H40","v":40.25},{"$f":"C40","v":43},1.5,null,{"$f":"I43+D21","v":51.5},{"$f":"I42+D20-1","v":58},{"$f":"B20","v":3},{"$f":"I44","v":29},null,{"$f":"B22","v":1},{"$nulls":4},{"$f":"TมาตรฐานT!G40","v":0},{"$f":"TมาตรฐานZ!R40","v":100},{"$f":"IF(T42>='gradeD (2)'!B$37,'gradeD (2)'!D$37,IF(T42>='gradeD (2)'!B$38,'gradeD (2)'!D$38,IF(T42>='gradeD (2)'!B$39,'gradeD (2)'!D$39,IF(T42>='gradeD (2)'!B$40,'gradeD (2)'!D$40,'gradeD (2)'!D$41))))","v":4},"",{"$f":"IF(T42>='gradeD (2)'!E$37,'gradeD (2)'!G$37,IF(T42>='gradeD (2)'!E$38,'gradeD (2)'!G$38,IF(T42>='gradeD (2)'!E$39,'gradeD (2)'!G$39,IF(T42>='gradeD (2)'!E$40,'gradeD (2)'!G$40,IF(T42>='gradeD (2)'!E$41,'gradeD (2)'!G$41,IF(T42>='gradeD (2)'!E$42,'gradeD (2)'!G$42,IF(T42>='gradeD (2)'!E$43,'gradeD (2)'!G$43,'gradeD (2)'!G$44)))))))","v":4},"",{"$f":"IF(T42>='gradeD (2)'!I$42,'gradeD (2)'!K$42,IF(T42>='gradeD (2)'!I$43,'gradeD (2)'!K$43,'gradeD (2)'!K$44))","v":3},"",3,"",4,"",4,"",3,"",3,"",null,"","",{"$f":"TมาตรฐานT!A40","v":62},2,"",2,""]
[{"$nulls":4},{"$f":"B40","v":36.5},null,1,null,{"$f":"I44+D22","v":36.5},{"$f":"I42-1","v":50.5},{"$f":"B21","v":2},{"$nulls":7},{"$f":"TมาตรฐานT!G41","v":0},{"$f":"TมาตรฐานZ!R41","v":100},{"$f":"IF(T43>='gradeD (2)'!B$37,'gradeD (2)'!D$37,IF(T43>='gradeD (2)'!B$38,'gradeD (2)'!D$38,IF(T43>='gradeD (2)'!B$39,'gradeD (2)'!D$39,IF(T43>='gradeD (2)'!B$40,'gradeD (2)'!D$40,'gradeD (2)'!D$41))))","v":4},"",{"$f":"IF(T43>='gradeD (2)'!E$37,'gradeD (2)'!G$37,IF(T43>='gradeD (2)'!E$38,'gradeD (2)'!G$38,IF(T43>='gradeD (2)'!E$39,'gradeD (2)'!G$39,IF(T43>='gradeD (2)'!E$40,'gradeD (2)'!G$40,IF(T43>='gradeD (2)'!E$41,'gradeD (2)'!G$41,IF(T43>='gradeD (2)'!E$42,'gradeD (2)'!G$42,IF(T43>='gradeD (2)'!E$43,'gradeD (2)'!G$43,'gradeD (2)'!G$44)))))))","v":4},"",{"$f":"IF(T43>='gradeD (2)'!I$42,'gradeD (2)'!K$42,IF(T43>='gradeD (2)'!I$43,'gradeD (2)'!K$43,'gradeD (2)'!K$44))","v":3},"",3,"",4,"",4,"",3,"",3,"",null,"","",{"$f":"TมาตรฐานT!A41","v":61},2,"",2,""]
[{"$nulls":4},{"$f":"B41","v":29},{"$f":"C41","v":35.5},0,null,{"$f":"MIN(TมาตรฐานT!P2:P101)","v":29},{"$f":"I43-1","v":35.5},{"$f":"B22","v":1},{"$nulls":7},{"$f":"TมาตรฐานT!G42","v":0},{"$f":"TมาตรฐานZ!R42","v":100},{"$f":"IF(T44>='gradeD (2)'!B$37,'gradeD (2)'!D$37,IF(T44>='gradeD (2)'!B$38,'gradeD (2)'!D$38,IF(T44>='gradeD (2)'!B$39,'gradeD (2)'!D$39,IF(T44>='gradeD (2)'!B$40,'gradeD (2)'!D$40,'gradeD (2)'!D$41))))","v":4},"",{"$f":"IF(T44>='gradeD (2)'!E$37,'gradeD (2)'!G$37,IF(T44>='gradeD (2)'!E$38,'gradeD (2)'!G$38,IF(T44>='gradeD (2)'!E$39,'gradeD (2)'!G$39,IF(T44>='gradeD (2)'!E$40,'gradeD (2)'!G$40,IF(T44>='gradeD (2)'!E$41,'gradeD (2)'!G$41,IF(T44>='gradeD (2)'!E$42,'gradeD (2)'!G$42,IF(T44>='gradeD (2)'!E$43,'gradeD (2)'!G$43,'gradeD (2)'!G$44)))))))","v":4},"",{"$f":"IF(T44>='gradeD (2)'!I$42,'gradeD (2)'!K$42,IF(T44>='gradeD (2)'!I$43,'gradeD (2)'!K$43,'gradeD (2)'!K$44))","v":3},"",3,"",4,"",4,"",3,"",3,"",null,"","",{"$f":"TมาตรฐานT!A42","v":60},2,"",2,""]
[{"$nulls":18},{"$f":"TมาตรฐานT!G43","v":0},{"$f":"TมาตรฐานZ!R43","v":100},{"$f":"IF(T45>='gradeD (2)'!B$37,'gradeD (2)'!D$37,IF(T45>='gradeD (2)'!B$38,'gradeD (2)'!D$38,IF(T45>='gradeD (2)'!B$39,'gradeD (2)'!D$39,IF(T45>='gradeD (2)'!B$40,'gradeD (2)'!D$40,'gradeD (2)'!D$41))))","v":4},"",{"$f":"IF(T45>='gradeD (2)'!E$37,'gradeD (2)'!G$37,IF(T45>='gradeD (2)'!E$38,'gradeD (2)'!G$38,IF(T45>='gradeD (2)'!E$39,'gradeD (2)'!G$39,IF(T45>='gradeD (2)'!E$40,'gradeD (2)'!G$40,IF(T45>='gradeD (2)'!E$41,'gradeD (2)'!G$41,IF(T45>='gradeD (2)'!E$42,'gradeD (2)'!G$42,IF(T45>='gradeD (2)'!E$43,'gradeD (2)'!G$43,'gradeD (2)'!G$44)))))))","v":4},"",{"$f":"IF(T45>='gradeD (2)'!I$42,'gradeD (2)'!K$42,IF(T45>='gradeD (2)'!I$43,'gradeD (2)'!K$43,'gradeD (2)'!K$44))","v":3},"",3,"",4,"",4,"",3,"",3,"",null,"","",{"$f":"TมาตรฐานT!A43","v":59},1,"",1.5,""]
[null,"I (4 เกรด)","I4","I4","I (2 เกรด)","I2","I2",null,"เกรดเลขคี่","เกรดเลขคู่",{"$nulls":8},{"$f":"TมาตรฐานT!G44","v":0},{"$f":"TมาตรฐานZ!R44","v":100},{"$f":"IF(T46>='gradeD (2)'!B$37,'gradeD (2)'!D$37,IF(T46>='gradeD (2)'!B$38,'gradeD (2)'!D$38,IF(T46>='gradeD (2)'!B$39,'gradeD (2)'!D$39,IF(T46>='gradeD (2)'!B$40,'gradeD (2)'!D$40,'gradeD (2)'!D$41))))","v":4},"",{"$f":"IF(T46>='gradeD (2)'!E$37,'gradeD (2)'!G$37,IF(T46>='gradeD (2)'!E$38,'gradeD (2)'!G$38,IF(T46>='gradeD (2)'!E$39,'gradeD (2)'!G$39,IF(T46>='gradeD (2)'!E$40,'gradeD (2)'!G$40,IF(T46>='gradeD (2)'!E$41,'gradeD (2)'!G$41,IF(T46>='gradeD (2)'!E$42,'gradeD (2)'!G$42,IF(T46>='gradeD (2)'!E$43,'gradeD (2)'!G$43,'gradeD (2)'!G$44)))))))","v":4},"",{"$f":"IF(T46>='gradeD (2)'!I$42,'gradeD (2)'!K$42,IF(T46>='gradeD (2)'!I$43,'gradeD (2)'!K$43,'gradeD (2)'!K$44))","v":3},"",3,"",4,"",4,"",3,"",3,"",null,"","",{"$f":"TมาตรฐานT!A44","v":58},1,"",1.5,""]
[null,{"$f":"B48+C30","v":59},{"$f":"B47+C29-1","v":65.5},{"$f":"B29","v":4},{"$nulls":4},{"$f":"AND(D10=5,D13=FALSE)","v":true},{"$f":"AND(D10=4,D13=TRUE)","v":false},{"$nulls":8},{"$f":"TมาตรฐานT!G45","v":0},{"$f":"TมาตรฐานZ!R45","v":100},{"$f":"IF(T47>='gradeD (2)'!B$37,'gradeD (2)'!D$37,IF(T47>='gradeD (2)'!B$38,'gradeD (2)'!D$38,IF(T47>='gradeD (2)'!B$39,'gradeD (2)'!D$39,IF(T47>='gradeD (2)'!B$40,'gradeD (2)'!D$40,'gradeD (2)'!D$41))))","v":4},"",{"$f":"IF(T47>='gradeD (2)'!E$37,'gradeD (2)'!G$37,IF(T47>='gradeD (2)'!E$38,'gradeD (2)'!G$38,IF(T47>='gradeD (2)'!E$39,'gradeD (2)'!G$39,IF(T47>='gradeD (2)'!E$40,'gradeD (2)'!G$40,IF(T47>='gradeD (2)'!E$41,'gradeD (2)'!G$41,IF(T47>='gradeD (2)'!E$42,'gradeD (2)'!G$42,IF(T47>='gradeD (2)'!E$43,'gradeD (2)'!G$43,'gradeD (2)'!G$44)))))))","v":4},"",{"$f":"IF(T47>='gradeD (2)'!I$42,'gradeD (2)'!K$42,IF(T47>='gradeD (2)'!I$43,'gradeD (2)'!K$43,'gradeD (2)'!K$44))","v":3},"",3,"",4,"",4,"",3,"",3,"",null,"","",{"$f":"TมาตรฐานT!A45","v":57},1,"",1.5,""]
[null,{"$f":"B49+C31","v":47.75},{"$f":"B47-1","v":58},{"$f":"B30","v":3},{"$f":"E49+D31","v":40.25},{"$f":"E48+D30-1","v":50.5},{"$f":"B30","v":3},null,{"$f":"AND(D10=3,D13=FALSE)","v":false},{"$f":"AND(D10=2,D13=TRUE)","v":false},{"$nulls":8},{"$f":"TมาตรฐานT!G46","v":0},{"$f":"TมาตรฐานZ!R46","v":100},{"$f":"IF(T48>='gradeD (2)'!B$37,'gradeD (2)'!D$37,IF(T48>='gradeD (2)'!B$38,'gradeD (2)'!D$38,IF(T48>='gradeD (2)'!B$39,'gradeD (2)'!D$39,IF(T48>='gradeD (2)'!B$40,'gradeD (2)'!D$40,'gradeD (2)'!D$41))))","v":4},"",{"$f":"IF(T48>='gradeD (2)'!E$37,'gradeD (2)'!G$37,IF(T48>='gradeD (2)'!E$38,'gradeD (2)'!G$38,IF(T48>='gradeD (2)'!E$39,'gradeD (2)'!G$39,IF(T48>='gradeD (2)'!E$40,'gradeD (2)'!G$40,IF(T48>='gradeD (2)'!E$41,'gradeD (2)'!G$41,IF(T48>='gradeD (2)'!E$42,'gradeD (2)'!G$42,IF(T48>='gradeD (2)'!E$43,'gradeD (2)'!G$43,'gradeD (2)'!G$44)))))))","v":4},"",{"$f":"IF(T48>='gradeD (2)'!I$42,'gradeD (2)'!K$42,IF(T48>='gradeD (2)'!I$43,'gradeD (2)'!K$43,'gradeD (2)'!K$44))","v":3},"",3,"",4,"",4,"",3,"",3,"",null,"","",{"$f":"TมาตรฐานT!A46","v":56},1,"",1.5,""]
[null,{"$f":"B50+C32","v":36.5},{"$f":"B48-1","v":46.75},{"$f":"B31","v":2},{"$f":"MIN(TมาตรฐานT!P2:P101)","v":29},{"$f":"E48-1","v":39.25},{"$f":"B31","v":2},{"$nulls":11},{"$f":"TมาตรฐานT!G47","v":0},{"$f":"TมาตรฐานZ!R47","v":100},{"$f":"IF(T49>='gradeD (2)'!B$37,'gradeD (2)'!D$37,IF(T49>='gradeD (2)'!B$38,'gradeD (2)'!D$38,IF(T49>='gradeD (2)'!B$39,'gradeD (2)'!D$39,IF(T49>='gradeD (2)'!B$40,'gradeD (2)'!D$40,'gradeD (2)'!D$41))))","v":4},"",{"$f":"IF(T49>='gradeD (2)'!E$37,'gradeD (2)'!G$37,IF(T49>='gradeD (2)'!E$38,'gradeD (2)'!G$38,IF(T49>='gradeD (2)'!E$39,'gradeD (2)'!G$39,IF(T49>='gradeD (2)'!E$40,'gradeD (2)'!G$40,IF(T49>='gradeD (2)'!E$41,'gradeD (2)'!G$41,IF(T49>='gradeD (2)'!E$42,'gradeD (2)'!G$42,IF(T49>='gradeD (2)'!E$43,'gradeD (2)'!G$43,'gradeD (2)'!G$44)))))))","v":4},"",{"$f":"IF(T49>='gradeD (2)'!I$42,'gradeD (2)'!K$42,IF(T49>='gradeD (2)'!I$43,'gradeD (2)'!K$43,'gradeD (2)'!K$44))","v":3},"",3,"",4,"",4,"",3,"",3,"",null,"","",{"$f":"TมาตรฐานT!A47","v":55},1,"",1.5,""]
[null,{"$f":"MIN(TมาตรฐานT!P2:P101)","v":29},{"$f":"B49-1","v":35.5},{"$f":"B32","v":1},{"$nulls":14},{"$f":"TมาตรฐานT!G48","v":0},{"$f":"TมาตรฐานZ!R48","v":100},{"$f":"IF(T50>='gradeD (2)'!B$37,'gradeD (2)'!D$37,IF(T50>='gradeD (2)'!B$38,'gradeD (2)'!D$38,IF(T50>='gradeD (2)'!B$39,'gradeD (2)'!D$39,IF(T50>='gradeD (2)'!B$40,'gradeD (2)'!D$40,'gradeD (2)'!D$41))))","v":4},"",{"$f":"IF(T50>='gradeD (2)'!E$37,'gradeD (2)'!G$37,IF(T50>='gradeD (2)'!E$38,'gradeD (2)'!G$38,IF(T50>='gradeD (2)'!E$39,'gradeD (2)'!G$39,IF(T50>='gradeD (2)'!E$40,'gradeD (2)'!G$40,IF(T50>='gradeD (2)'!E$41,'gradeD (2)'!G$41,IF(T50>='gradeD (2)'!E$42,'gradeD (2)'!G$42,IF(T50>='gradeD (2)'!E$43,'gradeD (2)'!G$43,'gradeD (2)'!G$44)))))))","v":4},"",{"$f":"IF(T50>='gradeD (2)'!I$42,'gradeD (2)'!K$42,IF(T50>='gradeD (2)'!I$43,'gradeD (2)'!K$43,'gradeD (2)'!K$44))","v":3},"",3,"",4,"",4,"",3,"",3,"",null,"","",{"$f":"TมาตรฐานT!A48","v":54},1,"",1,""]
[{"$nulls":18},{"$f":"TมาตรฐานT!G49","v":0},{"$f":"TมาตรฐานZ!R49","v":100},{"$f":"IF(T51>='gradeD (2)'!B$37,'gradeD (2)'!D$37,IF(T51>='gradeD (2)'!B$38,'gradeD (2)'!D$38,IF(T51>='gradeD (2)'!B$39,'gradeD (2)'!D$39,IF(T51>='gradeD (2)'!B$40,'gradeD (2)'!D$40,'gradeD (2)'!D$41))))","v":4},"",{"$f":"IF(T51>='gradeD (2)'!E$37,'gradeD (2)'!G$37,IF(T51>='gradeD (2)'!E$38,'gradeD (2)'!G$38,IF(T51>='gradeD (2)'!E$39,'gradeD (2)'!G$39,IF(T51>='gradeD (2)'!E$40,'gradeD (2)'!G$40,IF(T51>='gradeD (2)'!E$41,'gradeD (2)'!G$41,IF(T51>='gradeD (2)'!E$42,'gradeD (2)'!G$42,IF(T51>='gradeD (2)'!E$43,'gradeD (2)'!G$43,'gradeD (2)'!G$44)))))))","v":4},"",{"$f":"IF(T51>='gradeD (2)'!I$42,'gradeD (2)'!K$42,IF(T51>='gradeD (2)'!I$43,'gradeD (2)'!K$43,'gradeD (2)'!K$44))","v":3},"",3,"",4,"",4,"",3,"",3,"",null,"","",{"$f":"TมาตรฐานT!A49","v":53},1,"",1,""]
[null,{"$f":"B47","v":59},65.5,{"$f":"B29","v":4},{"$f":"E48","v":40.25},50.5,3,{"$f":"D30/2","v":5.625},{"$nulls":10},{"$f":"TมาตรฐานT!G50","v":0},{"$f":"TมาตรฐานZ!R50","v":100},{"$f":"IF(T52>='gradeD (2)'!B$37,'gradeD (2)'!D$37,IF(T52>='gradeD (2)'!B$38,'gradeD (2)'!D$38,IF(T52>='gradeD (2)'!B$39,'gradeD (2)'!D$39,IF(T52>='gradeD (2)'!B$40,'gradeD (2)'!D$40,'gradeD (2)'!D$41))))","v":4},"",{"$f":"IF(T52>='gradeD (2)'!E$37,'gradeD (2)'!G$37,IF(T52>='gradeD (2)'!E$38,'gradeD (2)'!G$38,IF(T52>='gradeD (2)'!E$39,'gradeD (2)'!G$39,IF(T52>='gradeD (2)'!E$40,'gradeD (2)'!G$40,IF(T52>='gradeD (2)'!E$41,'gradeD (2)'!G$41,IF(T52>='gradeD (2)'!E$42,'gradeD (2)'!G$42,IF(T52>='gradeD (2)'!E$43,'gradeD (2)'!G$43,'gradeD (2)'!G$44)))))))","v":4},"",{"$f":"IF(T52>='gradeD (2)'!I$42,'gradeD (2)'!K$42,IF(T52>='gradeD (2)'!I$43,'gradeD (2)'!K$43,'gradeD (2)'!K$44))","v":3},"",3,"",4,"",4,"",3,"",3,"",null,"","",{"$f":"TมาตรฐานT!A50","v":52},1,"",1,""]
[{"$f":"C29/2","v":3.75},{"$f":"B54+A54","v":53.375},58,{"$f":"D52-0.5","v":3.5},{"$f":"E54+H53","v":34.625},{"$f":"F49","v":39.25},{"$f":"G52-0.5","v":2.5},{"$f":"D31/2","v":5.625},{"$nulls":10},{"$f":"TมาตรฐานT!G51","v":0},{"$f":"TมาตรฐานZ!R51","v":100},{"$f":"IF(T53>='gradeD (2)'!B$37,'gradeD (2)'!D$37,IF(T53>='gradeD (2)'!B$38,'gradeD (2)'!D$38,IF(T53>='gradeD (2)'!B$39,'gradeD (2)'!D$39,IF(T53>='gradeD (2)'!B$40,'gradeD (2)'!D$40,'gradeD (2)'!D$41))))","v":4},"",{"$f":"IF(T53>='gradeD (2)'!E$37,'gradeD (2)'!G$37,IF(T53>='gradeD (2)'!E$38,'gradeD (2)'!G$38,IF(T53>='gradeD (2)'!E$39,'gradeD (2)'!G$39,IF(T53>='gradeD (2)'!E$40,'gradeD (2)'!G$40,IF(T53>='gradeD (2)'!E$41,'gradeD (2)'!G$41,IF(T53>='gradeD (2)'!E$42,'gradeD (2)'!G$42,IF(T53>='gradeD (2)'!E$43,'gradeD (2)'!G$43,'gradeD (2)'!G$44)))))))","v":4},"",{"$f":"IF(T53>='gradeD (2)'!I$42,'gradeD (2)'!K$42,IF(T53>='gradeD (2)'!I$43,'gradeD (2)'!K$43,'gradeD (2)'!K$44))","v":3},"",3,"",4,"",4,"",3,"",3,"",null,"","",{"$f":"TมาตรฐานT!A51","v":51},1,"",1,""]
[{"$f":"C30/2","v":5.625},{"$f":"B48","v":47.75},null,{"$f":"B30","v":3},{"$f":"E49","v":29},null,{"$f":"G49","v":2},{"$nulls":11},{"$f":"TมาตรฐานT!G52","v":0},{"$f":"TมาตรฐานZ!R52","v":100},{"$f":"IF(T54>='gradeD (2)'!B$37,'gradeD (2)'!D$37,IF(T54>='gradeD (2)'!B$38,'gradeD (2)'!D$38,IF(T54>='gradeD (2)'!B$39,'gradeD (2)'!D$39,IF(T54>='gradeD (2)'!B$40,'gradeD (2)'!D$40,'gradeD (2)'!D$41))))","v":4},"",{"$f":"IF(T54>='gradeD (2)'!E$37,'gradeD (2)'!G$37,IF(T54>='gradeD (2)'!E$38,'gradeD (2)'!G$38,IF(T54>='gradeD (2)'!E$39,'gradeD (2)'!G$39,IF(T54>='gradeD (2)'!E$40,'gradeD (2)'!G$40,IF(T54>='gradeD (2)'!E$41,'gradeD (2)'!G$41,IF(T54>='gradeD (2)'!E$42,'gradeD (2)'!G$42,IF(T54>='gradeD (2)'!E$43,'gradeD (2)'!G$43,'gradeD (2)'!G$44)))))))","v":4},"",{"$f":"IF(T54>='gradeD (2)'!I$42,'gradeD (2)'!K$42,IF(T54>='gradeD (2)'!I$43,'gradeD (2)'!K$43,'gradeD (2)'!K$44))","v":3},"",3,"",4,"",4,"",3,"",3,"",null,"","",{"$f":"TมาตรฐานT!A52","v":50},1,"",1,""]
[{"$f":"C31/2","v":5.625},{"$f":"B56+A55","v":42.125},{"$f":"C49","v":46.75},{"$f":"D54-0.5","v":2.5},{"$nulls":14},{"$f":"TมาตรฐานT!G53","v":0},{"$f":"TมาตรฐานZ!R53","v":100},{"$f":"IF(T55>='gradeD (2)'!B$37,'gradeD (2)'!D$37,IF(T55>='gradeD (2)'!B$38,'gradeD (2)'!D$38,IF(T55>='gradeD (2)'!B$39,'gradeD (2)'!D$39,IF(T55>='gradeD (2)'!B$40,'gradeD (2)'!D$40,'gradeD (2)'!D$41))))","v":4},"",{"$f":"IF(T55>='gradeD (2)'!E$37,'gradeD (2)'!G$37,IF(T55>='gradeD (2)'!E$38,'gradeD (2)'!G$38,IF(T55>='gradeD (2)'!E$39,'gradeD (2)'!G$39,IF(T55>='gradeD (2)'!E$40,'gradeD (2)'!G$40,IF(T55>='gradeD (2)'!E$41,'gradeD (2)'!G$41,IF(T55>='gradeD (2)'!E$42,'gradeD (2)'!G$42,IF(T55>='gradeD (2)'!E$43,'gradeD (2)'!G$43,'gradeD (2)'!G$44)))))))","v":4},"",{"$f":"IF(T55>='gradeD (2)'!I$42,'gradeD (2)'!K$42,IF(T55>='gradeD (2)'!I$43,'gradeD (2)'!K$43,'gradeD (2)'!K$44))","v":3},"",3,"",4,"",4,"",3,"",3,"",null,"","",{"$f":"TมาตรฐานT!A53","v":49},0,"",0,""]
[{"$f":"C32/2","v":3.75},{"$f":"B49","v":36.5},null,{"$f":"B31","v":2},{"$nulls":14},{"$f":"TมาตรฐานT!G54","v":0},{"$f":"TมาตรฐานZ!R54","v":100},{"$f":"IF(T56>='gradeD (2)'!B$37,'gradeD (2)'!D$37,IF(T56>='gradeD (2)'!B$38,'gradeD (2)'!D$38,IF(T56>='gradeD (2)'!B$39,'gradeD (2)'!D$39,IF(T56>='gradeD (2)'!B$40,'gradeD (2)'!D$40,'gradeD (2)'!D$41))))","v":4},"",{"$f":"IF(T56>='gradeD (2)'!E$37,'gradeD (2)'!G$37,IF(T56>='gradeD (2)'!E$38,'gradeD (2)'!G$38,IF(T56>='gradeD (2)'!E$39,'gradeD (2)'!G$39,IF(T56>='gradeD (2)'!E$40,'gradeD (2)'!G$40,IF(T56>='gradeD (2)'!E$41,'gradeD (2)'!G$41,IF(T56>='gradeD (2)'!E$42,'gradeD (2)'!G$42,IF(T56>='gradeD (2)'!E$43,'gradeD (2)'!G$43,'gradeD (2)'!G$44)))))))","v":4},"",{"$f":"IF(T56>='gradeD (2)'!I$42,'gradeD (2)'!K$42,IF(T56>='gradeD (2)'!I$43,'gradeD (2)'!K$43,'gradeD (2)'!K$44))","v":3},"",3,"",4,"",4,"",3,"",3,"",null,"","",{"$f":"TมาตรฐานT!A54","v":48},0,"",0,""]
[null,{"$f":"B58+A56","v":32.75},{"$f":"C50","v":35.5},{"$f":"D56-0.5","v":1.5},{"$nulls":14},{"$f":"TมาตรฐานT!G55","v":0},{"$f":"TมาตรฐานZ!R55","v":100},{"$f":"IF(T57>='gradeD (2)'!B$37,'gradeD (2)'!D$37,IF(T57>='gradeD (2)'!B$38,'gradeD (2)'!D$38,IF(T57>='gradeD (2)'!B$39,'gradeD (2)'!D$39,IF(T57>='gradeD (2)'!B$40,'gradeD (2)'!D$40,'gradeD (2)'!D$41))))","v":4},"",{"$f":"IF(T57>='gradeD (2)'!E$37,'gradeD (2)'!G$37,IF(T57>='gradeD (2)'!E$38,'gradeD (2)'!G$38,IF(T57>='gradeD (2)'!E$39,'gradeD (2)'!G$39,IF(T57>='gradeD (2)'!E$40,'gradeD (2)'!G$40,IF(T57>='gradeD (2)'!E$41,'gradeD (2)'!G$41,IF(T57>='gradeD (2)'!E$42,'gradeD (2)'!G$42,IF(T57>='gradeD (2)'!E$43,'gradeD (2)'!G$43,'gradeD (2)'!G$44)))))))","v":4},"",{"$f":"IF(T57>='gradeD (2)'!I$42,'gradeD (2)'!K$42,IF(T57>='gradeD (2)'!I$43,'gradeD (2)'!K$43,'gradeD (2)'!K$44))","v":3},"",3,"",4,"",4,"",3,"",3,"",null,"","",{"$f":"TมาตรฐานT!A55","v":47},0,"",0,""]
[null,{"$f":"B50","v":29},null,{"$f":"B32","v":1},{"$nulls":14},{"$f":"TมาตรฐานT!G56","v":0},{"$f":"TมาตรฐานZ!R56","v":100},{"$f":"IF(T58>='gradeD (2)'!B$37,'gradeD (2)'!D$37,IF(T58>='gradeD (2)'!B$38,'gradeD (2)'!D$38,IF(T58>='gradeD (2)'!B$39,'gradeD (2)'!D$39,IF(T58>='gradeD (2)'!B$40,'gradeD (2)'!D$40,'gradeD (2)'!D$41))))","v":4},"",{"$f":"IF(T58>='gradeD (2)'!E$37,'gradeD (2)'!G$37,IF(T58>='gradeD (2)'!E$38,'gradeD (2)'!G$38,IF(T58>='gradeD (2)'!E$39,'gradeD (2)'!G$39,IF(T58>='gradeD (2)'!E$40,'gradeD (2)'!G$40,IF(T58>='gradeD (2)'!E$41,'gradeD (2)'!G$41,IF(T58>='gradeD (2)'!E$42,'gradeD (2)'!G$42,IF(T58>='gradeD (2)'!E$43,'gradeD (2)'!G$43,'gradeD (2)'!G$44)))))))","v":4},"",{"$f":"IF(T58>='gradeD (2)'!I$42,'gradeD (2)'!K$42,IF(T58>='gradeD (2)'!I$43,'gradeD (2)'!K$43,'gradeD (2)'!K$44))","v":3},"",3,"",4,"",4,"",3,"",3,"",null,"","",{"$f":"TมาตรฐานT!A56","v":46},0,"",0,""]
[{"$nulls":18},{"$f":"TมาตรฐานT!G57","v":0},{"$f":"TมาตรฐานZ!R57","v":100},{"$f":"IF(T59>='gradeD (2)'!B$37,'gradeD (2)'!D$37,IF(T59>='gradeD (2)'!B$38,'gradeD (2)'!D$38,IF(T59>='gradeD (2)'!B$39,'gradeD (2)'!D$39,IF(T59>='gradeD (2)'!B$40,'gradeD (2)'!D$40,'gradeD (2)'!D$41))))","v":4},"",{"$f":"IF(T59>='gradeD (2)'!E$37,'gradeD (2)'!G$37,IF(T59>='gradeD (2)'!E$38,'gradeD (2)'!G$38,IF(T59>='gradeD (2)'!E$39,'gradeD (2)'!G$39,IF(T59>='gradeD (2)'!E$40,'gradeD (2)'!G$40,IF(T59>='gradeD (2)'!E$41,'gradeD (2)'!G$41,IF(T59>='gradeD (2)'!E$42,'gradeD (2)'!G$42,IF(T59>='gradeD (2)'!E$43,'gradeD (2)'!G$43,'gradeD (2)'!G$44)))))))","v":4},"",{"$f":"IF(T59>='gradeD (2)'!I$42,'gradeD (2)'!K$42,IF(T59>='gradeD (2)'!I$43,'gradeD (2)'!K$43,'gradeD (2)'!K$44))","v":3},"",3,"",4,"",4,"",3,"",3,"",null,"","",{"$f":"TมาตรฐานT!A57","v":45},0,"",0,""]
[{"$nulls":18},{"$f":"TมาตรฐานT!G58","v":0},{"$f":"TมาตรฐานZ!R58","v":100},{"$f":"IF(T60>='gradeD (2)'!B$37,'gradeD (2)'!D$37,IF(T60>='gradeD (2)'!B$38,'gradeD (2)'!D$38,IF(T60>='gradeD (2)'!B$39,'gradeD (2)'!D$39,IF(T60>='gradeD (2)'!B$40,'gradeD (2)'!D$40,'gradeD (2)'!D$41))))","v":4},"",{"$f":"IF(T60>='gradeD (2)'!E$37,'gradeD (2)'!G$37,IF(T60>='gradeD (2)'!E$38,'gradeD (2)'!G$38,IF(T60>='gradeD (2)'!E$39,'gradeD (2)'!G$39,IF(T60>='gradeD (2)'!E$40,'gradeD (2)'!G$40,IF(T60>='gradeD (2)'!E$41,'gradeD (2)'!G$41,IF(T60>='gradeD (2)'!E$42,'gradeD (2)'!G$42,IF(T60>='gradeD (2)'!E$43,'gradeD (2)'!G$43,'gradeD (2)'!G$44)))))))","v":4},"",{"$f":"IF(T60>='gradeD (2)'!I$42,'gradeD (2)'!K$42,IF(T60>='gradeD (2)'!I$43,'gradeD (2)'!K$43,'gradeD (2)'!K$44))","v":3},"",3,"",4,"",4,"",3,"",3,"",null,"","",{"$f":"TมาตรฐานT!A58","v":44},0,"",0,""]
[{"$nulls":18},{"$f":"TมาตรฐานT!G59","v":0},{"$f":"TมาตรฐานZ!R59","v":100},{"$f":"IF(T61>='gradeD (2)'!B$37,'gradeD (2)'!D$37,IF(T61>='gradeD (2)'!B$38,'gradeD (2)'!D$38,IF(T61>='gradeD (2)'!B$39,'gradeD (2)'!D$39,IF(T61>='gradeD (2)'!B$40,'gradeD (2)'!D$40,'gradeD (2)'!D$41))))","v":4},"",{"$f":"IF(T61>='gradeD (2)'!E$37,'gradeD (2)'!G$37,IF(T61>='gradeD (2)'!E$38,'gradeD (2)'!G$38,IF(T61>='gradeD (2)'!E$39,'gradeD (2)'!G$39,IF(T61>='gradeD (2)'!E$40,'gradeD (2)'!G$40,IF(T61>='gradeD (2)'!E$41,'gradeD (2)'!G$41,IF(T61>='gradeD (2)'!E$42,'gradeD (2)'!G$42,IF(T61>='gradeD (2)'!E$43,'gradeD (2)'!G$43,'gradeD (2)'!G$44)))))))","v":4},"",{"$f":"IF(T61>='gradeD (2)'!I$42,'gradeD (2)'!K$42,IF(T61>='gradeD (2)'!I$43,'gradeD (2)'!K$43,'gradeD (2)'!K$44))","v":3},"",3,"",4,"",4,"",3,"",3,"",null,"","",{"$f":"TมาตรฐานT!A59","v":43},0,"",0,""]
[{"$nulls":18},{"$f":"TมาตรฐานT!G60","v":0},{"$f":"TมาตรฐานZ!R60","v":100},{"$f":"IF(T62>='gradeD (2)'!B$37,'gradeD (2)'!D$37,IF(T62>='gradeD (2)'!B$38,'gradeD (2)'!D$38,IF(T62>='gradeD (2)'!B$39,'gradeD (2)'!D$39,IF(T62>='gradeD (2)'!B$40,'gradeD (2)'!D$40,'gradeD (2)'!D$41))))","v":4},"",{"$f":"IF(T62>='gradeD (2)'!E$37,'gradeD (2)'!G$37,IF(T62>='gradeD (2)'!E$38,'gradeD (2)'!G$38,IF(T62>='gradeD (2)'!E$39,'gradeD (2)'!G$39,IF(T62>='gradeD (2)'!E$40,'gradeD (2)'!G$40,IF(T62>='gradeD (2)'!E$41,'gradeD (2)'!G$41,IF(T62>='gradeD (2)'!E$42,'gradeD (2)'!G$42,IF(T62>='gradeD (2)'!E$43,'gradeD (2)'!G$43,'gradeD (2)'!G$44)))))))","v":4},"",{"$f":"IF(T62>='gradeD (2)'!I$42,'gradeD (2)'!K$42,IF(T62>='gradeD (2)'!I$43,'gradeD (2)'!K$43,'gradeD (2)'!K$44))","v":3},"",3,"",4,"",4,"",3,"",3,"",null,"","",{"$f":"TมาตรฐานT!A60","v":42},0,"",0,""]
[{"$nulls":18},{"$f":"TมาตรฐานT!G61","v":0},{"$f":"TมาตรฐานZ!R61","v":100},{"$f":"IF(T63>='gradeD (2)'!B$37,'gradeD (2)'!D$37,IF(T63>='gradeD (2)'!B$38,'gradeD (2)'!D$38,IF(T63>='gradeD (2)'!B$39,'gradeD (2)'!D$39,IF(T63>='gradeD (2)'!B$40,'gradeD (2)'!D$40,'gradeD (2)'!D$41))))","v":4},"",{"$f":"IF(T63>='gradeD (2)'!E$37,'gradeD (2)'!G$37,IF(T63>='gradeD (2)'!E$38,'gradeD (2)'!G$38,IF(T63>='gradeD (2)'!E$39,'gradeD (2)'!G$39,IF(T63>='gradeD (2)'!E$40,'gradeD (2)'!G$40,IF(T63>='gradeD (2)'!E$41,'gradeD (2)'!G$41,IF(T63>='gradeD (2)'!E$42,'gradeD (2)'!G$42,IF(T63>='gradeD (2)'!E$43,'gradeD (2)'!G$43,'gradeD (2)'!G$44)))))))","v":4},"",{"$f":"IF(T63>='gradeD (2)'!I$42,'gradeD (2)'!K$42,IF(T63>='gradeD (2)'!I$43,'gradeD (2)'!K$43,'gradeD (2)'!K$44))","v":3},"",3,"",4,"",4,"",3,"",3,"",null,"","",{"$f":"TมาตรฐานT!A61","v":41},0,"",0,""]
[{"$nulls":18},{"$f":"TมาตรฐานT!G62","v":0},{"$f":"TมาตรฐานZ!R62","v":100},{"$f":"IF(T64>='gradeD (2)'!B$37,'gradeD (2)'!D$37,IF(T64>='gradeD (2)'!B$38,'gradeD (2)'!D$38,IF(T64>='gradeD (2)'!B$39,'gradeD (2)'!D$39,IF(T64>='gradeD (2)'!B$40,'gradeD (2)'!D$40,'gradeD (2)'!D$41))))","v":4},"",{"$f":"IF(T64>='gradeD (2)'!E$37,'gradeD (2)'!G$37,IF(T64>='gradeD (2)'!E$38,'gradeD (2)'!G$38,IF(T64>='gradeD (2)'!E$39,'gradeD (2)'!G$39,IF(T64>='gradeD (2)'!E$40,'gradeD (2)'!G$40,IF(T64>='gradeD (2)'!E$41,'gradeD (2)'!G$41,IF(T64>='gradeD (2)'!E$42,'gradeD (2)'!G$42,IF(T64>='gradeD (2)'!E$43,'gradeD (2)'!G$43,'gradeD (2)'!G$44)))))))","v":4},"",{"$f":"IF(T64>='gradeD (2)'!I$42,'gradeD (2)'!K$42,IF(T64>='gradeD (2)'!I$43,'gradeD (2)'!K$43,'gradeD (2)'!K$44))","v":3},"",3,"",4,"",4,"",3,"",3,"",null,"","",{"$f":"TมาตรฐานT!A62","v":40},0,"",0,""]
[{"$nulls":18},{"$f":"TมาตรฐานT!G63","v":0},{"$f":"TมาตรฐานZ!R63","v":100},{"$f":"IF(T65>='gradeD (2)'!B$37,'gradeD (2)'!D$37,IF(T65>='gradeD (2)'!B$38,'gradeD (2)'!D$38,IF(T65>='gradeD (2)'!B$39,'gradeD (2)'!D$39,IF(T65>='gradeD (2)'!B$40,'gradeD (2)'!D$40,'gradeD (2)'!D$41))))","v":4},"",{"$f":"IF(T65>='gradeD (2)'!E$37,'gradeD (2)'!G$37,IF(T65>='gradeD (2)'!E$38,'gradeD (2)'!G$38,IF(T65>='gradeD (2)'!E$39,'gradeD (2)'!G$39,IF(T65>='gradeD (2)'!E$40,'gradeD (2)'!G$40,IF(T65>='gradeD (2)'!E$41,'gradeD (2)'!G$41,IF(T65>='gradeD (2)'!E$42,'gradeD (2)'!G$42,IF(T65>='gradeD (2)'!E$43,'gradeD (2)'!G$43,'gradeD (2)'!G$44)))))))","v":4},"",{"$f":"IF(T65>='gradeD (2)'!I$42,'gradeD (2)'!K$42,IF(T65>='gradeD (2)'!I$43,'gradeD (2)'!K$43,'gradeD (2)'!K$44))","v":3},"",3,"",4,"",4,"",3,"",3,"",null,"","",{"$f":"TมาตรฐานT!A63","v":39},0,"",0,""]
[{"$nulls":18},{"$f":"TมาตรฐานT!G64","v":0},{"$f":"TมาตรฐานZ!R64","v":100},{"$f":"IF(T66>='gradeD (2)'!B$37,'gradeD (2)'!D$37,IF(T66>='gradeD (2)'!B$38,'gradeD (2)'!D$38,IF(T66>='gradeD (2)'!B$39,'gradeD (2)'!D$39,IF(T66>='gradeD (2)'!B$40,'gradeD (2)'!D$40,'gradeD (2)'!D$41))))","v":4},"",{"$f":"IF(T66>='gradeD (2)'!E$37,'gradeD (2)'!G$37,IF(T66>='gradeD (2)'!E$38,'gradeD (2)'!G$38,IF(T66>='gradeD (2)'!E$39,'gradeD (2)'!G$39,IF(T66>='gradeD (2)'!E$40,'gradeD (2)'!G$40,IF(T66>='gradeD (2)'!E$41,'gradeD (2)'!G$41,IF(T66>='gradeD (2)'!E$42,'gradeD (2)'!G$42,IF(T66>='gradeD (2)'!E$43,'gradeD (2)'!G$43,'gradeD (2)'!G$44)))))))","v":4},"",{"$f":"IF(T66>='gradeD (2)'!I$42,'gradeD (2)'!K$42,IF(T66>='gradeD (2)'!I$43,'gradeD (2)'!K$43,'gradeD (2)'!K$44))","v":3},"",3,"",4,"",4,"",3,"",3,"",null,"","",{"$f":"TมาตรฐานT!A64","v":38},0,"",0,""]
[{"$nulls":18},{"$f":"TมาตรฐานT!G65","v":0},{"$f":"TมาตรฐานZ!R65","v":100},{"$f":"IF(T67>='gradeD (2)'!B$37,'gradeD (2)'!D$37,IF(T67>='gradeD (2)'!B$38,'gradeD (2)'!D$38,IF(T67>='gradeD (2)'!B$39,'gradeD (2)'!D$39,IF(T67>='gradeD (2)'!B$40,'gradeD (2)'!D$40,'gradeD (2)'!D$41))))","v":4},"",{"$f":"IF(T67>='gradeD (2)'!E$37,'gradeD (2)'!G$37,IF(T67>='gradeD (2)'!E$38,'gradeD (2)'!G$38,IF(T67>='gradeD (2)'!E$39,'gradeD (2)'!G$39,IF(T67>='gradeD (2)'!E$40,'gradeD (2)'!G$40,IF(T67>='gradeD (2)'!E$41,'gradeD (2)'!G$41,IF(T67>='gradeD (2)'!E$42,'gradeD (2)'!G$42,IF(T67>='gradeD (2)'!E$43,'gradeD (2)'!G$43,'gradeD (2)'!G$44)))))))","v":4},"",{"$f":"IF(T67>='gradeD (2)'!I$42,'gradeD (2)'!K$42,IF(T67>='gradeD (2)'!I$43,'gradeD (2)'!K$43,'gradeD (2)'!K$44))","v":3},"",3,"",4,"",4,"",3,"",3,"",null,"","",{"$f":"TมาตรฐานT!A65","v":37},0,"",0,""]
[{"$nulls":18},{"$f":"TมาตรฐานT!G66","v":0},{"$f":"TมาตรฐานZ!R66","v":100},{"$f":"IF(T68>='gradeD (2)'!B$37,'gradeD (2)'!D$37,IF(T68>='gradeD (2)'!B$38,'gradeD (2)'!D$38,IF(T68>='gradeD (2)'!B$39,'gradeD (2)'!D$39,IF(T68>='gradeD (2)'!B$40,'gradeD (2)'!D$40,'gradeD (2)'!D$41))))","v":4},"",{"$f":"IF(T68>='gradeD (2)'!E$37,'gradeD (2)'!G$37,IF(T68>='gradeD (2)'!E$38,'gradeD (2)'!G$38,IF(T68>='gradeD (2)'!E$39,'gradeD (2)'!G$39,IF(T68>='gradeD (2)'!E$40,'gradeD (2)'!G$40,IF(T68>='gradeD (2)'!E$41,'gradeD (2)'!G$41,IF(T68>='gradeD (2)'!E$42,'gradeD (2)'!G$42,IF(T68>='gradeD (2)'!E$43,'gradeD (2)'!G$43,'gradeD (2)'!G$44)))))))","v":4},"",{"$f":"IF(T68>='gradeD (2)'!I$42,'gradeD (2)'!K$42,IF(T68>='gradeD (2)'!I$43,'gradeD (2)'!K$43,'gradeD (2)'!K$44))","v":3},"",{"$f":"IF(T68>=L$38,N$38,IF(T68>=L$39,N$39,IF(T68>=L$40,N$40,IF(T68>=L$41,N$41,N$42))))","v":3},"",{"$f":"IF(T68>=B$47,D$47,IF(T68>=B$48,D$48,IF(T68>=B$49,D$49,D$50)))","v":4},"",{"$f":"IF(T68>=B$52,D$52,IF(T68>=B$53,D$53,IF(T68>=B$54,D$54,IF(T68>=B$55,D$55,IF(T68>=B$56,D$56,IF(T68>=B$57,D$57,D$58))))))","v":4},"",{"$f":"IF(T68>=F$48,G$48,G$49)","v":3},"",{"$f":"IF(T68>=E$52,G$52,IF(T68>=E$53,G$53,G$54))","v":3},"",null,{"$f":"IF($D$10=5,V68,IF($D$10=4,AD68,IF($D$10=3,Z68,AH68)))","v":""},{"$f":"IF($D$10=5,X68,IF($D$10=4,AF68,IF($D$10=3,AB68,AJ68)))","v":""},{"$f":"TมาตรฐานT!A66","v":36},0,"",0,""]
[{"$nulls":18},{"$f":"TมาตรฐานT!G67","v":0},{"$f":"TมาตรฐานZ!R67","v":100},{"$f":"IF(T69>='gradeD (2)'!B$37,'gradeD (2)'!D$37,IF(T69>='gradeD (2)'!B$38,'gradeD (2)'!D$38,IF(T69>='gradeD (2)'!B$39,'gradeD (2)'!D$39,IF(T69>='gradeD (2)'!B$40,'gradeD (2)'!D$40,'gradeD (2)'!D$41))))","v":4},{"$f":"IF(S69=0,\"\",U69)","v":""},{"$f":"IF(T69>='gradeD (2)'!E$37,'gradeD (2)'!G$37,IF(T69>='gradeD (2)'!E$38,'gradeD (2)'!G$38,IF(T69>='gradeD (2)'!E$39,'gradeD (2)'!G$39,IF(T69>='gradeD (2)'!E$40,'gradeD (2)'!G$40,IF(T69>='gradeD (2)'!E$41,'gradeD (2)'!G$41,IF(T69>='gradeD (2)'!E$42,'gradeD (2)'!G$42,IF(T69>='gradeD (2)'!E$43,'gradeD (2)'!G$43,'gradeD (2)'!G$44)))))))","v":4},{"$f":"IF(S69=0,\"\",W69)","v":""},{"$f":"IF(T69>='gradeD (2)'!I$42,'gradeD (2)'!K$42,IF(T69>='gradeD (2)'!I$43,'gradeD (2)'!K$43,'gradeD (2)'!K$44))","v":3},{"$f":"IF(S69=0,\"\",Y69)","v":""},3,{"$f":"IF(S69=0,\"\",AA69)","v":""},4,{"$f":"IF(S69=0,\"\",AC69)","v":""},4,{"$f":"IF(S69=0,\"\",AE69)","v":""},3,{"$f":"IF(S69=0,\"\",AG69)","v":""},3,{"$f":"IF(S69=0,\"\",AI69)","v":""},null,"","",{"$f":"TมาตรฐานT!A67","v":35},{"$f":"IF(AN69>=G$9,J$9,IF(AN69>=G$8,J$8,IF(AN69>=G$7,J$7,IF(AN69>=G$6,J$6,J$5))))","v":0},{"$f":"IF(S69=0,\"\",AO69)","v":""},{"$f":"IF(AN69>=L$12,O$12,IF(AN69>=L$11,O$11,IF(AN69>=L$10,O$10,IF(AN69>=L$9,O$9,IF(AN69>=L$8,O$8,IF(AN69>=L$7,O$7,IF(AN69>=L$6,O$6,O$5)))))))","v":0},{"$f":"IF(S69=0,\"\",AQ69)","v":""}]
[{"$nulls":18},{"$f":"TมาตรฐานT!G68","v":0},{"$f":"TมาตรฐานZ!R68","v":100},{"$f":"IF(T70>='gradeD (2)'!B$37,'gradeD (2)'!D$37,IF(T70>='gradeD (2)'!B$38,'gradeD (2)'!D$38,IF(T70>='gradeD (2)'!B$39,'gradeD (2)'!D$39,IF(T70>='gradeD (2)'!B$40,'gradeD (2)'!D$40,'gradeD (2)'!D$41))))","v":4},"",{"$f":"IF(T70>='gradeD (2)'!E$37,'gradeD (2)'!G$37,IF(T70>='gradeD (2)'!E$38,'gradeD (2)'!G$38,IF(T70>='gradeD (2)'!E$39,'gradeD (2)'!G$39,IF(T70>='gradeD (2)'!E$40,'gradeD (2)'!G$40,IF(T70>='gradeD (2)'!E$41,'gradeD (2)'!G$41,IF(T70>='gradeD (2)'!E$42,'gradeD (2)'!G$42,IF(T70>='gradeD (2)'!E$43,'gradeD (2)'!G$43,'gradeD (2)'!G$44)))))))","v":4},"",{"$f":"IF(T70>='gradeD (2)'!I$42,'gradeD (2)'!K$42,IF(T70>='gradeD (2)'!I$43,'gradeD (2)'!K$43,'gradeD (2)'!K$44))","v":3},"",3,"",4,"",4,"",3,"",3,"",null,"","",{"$f":"TมาตรฐานT!A68","v":34},0,"",0,""]
[{"$nulls":18},{"$f":"TมาตรฐานT!G69","v":0},{"$f":"TมาตรฐานZ!R69","v":100},{"$f":"IF(T71>='gradeD (2)'!B$37,'gradeD (2)'!D$37,IF(T71>='gradeD (2)'!B$38,'gradeD (2)'!D$38,IF(T71>='gradeD (2)'!B$39,'gradeD (2)'!D$39,IF(T71>='gradeD (2)'!B$40,'gradeD (2)'!D$40,'gradeD (2)'!D$41))))","v":4},"",{"$f":"IF(T71>='gradeD (2)'!E$37,'gradeD (2)'!G$37,IF(T71>='gradeD (2)'!E$38,'gradeD (2)'!G$38,IF(T71>='gradeD (2)'!E$39,'gradeD (2)'!G$39,IF(T71>='gradeD (2)'!E$40,'gradeD (2)'!G$40,IF(T71>='gradeD (2)'!E$41,'gradeD (2)'!G$41,IF(T71>='gradeD (2)'!E$42,'gradeD (2)'!G$42,IF(T71>='gradeD (2)'!E$43,'gradeD (2)'!G$43,'gradeD (2)'!G$44)))))))","v":4},"",{"$f":"IF(T71>='gradeD (2)'!I$42,'gradeD (2)'!K$42,IF(T71>='gradeD (2)'!I$43,'gradeD (2)'!K$43,'gradeD (2)'!K$44))","v":3},"",3,"",4,"",4,"",3,"",3,"",null,"","",{"$f":"TมาตรฐานT!A69","v":33},0,"",0,""]
[{"$nulls":18},{"$f":"TมาตรฐานT!G70","v":0},{"$f":"TมาตรฐานZ!R70","v":100},{"$f":"IF(T72>='gradeD (2)'!B$37,'gradeD (2)'!D$37,IF(T72>='gradeD (2)'!B$38,'gradeD (2)'!D$38,IF(T72>='gradeD (2)'!B$39,'gradeD (2)'!D$39,IF(T72>='gradeD (2)'!B$40,'gradeD (2)'!D$40,'gradeD (2)'!D$41))))","v":4},"",{"$f":"IF(T72>='gradeD (2)'!E$37,'gradeD (2)'!G$37,IF(T72>='gradeD (2)'!E$38,'gradeD (2)'!G$38,IF(T72>='gradeD (2)'!E$39,'gradeD (2)'!G$39,IF(T72>='gradeD (2)'!E$40,'gradeD (2)'!G$40,IF(T72>='gradeD (2)'!E$41,'gradeD (2)'!G$41,IF(T72>='gradeD (2)'!E$42,'gradeD (2)'!G$42,IF(T72>='gradeD (2)'!E$43,'gradeD (2)'!G$43,'gradeD (2)'!G$44)))))))","v":4},"",{"$f":"IF(T72>='gradeD (2)'!I$42,'gradeD (2)'!K$42,IF(T72>='gradeD (2)'!I$43,'gradeD (2)'!K$43,'gradeD (2)'!K$44))","v":3},"",3,"",4,"",4,"",3,"",3,"",null,"","",{"$f":"TมาตรฐานT!A70","v":32},0,"",0,""]
[{"$nulls":18},{"$f":"TมาตรฐานT!G71","v":1},{"$f":"TมาตรฐานZ!R71","v":73.25},{"$f":"IF(T73>='gradeD (2)'!B$37,'gradeD (2)'!D$37,IF(T73>='gradeD (2)'!B$38,'gradeD (2)'!D$38,IF(T73>='gradeD (2)'!B$39,'gradeD (2)'!D$39,IF(T73>='gradeD (2)'!B$40,'gradeD (2)'!D$40,'gradeD (2)'!D$41))))","v":4},4,{"$f":"IF(T73>='gradeD (2)'!E$37,'gradeD (2)'!G$37,IF(T73>='gradeD (2)'!E$38,'gradeD (2)'!G$38,IF(T73>='gradeD (2)'!E$39,'gradeD (2)'!G$39,IF(T73>='gradeD (2)'!E$40,'gradeD (2)'!G$40,IF(T73>='gradeD (2)'!E$41,'gradeD (2)'!G$41,IF(T73>='gradeD (2)'!E$42,'gradeD (2)'!G$42,IF(T73>='gradeD (2)'!E$43,'gradeD (2)'!G$43,'gradeD (2)'!G$44)))))))","v":4},4,{"$f":"IF(T73>='gradeD (2)'!I$42,'gradeD (2)'!K$42,IF(T73>='gradeD (2)'!I$43,'gradeD (2)'!K$43,'gradeD (2)'!K$44))","v":3},3,3,3,4,4,4,4,3,3,3,3,null,4,4,{"$f":"TมาตรฐานT!A71","v":31},0,0,0,0]
[{"$nulls":18},{"$f":"TมาตรฐานT!G72","v":2},{"$f":"TมาตรฐานZ!R72","v":67.5},{"$f":"IF(T74>='gradeD (2)'!B$37,'gradeD (2)'!D$37,IF(T74>='gradeD (2)'!B$38,'gradeD (2)'!D$38,IF(T74>='gradeD (2)'!B$39,'gradeD (2)'!D$39,IF(T74>='gradeD (2)'!B$40,'gradeD (2)'!D$40,'gradeD (2)'!D$41))))","v":4},4,{"$f":"IF(T74>='gradeD (2)'!E$37,'gradeD (2)'!G$37,IF(T74>='gradeD (2)'!E$38,'gradeD (2)'!G$38,IF(T74>='gradeD (2)'!E$39,'gradeD (2)'!G$39,IF(T74>='gradeD (2)'!E$40,'gradeD (2)'!G$40,IF(T74>='gradeD (2)'!E$41,'gradeD (2)'!G$41,IF(T74>='gradeD (2)'!E$42,'gradeD (2)'!G$42,IF(T74>='gradeD (2)'!E$43,'gradeD (2)'!G$43,'gradeD (2)'!G$44)))))))","v":4},4,{"$f":"IF(T74>='gradeD (2)'!I$42,'gradeD (2)'!K$42,IF(T74>='gradeD (2)'!I$43,'gradeD (2)'!K$43,'gradeD (2)'!K$44))","v":3},3,3,3,4,4,4,4,3,3,3,3,null,4,4,{"$f":"TมาตรฐานT!A72","v":30},0,0,0,0]
[{"$nulls":18},{"$f":"TมาตรฐานT!G73","v":1},{"$f":"TมาตรฐานZ!R73","v":64.75},{"$f":"IF(T75>='gradeD (2)'!B$37,'gradeD (2)'!D$37,IF(T75>='gradeD (2)'!B$38,'gradeD (2)'!D$38,IF(T75>='gradeD (2)'!B$39,'gradeD (2)'!D$39,IF(T75>='gradeD (2)'!B$40,'gradeD (2)'!D$40,'gradeD (2)'!D$41))))","v":3},3,{"$f":"IF(T75>='gradeD (2)'!E$37,'gradeD (2)'!G$37,IF(T75>='gradeD (2)'!E$38,'gradeD (2)'!G$38,IF(T75>='gradeD (2)'!E$39,'gradeD (2)'!G$39,IF(T75>='gradeD (2)'!E$40,'gradeD (2)'!G$40,IF(T75>='gradeD (2)'!E$41,'gradeD (2)'!G$41,IF(T75>='gradeD (2)'!E$42,'gradeD (2)'!G$42,IF(T75>='gradeD (2)'!E$43,'gradeD (2)'!G$43,'gradeD (2)'!G$44)))))))","v":3.5},3.5,{"$f":"IF(T75>='gradeD (2)'!I$42,'gradeD (2)'!K$42,IF(T75>='gradeD (2)'!I$43,'gradeD (2)'!K$43,'gradeD (2)'!K$44))","v":3},3,3,3,4,4,4,4,3,3,3,3,null,3,3.5,{"$f":"TมาตรฐานT!A73","v":29},0,0,0,0]
[{"$nulls":18},{"$f":"TมาตรฐานT!G74","v":2},{"$f":"TมาตรฐานZ!R74","v":62.8},{"$f":"IF(T76>='gradeD (2)'!B$37,'gradeD (2)'!D$37,IF(T76>='gradeD (2)'!B$38,'gradeD (2)'!D$38,IF(T76>='gradeD (2)'!B$39,'gradeD (2)'!D$39,IF(T76>='gradeD (2)'!B$40,'gradeD (2)'!D$40,'gradeD (2)'!D$41))))","v":3},3,{"$f":"IF(T76>='gradeD (2)'!E$37,'gradeD (2)'!G$37,IF(T76>='gradeD (2)'!E$38,'gradeD (2)'!G$38,IF(T76>='gradeD (2)'!E$39,'gradeD (2)'!G$39,IF(T76>='gradeD (2)'!E$40,'gradeD (2)'!G$40,IF(T76>='gradeD (2)'!E$41,'gradeD (2)'!G$41,IF(T76>='gradeD (2)'!E$42,'gradeD (2)'!G$42,IF(T76>='gradeD (2)'!E$43,'gradeD (2)'!G$43,'gradeD (2)'!G$44)))))))","v":3.5},3.5,{"$f":"IF(T76>='gradeD (2)'!I$42,'gradeD (2)'!K$42,IF(T76>='gradeD (2)'!I$43,'gradeD (2)'!K$43,'gradeD (2)'!K$44))","v":3},3,3,3,4,4,4,4,3,3,3,3,null,3,3.5,{"$f":"TมาตรฐานT!A74","v":28},0,0,0,0]
[{"$nulls":18},{"$f":"TมาตรฐานT!G75","v":2},{"$f":"TมาตรฐานZ!R75","v":60.8},{"$f":"IF(T77>='gradeD (2)'!B$37,'gradeD (2)'!D$37,IF(T77>='gradeD (2)'!B$38,'gradeD (2)'!D$38,IF(T77>='gradeD (2)'!B$39,'gradeD (2)'!D$39,IF(T77>='gradeD (2)'!B$40,'gradeD (2)'!D$40,'gradeD (2)'!D$41))))","v":3},3,{"$f":"IF(T77>='gradeD (2)'!E$37,'gradeD (2)'!G$37,IF(T77>='gradeD (2)'!E$38,'gradeD (2)'!G$38,IF(T77>='gradeD (2)'!E$39,'gradeD (2)'!G$39,IF(T77>='gradeD (2)'!E$40,'gradeD (2)'!G$40,IF(T77>='gradeD (2)'!E$41,'gradeD (2)'!G$41,IF(T77>='gradeD (2)'!E$42,'gradeD (2)'!G$42,IF(T77>='gradeD (2)'!E$43,'gradeD (2)'!G$43,'gradeD (2)'!G$44)))))))","v":3},3,{"$f":"IF(T77>='gradeD (2)'!I$42,'gradeD (2)'!K$42,IF(T77>='gradeD (2)'!I$43,'gradeD (2)'!K$43,'gradeD (2)'!K$44))","v":3},3,3,3,4,4,4,4,3,3,3,3,null,3,3,{"$f":"TมาตรฐานT!A75","v":27},0,0,0,0]
[{"$nulls":18},{"$f":"TมาตรฐานT!G76","v":4},{"$f":"TมาตรฐานZ!R76","v":58.4},{"$f":"IF(T78>='gradeD (2)'!B$37,'gradeD (2)'!D$37,IF(T78>='gradeD (2)'!B$38,'gradeD (2)'!D$38,IF(T78>='gradeD (2)'!B$39,'gradeD (2)'!D$39,IF(T78>='gradeD (2)'!B$40,'gradeD (2)'!D$40,'gradeD (2)'!D$41))))","v":2},2,{"$f":"IF(T78>='gradeD (2)'!E$37,'gradeD (2)'!G$37,IF(T78>='gradeD (2)'!E$38,'gradeD (2)'!G$38,IF(T78>='gradeD (2)'!E$39,'gradeD (2)'!G$39,IF(T78>='gradeD (2)'!E$40,'gradeD (2)'!G$40,IF(T78>='gradeD (2)'!E$41,'gradeD (2)'!G$41,IF(T78>='gradeD (2)'!E$42,'gradeD (2)'!G$42,IF(T78>='gradeD (2)'!E$43,'gradeD (2)'!G$43,'gradeD (2)'!G$44)))))))","v":2.5},2.5,{"$f":"IF(T78>='gradeD (2)'!I$42,'gradeD (2)'!K$42,IF(T78>='gradeD (2)'!I$43,'gradeD (2)'!K$43,'gradeD (2)'!K$44))","v":3},3,3,3,3,3,3.5,3.5,3,3,3,3,null,2,2.5,{"$f":"TมาตรฐานT!A76","v":26},0,0,0,0]
[{"$nulls":18},{"$f":"TมาตรฐานT!G77","v":3},{"$f":"TมาตรฐานZ!R77","v":56.1},{"$f":"IF(T79>='gradeD (2)'!B$37,'gradeD (2)'!D$37,IF(T79>='gradeD (2)'!B$38,'gradeD (2)'!D$38,IF(T79>='gradeD (2)'!B$39,'gradeD (2)'!D$39,IF(T79>='gradeD (2)'!B$40,'gradeD (2)'!D$40,'gradeD (2)'!D$41))))","v":2},2,{"$f":"IF(T79>='gradeD (2)'!E$37,'gradeD (2)'!G$37,IF(T79>='gradeD (2)'!E$38,'gradeD (2)'!G$38,IF(T79>='gradeD (2)'!E$39,'gradeD (2)'!G$39,IF(T79>='gradeD (2)'!E$40,'gradeD (2)'!G$40,IF(T79>='gradeD (2)'!E$41,'gradeD (2)'!G$41,IF(T79>='gradeD (2)'!E$42,'gradeD (2)'!G$42,IF(T79>='gradeD (2)'!E$43,'gradeD (2)'!G$43,'gradeD (2)'!G$44)))))))","v":2.5},2.5,{"$f":"IF(T79>='gradeD (2)'!I$42,'gradeD (2)'!K$42,IF(T79>='gradeD (2)'!I$43,'gradeD (2)'!K$43,'gradeD (2)'!K$44))","v":3},3,3,3,3,3,3.5,3.5,3,3,3,3,null,2,2.5,{"$f":"TมาตรฐานT!A77","v":25},0,0,0,0]
[{"$nulls":18},{"$f":"TมาตรฐานT!G78","v":3},{"$f":"TมาตรฐานZ!R78","v":54.4},{"$f":"IF(T80>='gradeD (2)'!B$37,'gradeD (2)'!D$37,IF(T80>='gradeD (2)'!B$38,'gradeD (2)'!D$38,IF(T80>='gradeD (2)'!B$39,'gradeD (2)'!D$39,IF(T80>='gradeD (2)'!B$40,'gradeD (2)'!D$40,'gradeD (2)'!D$41))))","v":2},2,{"$f":"IF(T80>='gradeD (2)'!E$37,'gradeD (2)'!G$37,IF(T80>='gradeD (2)'!E$38,'gradeD (2)'!G$38,IF(T80>='gradeD (2)'!E$39,'gradeD (2)'!G$39,IF(T80>='gradeD (2)'!E$40,'gradeD (2)'!G$40,IF(T80>='gradeD (2)'!E$41,'gradeD (2)'!G$41,IF(T80>='gradeD (2)'!E$42,'gradeD (2)'!G$42,IF(T80>='gradeD (2)'!E$43,'gradeD (2)'!G$43,'gradeD (2)'!G$44)))))))","v":2.5},2.5,{"$f":"IF(T80>='gradeD (2)'!I$42,'gradeD (2)'!K$42,IF(T80>='gradeD (2)'!I$43,'gradeD (2)'!K$43,'gradeD (2)'!K$44))","v":3},3,3,3,3,3,3.5,3.5,3,3,3,3,null,2,2.5,{"$f":"TมาตรฐานT!A78","v":24},0,0,0,0]
[{"$nulls":18},{"$f":"TมาตรฐานT!G79","v":4},{"$f":"TมาตรฐานZ!R79","v":52.5},{"$f":"IF(T81>='gradeD (2)'!B$37,'gradeD (2)'!D$37,IF(T81>='gradeD (2)'!B$38,'gradeD (2)'!D$38,IF(T81>='gradeD (2)'!B$39,'gradeD (2)'!D$39,IF(T81>='gradeD (2)'!B$40,'gradeD (2)'!D$40,'gradeD (2)'!D$41))))","v":2},2,{"$f":"IF(T81>='gradeD (2)'!E$37,'gradeD (2)'!G$37,IF(T81>='gradeD (2)'!E$38,'gradeD (2)'!G$38,IF(T81>='gradeD (2)'!E$39,'gradeD (2)'!G$39,IF(T81>='gradeD (2)'!E$40,'gradeD (2)'!G$40,IF(T81>='gradeD (2)'!E$41,'gradeD (2)'!G$41,IF(T81>='gradeD (2)'!E$42,'gradeD (2)'!G$42,IF(T81>='gradeD (2)'!E$43,'gradeD (2)'!G$43,'gradeD (2)'!G$44)))))))","v":2.5},2.5,{"$f":"IF(T81>='gradeD (2)'!I$42,'gradeD (2)'!K$42,IF(T81>='gradeD (2)'!I$43,'gradeD (2)'!K$43,'gradeD (2)'!K$44))","v":3},3,3,3,3,3,3,3,3,3,3,3,null,2,2.5,{"$f":"TมาตรฐานT!A79","v":23},0,0,0,0]
[{"$nulls":18},{"$f":"TมาตรฐานT!G80","v":2},{"$f":"TมาตรฐานZ!R80","v":51},{"$f":"IF(T82>='gradeD (2)'!B$37,'gradeD (2)'!D$37,IF(T82>='gradeD (2)'!B$38,'gradeD (2)'!D$38,IF(T82>='gradeD (2)'!B$39,'gradeD (2)'!D$39,IF(T82>='gradeD (2)'!B$40,'gradeD (2)'!D$40,'gradeD (2)'!D$41))))","v":2},2,{"$f":"IF(T82>='gradeD (2)'!E$37,'gradeD (2)'!G$37,IF(T82>='gradeD (2)'!E$38,'gradeD (2)'!G$38,IF(T82>='gradeD (2)'!E$39,'gradeD (2)'!G$39,IF(T82>='gradeD (2)'!E$40,'gradeD (2)'!G$40,IF(T82>='gradeD (2)'!E$41,'gradeD (2)'!G$41,IF(T82>='gradeD (2)'!E$42,'gradeD (2)'!G$42,IF(T82>='gradeD (2)'!E$43,'gradeD (2)'!G$43,'gradeD (2)'!G$44)))))))","v":2},{"$f":"IF(S82=0,\"\",W82)","v":2},{"$f":"IF(T82>='gradeD (2)'!I$42,'gradeD (2)'!K$42,IF(T82>='gradeD (2)'!I$43,'gradeD (2)'!K$43,'gradeD (2)'!K$44))","v":2},2,2.5,2.5,3,3,3,3,3,3,3,3,null,2,2,{"$f":"TมาตรฐานT!A80","v":22},0,0,0,0]
[{"$nulls":18},{"$f":"TมาตรฐานT!G81","v":6},{"$f":"TมาตรฐานZ!R81","v":48.95},{"$f":"IF(T83>='gradeD (2)'!B$37,'gradeD (2)'!D$37,IF(T83>='gradeD (2)'!B$38,'gradeD (2)'!D$38,IF(T83>='gradeD (2)'!B$39,'gradeD (2)'!D$39,IF(T83>='gradeD (2)'!B$40,'gradeD (2)'!D$40,'gradeD (2)'!D$41))))","v":2},2,{"$f":"IF(T83>='gradeD (2)'!E$37,'gradeD (2)'!G$37,IF(T83>='gradeD (2)'!E$38,'gradeD (2)'!G$38,IF(T83>='gradeD (2)'!E$39,'gradeD (2)'!G$39,IF(T83>='gradeD (2)'!E$40,'gradeD (2)'!G$40,IF(T83>='gradeD (2)'!E$41,'gradeD (2)'!G$41,IF(T83>='gradeD (2)'!E$42,'gradeD (2)'!G$42,IF(T83>='gradeD (2)'!E$43,'gradeD (2)'!G$43,'gradeD (2)'!G$44)))))))","v":2},{"$f":"IF(S83=0,\"\",W83)","v":2},{"$f":"IF(T83>='gradeD (2)'!I$42,'gradeD (2)'!K$42,IF(T83>='gradeD (2)'!I$43,'gradeD (2)'!K$43,'gradeD (2)'!K$44))","v":2},2,2.5,2.5,3,3,3,3,2,2,3,3,null,2,2,{"$f":"TมาตรฐานT!A81","v":21},0,0,0,0]
[{"$nulls":18},{"$f":"TมาตรฐานT!G82","v":3},{"$f":"TมาตรฐานZ!R82","v":46.65},{"$f":"IF(T84>='gradeD (2)'!B$37,'gradeD (2)'!D$37,IF(T84>='gradeD (2)'!B$38,'gradeD (2)'!D$38,IF(T84>='gradeD (2)'!B$39,'gradeD (2)'!D$39,IF(T84>='gradeD (2)'!B$40,'gradeD (2)'!D$40,'gradeD (2)'!D$41))))","v":2},2,{"$f":"IF(T84>='gradeD (2)'!E$37,'gradeD (2)'!G$37,IF(T84>='gradeD (2)'!E$38,'gradeD (2)'!G$38,IF(T84>='gradeD (2)'!E$39,'gradeD (2)'!G$39,IF(T84>='gradeD (2)'!E$40,'gradeD (2)'!G$40,IF(T84>='gradeD (2)'!E$41,'gradeD (2)'!G$41,IF(T84>='gradeD (2)'!E$42,'gradeD (2)'!G$42,IF(T84>='gradeD (2)'!E$43,'gradeD (2)'!G$43,'gradeD (2)'!G$44)))))))","v":2},2,{"$f":"IF(T84>='gradeD (2)'!I$42,'gradeD (2)'!K$42,IF(T84>='gradeD (2)'!I$43,'gradeD (2)'!K$43,'gradeD (2)'!K$44))","v":2},2,2.5,2.5,2,2,2.5,2.5,2,2,3,3,null,2,2,{"$f":"TมาตรฐานT!A82","v":20},0,0,0,0]
[{"$nulls":18},{"$f":"TมาตรฐานT!G83","v":4},{"$f":"TมาตรฐานZ!R83","v":44.75},{"$f":"IF(T85>='gradeD (2)'!B$37,'gradeD (2)'!D$37,IF(T85>='gradeD (2)'!B$38,'gradeD (2)'!D$38,IF(T85>='gradeD (2)'!B$39,'gradeD (2)'!D$39,IF(T85>='gradeD (2)'!B$40,'gradeD (2)'!D$40,'gradeD (2)'!D$41))))","v":2},2,{"$f":"IF(T85>='gradeD (2)'!E$37,'gradeD (2)'!G$37,IF(T85>='gradeD (2)'!E$38,'gradeD (2)'!G$38,IF(T85>='gradeD (2)'!E$39,'gradeD (2)'!G$39,IF(T85>='gradeD (2)'!E$40,'gradeD (2)'!G$40,IF(T85>='gradeD (2)'!E$41,'gradeD (2)'!G$41,IF(T85>='gradeD (2)'!E$42,'gradeD (2)'!G$42,IF(T85>='gradeD (2)'!E$43,'gradeD (2)'!G$43,'gradeD (2)'!G$44)))))))","v":2},2,{"$f":"IF(T85>='gradeD (2)'!I$42,'gradeD (2)'!K$42,IF(T85>='gradeD (2)'!I$43,'gradeD (2)'!K$43,'gradeD (2)'!K$44))","v":2},2,2.5,2.5,2,2,2.5,2.5,2,2,3,3,null,2,2,{"$f":"TมาตรฐานT!A83","v":19},0,0,0,0]
[{"$nulls":18},{"$f":"TมาตรฐานT!G84","v":2},{"$f":"TมาตรฐานZ!R84","v":42.9},{"$f":"IF(T86>='gradeD (2)'!B$37,'gradeD (2)'!D$37,IF(T86>='gradeD (2)'!B$38,'gradeD (2)'!D$38,IF(T86>='gradeD (2)'!B$39,'gradeD (2)'!D$39,IF(T86>='gradeD (2)'!B$40,'gradeD (2)'!D$40,'gradeD (2)'!D$41))))","v":1},1,{"$f":"IF(T86>='gradeD (2)'!E$37,'gradeD (2)'!G$37,IF(T86>='gradeD (2)'!E$38,'gradeD (2)'!G$38,IF(T86>='gradeD (2)'!E$39,'gradeD (2)'!G$39,IF(T86>='gradeD (2)'!E$40,'gradeD (2)'!G$40,IF(T86>='gradeD (2)'!E$41,'gradeD (2)'!G$41,IF(T86>='gradeD (2)'!E$42,'gradeD (2)'!G$42,IF(T86>='gradeD (2)'!E$43,'gradeD (2)'!G$43,'gradeD (2)'!G$44)))))))","v":1.5},1.5,{"$f":"IF(T86>='gradeD (2)'!I$42,'gradeD (2)'!K$42,IF(T86>='gradeD (2)'!I$43,'gradeD (2)'!K$43,'gradeD (2)'!K$44))","v":2},2,2,2,2,2,2.5,2.5,2,2,3,3,null,1,1.5,{"$f":"TมาตรฐานT!A84","v":18},0,0,0,0]
[{"$nulls":18},{"$f":"TมาตรฐานT!G85","v":3},{"$f":"TมาตรฐานZ!R85","v":41.2},{"$f":"IF(T87>='gradeD (2)'!B$37,'gradeD (2)'!D$37,IF(T87>='gradeD (2)'!B$38,'gradeD (2)'!D$38,IF(T87>='gradeD (2)'!B$39,'gradeD (2)'!D$39,IF(T87>='gradeD (2)'!B$40,'gradeD (2)'!D$40,'gradeD (2)'!D$41))))","v":1},1,{"$f":"IF(T87>='gradeD (2)'!E$37,'gradeD (2)'!G$37,IF(T87>='gradeD (2)'!E$38,'gradeD (2)'!G$38,IF(T87>='gradeD (2)'!E$39,'gradeD (2)'!G$39,IF(T87>='gradeD (2)'!E$40,'gradeD (2)'!G$40,IF(T87>='gradeD (2)'!E$41,'gradeD (2)'!G$41,IF(T87>='gradeD (2)'!E$42,'gradeD (2)'!G$42,IF(T87>='gradeD (2)'!E$43,'gradeD (2)'!G$43,'gradeD (2)'!G$44)))))))","v":1.5},1.5,{"$f":"IF(T87>='gradeD (2)'!I$42,'gradeD (2)'!K$42,IF(T87>='gradeD (2)'!I$43,'gradeD (2)'!K$43,'gradeD (2)'!K$44))","v":2},2,2,2,2,2,2,2,2,2,3,3,null,1,1.5,{"$f":"TมาตรฐานT!A85","v":17},0,0,0,0]
[{"$nulls":18},{"$f":"TมาตรฐานT!G86","v":2},{"$f":"TมาตรฐานZ!R86","v":39.15},{"$f":"IF(T88>='gradeD (2)'!B$37,'gradeD (2)'!D$37,IF(T88>='gradeD (2)'!B$38,'gradeD (2)'!D$38,IF(T88>='gradeD (2)'!B$39,'gradeD (2)'!D$39,IF(T88>='gradeD (2)'!B$40,'gradeD (2)'!D$40,'gradeD (2)'!D$41))))","v":1},1,{"$f":"IF(T88>='gradeD (2)'!E$37,'gradeD (2)'!G$37,IF(T88>='gradeD (2)'!E$38,'gradeD (2)'!G$38,IF(T88>='gradeD (2)'!E$39,'gradeD (2)'!G$39,IF(T88>='gradeD (2)'!E$40,'gradeD (2)'!G$40,IF(T88>='gradeD (2)'!E$41,'gradeD (2)'!G$41,IF(T88>='gradeD (2)'!E$42,'gradeD (2)'!G$42,IF(T88>='gradeD (2)'!E$43,'gradeD (2)'!G$43,'gradeD (2)'!G$44)))))))","v":1},1,{"$f":"IF(T88>='gradeD (2)'!I$42,'gradeD (2)'!K$42,IF(T88>='gradeD (2)'!I$43,'gradeD (2)'!K$43,'gradeD (2)'!K$44))","v":2},2,2,2,2,2,2,2,2,2,2.5,2.5,null,1,1,{"$f":"TมาตรฐานT!A86","v":16},0,0,0,0]
[{"$nulls":18},{"$f":"TมาตรฐานT!G87","v":2},{"$f":"TมาตรฐานZ!R87","v":37.15},{"$f":"IF(T89>='gradeD (2)'!B$37,'gradeD (2)'!D$37,IF(T89>='gradeD (2)'!B$38,'gradeD (2)'!D$38,IF(T89>='gradeD (2)'!B$39,'gradeD (2)'!D$39,IF(T89>='gradeD (2)'!B$40,'gradeD (2)'!D$40,'gradeD (2)'!D$41))))","v":1},1,{"$f":"IF(T89>='gradeD (2)'!E$37,'gradeD (2)'!G$37,IF(T89>='gradeD (2)'!E$38,'gradeD (2)'!G$38,IF(T89>='gradeD (2)'!E$39,'gradeD (2)'!G$39,IF(T89>='gradeD (2)'!E$40,'gradeD (2)'!G$40,IF(T89>='gradeD (2)'!E$41,'gradeD (2)'!G$41,IF(T89>='gradeD (2)'!E$42,'gradeD (2)'!G$42,IF(T89>='gradeD (2)'!E$43,'gradeD (2)'!G$43,'gradeD (2)'!G$44)))))))","v":1},1,{"$f":"IF(T89>='gradeD (2)'!I$42,'gradeD (2)'!K$42,IF(T89>='gradeD (2)'!I$43,'gradeD (2)'!K$43,'gradeD (2)'!K$44))","v":2},2,2,2,2,2,2,2,2,2,2.5,2.5,null,1,1,{"$f":"TมาตรฐานT!A87","v":15},0,0,0,0]
[{"$nulls":18},{"$f":"TมาตรฐานT!G88","v":1},{"$f":"TมาตรฐานZ!R88","v":35.200000000000003},{"$f":"IF(T90>='gradeD (2)'!B$37,'gradeD (2)'!D$37,IF(T90>='gradeD (2)'!B$38,'gradeD (2)'!D$38,IF(T90>='gradeD (2)'!B$39,'gradeD (2)'!D$39,IF(T90>='gradeD (2)'!B$40,'gradeD (2)'!D$40,'gradeD (2)'!D$41))))","v":0},0,{"$f":"IF(T90>='gradeD (2)'!E$37,'gradeD (2)'!G$37,IF(T90>='gradeD (2)'!E$38,'gradeD (2)'!G$38,IF(T90>='gradeD (2)'!E$39,'gradeD (2)'!G$39,IF(T90>='gradeD (2)'!E$40,'gradeD (2)'!G$40,IF(T90>='gradeD (2)'!E$41,'gradeD (2)'!G$41,IF(T90>='gradeD (2)'!E$42,'gradeD (2)'!G$42,IF(T90>='gradeD (2)'!E$43,'gradeD (2)'!G$43,'gradeD (2)'!G$44)))))))","v":0},0,{"$f":"IF(T90>='gradeD (2)'!I$42,'gradeD (2)'!K$42,IF(T90>='gradeD (2)'!I$43,'gradeD (2)'!K$43,'gradeD (2)'!K$44))","v":1},1,1.5,1.5,1,1,1.5,1.5,2,2,2.5,2.5,null,0,0,{"$f":"TมาตรฐานT!A88","v":14},0,0,0,0]
[{"$nulls":18},{"$f":"TมาตรฐานT!G89","v":1},{"$f":"TมาตรฐานZ!R89","v":33.549999999999997},{"$f":"IF(T91>='gradeD (2)'!B$37,'gradeD (2)'!D$37,IF(T91>='gradeD (2)'!B$38,'gradeD (2)'!D$38,IF(T91>='gradeD (2)'!B$39,'gradeD (2)'!D$39,IF(T91>='gradeD (2)'!B$40,'gradeD (2)'!D$40,'gradeD (2)'!D$41))))","v":0},0,{"$f":"IF(T91>='gradeD (2)'!E$37,'gradeD (2)'!G$37,IF(T91>='gradeD (2)'!E$38,'gradeD (2)'!G$38,IF(T91>='gradeD (2)'!E$39,'gradeD (2)'!G$39,IF(T91>='gradeD (2)'!E$40,'gradeD (2)'!G$40,IF(T91>='gradeD (2)'!E$41,'gradeD (2)'!G$41,IF(T91>='gradeD (2)'!E$42,'gradeD (2)'!G$42,IF(T91>='gradeD (2)'!E$43,'gradeD (2)'!G$43,'gradeD (2)'!G$44)))))))","v":0},0,{"$f":"IF(T91>='gradeD (2)'!I$42,'gradeD (2)'!K$42,IF(T91>='gradeD (2)'!I$43,'gradeD (2)'!K$43,'gradeD (2)'!K$44))","v":1},1,1.5,1.5,1,1,1.5,1.5,2,2,2,2,null,0,0,{"$f":"TมาตรฐานT!A89","v":13},0,0,0,0]
[{"$nulls":18},{"$f":"TมาตรฐานT!G90","v":2},{"$f":"TมาตรฐานZ!R90","v":29.45},{"$f":"IF(T92>='gradeD (2)'!B$37,'gradeD (2)'!D$37,IF(T92>='gradeD (2)'!B$38,'gradeD (2)'!D$38,IF(T92>='gradeD (2)'!B$39,'gradeD (2)'!D$39,IF(T92>='gradeD (2)'!B$40,'gradeD (2)'!D$40,'gradeD (2)'!D$41))))","v":0},0,{"$f":"IF(T92>='gradeD (2)'!E$37,'gradeD (2)'!G$37,IF(T92>='gradeD (2)'!E$38,'gradeD (2)'!G$38,IF(T92>='gradeD (2)'!E$39,'gradeD (2)'!G$39,IF(T92>='gradeD (2)'!E$40,'gradeD (2)'!G$40,IF(T92>='gradeD (2)'!E$41,'gradeD (2)'!G$41,IF(T92>='gradeD (2)'!E$42,'gradeD (2)'!G$42,IF(T92>='gradeD (2)'!E$43,'gradeD (2)'!G$43,'gradeD (2)'!G$44)))))))","v":0},0,{"$f":"IF(T92>='gradeD (2)'!I$42,'gradeD (2)'!K$42,IF(T92>='gradeD (2)'!I$43,'gradeD (2)'!K$43,'gradeD (2)'!K$44))","v":1},1,1,1,1,1,1,1,2,2,2,2,null,0,0,{"$f":"TมาตรฐานT!A90","v":12},0,0,0,0]
[{"$nulls":18},{"$f":"TมาตรฐานT!G91","v":0},{"$f":"TมาตรฐานZ!R91","v":{"$error":"#N/A"}},{"$f":"IF(T93>='gradeD (2)'!B$37,'gradeD (2)'!D$37,IF(T93>='gradeD (2)'!B$38,'gradeD (2)'!D$38,IF(T93>='gradeD (2)'!B$39,'gradeD (2)'!D$39,IF(T93>='gradeD (2)'!B$40,'gradeD (2)'!D$40,'gradeD (2)'!D$41))))","v":{"$error":"#N/A"}},"",{"$f":"IF(T93>='gradeD (2)'!E$37,'gradeD (2)'!G$37,IF(T93>='gradeD (2)'!E$38,'gradeD (2)'!G$38,IF(T93>='gradeD (2)'!E$39,'gradeD (2)'!G$39,IF(T93>='gradeD (2)'!E$40,'gradeD (2)'!G$40,IF(T93>='gradeD (2)'!E$41,'gradeD (2)'!G$41,IF(T93>='gradeD (2)'!E$42,'gradeD (2)'!G$42,IF(T93>='gradeD (2)'!E$43,'gradeD (2)'!G$43,'gradeD (2)'!G$44)))))))","v":{"$error":"#N/A"}},"",{"$f":"IF(T93>='gradeD (2)'!I$42,'gradeD (2)'!K$42,IF(T93>='gradeD (2)'!I$43,'gradeD (2)'!K$43,'gradeD (2)'!K$44))","v":{"$error":"#N/A"}},"",{"$error":"#N/A"},"",{"$error":"#N/A"},"",{"$error":"#N/A"},"",{"$error":"#N/A"},"",{"$error":"#N/A"},"",null,"","",{"$f":"TมาตรฐานT!A91","v":11},0,"",0,""]
[{"$nulls":18},{"$f":"TมาตรฐานT!G92","v":0},{"$f":"TมาตรฐานZ!R92","v":{"$error":"#N/A"}},{"$f":"IF(T94>='gradeD (2)'!B$37,'gradeD (2)'!D$37,IF(T94>='gradeD (2)'!B$38,'gradeD (2)'!D$38,IF(T94>='gradeD (2)'!B$39,'gradeD (2)'!D$39,IF(T94>='gradeD (2)'!B$40,'gradeD (2)'!D$40,'gradeD (2)'!D$41))))","v":{"$error":"#N/A"}},"",{"$f":"IF(T94>='gradeD (2)'!E$37,'gradeD (2)'!G$37,IF(T94>='gradeD (2)'!E$38,'gradeD (2)'!G$38,IF(T94>='gradeD (2)'!E$39,'gradeD (2)'!G$39,IF(T94>='gradeD (2)'!E$40,'gradeD (2)'!G$40,IF(T94>='gradeD (2)'!E$41,'gradeD (2)'!G$41,IF(T94>='gradeD (2)'!E$42,'gradeD (2)'!G$42,IF(T94>='gradeD (2)'!E$43,'gradeD (2)'!G$43,'gradeD (2)'!G$44)))))))","v":{"$error":"#N/A"}},"",{"$f":"IF(T94>='gradeD (2)'!I$42,'gradeD (2)'!K$42,IF(T94>='gradeD (2)'!I$43,'gradeD (2)'!K$43,'gradeD (2)'!K$44))","v":{"$error":"#N/A"}},"",{"$error":"#N/A"},"",{"$error":"#N/A"},"",{"$error":"#N/A"},"",{"$error":"#N/A"},"",{"$error":"#N/A"},"",null,"","",{"$f":"TมาตรฐานT!A92","v":10},0,"",0,""]
[{"$nulls":18},{"$f":"TมาตรฐานT!G93","v":0},{"$f":"TมาตรฐานZ!R93","v":{"$error":"#N/A"}},{"$f":"IF(T95>='gradeD (2)'!B$37,'gradeD (2)'!D$37,IF(T95>='gradeD (2)'!B$38,'gradeD (2)'!D$38,IF(T95>='gradeD (2)'!B$39,'gradeD (2)'!D$39,IF(T95>='gradeD (2)'!B$40,'gradeD (2)'!D$40,'gradeD (2)'!D$41))))","v":{"$error":"#N/A"}},"",{"$f":"IF(T95>='gradeD (2)'!E$37,'gradeD (2)'!G$37,IF(T95>='gradeD (2)'!E$38,'gradeD (2)'!G$38,IF(T95>='gradeD (2)'!E$39,'gradeD (2)'!G$39,IF(T95>='gradeD (2)'!E$40,'gradeD (2)'!G$40,IF(T95>='gradeD (2)'!E$41,'gradeD (2)'!G$41,IF(T95>='gradeD (2)'!E$42,'gradeD (2)'!G$42,IF(T95>='gradeD (2)'!E$43,'gradeD (2)'!G$43,'gradeD (2)'!G$44)))))))","v":{"$error":"#N/A"}},"",{"$f":"IF(T95>='gradeD (2)'!I$42,'gradeD (2)'!K$42,IF(T95>='gradeD (2)'!I$43,'gradeD (2)'!K$43,'gradeD (2)'!K$44))","v":{"$error":"#N/A"}},"",{"$error":"#N/A"},"",{"$error":"#N/A"},"",{"$error":"#N/A"},"",{"$error":"#N/A"},"",{"$error":"#N/A"},"",null,"","",{"$f":"TมาตรฐานT!A93","v":9},0,"",0,""]
[{"$nulls":18},{"$f":"TมาตรฐานT!G94","v":0},{"$f":"TมาตรฐานZ!R94","v":{"$error":"#N/A"}},{"$f":"IF(T96>='gradeD (2)'!B$37,'gradeD (2)'!D$37,IF(T96>='gradeD (2)'!B$38,'gradeD (2)'!D$38,IF(T96>='gradeD (2)'!B$39,'gradeD (2)'!D$39,IF(T96>='gradeD (2)'!B$40,'gradeD (2)'!D$40,'gradeD (2)'!D$41))))","v":{"$error":"#N/A"}},"",{"$f":"IF(T96>='gradeD (2)'!E$37,'gradeD (2)'!G$37,IF(T96>='gradeD (2)'!E$38,'gradeD (2)'!G$38,IF(T96>='gradeD (2)'!E$39,'gradeD (2)'!G$39,IF(T96>='gradeD (2)'!E$40,'gradeD (2)'!G$40,IF(T96>='gradeD (2)'!E$41,'gradeD (2)'!G$41,IF(T96>='gradeD (2)'!E$42,'gradeD (2)'!G$42,IF(T96>='gradeD (2)'!E$43,'gradeD (2)'!G$43,'gradeD (2)'!G$44)))))))","v":{"$error":"#N/A"}},"",{"$f":"IF(T96>='gradeD (2)'!I$42,'gradeD (2)'!K$42,IF(T96>='gradeD (2)'!I$43,'gradeD (2)'!K$43,'gradeD (2)'!K$44))","v":{"$error":"#N/A"}},"",{"$error":"#N/A"},"",{"$error":"#N/A"},"",{"$error":"#N/A"},"",{"$error":"#N/A"},"",{"$error":"#N/A"},"",null,"","",{"$f":"TมาตรฐานT!A94","v":8},0,"",0,""]
[{"$nulls":18},{"$f":"TมาตรฐานT!G95","v":0},{"$f":"TมาตรฐานZ!R95","v":{"$error":"#N/A"}},{"$f":"IF(T97>='gradeD (2)'!B$37,'gradeD (2)'!D$37,IF(T97>='gradeD (2)'!B$38,'gradeD (2)'!D$38,IF(T97>='gradeD (2)'!B$39,'gradeD (2)'!D$39,IF(T97>='gradeD (2)'!B$40,'gradeD (2)'!D$40,'gradeD (2)'!D$41))))","v":{"$error":"#N/A"}},"",{"$f":"IF(T97>='gradeD (2)'!E$37,'gradeD (2)'!G$37,IF(T97>='gradeD (2)'!E$38,'gradeD (2)'!G$38,IF(T97>='gradeD (2)'!E$39,'gradeD (2)'!G$39,IF(T97>='gradeD (2)'!E$40,'gradeD (2)'!G$40,IF(T97>='gradeD (2)'!E$41,'gradeD (2)'!G$41,IF(T97>='gradeD (2)'!E$42,'gradeD (2)'!G$42,IF(T97>='gradeD (2)'!E$43,'gradeD (2)'!G$43,'gradeD (2)'!G$44)))))))","v":{"$error":"#N/A"}},"",{"$f":"IF(T97>='gradeD (2)'!I$42,'gradeD (2)'!K$42,IF(T97>='gradeD (2)'!I$43,'gradeD (2)'!K$43,'gradeD (2)'!K$44))","v":{"$error":"#N/A"}},"",{"$error":"#N/A"},"",{"$error":"#N/A"},"",{"$error":"#N/A"},"",{"$error":"#N/A"},"",{"$error":"#N/A"},"",null,"","",{"$f":"TมาตรฐานT!A95","v":7},0,"",0,""]
[{"$nulls":18},{"$f":"TมาตรฐานT!G96","v":0},{"$f":"TมาตรฐานZ!R96","v":{"$error":"#N/A"}},{"$f":"IF(T98>='gradeD (2)'!B$37,'gradeD (2)'!D$37,IF(T98>='gradeD (2)'!B$38,'gradeD (2)'!D$38,IF(T98>='gradeD (2)'!B$39,'gradeD (2)'!D$39,IF(T98>='gradeD (2)'!B$40,'gradeD (2)'!D$40,'gradeD (2)'!D$41))))","v":{"$error":"#N/A"}},"",{"$f":"IF(T98>='gradeD (2)'!E$37,'gradeD (2)'!G$37,IF(T98>='gradeD (2)'!E$38,'gradeD (2)'!G$38,IF(T98>='gradeD (2)'!E$39,'gradeD (2)'!G$39,IF(T98>='gradeD (2)'!E$40,'gradeD (2)'!G$40,IF(T98>='gradeD (2)'!E$41,'gradeD (2)'!G$41,IF(T98>='gradeD (2)'!E$42,'gradeD (2)'!G$42,IF(T98>='gradeD (2)'!E$43,'gradeD (2)'!G$43,'gradeD (2)'!G$44)))))))","v":{"$error":"#N/A"}},"",{"$f":"IF(T98>='gradeD (2)'!I$42,'gradeD (2)'!K$42,IF(T98>='gradeD (2)'!I$43,'gradeD (2)'!K$43,'gradeD (2)'!K$44))","v":{"$error":"#N/A"}},"",{"$error":"#N/A"},"",{"$error":"#N/A"},"",{"$error":"#N/A"},"",{"$error":"#N/A"},"",{"$error":"#N/A"},"",null,"","",{"$f":"TมาตรฐานT!A96","v":6},0,"",0,""]
[{"$nulls":18},{"$f":"TมาตรฐานT!G97","v":0},{"$f":"TมาตรฐานZ!R97","v":{"$error":"#N/A"}},{"$f":"IF(T99>='gradeD (2)'!B$37,'gradeD (2)'!D$37,IF(T99>='gradeD (2)'!B$38,'gradeD (2)'!D$38,IF(T99>='gradeD (2)'!B$39,'gradeD (2)'!D$39,IF(T99>='gradeD (2)'!B$40,'gradeD (2)'!D$40,'gradeD (2)'!D$41))))","v":{"$error":"#N/A"}},"",{"$f":"IF(T99>='gradeD (2)'!E$37,'gradeD (2)'!G$37,IF(T99>='gradeD (2)'!E$38,'gradeD (2)'!G$38,IF(T99>='gradeD (2)'!E$39,'gradeD (2)'!G$39,IF(T99>='gradeD (2)'!E$40,'gradeD (2)'!G$40,IF(T99>='gradeD (2)'!E$41,'gradeD (2)'!G$41,IF(T99>='gradeD (2)'!E$42,'gradeD (2)'!G$42,IF(T99>='gradeD (2)'!E$43,'gradeD (2)'!G$43,'gradeD (2)'!G$44)))))))","v":{"$error":"#N/A"}},"",{"$f":"IF(T99>='gradeD (2)'!I$42,'gradeD (2)'!K$42,IF(T99>='gradeD (2)'!I$43,'gradeD (2)'!K$43,'gradeD (2)'!K$44))","v":{"$error":"#N/A"}},"",{"$error":"#N/A"},"",{"$error":"#N/A"},"",{"$error":"#N/A"},"",{"$error":"#N/A"},"",{"$error":"#N/A"},"",null,"","",{"$f":"TมาตรฐานT!A97","v":5},0,"",0,""]
[{"$nulls":18},{"$f":"TมาตรฐานT!G98","v":0},{"$f":"TมาตรฐานZ!R98","v":{"$error":"#N/A"}},{"$f":"IF(T100>='gradeD (2)'!B$37,'gradeD (2)'!D$37,IF(T100>='gradeD (2)'!B$38,'gradeD (2)'!D$38,IF(T100>='gradeD (2)'!B$39,'gradeD (2)'!D$39,IF(T100>='gradeD (2)'!B$40,'gradeD (2)'!D$40,'gradeD (2)'!D$41))))","v":{"$error":"#N/A"}},"",{"$f":"IF(T100>='gradeD (2)'!E$37,'gradeD (2)'!G$37,IF(T100>='gradeD (2)'!E$38,'gradeD (2)'!G$38,IF(T100>='gradeD (2)'!E$39,'gradeD (2)'!G$39,IF(T100>='gradeD (2)'!E$40,'gradeD (2)'!G$40,IF(T100>='gradeD (2)'!E$41,'gradeD (2)'!G$41,IF(T100>='gradeD (2)'!E$42,'gradeD (2)'!G$42,IF(T100>='gradeD (2)'!E$43,'gradeD (2)'!G$43,'gradeD (2)'!G$44)))))))","v":{"$error":"#N/A"}},"",{"$f":"IF(T100>='gradeD (2)'!I$42,'gradeD (2)'!K$42,IF(T100>='gradeD (2)'!I$43,'gradeD (2)'!K$43,'gradeD (2)'!K$44))","v":{"$error":"#N/A"}},"",{"$error":"#N/A"},"",{"$error":"#N/A"},"",{"$error":"#N/A"},"",{"$error":"#N/A"},"",{"$error":"#N/A"},"",null,"","",{"$f":"TมาตรฐานT!A98","v":4},0,"",0,""]
[{"$nulls":18},{"$f":"TมาตรฐานT!G99","v":0},{"$f":"TมาตรฐานZ!R99","v":{"$error":"#N/A"}},{"$f":"IF(T101>='gradeD (2)'!B$37,'gradeD (2)'!D$37,IF(T101>='gradeD (2)'!B$38,'gradeD (2)'!D$38,IF(T101>='gradeD (2)'!B$39,'gradeD (2)'!D$39,IF(T101>='gradeD (2)'!B$40,'gradeD (2)'!D$40,'gradeD (2)'!D$41))))","v":{"$error":"#N/A"}},"",{"$f":"IF(T101>='gradeD (2)'!E$37,'gradeD (2)'!G$37,IF(T101>='gradeD (2)'!E$38,'gradeD (2)'!G$38,IF(T101>='gradeD (2)'!E$39,'gradeD (2)'!G$39,IF(T101>='gradeD (2)'!E$40,'gradeD (2)'!G$40,IF(T101>='gradeD (2)'!E$41,'gradeD (2)'!G$41,IF(T101>='gradeD (2)'!E$42,'gradeD (2)'!G$42,IF(T101>='gradeD (2)'!E$43,'gradeD (2)'!G$43,'gradeD (2)'!G$44)))))))","v":{"$error":"#N/A"}},"",{"$f":"IF(T101>='gradeD (2)'!I$42,'gradeD (2)'!K$42,IF(T101>='gradeD (2)'!I$43,'gradeD (2)'!K$43,'gradeD (2)'!K$44))","v":{"$error":"#N/A"}},"",{"$error":"#N/A"},"",{"$error":"#N/A"},"",{"$error":"#N/A"},"",{"$error":"#N/A"},"",{"$error":"#N/A"},"",null,"","",{"$f":"TมาตรฐานT!A99","v":3},0,"",0,""]
[{"$nulls":18},{"$f":"TมาตรฐานT!G100","v":0},{"$f":"TมาตรฐานZ!R100","v":{"$error":"#N/A"}},{"$f":"IF(T102>='gradeD (2)'!B$37,'gradeD (2)'!D$37,IF(T102>='gradeD (2)'!B$38,'gradeD (2)'!D$38,IF(T102>='gradeD (2)'!B$39,'gradeD (2)'!D$39,IF(T102>='gradeD (2)'!B$40,'gradeD (2)'!D$40,'gradeD (2)'!D$41))))","v":{"$error":"#N/A"}},"",{"$f":"IF(T102>='gradeD (2)'!E$37,'gradeD (2)'!G$37,IF(T102>='gradeD (2)'!E$38,'gradeD (2)'!G$38,IF(T102>='gradeD (2)'!E$39,'gradeD (2)'!G$39,IF(T102>='gradeD (2)'!E$40,'gradeD (2)'!G$40,IF(T102>='gradeD (2)'!E$41,'gradeD (2)'!G$41,IF(T102>='gradeD (2)'!E$42,'gradeD (2)'!G$42,IF(T102>='gradeD (2)'!E$43,'gradeD (2)'!G$43,'gradeD (2)'!G$44)))))))","v":{"$error":"#N/A"}},"",{"$f":"IF(T102>='gradeD (2)'!I$42,'gradeD (2)'!K$42,IF(T102>='gradeD (2)'!I$43,'gradeD (2)'!K$43,'gradeD (2)'!K$44))","v":{"$error":"#N/A"}},"",{"$error":"#N/A"},"",{"$error":"#N/A"},"",{"$error":"#N/A"},"",{"$error":"#N/A"},"",{"$error":"#N/A"},"",null,"","",{"$f":"TมาตรฐานT!A100","v":2},0,"",0,""]
[{"$nulls":18},{"$f":"TมาตรฐานT!G101","v":0},{"$f":"TมาตรฐานZ!R101","v":{"$error":"#N/A"}},{"$f":"IF(T103>='gradeD (2)'!B$37,'gradeD (2)'!D$37,IF(T103>='gradeD (2)'!B$38,'gradeD (2)'!D$38,IF(T103>='gradeD (2)'!B$39,'gradeD (2)'!D$39,IF(T103>='gradeD (2)'!B$40,'gradeD (2)'!D$40,'gradeD (2)'!D$41))))","v":{"$error":"#N/A"}},"",{"$f":"IF(T103>='gradeD (2)'!E$37,'gradeD (2)'!G$37,IF(T103>='gradeD (2)'!E$38,'gradeD (2)'!G$38,IF(T103>='gradeD (2)'!E$39,'gradeD (2)'!G$39,IF(T103>='gradeD (2)'!E$40,'gradeD (2)'!G$40,IF(T103>='gradeD (2)'!E$41,'gradeD (2)'!G$41,IF(T103>='gradeD (2)'!E$42,'gradeD (2)'!G$42,IF(T103>='gradeD (2)'!E$43,'gradeD (2)'!G$43,'gradeD (2)'!G$44)))))))","v":{"$error":"#N/A"}},"",{"$f":"IF(T103>='gradeD (2)'!I$42,'gradeD (2)'!K$42,IF(T103>='gradeD (2)'!I$43,'gradeD (2)'!K$43,'gradeD (2)'!K$44))","v":{"$error":"#N/A"}},"",{"$error":"#N/A"},"",{"$error":"#N/A"},"",{"$error":"#N/A"},"",{"$error":"#N/A"},"",{"$error":"#N/A"},"",null,"","",{"$f":"TมาตรฐานT!A101","v":1},0,"",0,""]

{"sheet":"gradeMed","index":13,"n_rows":21,"n_cols":7,"rows_kept":21,"cut":false,"hidden":true,"merged":[]}
["การคำนวณช่วงของค่าคะแนนของเกรดจากค่ามัธยฐาน"]
[]
["กลุ่มผู้เรียนมีความสามารถดีพอใช้ ใช้สูตร",null,null,"ขีดจำกัดล่าง =","ค่ามัธยฐาน + 1.3s"]
["กลุ่มผู้เรียนมีความสามารถปานกลาง ใช้สูตร",null,null,"ขีดจำกัดล่าง =","ค่ามัธยฐาน + 1.5s"]
[null,"จากค่ามัธยฐาน =",{"$f":"ไม่แจกแจง!$M$11","v":21},{"$f":"ไม่แจกแจง!H8","v":"ส่วนเบี่ยงเบนมาตรฐาน ="},null,{"$f":"ไม่แจกแจง!I8","v":4.8045395200789009}]
[]
["เกรด","                               ขีดจำกัดล่าง"]
[null,"ดีพอใช้","ปานกลาง"]
[0,{"$f":"B10-1.3*F$5","v":2.2622958716922863},{"$f":"C10-1.5*F$5","v":-0.62042784035505427}]
[1,8.5081972477948575,6.5863814397632972]
[2,14.754098623897429,13.793190719881649]
[3,{"$f":"B13-1.3*F$5","v":21},{"$f":"C13-1.5*F$5","v":21}]
[4,{"$f":"C5+1.3*F5","v":27.245901376102573},{"$f":"C5+1.5*F5","v":28.20680928011835}]
[]
["เกรด","                              ดีพอใช้",null,null,"เกรด","                         ปานกลาง"]
[null,"ขีดล่าง","ขีดบน",null,null,"ขีดล่าง","ขีดบน"]
[0,{"$f":"ROUND(CEILING(B9,0.5),0)","v":3},{"$f":"B18-1","v":8},null,0,{"$f":"ROUND(CEILING(C9,0.5),0)","v":{"$error":"#NUM!"}},{"$f":"F18-1","v":6}]
[1,9,14,null,1,7,13]
[2,15,20,null,2,14,20]
[3,{"$f":"ROUND(CEILING(B12,0.5),0)","v":21},{"$f":"B21-1","v":27},null,3,21,{"$f":"F21-1","v":28}]
[4,{"$f":"ROUND(CEILING(B13,0.5),0)","v":28},null,null,4,{"$f":"ROUND(CEILING(C13,0.5),0)","v":29}]

{"sheet":"Ttable","index":14,"n_rows":83,"n_cols":3,"rows_kept":83,"cut":false,"hidden":false,"merged":[]}
["% ที่อยู่ได้","Normalized T-Score"," "]
[3.2000000000000002E-3,10," "]
[4.7999999999999996E-3,11," "]
[7.0000000000000001E-3,12," "]
[1.0999999999999999E-2,13," "]
[1.6E-2,14," "]
[2.3E-2,15," "]
[3.4000000000000002E-2,16," "]
[4.8000000000000001E-2,17," "]
[6.9000000000000006E-2,18," "]
[9.7000000000000003E-2,19," "]
[0.13,20," "]
[0.19,21," "]
[0.26,22," "]
[0.35,23," "]
[0.47,24," "]
[0.62,25," "]
[0.82,26," "]
[1.07,27," "]
[1.39,28," "]
[1.79,29," "]
[2.2799999999999998,30," "]
[2.87,31," "]
[3.59,32," "]
[4.46,33," "]
[5.48,34," "]
[6.68,35," "]
[8.08,36," "]
[9.68,37," "]
[11.51,38," "]
[13.57,39," "]
[15.87,40," "]
[18.41,41," "]
[21.19,42," "]
[24.2,43]
[27.43,44]
[30.85,45]
[34.46,46]
[38.21,47]
[42.07,48]
[46.02,49]
[50,50]
[53.98,51]
[57.93,52]
[61.79,53]
[65.540000000000006,54]
[69.150000000000006,55]
[72.569999999999993,56]
[75.8,57]
[78.81,58]
[81.59,59]
[84.13,60]
[86.43,61]
[88.49,62]
[90.32,63]
[91.92,64]
[93.32,65]
[94.52,66]
[95.54,67]
[96.41,68]
[97.13,69]
[97.72,70]
[98.21,71]
[98.61,72]
[98.93,73]
[99.18,74]
[99.38,75]
[99.53,76]
[99.65,77]
[99.74,78]
[99.81,79]
[99.864999999999995,80]
[99.903000000000006,81]
[99.930999999999997,82]
[99.951999999999998,83]
[99.965999999999994,84]
[99.977000000000004,85]
[99.983999999999995,86]
[99.989000000000004,87]
[99.992800000000003,88]
[99.995199999999997,89]
[99.996799999999993,90]
["source: Henry E. Garrett, Statistics in Psychology and Education."]

{"sheet":"Ztable","index":15,"n_rows":1390,"n_cols":7,"rows_kept":1390,"cut":false,"hidden":false,"merged":[]}
["Z Standard Score ","A Area from mean to Z ","B Area to Larger portion ","% Area  ","C Area in smaller portion ","y Ordinate at Z ",{"$f":"A1","v":"Z Standard Score "}]
[0,0,0.5,{"$f":"Ztable!E684*100","v":0},0.5,0.39889999999999998,{"$f":"-Ztable!A695","v":-5}]
[5.0000000000000001E-3,2E-3,0.502,{"$f":"Ztable!E685*100","v":0},0.498,0.39889999999999998,{"$f":"-Ztable!A694","v":-4.9000000000000004}]
[0.01,4.0000000000000001E-3,0.504,{"$f":"Ztable!E686*100","v":0},0.496,0.39889999999999998,{"$f":"-Ztable!A693","v":-4.8}]
[1.4999999999999999E-2,6.0000000000000001E-3,0.50600000000000001,{"$f":"Ztable!E687*100","v":0},0.49399999999999999,0.39889999999999998,{"$f":"-Ztable!A692","v":-4.7}]
[0.02,8.0000000000000002E-3,0.50800000000000001,{"$f":"Ztable!E688*100","v":0},0.49199999999999999,0.39889999999999998,{"$f":"-Ztable!A691","v":-4.5999999999999996}]
[2.5000000000000001E-2,0.01,0.51,{"$f":"Ztable!E689*100","v":0},0.49,0.39879999999999999,{"$f":"-Ztable!A690","v":-4.5}]
[0.03,1.2E-2,0.51200000000000001,{"$f":"Ztable!E690*100","v":0},0.48799999999999999,0.39879999999999999,{"$f":"-Ztable!A689","v":-4.4000000000000004}]
[3.5000000000000003E-2,1.4E-2,0.51400000000000001,{"$f":"Ztable!E691*100","v":0},0.48599999999999999,0.3987,{"$f":"-Ztable!A688","v":-4.3}]
[0.04,1.6E-2,0.51600000000000001,{"$f":"Ztable!E692*100","v":0},0.48399999999999999,0.39860000000000001,{"$f":"-Ztable!A687","v":-4.2}]
[4.4999999999999998E-2,1.7899999999999999E-2,0.51790000000000003,{"$f":"Ztable!E693*100","v":0},0.48209999999999997,0.39850000000000002,{"$f":"-Ztable!A686","v":-4.0999999999999996}]
[0.05,1.9900000000000001E-2,0.51990000000000003,{"$f":"Ztable!E694*100","v":0},0.48010000000000003,0.39839999999999998,{"$f":"-Ztable!A685","v":-4}]
[5.5E-2,2.1899999999999999E-2,0.52190000000000003,{"$f":"Ztable!E695*100","v":0},0.47810000000000002,0.39829999999999999,{"$f":"-Ztable!A684","v":-3.9}]
[0.06,2.3900000000000001E-2,0.52390000000000003,{"$f":"Ztable!E674*100","v":0.01},0.47610000000000002,0.3982,{"$f":"-Ztable!A683","v":-3.8}]
[6.5000000000000002E-2,2.5899999999999999E-2,0.52590000000000003,{"$f":"Ztable!E675*100","v":0.01},0.47410000000000002,0.39810000000000001,{"$f":"-Ztable!A682","v":-3.7}]
[7.0000000000000007E-2,2.7900000000000001E-2,0.52790000000000004,{"$f":"Ztable!E676*100","v":0.01},0.47210000000000002,0.39800000000000002,{"$f":"-Ztable!A681","v":-3.69}]
[7.4999999999999997E-2,2.9899999999999999E-2,0.52990000000000004,{"$f":"Ztable!E677*100","v":0.01},0.47010000000000002,0.39779999999999999,{"$f":"-Ztable!A680","v":-3.68}]
[0.08,3.1899999999999998E-2,0.53190000000000004,{"$f":"Ztable!E678*100","v":0.01},0.46810000000000002,0.3977,{"$f":"-Ztable!A679","v":-3.67}]
[8.5000000000000006E-2,3.39E-2,0.53390000000000004,{"$f":"Ztable!E679*100","v":0.01},0.46610000000000001,0.39750000000000002,{"$f":"-Ztable!A678","v":-3.66}]
[0.09,3.5900000000000001E-2,0.53590000000000004,{"$f":"Ztable!E680*100","v":0.01},0.46410000000000001,0.39729999999999999,{"$f":"-Ztable!A677","v":-3.65}]
[9.5000000000000001E-2,3.78E-2,0.53779999999999994,{"$f":"Ztable!E681*100","v":0.01},0.4622,0.39710000000000001,{"$f":"-Ztable!A676","v":-3.64}]
[0.1,3.9800000000000002E-2,0.53979999999999995,{"$f":"Ztable!E682*100","v":0.01},0.4602,0.39700000000000002,{"$f":"-Ztable!A675","v":-3.63}]
[0.105,4.1799999999999997E-2,0.54179999999999995,{"$f":"Ztable!E683*100","v":0.01},0.4582,0.3967,{"$f":"-Ztable!A674","v":-3.62}]
[0.11,4.3799999999999999E-2,0.54379999999999995,{"$f":"Ztable!E661*100","v":0.02},0.45619999999999999,0.39650000000000002,{"$f":"-Ztable!A673","v":-3.61}]
[0.115,4.58E-2,0.54579999999999995,{"$f":"Ztable!E662*100","v":0.02},0.45419999999999999,0.39629999999999999,{"$f":"-Ztable!A672","v":-3.6}]
[0.12,4.7800000000000002E-2,0.54779999999999995,{"$f":"Ztable!E663*100","v":0.02},0.45219999999999999,0.39610000000000001,{"$f":"-Ztable!A671","v":-3.59}]
[0.125,4.9700000000000001E-2,0.54969999999999997,{"$f":"Ztable!E664*100","v":0.02},0.45029999999999998,0.39579999999999999,{"$f":"-Ztable!A670","v":-3.58}]
[0.13,5.1700000000000003E-2,0.55169999999999997,{"$f":"Ztable!E665*100","v":0.02},0.44829999999999998,0.39560000000000001,{"$f":"-Ztable!A669","v":-3.57}]
[0.13500000000000001,5.3699999999999998E-2,0.55369999999999997,{"$f":"Ztable!E666*100","v":0.02},0.44629999999999997,0.39529999999999998,{"$f":"-Ztable!A668","v":-3.56}]
[0.14000000000000001,5.57E-2,0.55569999999999997,{"$f":"Ztable!E667*100","v":0.02},0.44429999999999997,0.39510000000000001,{"$f":"-Ztable!A667","v":-3.55}]
[0.14499999999999999,5.7599999999999998E-2,0.55759999999999998,{"$f":"Ztable!E668*100","v":0.02},0.44240000000000002,0.39479999999999998,{"$f":"-Ztable!A666","v":-3.54}]
[0.15,5.96E-2,0.55959999999999999,{"$f":"Ztable!E669*100","v":0.02},0.44040000000000001,0.39450000000000002,{"$f":"-Ztable!A665","v":-3.53}]
[0.155,6.1600000000000002E-2,0.56159999999999999,{"$f":"Ztable!E670*100","v":0.02},0.43840000000000001,0.39419999999999999,{"$f":"-Ztable!A664","v":-3.52}]
[0.16,6.3600000000000004E-2,0.56359999999999999,{"$f":"Ztable!E671*100","v":0.02},0.43640000000000001,0.39389999999999997,{"$f":"-Ztable!A663","v":-3.51}]
[0.16500000000000001,6.5500000000000003E-2,0.5655,{"$f":"Ztable!E672*100","v":0.02},0.4345,0.39350000000000002,{"$f":"-Ztable!A662","v":-3.5}]
[0.17,6.7500000000000004E-2,0.5675,{"$f":"Ztable!E673*100","v":0.02},0.4325,0.39319999999999999,{"$f":"-Ztable!A661","v":-3.49}]
[0.17499999999999999,6.9500000000000006E-2,0.56950000000000001,{"$f":"Ztable!E651*100","v":0.03},0.43049999999999999,0.39290000000000003,{"$f":"-Ztable!A660","v":-3.48}]
[0.18,7.1400000000000005E-2,0.57140000000000002,{"$f":"Ztable!E652*100","v":0.03},0.42859999999999998,0.39250000000000002,{"$f":"-Ztable!A659","v":-3.47}]
[0.185,7.3400000000000007E-2,0.57340000000000002,{"$f":"Ztable!E653*100","v":0.03},0.42659999999999998,0.39219999999999999,{"$f":"-Ztable!A658","v":-3.46}]
[0.19,7.5300000000000006E-2,0.57530000000000003,{"$f":"Ztable!E654*100","v":0.03},0.42470000000000002,0.39179999999999998,{"$f":"-Ztable!A657","v":-3.45}]
[0.19500000000000001,7.7299999999999994E-2,0.57730000000000004,{"$f":"Ztable!E655*100","v":0.03},0.42270000000000002,0.39140000000000003,{"$f":"-Ztable!A656","v":-3.44}]
[0.2,7.9299999999999995E-2,0.57930000000000004,{"$f":"Ztable!E656*100","v":0.03},0.42070000000000002,0.39100000000000001,{"$f":"-Ztable!A655","v":-3.43}]
[0.20499999999999999,8.1199999999999994E-2,0.58120000000000005,{"$f":"Ztable!E657*100","v":0.03},0.41880000000000001,0.3906,{"$f":"-Ztable!A654","v":-3.42}]
[0.21,8.3199999999999996E-2,0.58320000000000005,{"$f":"Ztable!E658*100","v":0.03},0.4168,0.39019999999999999,{"$f":"-Ztable!A653","v":-3.41}]
[0.215,8.5099999999999995E-2,0.58509999999999995,{"$f":"Ztable!E659*100","v":0.03},0.41489999999999999,0.38979999999999998,{"$f":"-Ztable!A652","v":-3.4}]
[0.22,8.7099999999999997E-2,0.58709999999999996,{"$f":"Ztable!E660*100","v":0.03},0.41289999999999999,0.38940000000000002,{"$f":"-Ztable!A651","v":-3.39}]
[0.22500000000000001,8.8999999999999996E-2,0.58899999999999997,{"$f":"Ztable!E645*100","v":0.04},0.41099999999999998,0.38900000000000001,{"$f":"-Ztable!A650","v":-3.38}]
[0.23,9.0999999999999998E-2,0.59099999999999997,{"$f":"Ztable!E646*100","v":0.04},0.40899999999999997,0.38850000000000001,{"$f":"-Ztable!A649","v":-3.37}]
[0.23499999999999999,9.2899999999999996E-2,0.59289999999999998,{"$f":"Ztable!E647*100","v":0.04},0.40710000000000002,0.3881,{"$f":"-Ztable!A648","v":-3.36}]
[0.24,9.4799999999999995E-2,0.5948,{"$f":"Ztable!E648*100","v":0.04},0.4052,0.3876,{"$f":"-Ztable!A647","v":-3.35}]
[0.245,9.6799999999999997E-2,0.5968,{"$f":"Ztable!E649*100","v":0.04},0.4032,0.3871,{"$f":"-Ztable!A646","v":-3.34}]
[0.25,9.8699999999999996E-2,0.59870000000000001,{"$f":"Ztable!E650*100","v":0.04},0.40129999999999999,0.38669999999999999,{"$f":"-Ztable!A645","v":-3.33}]
[0.255,0.10059999999999999,0.60060000000000002,{"$f":"Ztable!E639*100","v":0.05},0.39939999999999998,0.38619999999999999,{"$f":"-Ztable!A644","v":-3.32}]
[0.26,0.1026,0.60260000000000002,{"$f":"Ztable!E640*100","v":0.05},0.39739999999999998,0.38569999999999999,{"$f":"-Ztable!A643","v":-3.31}]
[0.26500000000000001,0.1045,0.60450000000000004,{"$f":"Ztable!E641*100","v":0.05},0.39550000000000002,0.38519999999999999,{"$f":"-Ztable!A642","v":-3.3}]
[0.27,0.10639999999999999,0.60640000000000005,{"$f":"Ztable!E642*100","v":0.05},0.39360000000000001,0.38469999999999999,{"$f":"-Ztable!A641","v":-3.29}]
[0.27500000000000002,0.10829999999999999,0.60829999999999995,{"$f":"Ztable!E643*100","v":0.05},0.39169999999999999,0.3841,{"$f":"-Ztable!A640","v":-3.28}]
[0.28000000000000003,0.1103,0.61029999999999995,{"$f":"Ztable!E644*100","v":0.05},0.38969999999999999,0.3836,{"$f":"-Ztable!A639","v":-3.27}]
[0.28499999999999998,0.11219999999999999,0.61219999999999997,{"$f":"Ztable!E634*100","v":0.06},0.38779999999999998,0.3831,{"$f":"-Ztable!A638","v":-3.26}]
[0.28999999999999998,0.11409999999999999,0.61409999999999998,{"$f":"Ztable!E635*100","v":0.06},0.38590000000000002,0.38250000000000001,{"$f":"-Ztable!A637","v":-3.25}]
[0.29499999999999998,0.11600000000000001,0.61599999999999999,{"$f":"Ztable!E636*100","v":0.06},0.38400000000000001,0.38200000000000001,{"$f":"-Ztable!A636","v":-3.24}]
[0.3,0.1179,0.6179,{"$f":"Ztable!E637*100","v":0.06},0.3821,0.38140000000000002,{"$f":"-Ztable!A635","v":-3.23}]
[0.30499999999999999,0.1198,0.61980000000000002,{"$f":"Ztable!E638*100","v":0.06},0.38019999999999998,0.38080000000000003,{"$f":"-Ztable!A634","v":-3.22}]
[0.31,0.1217,0.62170000000000003,{"$f":"Ztable!E630*100","v":6.9999999999999993E-2},0.37830000000000003,0.38019999999999998,{"$f":"-Ztable!A633","v":-3.21}]
[0.315,0.1236,0.62360000000000004,{"$f":"Ztable!E631*100","v":6.9999999999999993E-2},0.37640000000000001,0.37959999999999999,{"$f":"-Ztable!A632","v":-3.2}]
[0.32,0.1255,0.62549999999999994,{"$f":"Ztable!E632*100","v":6.9999999999999993E-2},0.3745,0.379,{"$f":"-Ztable!A631","v":-3.19}]
[0.32500000000000001,0.12740000000000001,0.62739999999999996,{"$f":"Ztable!E633*100","v":6.9999999999999993E-2},0.37259999999999999,0.37840000000000001,{"$f":"-Ztable!A630","v":-3.18}]
[0.33,0.1293,0.62929999999999997,{"$f":"Ztable!E626*100","v":0.08},0.37069999999999997,0.37780000000000002,{"$f":"-Ztable!A629","v":-3.17}]
[0.33500000000000002,0.13120000000000001,0.63119999999999998,{"$f":"Ztable!E627*100","v":0.08},0.36880000000000002,0.37719999999999998,{"$f":"-Ztable!A628","v":-3.16}]
[0.34,0.1331,0.6331,{"$f":"Ztable!E628*100","v":0.08},0.3669,0.3765,{"$f":"-Ztable!A627","v":-3.15}]
[0.34499999999999997,0.13500000000000001,0.63500000000000001,{"$f":"Ztable!E629*100","v":0.08},0.36499999999999999,0.37590000000000001,{"$f":"-Ztable!A626","v":-3.14}]
[0.35,0.1368,0.63680000000000003,{"$f":"Ztable!E623*100","v":0.09},0.36320000000000002,0.37519999999999998,{"$f":"-Ztable!A625","v":-3.13}]
[0.35499999999999998,0.13869999999999999,0.63870000000000005,{"$f":"Ztable!E624*100","v":0.09},0.36130000000000001,0.37459999999999999,{"$f":"-Ztable!A624","v":-3.12}]
[0.36,0.1406,0.64059999999999995,{"$f":"Ztable!E625*100","v":0.09},0.3594,0.37390000000000001,{"$f":"-Ztable!A623","v":-3.11}]
[0.36499999999999999,0.1424,0.64239999999999997,{"$f":"Ztable!E618*100","v":0.1},0.35759999999999997,0.37319999999999998,{"$f":"-Ztable!A622","v":-3.1}]
[0.37,0.14430000000000001,0.64429999999999998,{"$f":"Ztable!E619*100","v":0.1},0.35570000000000002,0.37259999999999999,{"$f":"-Ztable!A621","v":-3.0950000000000002}]
[0.375,0.1462,0.6462,{"$f":"Ztable!E620*100","v":0.1},0.3538,0.37190000000000001,{"$f":"-Ztable!A620","v":-3.09}]
[0.38,0.14799999999999999,0.64800000000000002,{"$f":"Ztable!E621*100","v":0.1},0.35199999999999998,0.37119999999999997,{"$f":"-Ztable!A619","v":-3.085}]
[0.38500000000000001,0.14990000000000001,0.64990000000000003,{"$f":"Ztable!E622*100","v":0.1},0.35010000000000002,0.37040000000000001,{"$f":"-Ztable!A618","v":-3.08}]
[0.39,0.1517,0.65169999999999995,{"$f":"Ztable!E612*100","v":0.11},0.3483,0.36969999999999997,{"$f":"-Ztable!A617","v":-3.0750000000000002}]
[0.39500000000000002,0.15359999999999999,0.65359999999999996,{"$f":"Ztable!E613*100","v":0.11},0.34639999999999999,0.36899999999999999,{"$f":"-Ztable!A616","v":-3.07}]
[0.4,0.15540000000000001,0.65539999999999998,{"$f":"Ztable!E614*100","v":0.11},0.34460000000000002,0.36830000000000002,{"$f":"-Ztable!A615","v":-3.0649999999999999}]
[0.40500000000000003,0.1573,0.6573,{"$f":"Ztable!E615*100","v":0.11},0.3427,0.36749999999999999,{"$f":"-Ztable!A614","v":-3.06}]
[0.41,0.15909999999999999,0.65910000000000002,{"$f":"Ztable!E616*100","v":0.11},0.34089999999999998,0.36680000000000001,{"$f":"-Ztable!A613","v":-3.0550000000000002}]
[0.41499999999999998,0.16089999999999999,0.66090000000000004,{"$f":"Ztable!E617*100","v":0.11},0.33910000000000001,0.36599999999999999,{"$f":"-Ztable!A612","v":-3.05}]
[0.42,0.1628,0.66279999999999994,{"$f":"Ztable!E607*100","v":0.12},0.3372,0.36530000000000001,{"$f":"-Ztable!A611","v":-3.0449999999999999}]
[0.42499999999999999,0.1646,0.66459999999999997,{"$f":"Ztable!E608*100","v":0.12},0.33539999999999998,0.36449999999999999,{"$f":"-Ztable!A610","v":-3.04}]
[0.43,0.16639999999999999,0.66639999999999999,{"$f":"Ztable!E609*100","v":0.12},0.33360000000000001,0.36370000000000002,{"$f":"-Ztable!A609","v":-3.0350000000000001}]
[0.435,0.16819999999999999,0.66820000000000002,{"$f":"Ztable!E610*100","v":0.12},0.33179999999999998,0.3629,{"$f":"-Ztable!A608","v":-3.03}]
[0.44,0.17,0.67,{"$f":"Ztable!E611*100","v":0.12},0.33,0.36209999999999998,{"$f":"-Ztable!A607","v":-3.0249999999999999}]
[0.44500000000000001,0.17180000000000001,0.67179999999999995,{"$f":"Ztable!E602*100","v":0.13},0.32819999999999999,0.36130000000000001,{"$f":"-Ztable!A606","v":-3.02}]
[0.45,0.1736,0.67359999999999998,{"$f":"Ztable!E603*100","v":0.13},0.32640000000000002,0.36049999999999999,{"$f":"-Ztable!A605","v":-3.0150000000000001}]
[0.45500000000000002,0.1754,0.6754,{"$f":"Ztable!E604*100","v":0.13},0.3246,0.35970000000000002,{"$f":"-Ztable!A604","v":-3.01}]
[0.46,0.1772,0.67720000000000002,{"$f":"Ztable!E605*100","v":0.13},0.32279999999999998,0.3589,{"$f":"-Ztable!A603","v":-3.0049999999999999}]
[0.46500000000000002,0.17899999999999999,0.67900000000000005,{"$f":"Ztable!E606*100","v":0.13},0.32100000000000001,0.35809999999999997,{"$f":"-Ztable!A602","v":-3}]
[0.47,0.18079999999999999,0.68079999999999996,{"$f":"Ztable!E598*100","v":0.13999999999999999},0.31919999999999998,0.35720000000000002,{"$f":"-Ztable!A601","v":-2.9950000000000001}]
[0.47499999999999998,0.18260000000000001,0.68259999999999998,{"$f":"Ztable!E599*100","v":0.13999999999999999},0.31740000000000002,0.35639999999999999,{"$f":"-Ztable!A600","v":-2.99}]
[0.48,0.18440000000000001,0.68440000000000001,{"$f":"Ztable!E600*100","v":0.13999999999999999},0.31559999999999999,0.35549999999999998,{"$f":"-Ztable!A599","v":-2.9849999999999999}]
[0.48499999999999999,0.1862,0.68620000000000003,{"$f":"Ztable!E601*100","v":0.13999999999999999},0.31380000000000002,0.35470000000000002,{"$f":"-Ztable!A598","v":-2.98}]
[0.49,0.18790000000000001,0.68789999999999996,{"$f":"Ztable!E594*100","v":0.15},0.31209999999999999,0.3538,{"$f":"-Ztable!A597","v":-2.9750000000000001}]
[0.495,0.18970000000000001,0.68969999999999998,{"$f":"Ztable!E595*100","v":0.15},0.31030000000000002,0.35289999999999999,{"$f":"-Ztable!A596","v":-2.97}]
[0.5,0.1915,0.6915,{"$f":"Ztable!E596*100","v":0.15},0.3085,0.35210000000000002,{"$f":"-Ztable!A595","v":-2.9649999999999999}]
[0.505,0.19320000000000001,0.69320000000000004,{"$f":"Ztable!E597*100","v":0.15},0.30680000000000002,0.35120000000000001,{"$f":"-Ztable!A594","v":-2.96}]
[0.51,0.19500000000000001,0.69499999999999995,{"$f":"Ztable!E590*100","v":0.16},0.30499999999999999,0.3503,{"$f":"-Ztable!A593","v":-2.9550000000000001}]
[0.51500000000000001,0.19670000000000001,0.69669999999999999,{"$f":"Ztable!E591*100","v":0.16},0.30330000000000001,0.34939999999999999,{"$f":"-Ztable!A592","v":-2.95}]
[0.52,0.19850000000000001,0.69850000000000001,{"$f":"Ztable!E592*100","v":0.16},0.30149999999999999,0.34849999999999998,{"$f":"-Ztable!A591","v":-2.9449999999999998}]
[0.52500000000000002,0.20019999999999999,0.70020000000000004,{"$f":"Ztable!E593*100","v":0.16},0.29980000000000001,0.34760000000000002,{"$f":"-Ztable!A590","v":-2.94}]
[0.53,0.2019,0.70189999999999997,{"$f":"Ztable!E587*100","v":0.16999999999999998},0.29809999999999998,0.34670000000000001,{"$f":"-Ztable!A589","v":-2.9350000000000001}]
[0.53500000000000003,0.20369999999999999,0.70369999999999999,{"$f":"Ztable!E588*100","v":0.16999999999999998},0.29630000000000001,0.3458,{"$f":"-Ztable!A588","v":-2.93}]
[0.54,0.2054,0.70540000000000003,{"$f":"Ztable!E589*100","v":0.16999999999999998},0.29459999999999997,0.3448,{"$f":"-Ztable!A587","v":-2.9249999999999998}]
[0.54500000000000004,0.20710000000000001,0.70709999999999995,{"$f":"Ztable!E583*100","v":0.18},0.29289999999999999,0.34389999999999998,{"$f":"-Ztable!A586","v":-2.92}]
[0.55000000000000004,0.20880000000000001,0.70879999999999999,{"$f":"Ztable!E584*100","v":0.18},0.29120000000000001,0.34289999999999998,{"$f":"-Ztable!A585","v":-2.915}]
[0.55500000000000005,0.21060000000000001,0.71060000000000001,{"$f":"Ztable!E585*100","v":0.18},0.28939999999999999,0.34200000000000003,{"$f":"-Ztable!A584","v":-2.91}]
[0.56000000000000005,0.21229999999999999,0.71230000000000004,{"$f":"Ztable!E586*100","v":0.18},0.28770000000000001,0.34110000000000001,{"$f":"-Ztable!A583","v":-2.9049999999999998}]
[0.56499999999999995,0.214,0.71399999999999997,{"$f":"Ztable!E580*100","v":0.19},0.28599999999999998,0.34010000000000001,{"$f":"-Ztable!A582","v":-2.9}]
[0.56999999999999995,0.2157,0.7157,{"$f":"Ztable!E581*100","v":0.19},0.2843,0.33910000000000001,{"$f":"-Ztable!A581","v":-2.895}]
[0.57499999999999996,0.21740000000000001,0.71740000000000004,{"$f":"Ztable!E582*100","v":0.19},0.28260000000000002,0.3382,{"$f":"-Ztable!A580","v":-2.89}]
[0.57999999999999996,0.219,0.71899999999999997,{"$f":"Ztable!E577*100","v":0.2},0.28100000000000003,0.3372,{"$f":"-Ztable!A579","v":-2.8849999999999998}]
[0.58499999999999996,0.22070000000000001,0.72070000000000001,{"$f":"Ztable!E578*100","v":0.2},0.27929999999999999,0.3362,{"$f":"-Ztable!A578","v":-2.88}]
[0.59,0.22239999999999999,0.72240000000000004,{"$f":"Ztable!E579*100","v":0.2},0.27760000000000001,0.3352,{"$f":"-Ztable!A577","v":-2.875}]
[0.59499999999999997,0.22409999999999999,0.72409999999999997,{"$f":"Ztable!E574*100","v":0.21},0.27589999999999998,0.3342,{"$f":"-Ztable!A576","v":-2.87}]
[0.6,0.22570000000000001,0.72570000000000001,{"$f":"Ztable!E575*100","v":0.21},0.27429999999999999,0.3332,{"$f":"-Ztable!A575","v":-2.8650000000000002}]
[0.60499999999999998,0.22739999999999999,0.72740000000000005,{"$f":"Ztable!E576*100","v":0.21},0.27260000000000001,0.3322,{"$f":"-Ztable!A574","v":-2.86}]
[0.61,0.2291,0.72909999999999997,{"$f":"Ztable!E571*100","v":0.22},0.27089999999999997,0.33119999999999999,{"$f":"-Ztable!A573","v":-2.855}]
[0.61499999999999999,0.23069999999999999,0.73070000000000002,{"$f":"Ztable!E572*100","v":0.22},0.26929999999999998,0.33019999999999999,{"$f":"-Ztable!A572","v":-2.85}]
[0.62,0.2324,0.73240000000000005,{"$f":"Ztable!E573*100","v":0.22},0.2676,0.32919999999999999,{"$f":"-Ztable!A571","v":-2.8450000000000002}]
[0.625,0.23400000000000001,0.73399999999999999,{"$f":"Ztable!E568*100","v":0.22999999999999998},0.26600000000000001,0.32819999999999999,{"$f":"-Ztable!A570","v":-2.84}]
[0.63,0.23569999999999999,0.73570000000000002,{"$f":"Ztable!E569*100","v":0.22999999999999998},0.26429999999999998,0.3271,{"$f":"-Ztable!A569","v":-2.835}]
[0.63500000000000001,0.23730000000000001,0.73729999999999996,{"$f":"Ztable!E570*100","v":0.22999999999999998},0.26269999999999999,0.3261,{"$f":"-Ztable!A568","v":-2.83}]
[0.64,0.2389,0.7389,{"$f":"Ztable!E565*100","v":0.24},0.2611,0.3251,{"$f":"-Ztable!A567","v":-2.8250000000000002}]
[0.64500000000000002,0.24049999999999999,0.74050000000000005,{"$f":"Ztable!E566*100","v":0.24},0.25950000000000001,0.32400000000000001,{"$f":"-Ztable!A566","v":-2.82}]
[0.65,0.2422,0.74219999999999997,{"$f":"Ztable!E567*100","v":0.24},0.25779999999999997,0.32300000000000001,{"$f":"-Ztable!A565","v":-2.8149999999999999}]
[0.65500000000000003,0.24379999999999999,0.74380000000000002,{"$f":"Ztable!E563*100","v":0.25},0.25619999999999998,0.32190000000000002,{"$f":"-Ztable!A564","v":-2.81}]
[0.66,0.24540000000000001,0.74539999999999995,{"$f":"Ztable!E564*100","v":0.25},0.25459999999999999,0.32090000000000002,{"$f":"-Ztable!A563","v":-2.8050000000000002}]
[0.66500000000000004,0.247,0.747,{"$f":"Ztable!E560*100","v":0.26},0.253,0.31979999999999997,{"$f":"-Ztable!A562","v":-2.8}]
[0.67,0.24859999999999999,0.74860000000000004,{"$f":"Ztable!E561*100","v":0.26},0.25140000000000001,0.31869999999999998,{"$f":"-Ztable!A561","v":-2.7949999999999999}]
[0.67500000000000004,0.25019999999999998,0.75019999999999998,{"$f":"Ztable!E562*100","v":0.26},0.24979999999999999,0.31769999999999998,{"$f":"-Ztable!A560","v":-2.79}]
[0.68,0.25169999999999998,0.75170000000000003,{"$f":"Ztable!E558*100","v":0.27},0.24829999999999999,0.31659999999999999,{"$f":"-Ztable!A559","v":-2.7850000000000001}]
[0.68500000000000005,0.25330000000000003,0.75329999999999997,{"$f":"Ztable!E559*100","v":0.27},0.2467,0.3155,{"$f":"-Ztable!A558","v":-2.78}]
[0.69,0.25490000000000002,0.75490000000000002,{"$f":"Ztable!E555*100","v":0.27999999999999997},0.24510000000000001,0.31440000000000001,{"$f":"-Ztable!A557","v":-2.7749999999999999}]
[0.69499999999999995,0.25650000000000001,0.75649999999999995,{"$f":"Ztable!E556*100","v":0.27999999999999997},0.24349999999999999,0.31340000000000001,{"$f":"-Ztable!A556","v":-2.77}]
[0.7,0.25800000000000001,0.75800000000000001,{"$f":"Ztable!E557*100","v":0.27999999999999997},0.24199999999999999,0.31230000000000002,{"$f":"-Ztable!A555","v":-2.7650000000000001}]
[0.70499999999999996,0.2596,0.75960000000000005,{"$f":"Ztable!E553*100","v":0.28999999999999998},0.2404,0.31119999999999998,{"$f":"-Ztable!A554","v":-2.76}]
[0.71,0.2611,0.7611,{"$f":"Ztable!E554*100","v":0.28999999999999998},0.2389,0.31009999999999999,{"$f":"-Ztable!A553","v":-2.7549999999999999}]
[0.71499999999999997,0.26269999999999999,0.76270000000000004,{"$f":"Ztable!E551*100","v":0.3},0.23730000000000001,0.309,{"$f":"-Ztable!A552","v":-2.75}]
[0.72,0.26419999999999999,0.76419999999999999,{"$f":"Ztable!E552*100","v":0.3},0.23580000000000001,0.30790000000000001,{"$f":"-Ztable!A551","v":-2.7450000000000001}]
[0.72499999999999998,0.26579999999999998,0.76580000000000004,{"$f":"Ztable!E549*100","v":0.31},0.23419999999999999,0.30669999999999997,{"$f":"-Ztable!A550","v":-2.74}]
[0.73,0.26729999999999998,0.76729999999999998,{"$f":"Ztable!E550*100","v":0.31},0.23269999999999999,0.30559999999999998,{"$f":"-Ztable!A549","v":-2.7349999999999999}]
[0.73499999999999999,0.26879999999999998,0.76880000000000004,{"$f":"Ztable!E547*100","v":0.32},0.23119999999999999,0.30449999999999999,{"$f":"-Ztable!A548","v":-2.73}]
[0.74,0.27039999999999997,0.77039999999999997,{"$f":"Ztable!E548*100","v":0.32},0.2296,0.3034,{"$f":"-Ztable!A547","v":-2.7250000000000001}]
[0.745,0.27189999999999998,0.77190000000000003,{"$f":"Ztable!E545*100","v":0.33},0.2281,0.30230000000000001,{"$f":"-Ztable!A546","v":-2.72}]
[0.75,0.27339999999999998,0.77339999999999998,{"$f":"Ztable!E546*100","v":0.33},0.2266,0.30109999999999998,{"$f":"-Ztable!A545","v":-2.7149999999999999}]
[0.755,0.27489999999999998,0.77490000000000003,{"$f":"Ztable!E543*100","v":0.33999999999999997},0.22509999999999999,0.3,{"$f":"-Ztable!A544","v":-2.71}]
[0.76,0.27639999999999998,0.77639999999999998,{"$f":"Ztable!E544*100","v":0.33999999999999997},0.22359999999999999,0.2989,{"$f":"-Ztable!A543","v":-2.7050000000000001}]
[0.76500000000000001,0.27789999999999998,0.77790000000000004,{"$f":"Ztable!E541*100","v":0.35000000000000003},0.22209999999999999,0.29770000000000002,{"$f":"-Ztable!A542","v":-2.7}]
[0.77,0.27939999999999998,0.77939999999999998,{"$f":"Ztable!E542*100","v":0.35000000000000003},0.22059999999999999,0.29659999999999997,{"$f":"-Ztable!A541","v":-2.6949999999999998}]
[0.77500000000000002,0.28079999999999999,0.78080000000000005,{"$f":"Ztable!E539*100","v":0.36},0.21920000000000001,0.29549999999999998,{"$f":"-Ztable!A540","v":-2.69}]
[0.78,0.2823,0.7823,{"$f":"Ztable!E540*100","v":0.36},0.2177,0.29430000000000001,{"$f":"-Ztable!A539","v":-2.6850000000000001}]
[0.78500000000000003,0.2838,0.78380000000000005,{"$f":"Ztable!E537*100","v":0.37},0.2162,0.29320000000000002,{"$f":"-Ztable!A538","v":-2.68}]
[0.79,0.28520000000000001,0.78520000000000001,{"$f":"Ztable!E538*100","v":0.37},0.21479999999999999,0.29199999999999998,{"$f":"-Ztable!A537","v":-2.6749999999999998}]
[0.79500000000000004,0.28670000000000001,0.78669999999999995,{"$f":"Ztable!E535*100","v":0.38},0.21329999999999999,0.29089999999999999,{"$f":"-Ztable!A536","v":-2.67}]
[0.8,0.28810000000000002,0.78810000000000002,{"$f":"Ztable!E536*100","v":0.38},0.21190000000000001,0.28970000000000001,{"$f":"-Ztable!A535","v":-2.665}]
[0.80500000000000005,0.28960000000000002,0.78959999999999997,{"$f":"Ztable!E534*100","v":0.38999999999999996},0.2104,0.28849999999999998,{"$f":"-Ztable!A534","v":-2.66}]
[0.81,0.29099999999999998,0.79100000000000004,{"$f":"Ztable!E532*100","v":0.4},0.20899999999999999,0.28739999999999999,{"$f":"-Ztable!A533","v":-2.6549999999999998}]
[0.81499999999999995,0.29249999999999998,0.79249999999999998,{"$f":"Ztable!E533*100","v":0.4},0.20749999999999999,0.28620000000000001,{"$f":"-Ztable!A532","v":-2.65}]
[0.82,0.29389999999999999,0.79390000000000005,{"$f":"Ztable!E530*100","v":0.41000000000000003},0.20610000000000001,0.28499999999999998,{"$f":"-Ztable!A531","v":-2.645}]
[0.82499999999999996,0.29530000000000001,0.79530000000000001,{"$f":"Ztable!E531*100","v":0.41000000000000003},0.20469999999999999,0.28389999999999999,{"$f":"-Ztable!A530","v":-2.64}]
[0.83,0.29670000000000002,0.79669999999999996,{"$f":"Ztable!E529*100","v":0.42},0.20330000000000001,0.28270000000000001,{"$f":"-Ztable!A529","v":-2.6349999999999998}]
[0.83499999999999996,0.29809999999999998,0.79810000000000003,{"$f":"Ztable!E527*100","v":0.43},0.2019,0.28149999999999997,{"$f":"-Ztable!A528","v":-2.63}]
[0.84,0.29949999999999999,0.79949999999999999,{"$f":"Ztable!E528*100","v":0.43},0.20050000000000001,0.28039999999999998,{"$f":"-Ztable!A527","v":-2.625}]
[0.84499999999999997,0.3009,0.80089999999999995,{"$f":"Ztable!E526*100","v":0.44},0.1991,0.2792,{"$f":"-Ztable!A526","v":-2.62}]
[0.85,0.30230000000000001,0.80230000000000001,{"$f":"Ztable!E524*100","v":0.44999999999999996},0.19769999999999999,0.27800000000000002,{"$f":"-Ztable!A525","v":-2.6150000000000002}]
[0.85499999999999998,0.30370000000000003,0.80369999999999997,{"$f":"Ztable!E525*100","v":0.44999999999999996},0.1963,0.27679999999999999,{"$f":"-Ztable!A524","v":-2.61}]
[0.86,0.30509999999999998,0.80510000000000004,{"$f":"Ztable!E523*100","v":0.45999999999999996},0.19489999999999999,0.27560000000000001,{"$f":"-Ztable!A523","v":-2.605}]
[0.86499999999999999,0.30649999999999999,0.80649999999999999,{"$f":"Ztable!E521*100","v":0.47000000000000003},0.19350000000000001,0.27439999999999998,{"$f":"-Ztable!A522","v":-2.6}]
[0.87,0.30780000000000002,0.80779999999999996,{"$f":"Ztable!E522*100","v":0.47000000000000003},0.19220000000000001,0.27329999999999999,{"$f":"-Ztable!A521","v":-2.5950000000000002}]
[0.875,0.30919999999999997,0.80920000000000003,{"$f":"Ztable!E520*100","v":0.48},0.1908,0.27210000000000001,{"$f":"-Ztable!A520","v":-2.59}]
[0.88,0.31059999999999999,0.81059999999999999,{"$f":"Ztable!E518*100","v":0.49},0.18940000000000001,0.27089999999999997,{"$f":"-Ztable!A519","v":-2.585}]
[0.88500000000000001,0.31190000000000001,0.81189999999999996,{"$f":"Ztable!E519*100","v":0.49},0.18809999999999999,0.2697,{"$f":"-Ztable!A518","v":-2.58}]
[0.89,0.31330000000000002,0.81330000000000002,{"$f":"Ztable!E517*100","v":0.5},0.1867,0.26850000000000002,{"$f":"-Ztable!A517","v":-2.5750000000000002}]
[0.89500000000000002,0.31459999999999999,0.81459999999999999,{"$f":"Ztable!E516*100","v":0.51},0.18540000000000001,0.26729999999999998,{"$f":"-Ztable!A516","v":-2.57}]
[0.9,0.31590000000000001,0.81589999999999996,{"$f":"Ztable!E514*100","v":0.52},0.18410000000000001,0.2661,{"$f":"-Ztable!A515","v":-2.5649999999999999}]
[0.90500000000000003,0.31730000000000003,0.81730000000000003,{"$f":"Ztable!E515*100","v":0.52},0.1827,0.26490000000000002,{"$f":"-Ztable!A514","v":-2.56}]
[0.91,0.31859999999999999,0.81859999999999999,{"$f":"Ztable!E513*100","v":0.53},0.18140000000000001,0.26369999999999999,{"$f":"-Ztable!A513","v":-2.5550000000000002}]
[0.91500000000000004,0.31990000000000002,0.81989999999999996,{"$f":"Ztable!E512*100","v":0.54},0.18010000000000001,0.26250000000000001,{"$f":"-Ztable!A512","v":-2.5499999999999998}]
[0.92,0.32119999999999999,0.82120000000000004,{"$f":"Ztable!E510*100","v":0.54999999999999993},0.17879999999999999,0.26129999999999998,{"$f":"-Ztable!A511","v":-2.5449999999999999}]
[0.92500000000000004,0.32250000000000001,0.82250000000000001,{"$f":"Ztable!E511*100","v":0.54999999999999993},0.17749999999999999,0.2601,{"$f":"-Ztable!A510","v":-2.54}]
[0.93,0.32379999999999998,0.82379999999999998,{"$f":"Ztable!E509*100","v":0.55999999999999994},0.1762,0.25890000000000002,{"$f":"-Ztable!A509","v":-2.5350000000000001}]
[0.93500000000000005,0.3251,0.82509999999999994,{"$f":"Ztable!E508*100","v":0.57000000000000006},0.1749,0.25769999999999998,{"$f":"-Ztable!A508","v":-2.5299999999999998}]
[0.94,0.32640000000000002,0.82640000000000002,{"$f":"Ztable!E507*100","v":0.57999999999999996},0.1736,0.25650000000000001,{"$f":"-Ztable!A507","v":-2.5249999999999999}]
[0.94499999999999995,0.32769999999999999,0.82769999999999999,{"$f":"Ztable!E506*100","v":0.59},0.17230000000000001,0.25530000000000003,{"$f":"-Ztable!A506","v":-2.52}]
[0.95,0.32890000000000003,0.82889999999999997,{"$f":"Ztable!E504*100","v":0.6},0.1711,0.25409999999999999,{"$f":"-Ztable!A505","v":-2.5150000000000001}]
[0.95499999999999996,0.33019999999999999,0.83020000000000005,{"$f":"Ztable!E505*100","v":0.6},0.16980000000000001,0.25290000000000001,{"$f":"-Ztable!A504","v":-2.5099999999999998}]
[0.96,0.33150000000000002,0.83150000000000002,{"$f":"Ztable!E503*100","v":0.61},0.16850000000000001,0.25169999999999998,{"$f":"-Ztable!A503","v":-2.5049999999999999}]
[0.96499999999999997,0.3327,0.8327,{"$f":"Ztable!E502*100","v":0.62},0.1673,0.25040000000000001,{"$f":"-Ztable!A502","v":-2.5}]
[0.97,0.33400000000000002,0.83399999999999996,{"$f":"Ztable!E501*100","v":0.63},0.16600000000000001,0.2492,{"$f":"-Ztable!A501","v":-2.4950000000000001}]
[0.97499999999999998,0.3352,0.83520000000000005,{"$f":"Ztable!E500*100","v":0.64},0.1648,0.248,{"$f":"-Ztable!A500","v":-2.4900000000000002}]
[0.98,0.33650000000000002,0.83650000000000002,{"$f":"Ztable!E499*100","v":0.65},0.16350000000000001,0.24679999999999999,{"$f":"-Ztable!A499","v":-2.4849999999999999}]
[0.98499999999999999,0.3377,0.8377,{"$f":"Ztable!E498*100","v":0.66},0.1623,0.24560000000000001,{"$f":"-Ztable!A498","v":-2.48}]
[0.99,0.33889999999999998,0.83889999999999998,{"$f":"Ztable!E497*100","v":0.67},0.16109999999999999,0.24440000000000001,{"$f":"-Ztable!A497","v":-2.4750000000000001}]
[0.995,0.34010000000000001,0.84009999999999996,{"$f":"Ztable!E496*100","v":0.67999999999999994},0.15989999999999999,0.2432,{"$f":"-Ztable!A496","v":-2.4700000000000002}]
[1,0.34129999999999999,0.84130000000000005,{"$f":"Ztable!E494*100","v":0.69},0.15870000000000001,0.24199999999999999,{"$f":"-Ztable!A495","v":-2.4649999999999999}]
[1.0049999999999999,0.34260000000000002,0.84260000000000002,{"$f":"Ztable!E495*100","v":0.69},0.15740000000000001,0.24079999999999999,{"$f":"-Ztable!A494","v":-2.46}]
[1.01,0.34379999999999999,0.84379999999999999,{"$f":"Ztable!E493*100","v":0.70000000000000007},0.15620000000000001,0.23960000000000001,{"$f":"-Ztable!A493","v":-2.4550000000000001}]
[1.0149999999999999,0.34489999999999998,0.84489999999999998,{"$f":"Ztable!E492*100","v":0.71000000000000008},0.15509999999999999,0.2384,{"$f":"-Ztable!A492","v":-2.4500000000000002}]
[1.02,0.34610000000000002,0.84609999999999996,{"$f":"Ztable!E491*100","v":0.72},0.15390000000000001,0.23710000000000001,{"$f":"-Ztable!A491","v":-2.4449999999999998}]
[1.0249999999999999,0.3473,0.84730000000000005,{"$f":"Ztable!E490*100","v":0.73},0.1527,0.2359,{"$f":"-Ztable!A490","v":-2.44}]
[1.03,0.34849999999999998,0.84850000000000003,{"$f":"Ztable!E489*100","v":0.74},0.1515,0.23469999999999999,{"$f":"-Ztable!A489","v":-2.4350000000000001}]
[1.0349999999999999,0.34970000000000001,0.84970000000000001,{"$f":"Ztable!E488*100","v":0.75},0.15029999999999999,0.23350000000000001,{"$f":"-Ztable!A488","v":-2.4300000000000002}]
[1.04,0.3508,0.8508,{"$f":"Ztable!E487*100","v":0.77},0.1492,0.23230000000000001,{"$f":"-Ztable!A487","v":-2.4249999999999998}]
[1.0449999999999999,0.35199999999999998,0.85199999999999998,{"$f":"Ztable!E486*100","v":0.77999999999999992},0.14799999999999999,0.2311,{"$f":"-Ztable!A486","v":-2.42}]
[1.05,0.35310000000000002,0.85309999999999997,{"$f":"Ztable!E485*100","v":0.79},0.1469,0.22989999999999999,{"$f":"-Ztable!A485","v":-2.415}]
[1.0549999999999999,0.3543,0.85429999999999995,{"$f":"Ztable!E484*100","v":0.8},0.1457,0.22869999999999999,{"$f":"-Ztable!A484","v":-2.41}]
[1.06,0.35539999999999999,0.85540000000000005,{"$f":"Ztable!E483*100","v":0.80999999999999994},0.14460000000000001,0.22750000000000001,{"$f":"-Ztable!A483","v":-2.4049999999999998}]
[1.0649999999999999,0.35659999999999997,0.85660000000000003,{"$f":"Ztable!E482*100","v":0.82000000000000006},0.1434,0.2263,{"$f":"-Ztable!A482","v":-2.4}]
[1.07,0.35770000000000002,0.85770000000000002,{"$f":"Ztable!E481*100","v":0.83},0.14230000000000001,0.22509999999999999,{"$f":"-Ztable!A481","v":-2.395}]
[1.075,0.35880000000000001,0.85880000000000001,{"$f":"Ztable!E480*100","v":0.84},0.14119999999999999,0.22389999999999999,{"$f":"-Ztable!A480","v":-2.39}]
[1.08,0.3599,0.8599,{"$f":"Ztable!E479*100","v":0.85000000000000009},0.1401,0.22270000000000001,{"$f":"-Ztable!A479","v":-2.3849999999999998}]
[1.085,0.36099999999999999,0.86099999999999999,{"$f":"Ztable!E478*100","v":0.86999999999999988},0.13900000000000001,0.2215,{"$f":"-Ztable!A478","v":-2.38}]
[1.0900000000000001,0.36209999999999998,0.86209999999999998,{"$f":"Ztable!E477*100","v":0.88},0.13789999999999999,0.2203,{"$f":"-Ztable!A477","v":-2.375}]
[1.095,0.36320000000000002,0.86319999999999997,{"$f":"Ztable!E476*100","v":0.89},0.1368,0.21909999999999999,{"$f":"-Ztable!A476","v":-2.37}]
[1.1000000000000001,0.36430000000000001,0.86429999999999996,{"$f":"Ztable!E475*100","v":0.89999999999999991},0.13569999999999999,0.21790000000000001,{"$f":"-Ztable!A475","v":-2.3650000000000002}]
[1.105,0.3654,0.86539999999999995,{"$f":"Ztable!E474*100","v":0.91},0.1346,0.2167,{"$f":"-Ztable!A474","v":-2.36}]
[1.1100000000000001,0.36649999999999999,0.86650000000000005,{"$f":"Ztable!E473*100","v":0.92999999999999994},0.13350000000000001,0.2155,{"$f":"-Ztable!A473","v":-2.355}]
[1.115,0.36759999999999998,0.86760000000000004,{"$f":"Ztable!E472*100","v":0.94000000000000006},0.13239999999999999,0.21429999999999999,{"$f":"-Ztable!A472","v":-2.35}]
[1.1200000000000001,0.36859999999999998,0.86860000000000004,{"$f":"Ztable!E471*100","v":0.95},0.13139999999999999,0.21310000000000001,{"$f":"-Ztable!A471","v":-2.3450000000000002}]
[1.125,0.36969999999999997,0.86970000000000003,{"$f":"Ztable!E470*100","v":0.96},0.1303,0.21190000000000001,{"$f":"-Ztable!A470","v":-2.34}]
[1.1299999999999999,0.37080000000000002,0.87080000000000002,{"$f":"Ztable!E469*100","v":0.98},0.12920000000000001,0.2107,{"$f":"-Ztable!A469","v":-2.335}]
[1.135,0.37180000000000002,0.87180000000000002,{"$f":"Ztable!E468*100","v":0.9900000000000001},0.12820000000000001,0.20949999999999999,{"$f":"-Ztable!A468","v":-2.33}]
[1.1399999999999999,0.37290000000000001,0.87290000000000001,{"$f":"Ztable!E467*100","v":1},0.12709999999999999,0.20830000000000001,{"$f":"-Ztable!A467","v":-2.3250000000000002}]
[1.145,0.37390000000000001,0.87390000000000001,{"$f":"Ztable!E466*100","v":1.02},0.12609999999999999,0.20710000000000001,{"$f":"-Ztable!A466","v":-2.3199999999999998}]
[1.1499999999999999,0.37490000000000001,0.87490000000000001,{"$f":"Ztable!E465*100","v":1.03},0.12509999999999999,0.20599999999999999,{"$f":"-Ztable!A465","v":-2.3149999999999999}]
[1.155,0.376,0.876,{"$f":"Ztable!E464*100","v":1.04},0.124,0.20480000000000001,{"$f":"-Ztable!A464","v":-2.31}]
[1.1599999999999999,0.377,0.877,{"$f":"Ztable!E463*100","v":1.06},0.123,0.2036,{"$f":"-Ztable!A463","v":-2.3050000000000002}]
[1.165,0.378,0.878,{"$f":"Ztable!E462*100","v":1.0699999999999998},0.122,0.2024,{"$f":"-Ztable!A462","v":-2.2999999999999998}]
[1.17,0.379,0.879,{"$f":"Ztable!E461*100","v":1.0900000000000001},0.121,0.20119999999999999,{"$f":"-Ztable!A461","v":-2.2949999999999999}]
[1.175,0.38,0.88,{"$f":"Ztable!E460*100","v":1.0999999999999999},0.12,0.2001,{"$f":"-Ztable!A460","v":-2.29}]
[1.18,0.38100000000000001,0.88100000000000001,{"$f":"Ztable!E459*100","v":1.1199999999999999},0.11899999999999999,0.19889999999999999,{"$f":"-Ztable!A459","v":-2.2850000000000001}]
[1.1850000000000001,0.38200000000000001,0.88200000000000001,{"$f":"Ztable!E458*100","v":1.1299999999999999},0.11799999999999999,0.19769999999999999,{"$f":"-Ztable!A458","v":-2.2799999999999998}]
[1.19,0.38300000000000001,0.88300000000000001,{"$f":"Ztable!E457*100","v":1.1499999999999999},0.11700000000000001,0.19650000000000001,{"$f":"-Ztable!A457","v":-2.2749999999999999}]
[1.1950000000000001,0.38400000000000001,0.88400000000000001,{"$f":"Ztable!E456*100","v":1.1599999999999999},0.11600000000000001,0.19539999999999999,{"$f":"-Ztable!A456","v":-2.27}]
[1.2,0.38490000000000002,0.88490000000000002,{"$f":"Ztable!E455*100","v":1.18},0.11509999999999999,0.19420000000000001,{"$f":"-Ztable!A455","v":-2.2650000000000001}]
[1.2050000000000001,0.38590000000000002,0.88590000000000002,{"$f":"Ztable!E454*100","v":1.1900000000000002},0.11409999999999999,0.193,{"$f":"-Ztable!A454","v":-2.2599999999999998}]
[1.21,0.38690000000000002,0.88690000000000002,{"$f":"Ztable!E453*100","v":1.21},0.11310000000000001,0.19189999999999999,{"$f":"-Ztable!A453","v":-2.2549999999999999}]
[1.2150000000000001,0.38779999999999998,0.88780000000000003,{"$f":"Ztable!E452*100","v":1.22},0.11219999999999999,0.19070000000000001,{"$f":"-Ztable!A452","v":-2.25}]
[1.22,0.38879999999999998,0.88880000000000003,{"$f":"Ztable!E451*100","v":1.24},0.11119999999999999,0.18959999999999999,{"$f":"-Ztable!A451","v":-2.2450000000000001}]
[1.2250000000000001,0.38969999999999999,0.88970000000000005,{"$f":"Ztable!E450*100","v":1.25},0.1103,0.18840000000000001,{"$f":"-Ztable!A450","v":-2.2400000000000002}]
[1.23,0.39069999999999999,0.89070000000000005,{"$f":"Ztable!E449*100","v":1.27},0.10929999999999999,0.18720000000000001,{"$f":"-Ztable!A449","v":-2.2349999999999999}]
[1.2350000000000001,0.3916,0.89159999999999995,{"$f":"Ztable!E448*100","v":1.29},0.1084,0.18609999999999999,{"$f":"-Ztable!A448","v":-2.23}]
[1.24,0.39250000000000002,0.89249999999999996,{"$f":"Ztable!E447*100","v":1.3},0.1075,0.185,{"$f":"-Ztable!A447","v":-2.2250000000000001}]
[1.2450000000000001,0.39340000000000003,0.89339999999999997,{"$f":"Ztable!E446*100","v":1.32},0.1066,0.18379999999999999,{"$f":"-Ztable!A446","v":-2.2200000000000002}]
[1.25,0.39439999999999997,0.89439999999999997,{"$f":"Ztable!E445*100","v":1.34},0.1056,0.1827,{"$f":"-Ztable!A445","v":-2.2149999999999999}]
[1.2549999999999999,0.39529999999999998,0.89529999999999998,{"$f":"Ztable!E444*100","v":1.3599999999999999},0.1047,0.18149999999999999,{"$f":"-Ztable!A444","v":-2.21}]
[1.26,0.3962,0.8962,{"$f":"Ztable!E443*100","v":1.37},0.1038,0.1804,{"$f":"-Ztable!A443","v":-2.2050000000000001}]
[1.2649999999999999,0.39710000000000001,0.89710000000000001,{"$f":"Ztable!E442*100","v":1.39},0.10290000000000001,0.17929999999999999,{"$f":"-Ztable!A442","v":-2.2000000000000002}]
[1.27,0.39800000000000002,0.89800000000000002,{"$f":"Ztable!E441*100","v":1.41},0.10199999999999999,0.17810000000000001,{"$f":"-Ztable!A441","v":-2.1949999999999998}]
[1.2749999999999999,0.39879999999999999,0.89880000000000004,{"$f":"Ztable!E440*100","v":1.43},0.1012,0.17699999999999999,{"$f":"-Ztable!A440","v":-2.19}]
[1.28,0.3997,0.89970000000000006,{"$f":"Ztable!E439*100","v":1.44},0.1003,0.1759,{"$f":"-Ztable!A439","v":-2.1850000000000001}]
[1.2849999999999999,0.40060000000000001,0.90059999999999996,{"$f":"Ztable!E438*100","v":1.46},9.9400000000000002E-2,0.17469999999999999,{"$f":"-Ztable!A438","v":-2.1800000000000002}]
[1.29,0.40150000000000002,0.90149999999999997,{"$f":"Ztable!E437*100","v":1.48},9.8500000000000004E-2,0.1736,{"$f":"-Ztable!A437","v":-2.1749999999999998}]
[1.2949999999999999,0.40229999999999999,0.90229999999999999,{"$f":"Ztable!E436*100","v":1.5},9.7699999999999995E-2,0.17249999999999999,{"$f":"-Ztable!A436","v":-2.17}]
[1.3,0.4032,0.9032,{"$f":"Ztable!E435*100","v":1.52},9.6799999999999997E-2,0.1714,{"$f":"-Ztable!A435","v":-2.165}]
[1.3049999999999999,0.40410000000000001,0.90410000000000001,{"$f":"Ztable!E434*100","v":1.54},9.5899999999999999E-2,0.17030000000000001,{"$f":"-Ztable!A434","v":-2.16}]
[1.31,0.40489999999999998,0.90490000000000004,{"$f":"Ztable!E433*100","v":1.5599999999999998},9.5100000000000004E-2,0.16919999999999999,{"$f":"-Ztable!A433","v":-2.1549999999999998}]
[1.3149999999999999,0.40570000000000001,0.90569999999999995,{"$f":"Ztable!E432*100","v":1.58},9.4299999999999995E-2,0.1681,{"$f":"-Ztable!A432","v":-2.15}]
[1.32,0.40660000000000002,0.90659999999999996,{"$f":"Ztable!E431*100","v":1.6},9.3399999999999997E-2,0.16700000000000001,{"$f":"-Ztable!A431","v":-2.145}]
[1.325,0.40739999999999998,0.90739999999999998,{"$f":"Ztable!E430*100","v":1.6199999999999999},9.2600000000000002E-2,0.16589999999999999,{"$f":"-Ztable!A430","v":-2.14}]
[1.33,0.40820000000000001,0.90820000000000001,{"$f":"Ztable!E429*100","v":1.6400000000000001},9.1800000000000007E-2,0.1648,{"$f":"-Ztable!A429","v":-2.1349999999999998}]
[1.335,0.40910000000000002,0.90910000000000002,{"$f":"Ztable!E428*100","v":1.66},9.0899999999999995E-2,0.16370000000000001,{"$f":"-Ztable!A428","v":-2.13}]
[1.34,0.40989999999999999,0.90990000000000004,{"$f":"Ztable!E427*100","v":1.68},9.01E-2,0.16259999999999999,{"$f":"-Ztable!A427","v":-2.125}]
[1.345,0.41070000000000001,0.91069999999999995,{"$f":"Ztable!E426*100","v":1.7000000000000002},8.9300000000000004E-2,0.1615,{"$f":"-Ztable!A426","v":-2.12}]
[1.35,0.41149999999999998,0.91149999999999998,{"$f":"Ztable!E425*100","v":1.72},8.8499999999999995E-2,0.16039999999999999,{"$f":"-Ztable!A425","v":-2.1150000000000002}]
[1.355,0.4123,0.9123,{"$f":"Ztable!E424*100","v":1.7399999999999998},8.77E-2,0.1593,{"$f":"-Ztable!A424","v":-2.11}]
[1.36,0.41310000000000002,0.91310000000000002,{"$f":"Ztable!E423*100","v":1.76},8.6900000000000005E-2,0.15820000000000001,{"$f":"-Ztable!A423","v":-2.105}]
[1.365,0.41389999999999999,0.91390000000000005,{"$f":"Ztable!E422*100","v":1.79},8.6099999999999996E-2,0.15720000000000001,{"$f":"-Ztable!A422","v":-2.1}]
[1.37,0.41470000000000001,0.91469999999999996,{"$f":"Ztable!E421*100","v":1.81},8.5300000000000001E-2,0.15609999999999999,{"$f":"-Ztable!A421","v":-2.0950000000000002}]
[1.375,0.41539999999999999,0.91539999999999999,{"$f":"Ztable!E420*100","v":1.83},8.4599999999999995E-2,0.155,{"$f":"-Ztable!A420","v":-2.09}]
[1.38,0.41620000000000001,0.91620000000000001,{"$f":"Ztable!E419*100","v":1.8499999999999999},8.3799999999999999E-2,0.154,{"$f":"-Ztable!A419","v":-2.085}]
[1.385,0.41699999999999998,0.91700000000000004,{"$f":"Ztable!E418*100","v":1.8800000000000001},8.3000000000000004E-2,0.15290000000000001,{"$f":"-Ztable!A418","v":-2.08}]
[1.39,0.41770000000000002,0.91769999999999996,{"$f":"Ztable!E417*100","v":1.9},8.2299999999999998E-2,0.15179999999999999,{"$f":"-Ztable!A417","v":-2.0750000000000002}]
[1.395,0.41849999999999998,0.91849999999999998,{"$f":"Ztable!E416*100","v":1.92},8.1500000000000003E-2,0.15079999999999999,{"$f":"-Ztable!A416","v":-2.0699999999999998}]
[1.4,0.41920000000000002,0.91920000000000002,{"$f":"Ztable!E415*100","v":1.95},8.0799999999999997E-2,0.1497,{"$f":"-Ztable!A415","v":-2.0649999999999999}]
[1.405,0.42,0.92,{"$f":"Ztable!E414*100","v":1.97},0.08,0.1487,{"$f":"-Ztable!A414","v":-2.06}]
[1.41,0.42070000000000002,0.92069999999999996,{"$f":"Ztable!E413*100","v":1.9900000000000002},7.9299999999999995E-2,0.1477,{"$f":"-Ztable!A413","v":-2.0550000000000002}]
[1.415,0.42149999999999999,0.92149999999999999,{"$f":"Ztable!E412*100","v":2.02},7.85E-2,0.14660000000000001,{"$f":"-Ztable!A412","v":-2.0499999999999998}]
[1.42,0.42220000000000002,0.92220000000000002,{"$f":"Ztable!E411*100","v":2.04},7.7799999999999994E-2,0.14560000000000001,{"$f":"-Ztable!A411","v":-2.0449999999999999}]
[1.425,0.4229,0.92290000000000005,{"$f":"Ztable!E410*100","v":2.0699999999999998},7.7100000000000002E-2,0.14449999999999999,{"$f":"-Ztable!A410","v":-2.04}]
[1.43,0.42359999999999998,0.92359999999999998,{"$f":"Ztable!E409*100","v":2.09},7.6399999999999996E-2,0.14349999999999999,{"$f":"-Ztable!A409","v":-2.0350000000000001}]
[1.4350000000000001,0.4244,0.9244,{"$f":"Ztable!E408*100","v":2.12},7.5600000000000001E-2,0.14249999999999999,{"$f":"-Ztable!A408","v":-2.0299999999999998}]
[1.44,0.42509999999999998,0.92510000000000003,{"$f":"Ztable!E407*100","v":2.1399999999999997},7.4899999999999994E-2,0.14149999999999999,{"$f":"-Ztable!A407","v":-2.0249999999999999}]
[1.4450000000000001,0.42580000000000001,0.92579999999999996,{"$f":"Ztable!E406*100","v":2.17},7.4200000000000002E-2,0.14050000000000001,{"$f":"-Ztable!A406","v":-2.02}]
[1.45,0.42649999999999999,0.92649999999999999,{"$f":"Ztable!E405*100","v":2.1999999999999997},7.3499999999999996E-2,0.1394,{"$f":"-Ztable!A405","v":-2.0150000000000001}]
[1.4550000000000001,0.42720000000000002,0.92720000000000002,{"$f":"Ztable!E404*100","v":2.2200000000000002},7.2800000000000004E-2,0.1384,{"$f":"-Ztable!A404","v":-2.0099999999999998}]
[1.46,0.4279,0.92789999999999995,{"$f":"Ztable!E403*100","v":2.25},7.2099999999999997E-2,0.13739999999999999,{"$f":"-Ztable!A403","v":-2.0049999999999999}]
[1.4650000000000001,0.42849999999999999,0.92849999999999999,{"$f":"Ztable!E402*100","v":2.2800000000000002},7.1499999999999994E-2,0.13639999999999999,{"$f":"-Ztable!A402","v":-2}]
[1.47,0.42920000000000003,0.92920000000000003,{"$f":"Ztable!E401*100","v":2.2999999999999998},7.0800000000000002E-2,0.13539999999999999,{"$f":"-Ztable!A401","v":-1.9950000000000001}]
[1.4750000000000001,0.4299,0.92989999999999995,{"$f":"Ztable!E400*100","v":2.33},7.0099999999999996E-2,0.13439999999999999,{"$f":"-Ztable!A400","v":-1.99}]
[1.48,0.43059999999999998,0.93059999999999998,{"$f":"Ztable!E399*100","v":2.36},6.9400000000000003E-2,0.13350000000000001,{"$f":"-Ztable!A399","v":-1.9850000000000001}]
[1.4850000000000001,0.43120000000000003,0.93120000000000003,{"$f":"Ztable!E398*100","v":2.39},6.88E-2,0.13250000000000001,{"$f":"-Ztable!A398","v":-1.98}]
[1.49,0.43190000000000001,0.93189999999999995,{"$f":"Ztable!E397*100","v":2.41},6.8099999999999994E-2,0.13150000000000001,{"$f":"-Ztable!A397","v":-1.9750000000000001}]
[1.4950000000000001,0.4325,0.9325,{"$f":"Ztable!E396*100","v":2.44},6.7500000000000004E-2,0.1305,{"$f":"-Ztable!A396","v":-1.97}]
[1.5,0.43319999999999997,0.93320000000000003,{"$f":"Ztable!E395*100","v":2.4699999999999998},6.6799999999999998E-2,0.1295,{"$f":"-Ztable!A395","v":-1.9650000000000001}]
[1.5049999999999999,0.43380000000000002,0.93379999999999996,{"$f":"Ztable!E394*100","v":2.5},6.6199999999999995E-2,0.12859999999999999,{"$f":"-Ztable!A394","v":-1.96}]
[1.51,0.4345,0.9345,{"$f":"Ztable!E393*100","v":2.5299999999999998},6.5500000000000003E-2,0.12759999999999999,{"$f":"-Ztable!A393","v":-1.9550000000000001}]
[1.5149999999999999,0.43509999999999999,0.93510000000000004,{"$f":"Ztable!E392*100","v":2.56},6.4899999999999999E-2,0.12659999999999999,{"$f":"-Ztable!A392","v":-1.95}]
[1.52,0.43569999999999998,0.93569999999999998,{"$f":"Ztable!E391*100","v":2.59},6.4299999999999996E-2,0.12570000000000001,{"$f":"-Ztable!A391","v":-1.9450000000000001}]
[1.5249999999999999,0.43640000000000001,0.93640000000000001,{"$f":"Ztable!E390*100","v":2.62},6.3600000000000004E-2,0.12470000000000001,{"$f":"-Ztable!A390","v":-1.94}]
[1.53,0.437,0.93700000000000006,{"$f":"Ztable!E389*100","v":2.65},6.3E-2,0.12379999999999999,{"$f":"-Ztable!A389","v":-1.9350000000000001}]
[1.5349999999999999,0.43759999999999999,0.93759999999999999,{"$f":"Ztable!E388*100","v":2.68},6.2399999999999997E-2,0.12280000000000001,{"$f":"-Ztable!A388","v":-1.93}]
[1.54,0.43819999999999998,0.93820000000000003,{"$f":"Ztable!E387*100","v":2.71},6.1800000000000001E-2,0.12189999999999999,{"$f":"-Ztable!A387","v":-1.925}]
[1.5449999999999999,0.43880000000000002,0.93879999999999997,{"$f":"Ztable!E386*100","v":2.74},6.1199999999999997E-2,0.121,{"$f":"-Ztable!A386","v":-1.92}]
[1.55,0.43940000000000001,0.93940000000000001,{"$f":"Ztable!E385*100","v":2.77},6.0600000000000001E-2,0.12,{"$f":"-Ztable!A385","v":-1.915}]
[1.5549999999999999,0.44,0.94,{"$f":"Ztable!E384*100","v":2.81},0.06,0.1191,{"$f":"-Ztable!A384","v":-1.91}]
[1.56,0.44059999999999999,0.94059999999999999,{"$f":"Ztable!E383*100","v":2.8400000000000003},5.9400000000000001E-2,0.1182,{"$f":"-Ztable!A383","v":-1.905}]
[1.5649999999999999,0.44119999999999998,0.94120000000000004,{"$f":"Ztable!E382*100","v":2.87},5.8799999999999998E-2,0.1173,{"$f":"-Ztable!A382","v":-1.9}]
[1.57,0.44180000000000003,0.94179999999999997,{"$f":"Ztable!E381*100","v":2.9000000000000004},5.8200000000000002E-2,0.1163,{"$f":"-Ztable!A381","v":-1.895}]
[1.575,0.44240000000000002,0.94240000000000002,{"$f":"Ztable!E380*100","v":2.94},5.7599999999999998E-2,0.1154,{"$f":"-Ztable!A380","v":-1.89}]
[1.58,0.44290000000000002,0.94289999999999996,{"$f":"Ztable!E379*100","v":2.97},5.7099999999999998E-2,0.1145,{"$f":"-Ztable!A379","v":-1.885}]
[1.585,0.44350000000000001,0.94350000000000001,{"$f":"Ztable!E378*100","v":3.01},5.6500000000000002E-2,0.11360000000000001,{"$f":"-Ztable!A378","v":-1.88}]
[1.59,0.44409999999999999,0.94410000000000005,{"$f":"Ztable!E377*100","v":3.04},5.5899999999999998E-2,0.11269999999999999,{"$f":"-Ztable!A377","v":-1.875}]
[1.595,0.4446,0.9446,{"$f":"Ztable!E376*100","v":3.0700000000000003},5.5399999999999998E-2,0.1118,{"$f":"-Ztable!A376","v":-1.87}]
[1.6,0.44519999999999998,0.94520000000000004,{"$f":"Ztable!E375*100","v":3.11},5.4800000000000001E-2,0.1109,{"$f":"-Ztable!A375","v":-1.865}]
[1.605,0.44579999999999997,0.94579999999999997,{"$f":"Ztable!E374*100","v":3.1399999999999997},5.4199999999999998E-2,0.1101,{"$f":"-Ztable!A374","v":-1.86}]
[1.61,0.44629999999999997,0.94630000000000003,{"$f":"Ztable!E373*100","v":3.18},5.3699999999999998E-2,0.10920000000000001,{"$f":"-Ztable!A373","v":-1.855}]
[1.615,0.44679999999999997,0.94679999999999997,{"$f":"Ztable!E372*100","v":3.2199999999999998},5.3199999999999997E-2,0.10829999999999999,{"$f":"-Ztable!A372","v":-1.85}]
[1.62,0.44740000000000002,0.94740000000000002,{"$f":"Ztable!E371*100","v":3.25},5.2600000000000001E-2,0.1074,{"$f":"-Ztable!A371","v":-1.845}]
[1.625,0.44790000000000002,0.94789999999999996,{"$f":"Ztable!E370*100","v":3.29},5.21E-2,0.1066,{"$f":"-Ztable!A370","v":-1.84}]
[1.63,0.44840000000000002,0.94840000000000002,{"$f":"Ztable!E369*100","v":3.3300000000000005},5.16E-2,0.1057,{"$f":"-Ztable!A369","v":-1.835}]
[1.635,0.44900000000000001,0.94899999999999995,{"$f":"Ztable!E368*100","v":3.36},5.0999999999999997E-2,0.1048,{"$f":"-Ztable!A368","v":-1.83}]
[1.64,0.44950000000000001,0.94950000000000001,{"$f":"Ztable!E367*100","v":3.4000000000000004},5.0500000000000003E-2,0.104,{"$f":"-Ztable!A367","v":-1.825}]
[1.645,0.45,0.95,{"$f":"Ztable!E366*100","v":3.44},0.05,0.1031,{"$f":"-Ztable!A366","v":-1.82}]
[1.65,0.45050000000000001,0.95050000000000001,{"$f":"Ztable!E365*100","v":3.4799999999999995},4.9500000000000002E-2,0.1023,{"$f":"-Ztable!A365","v":-1.8149999999999999}]
[1.655,0.45100000000000001,0.95099999999999996,{"$f":"Ztable!E364*100","v":3.51},4.9000000000000002E-2,0.1014,{"$f":"-Ztable!A364","v":-1.81}]
[1.66,0.45150000000000001,0.95150000000000001,{"$f":"Ztable!E363*100","v":3.55},4.8500000000000001E-2,0.10059999999999999,{"$f":"-Ztable!A363","v":-1.8049999999999999}]
[1.665,0.45200000000000001,0.95199999999999996,{"$f":"Ztable!E362*100","v":3.5900000000000003},4.8000000000000001E-2,9.98E-2,{"$f":"-Ztable!A362","v":-1.8}]
[1.67,0.45250000000000001,0.95250000000000001,{"$f":"Ztable!E361*100","v":3.63},4.7500000000000001E-2,9.8900000000000002E-2,{"$f":"-Ztable!A361","v":-1.7949999999999999}]
[1.675,0.45300000000000001,0.95299999999999996,{"$f":"Ztable!E360*100","v":3.6700000000000004},4.7E-2,9.8100000000000007E-2,{"$f":"-Ztable!A360","v":-1.79}]
[1.68,0.45350000000000001,0.95350000000000001,{"$f":"Ztable!E359*100","v":3.71},4.65E-2,9.7299999999999998E-2,{"$f":"-Ztable!A359","v":-1.7849999999999999}]
[1.6850000000000001,0.45400000000000001,0.95399999999999996,{"$f":"Ztable!E358*100","v":3.75},4.5999999999999999E-2,9.6500000000000002E-2,{"$f":"-Ztable!A358","v":-1.78}]
[1.69,0.45450000000000002,0.95450000000000002,{"$f":"Ztable!E357*100","v":3.7900000000000005},4.5499999999999999E-2,9.5699999999999993E-2,{"$f":"-Ztable!A357","v":-1.7749999999999999}]
[1.6950000000000001,0.45500000000000002,0.95499999999999996,{"$f":"Ztable!E356*100","v":3.84},4.4999999999999998E-2,9.4899999999999998E-2,{"$f":"-Ztable!A356","v":-1.77}]
[1.7,0.45540000000000003,0.95540000000000003,{"$f":"Ztable!E355*100","v":3.88},4.4600000000000001E-2,9.4100000000000003E-2,{"$f":"-Ztable!A355","v":-1.7649999999999999}]
[1.7050000000000001,0.45590000000000003,0.95589999999999997,{"$f":"Ztable!E354*100","v":3.92},4.41E-2,9.3299999999999994E-2,{"$f":"-Ztable!A354","v":-1.76}]
[1.71,0.45639999999999997,0.95640000000000003,{"$f":"Ztable!E353*100","v":3.9600000000000004},4.36E-2,9.2499999999999999E-2,{"$f":"-Ztable!A353","v":-1.7549999999999999}]
[1.7150000000000001,0.45679999999999998,0.95679999999999998,{"$f":"Ztable!E352*100","v":4.01},4.3200000000000002E-2,9.1700000000000004E-2,{"$f":"-Ztable!A352","v":-1.75}]
[1.72,0.45729999999999998,0.95730000000000004,{"$f":"Ztable!E351*100","v":4.05},4.2700000000000002E-2,9.0899999999999995E-2,{"$f":"-Ztable!A351","v":-1.7450000000000001}]
[1.7250000000000001,0.4577,0.9577,{"$f":"Ztable!E350*100","v":4.09},4.2299999999999997E-2,9.01E-2,{"$f":"-Ztable!A350","v":-1.74}]
[1.73,0.4582,0.95820000000000005,{"$f":"Ztable!E349*100","v":4.1399999999999997},4.1799999999999997E-2,8.9300000000000004E-2,{"$f":"-Ztable!A349","v":-1.7350000000000001}]
[1.7350000000000001,0.45860000000000001,0.95860000000000001,{"$f":"Ztable!E348*100","v":4.18},4.1399999999999999E-2,8.8599999999999998E-2,{"$f":"-Ztable!A348","v":-1.73}]
[1.74,0.45910000000000001,0.95909999999999995,{"$f":"Ztable!E347*100","v":4.2299999999999995},4.0899999999999999E-2,8.7800000000000003E-2,{"$f":"-Ztable!A347","v":-1.7250000000000001}]
[1.7450000000000001,0.45950000000000002,0.95950000000000002,{"$f":"Ztable!E346*100","v":4.2700000000000005},4.0500000000000001E-2,8.6999999999999994E-2,{"$f":"-Ztable!A346","v":-1.72}]
[1.75,0.45989999999999998,0.95989999999999998,{"$f":"Ztable!E345*100","v":4.32},4.0099999999999997E-2,8.6300000000000002E-2,{"$f":"-Ztable!A345","v":-1.7150000000000001}]
[1.7549999999999999,0.46039999999999998,0.96040000000000003,{"$f":"Ztable!E344*100","v":4.3600000000000003},3.9600000000000003E-2,8.5500000000000007E-2,{"$f":"-Ztable!A344","v":-1.71}]
[1.76,0.46079999999999999,0.96079999999999999,{"$f":"Ztable!E343*100","v":4.41},3.9199999999999999E-2,8.48E-2,{"$f":"-Ztable!A343","v":-1.7050000000000001}]
[1.7649999999999999,0.4612,0.96120000000000005,{"$f":"Ztable!E342*100","v":4.46},3.8800000000000001E-2,8.4000000000000005E-2,{"$f":"-Ztable!A342","v":-1.7}]
[1.77,0.46160000000000001,0.96160000000000001,{"$f":"Ztable!E341*100","v":4.5},3.8399999999999997E-2,8.3299999999999999E-2,{"$f":"-Ztable!A341","v":-1.6950000000000001}]
[1.7749999999999999,0.46210000000000001,0.96209999999999996,{"$f":"Ztable!E340*100","v":4.55},3.7900000000000003E-2,8.2600000000000007E-2,{"$f":"-Ztable!A340","v":-1.69}]
[1.78,0.46250000000000002,0.96250000000000002,{"$f":"Ztable!E339*100","v":4.5999999999999996},3.7499999999999999E-2,8.1799999999999998E-2,{"$f":"-Ztable!A339","v":-1.6850000000000001}]
[1.7849999999999999,0.46289999999999998,0.96289999999999998,{"$f":"Ztable!E338*100","v":4.6500000000000004},3.7100000000000001E-2,8.1100000000000005E-2,{"$f":"-Ztable!A338","v":-1.68}]
[1.79,0.46329999999999999,0.96330000000000005,{"$f":"Ztable!E337*100","v":4.7},3.6700000000000003E-2,8.0399999999999999E-2,{"$f":"-Ztable!A337","v":-1.675}]
[1.7949999999999999,0.4637,0.9637,{"$f":"Ztable!E336*100","v":4.75},3.6299999999999999E-2,7.9699999999999993E-2,{"$f":"-Ztable!A336","v":-1.67}]
[1.8,0.46410000000000001,0.96409999999999996,{"$f":"Ztable!E335*100","v":4.8},3.5900000000000001E-2,7.9000000000000001E-2,{"$f":"-Ztable!A335","v":-1.665}]
[1.8049999999999999,0.46450000000000002,0.96450000000000002,{"$f":"Ztable!E334*100","v":4.8500000000000005},3.5499999999999997E-2,7.8299999999999995E-2,{"$f":"-Ztable!A334","v":-1.66}]
[1.81,0.46489999999999998,0.96489999999999998,{"$f":"Ztable!E333*100","v":4.9000000000000004},3.5099999999999999E-2,7.7600000000000002E-2,{"$f":"-Ztable!A333","v":-1.655}]
[1.8149999999999999,0.4652,0.96519999999999995,{"$f":"Ztable!E332*100","v":4.95},3.4799999999999998E-2,7.6899999999999996E-2,{"$f":"-Ztable!A332","v":-1.65}]
[1.82,0.46560000000000001,0.96560000000000001,{"$f":"Ztable!E331*100","v":5},3.44E-2,7.6200000000000004E-2,{"$f":"-Ztable!A331","v":-1.645}]
[1.825,0.46600000000000003,0.96599999999999997,{"$f":"Ztable!E330*100","v":5.0500000000000007},3.4000000000000002E-2,7.5499999999999998E-2,{"$f":"-Ztable!A330","v":-1.64}]
[1.83,0.46639999999999998,0.96640000000000004,{"$f":"Ztable!E329*100","v":5.0999999999999996},3.3599999999999998E-2,7.4800000000000005E-2,{"$f":"-Ztable!A329","v":-1.635}]
[1.835,0.4667,0.9667,{"$f":"Ztable!E328*100","v":5.16},3.3300000000000003E-2,7.4099999999999999E-2,{"$f":"-Ztable!A328","v":-1.63}]
[1.84,0.46710000000000002,0.96709999999999996,{"$f":"Ztable!E327*100","v":5.21},3.2899999999999999E-2,7.3400000000000007E-2,{"$f":"-Ztable!A327","v":-1.625}]
[1.845,0.46750000000000003,0.96750000000000003,{"$f":"Ztable!E326*100","v":5.26},3.2500000000000001E-2,7.2700000000000001E-2,{"$f":"-Ztable!A326","v":-1.62}]
[1.85,0.46779999999999999,0.96779999999999999,{"$f":"Ztable!E325*100","v":5.3199999999999994},3.2199999999999999E-2,7.2099999999999997E-2,{"$f":"-Ztable!A325","v":-1.615}]
[1.855,0.46820000000000001,0.96819999999999995,{"$f":"Ztable!E324*100","v":5.37},3.1800000000000002E-2,7.1400000000000005E-2,{"$f":"-Ztable!A324","v":-1.61}]
[1.86,0.46860000000000002,0.96860000000000002,{"$f":"Ztable!E323*100","v":5.42},3.1399999999999997E-2,7.0800000000000002E-2,{"$f":"-Ztable!A323","v":-1.605}]
[1.865,0.46889999999999998,0.96889999999999998,{"$f":"Ztable!E322*100","v":5.48},3.1099999999999999E-2,7.0099999999999996E-2,{"$f":"-Ztable!A322","v":-1.6}]
[1.87,0.46929999999999999,0.96930000000000005,{"$f":"Ztable!E321*100","v":5.54},3.0700000000000002E-2,6.9400000000000003E-2,{"$f":"-Ztable!A321","v":-1.595}]
[1.875,0.46960000000000002,0.96960000000000002,{"$f":"Ztable!E320*100","v":5.59},3.04E-2,6.88E-2,{"$f":"-Ztable!A320","v":-1.59}]
[1.88,0.46989999999999998,0.96989999999999998,{"$f":"Ztable!E319*100","v":5.65},3.0099999999999998E-2,6.8199999999999997E-2,{"$f":"-Ztable!A319","v":-1.585}]
[1.885,0.4703,0.97030000000000005,{"$f":"Ztable!E318*100","v":5.71},2.9700000000000001E-2,6.7500000000000004E-2,{"$f":"-Ztable!A318","v":-1.58}]
[1.89,0.47060000000000002,0.97060000000000002,{"$f":"Ztable!E317*100","v":5.76},2.9399999999999999E-2,6.6900000000000001E-2,{"$f":"-Ztable!A317","v":-1.575}]
[1.895,0.47099999999999997,0.97099999999999997,{"$f":"Ztable!E316*100","v":5.82},2.9000000000000001E-2,6.6299999999999998E-2,{"$f":"-Ztable!A316","v":-1.57}]
[1.9,0.4713,0.97130000000000005,{"$f":"Ztable!E315*100","v":5.88},2.87E-2,6.5600000000000006E-2,{"$f":"-Ztable!A315","v":-1.5649999999999999}]
[1.905,0.47160000000000002,0.97160000000000002,{"$f":"Ztable!E314*100","v":5.94},2.8400000000000002E-2,6.5000000000000002E-2,{"$f":"-Ztable!A314","v":-1.56}]
[1.91,0.47189999999999999,0.97189999999999999,{"$f":"Ztable!E313*100","v":6},2.81E-2,6.4399999999999999E-2,{"$f":"-Ztable!A313","v":-1.5549999999999999}]
[1.915,0.4723,0.97230000000000005,{"$f":"Ztable!E312*100","v":6.0600000000000005},2.7699999999999999E-2,6.3799999999999996E-2,{"$f":"-Ztable!A312","v":-1.55}]
[1.92,0.47260000000000002,0.97260000000000002,{"$f":"Ztable!E311*100","v":6.12},2.7400000000000001E-2,6.3200000000000006E-2,{"$f":"-Ztable!A311","v":-1.5449999999999999}]
[1.925,0.47289999999999999,0.97289999999999999,{"$f":"Ztable!E310*100","v":6.18},2.7099999999999999E-2,6.2600000000000003E-2,{"$f":"-Ztable!A310","v":-1.54}]
[1.93,0.47320000000000001,0.97319999999999995,{"$f":"Ztable!E309*100","v":6.2399999999999993},2.6800000000000001E-2,6.2E-2,{"$f":"-Ztable!A309","v":-1.5349999999999999}]
[1.9350000000000001,0.47349999999999998,0.97350000000000003,{"$f":"Ztable!E308*100","v":6.3},2.6499999999999999E-2,6.1400000000000003E-2,{"$f":"-Ztable!A308","v":-1.53}]
[1.94,0.4738,0.9738,{"$f":"Ztable!E307*100","v":6.36},2.6200000000000001E-2,6.08E-2,{"$f":"-Ztable!A307","v":-1.5249999999999999}]
[1.9450000000000001,0.47410000000000002,0.97409999999999997,{"$f":"Ztable!E306*100","v":6.43},2.5899999999999999E-2,6.0199999999999997E-2,{"$f":"-Ztable!A306","v":-1.52}]
[1.95,0.47439999999999999,0.97440000000000004,{"$f":"Ztable!E305*100","v":6.49},2.5600000000000001E-2,5.96E-2,{"$f":"-Ztable!A305","v":-1.5149999999999999}]
[1.9550000000000001,0.47470000000000001,0.97470000000000001,{"$f":"Ztable!E304*100","v":6.5500000000000007},2.53E-2,5.8999999999999997E-2,{"$f":"-Ztable!A304","v":-1.51}]
[1.96,0.47499999999999998,0.97499999999999998,{"$f":"Ztable!E303*100","v":6.6199999999999992},2.5000000000000001E-2,5.8500000000000003E-2,{"$f":"-Ztable!A303","v":-1.5049999999999999}]
[1.9650000000000001,0.4753,0.97529999999999994,{"$f":"Ztable!E302*100","v":6.68},2.47E-2,5.79E-2,{"$f":"-Ztable!A302","v":-1.5}]
[1.97,0.47560000000000002,0.97560000000000002,{"$f":"Ztable!E301*100","v":6.75},2.4400000000000002E-2,5.7299999999999997E-2,{"$f":"-Ztable!A301","v":-1.4950000000000001}]
[1.9750000000000001,0.47589999999999999,0.97589999999999999,{"$f":"Ztable!E300*100","v":6.81},2.41E-2,5.6800000000000003E-2,{"$f":"-Ztable!A300","v":-1.49}]
[1.98,0.47610000000000002,0.97609999999999997,{"$f":"Ztable!E299*100","v":6.88},2.3900000000000001E-2,5.62E-2,{"$f":"-Ztable!A299","v":-1.4850000000000001}]
[1.9850000000000001,0.47639999999999999,0.97640000000000005,{"$f":"Ztable!E298*100","v":6.94},2.3599999999999999E-2,5.5599999999999997E-2,{"$f":"-Ztable!A298","v":-1.48}]
[1.99,0.47670000000000001,0.97670000000000001,{"$f":"Ztable!E297*100","v":7.01},2.3300000000000001E-2,5.5100000000000003E-2,{"$f":"-Ztable!A297","v":-1.4750000000000001}]
[1.9950000000000001,0.47699999999999998,0.97699999999999998,{"$f":"Ztable!E296*100","v":7.08},2.3E-2,5.45E-2,{"$f":"-Ztable!A296","v":-1.47}]
[2,0.47720000000000001,0.97719999999999996,{"$f":"Ztable!E295*100","v":7.1499999999999995},2.2800000000000001E-2,5.3999999999999999E-2,{"$f":"-Ztable!A295","v":-1.4650000000000001}]
[2.0049999999999999,0.47749999999999998,0.97750000000000004,{"$f":"Ztable!E294*100","v":7.21},2.2499999999999999E-2,5.3499999999999999E-2,{"$f":"-Ztable!A294","v":-1.46}]
[2.0099999999999998,0.4778,0.9778,{"$f":"Ztable!E293*100","v":7.28},2.2200000000000001E-2,5.2900000000000003E-2,{"$f":"-Ztable!A293","v":-1.4550000000000001}]
[2.0150000000000001,0.47799999999999998,0.97799999999999998,{"$f":"Ztable!E292*100","v":7.35},2.1999999999999999E-2,5.2400000000000002E-2,{"$f":"-Ztable!A292","v":-1.45}]
[2.02,0.4783,0.97829999999999995,{"$f":"Ztable!E291*100","v":7.42},2.1700000000000001E-2,5.1900000000000002E-2,{"$f":"-Ztable!A291","v":-1.4450000000000001}]
[2.0249999999999999,0.47860000000000003,0.97860000000000003,{"$f":"Ztable!E290*100","v":7.4899999999999993},2.1399999999999999E-2,5.1400000000000001E-2,{"$f":"-Ztable!A290","v":-1.44}]
[2.0299999999999998,0.4788,0.9788,{"$f":"Ztable!E289*100","v":7.5600000000000005},2.12E-2,5.0799999999999998E-2,{"$f":"-Ztable!A289","v":-1.4350000000000001}]
[2.0350000000000001,0.47910000000000003,0.97909999999999997,{"$f":"Ztable!E288*100","v":7.64},2.0899999999999998E-2,5.0299999999999997E-2,{"$f":"-Ztable!A288","v":-1.43}]
[2.04,0.4793,0.97929999999999995,{"$f":"Ztable!E287*100","v":7.71},2.07E-2,4.9799999999999997E-2,{"$f":"-Ztable!A287","v":-1.425}]
[2.0449999999999999,0.47960000000000003,0.97960000000000003,{"$f":"Ztable!E286*100","v":7.7799999999999994},2.0400000000000001E-2,4.9299999999999997E-2,{"$f":"-Ztable!A286","v":-1.42}]
[2.0499999999999998,0.4798,0.9798,{"$f":"Ztable!E285*100","v":7.85},2.0199999999999999E-2,4.8800000000000003E-2,{"$f":"-Ztable!A285","v":-1.415}]
[2.0550000000000002,0.48010000000000003,0.98009999999999997,{"$f":"Ztable!E284*100","v":7.93},1.9900000000000001E-2,4.8300000000000003E-2,{"$f":"-Ztable!A284","v":-1.41}]
[2.06,0.4803,0.98029999999999995,{"$f":"Ztable!E283*100","v":8},1.9699999999999999E-2,4.7800000000000002E-2,{"$f":"-Ztable!A283","v":-1.405}]
[2.0649999999999999,0.48049999999999998,0.98050000000000004,{"$f":"Ztable!E282*100","v":8.08},1.95E-2,4.7300000000000002E-2,{"$f":"-Ztable!A282","v":-1.4}]
[2.0699999999999998,0.48080000000000001,0.98080000000000001,{"$f":"Ztable!E281*100","v":8.15},1.9199999999999998E-2,4.6800000000000001E-2,{"$f":"-Ztable!A281","v":-1.395}]
[2.0750000000000002,0.48099999999999998,0.98099999999999998,{"$f":"Ztable!E280*100","v":8.23},1.9E-2,4.6399999999999997E-2,{"$f":"-Ztable!A280","v":-1.39}]
[2.08,0.48120000000000002,0.98119999999999996,{"$f":"Ztable!E279*100","v":8.3000000000000007},1.8800000000000001E-2,4.5900000000000003E-2,{"$f":"-Ztable!A279","v":-1.385}]
[2.085,0.48149999999999998,0.98150000000000004,{"$f":"Ztable!E278*100","v":8.3800000000000008},1.8499999999999999E-2,4.5400000000000003E-2,{"$f":"-Ztable!A278","v":-1.38}]
[2.09,0.48170000000000002,0.98170000000000002,{"$f":"Ztable!E277*100","v":8.4599999999999991},1.83E-2,4.4900000000000002E-2,{"$f":"-Ztable!A277","v":-1.375}]
[2.0950000000000002,0.4819,0.9819,{"$f":"Ztable!E276*100","v":8.5299999999999994},1.8100000000000002E-2,4.4499999999999998E-2,{"$f":"-Ztable!A276","v":-1.37}]
[2.1,0.48209999999999997,0.98209999999999997,{"$f":"Ztable!E275*100","v":8.61},1.7899999999999999E-2,4.3999999999999997E-2,{"$f":"-Ztable!A275","v":-1.365}]
[2.105,0.4824,0.98240000000000005,{"$f":"Ztable!E274*100","v":8.6900000000000013},1.7600000000000001E-2,4.3499999999999997E-2,{"$f":"-Ztable!A274","v":-1.36}]
[2.11,0.48259999999999997,0.98260000000000003,{"$f":"Ztable!E273*100","v":8.77},1.7399999999999999E-2,4.3099999999999999E-2,{"$f":"-Ztable!A273","v":-1.355}]
[2.1150000000000002,0.48280000000000001,0.98280000000000001,{"$f":"Ztable!E272*100","v":8.85},1.72E-2,4.2599999999999999E-2,{"$f":"-Ztable!A272","v":-1.35}]
[2.12,0.48299999999999998,0.98299999999999998,{"$f":"Ztable!E271*100","v":8.93},1.7000000000000001E-2,4.2200000000000001E-2,{"$f":"-Ztable!A271","v":-1.345}]
[2.125,0.48320000000000002,0.98319999999999996,{"$f":"Ztable!E270*100","v":9.01},1.6799999999999999E-2,4.1700000000000001E-2,{"$f":"-Ztable!A270","v":-1.34}]
[2.13,0.4834,0.98340000000000005,{"$f":"Ztable!E269*100","v":9.09},1.66E-2,4.1300000000000003E-2,{"$f":"-Ztable!A269","v":-1.335}]
[2.1349999999999998,0.48359999999999997,0.98360000000000003,{"$f":"Ztable!E268*100","v":9.1800000000000015},1.6400000000000001E-2,4.0899999999999999E-2,{"$f":"-Ztable!A268","v":-1.33}]
[2.14,0.48380000000000001,0.98380000000000001,{"$f":"Ztable!E267*100","v":9.26},1.6199999999999999E-2,4.0399999999999998E-2,{"$f":"-Ztable!A267","v":-1.325}]
[2.145,0.48399999999999999,0.98399999999999999,{"$f":"Ztable!E266*100","v":9.34},1.6E-2,0.04,{"$f":"-Ztable!A266","v":-1.32}]
[2.15,0.48420000000000002,0.98419999999999996,{"$f":"Ztable!E265*100","v":9.43},1.5800000000000002E-2,3.9600000000000003E-2,{"$f":"-Ztable!A265","v":-1.3149999999999999}]
[2.1549999999999998,0.4844,0.98440000000000005,{"$f":"Ztable!E264*100","v":9.51},1.5599999999999999E-2,3.9100000000000003E-2,{"$f":"-Ztable!A264","v":-1.31}]
[2.16,0.48459999999999998,0.98460000000000003,{"$f":"Ztable!E263*100","v":9.59},1.54E-2,3.8699999999999998E-2,{"$f":"-Ztable!A263","v":-1.3049999999999999}]
[2.165,0.48480000000000001,0.98480000000000001,{"$f":"Ztable!E262*100","v":9.68},1.52E-2,3.8300000000000001E-2,{"$f":"-Ztable!A262","v":-1.3}]
[2.17,0.48499999999999999,0.98499999999999999,{"$f":"Ztable!E261*100","v":9.77},1.4999999999999999E-2,3.7900000000000003E-2,{"$f":"-Ztable!A261","v":-1.2949999999999999}]
[2.1749999999999998,0.48520000000000002,0.98519999999999996,{"$f":"Ztable!E260*100","v":9.85},1.4800000000000001E-2,3.7499999999999999E-2,{"$f":"-Ztable!A260","v":-1.29}]
[2.1800000000000002,0.4854,0.98540000000000005,{"$f":"Ztable!E259*100","v":9.94},1.46E-2,3.7100000000000001E-2,{"$f":"-Ztable!A259","v":-1.2849999999999999}]
[2.1850000000000001,0.48559999999999998,0.98560000000000003,{"$f":"Ztable!E258*100","v":10.029999999999999},1.44E-2,3.6700000000000003E-2,{"$f":"-Ztable!A258","v":-1.28}]
[2.19,0.48570000000000002,0.98570000000000002,{"$f":"Ztable!E257*100","v":10.119999999999999},1.43E-2,3.6299999999999999E-2,{"$f":"-Ztable!A257","v":-1.2749999999999999}]
[2.1949999999999998,0.4859,0.9859,{"$f":"Ztable!E256*100","v":10.199999999999999},1.41E-2,3.5900000000000001E-2,{"$f":"-Ztable!A256","v":-1.27}]
[2.2000000000000002,0.48609999999999998,0.98609999999999998,{"$f":"Ztable!E255*100","v":10.290000000000001},1.3899999999999999E-2,3.5499999999999997E-2,{"$f":"-Ztable!A255","v":-1.2649999999999999}]
[2.2050000000000001,0.48630000000000001,0.98629999999999995,{"$f":"Ztable!E254*100","v":10.38},1.37E-2,3.5099999999999999E-2,{"$f":"-Ztable!A254","v":-1.26}]
[2.21,0.4864,0.98640000000000005,{"$f":"Ztable!E253*100","v":10.47},1.3599999999999999E-2,3.4700000000000002E-2,{"$f":"-Ztable!A253","v":-1.2549999999999999}]
[2.2149999999999999,0.48659999999999998,0.98660000000000003,{"$f":"Ztable!E252*100","v":10.56},1.34E-2,3.4299999999999997E-2,{"$f":"-Ztable!A252","v":-1.25}]
[2.2200000000000002,0.48680000000000001,0.98680000000000001,{"$f":"Ztable!E251*100","v":10.66},1.32E-2,3.39E-2,{"$f":"-Ztable!A251","v":-1.2450000000000001}]
[2.2250000000000001,0.48699999999999999,0.98699999999999999,{"$f":"Ztable!E250*100","v":10.75},1.2999999999999999E-2,3.3599999999999998E-2,{"$f":"-Ztable!A250","v":-1.24}]
[2.23,0.48709999999999998,0.98709999999999998,{"$f":"Ztable!E249*100","v":10.84},1.29E-2,3.32E-2,{"$f":"-Ztable!A249","v":-1.2350000000000001}]
[2.2349999999999999,0.48730000000000001,0.98729999999999996,{"$f":"Ztable!E248*100","v":10.93},1.2699999999999999E-2,3.2800000000000003E-2,{"$f":"-Ztable!A248","v":-1.23}]
[2.2400000000000002,0.48749999999999999,0.98750000000000004,{"$f":"Ztable!E247*100","v":11.03},1.2500000000000001E-2,3.2500000000000001E-2,{"$f":"-Ztable!A247","v":-1.2250000000000001}]
[2.2450000000000001,0.48759999999999998,0.98760000000000003,{"$f":"Ztable!E246*100","v":11.12},1.24E-2,3.2099999999999997E-2,{"$f":"-Ztable!A246","v":-1.22}]
[2.25,0.48780000000000001,0.98780000000000001,{"$f":"Ztable!E245*100","v":11.219999999999999},1.2200000000000001E-2,3.1699999999999999E-2,{"$f":"-Ztable!A245","v":-1.2150000000000001}]
[2.2549999999999999,0.4879,0.9879,{"$f":"Ztable!E244*100","v":11.31},1.21E-2,3.1399999999999997E-2,{"$f":"-Ztable!A244","v":-1.21}]
[2.2599999999999998,0.48809999999999998,0.98809999999999998,{"$f":"Ztable!E243*100","v":11.41},1.1900000000000001E-2,3.1E-2,{"$f":"-Ztable!A243","v":-1.2050000000000001}]
[2.2650000000000001,0.48820000000000002,0.98819999999999997,{"$f":"Ztable!E242*100","v":11.51},1.18E-2,3.0700000000000002E-2,{"$f":"-Ztable!A242","v":-1.2}]
[2.27,0.4884,0.98839999999999995,{"$f":"Ztable!E241*100","v":11.600000000000001},1.1599999999999999E-2,3.0300000000000001E-2,{"$f":"-Ztable!A241","v":-1.1950000000000001}]
[2.2749999999999999,0.48849999999999999,0.98850000000000005,{"$f":"Ztable!E240*100","v":11.700000000000001},1.15E-2,0.03,{"$f":"-Ztable!A240","v":-1.19}]
[2.2799999999999998,0.48870000000000002,0.98870000000000002,{"$f":"Ztable!E239*100","v":11.799999999999999},1.1299999999999999E-2,2.9700000000000001E-2,{"$f":"-Ztable!A239","v":-1.1850000000000001}]
[2.2850000000000001,0.48880000000000001,0.98880000000000001,{"$f":"Ztable!E238*100","v":11.899999999999999},1.12E-2,2.93E-2,{"$f":"-Ztable!A238","v":-1.18}]
[2.29,0.48899999999999999,0.98899999999999999,{"$f":"Ztable!E237*100","v":12},1.0999999999999999E-2,2.9000000000000001E-2,{"$f":"-Ztable!A237","v":-1.175}]
[2.2949999999999999,0.48909999999999998,0.98909999999999998,{"$f":"Ztable!E236*100","v":12.1},1.09E-2,2.87E-2,{"$f":"-Ztable!A236","v":-1.17}]
[2.2999999999999998,0.48930000000000001,0.98929999999999996,{"$f":"Ztable!E235*100","v":12.2},1.0699999999999999E-2,2.8299999999999999E-2,{"$f":"-Ztable!A235","v":-1.165}]
[2.3050000000000002,0.4894,0.98939999999999995,{"$f":"Ztable!E234*100","v":12.3},1.06E-2,2.8000000000000001E-2,{"$f":"-Ztable!A234","v":-1.1599999999999999}]
[2.31,0.48959999999999998,0.98960000000000004,{"$f":"Ztable!E233*100","v":12.4},1.04E-2,2.7699999999999999E-2,{"$f":"-Ztable!A233","v":-1.155}]
[2.3149999999999999,0.48970000000000002,0.98970000000000002,{"$f":"Ztable!E232*100","v":12.509999999999998},1.03E-2,2.7400000000000001E-2,{"$f":"-Ztable!A232","v":-1.1499999999999999}]
[2.3199999999999998,0.48980000000000001,0.98980000000000001,{"$f":"Ztable!E231*100","v":12.61},1.0200000000000001E-2,2.7099999999999999E-2,{"$f":"-Ztable!A231","v":-1.145}]
[2.3250000000000002,0.49,0.99,{"$f":"Ztable!E230*100","v":12.709999999999999},0.01,2.6700000000000002E-2,{"$f":"-Ztable!A230","v":-1.1399999999999999}]
[2.33,0.49009999999999998,0.99009999999999998,{"$f":"Ztable!E229*100","v":12.82},9.9000000000000008E-3,2.64E-2,{"$f":"-Ztable!A229","v":-1.135}]
[2.335,0.49020000000000002,0.99019999999999997,{"$f":"Ztable!E228*100","v":12.920000000000002},9.7999999999999997E-3,2.6100000000000002E-2,{"$f":"-Ztable!A228","v":-1.1299999999999999}]
[2.34,0.4904,0.99039999999999995,{"$f":"Ztable!E227*100","v":13.03},9.5999999999999992E-3,2.58E-2,{"$f":"-Ztable!A227","v":-1.125}]
[2.3450000000000002,0.49049999999999999,0.99050000000000005,{"$f":"Ztable!E226*100","v":13.139999999999999},9.4999999999999998E-3,2.5499999999999998E-2,{"$f":"-Ztable!A226","v":-1.1200000000000001}]
[2.35,0.49059999999999998,0.99060000000000004,{"$f":"Ztable!E225*100","v":13.239999999999998},9.4000000000000004E-3,2.52E-2,{"$f":"-Ztable!A225","v":-1.115}]
[2.355,0.49070000000000003,0.99070000000000003,{"$f":"Ztable!E224*100","v":13.350000000000001},9.2999999999999992E-3,2.4899999999999999E-2,{"$f":"-Ztable!A224","v":-1.1100000000000001}]
[2.36,0.4909,0.9909,{"$f":"Ztable!E223*100","v":13.459999999999999},9.1000000000000004E-3,2.46E-2,{"$f":"-Ztable!A223","v":-1.105}]
[2.3650000000000002,0.49099999999999999,0.99099999999999999,{"$f":"Ztable!E222*100","v":13.569999999999999},8.9999999999999993E-3,2.4299999999999999E-2,{"$f":"-Ztable!A222","v":-1.1000000000000001}]
[2.37,0.49109999999999998,0.99109999999999998,{"$f":"Ztable!E221*100","v":13.68},8.8999999999999999E-3,2.41E-2,{"$f":"-Ztable!A221","v":-1.095}]
[2.375,0.49120000000000003,0.99119999999999997,{"$f":"Ztable!E220*100","v":13.79},8.8000000000000005E-3,2.3800000000000002E-2,{"$f":"-Ztable!A220","v":-1.0900000000000001}]
[2.38,0.49130000000000001,0.99129999999999996,{"$f":"Ztable!E219*100","v":13.900000000000002},8.6999999999999994E-3,2.35E-2,{"$f":"-Ztable!A219","v":-1.085}]
[2.3849999999999998,0.49149999999999999,0.99150000000000005,{"$f":"Ztable!E218*100","v":14.01},8.5000000000000006E-3,2.3199999999999998E-2,{"$f":"-Ztable!A218","v":-1.08}]
[2.39,0.49159999999999998,0.99160000000000004,{"$f":"Ztable!E217*100","v":14.12},8.3999999999999995E-3,2.29E-2,{"$f":"-Ztable!A217","v":-1.075}]
[2.395,0.49170000000000003,0.99170000000000003,{"$f":"Ztable!E216*100","v":14.23},8.3000000000000001E-3,2.2700000000000001E-2,{"$f":"-Ztable!A216","v":-1.07}]
[2.4,0.49180000000000001,0.99180000000000001,{"$f":"Ztable!E215*100","v":14.34},8.2000000000000007E-3,2.24E-2,{"$f":"-Ztable!A215","v":-1.0649999999999999}]
[2.4049999999999998,0.4919,0.9919,{"$f":"Ztable!E214*100","v":14.46},8.0999999999999996E-3,2.2100000000000002E-2,{"$f":"-Ztable!A214","v":-1.06}]
[2.41,0.49199999999999999,0.99199999999999999,{"$f":"Ztable!E213*100","v":14.57},8.0000000000000002E-3,2.1899999999999999E-2,{"$f":"-Ztable!A213","v":-1.0549999999999999}]
[2.415,0.49209999999999998,0.99209999999999998,{"$f":"Ztable!E212*100","v":14.69},7.9000000000000008E-3,2.1600000000000001E-2,{"$f":"-Ztable!A212","v":-1.05}]
[2.42,0.49220000000000003,0.99219999999999997,{"$f":"Ztable!E211*100","v":14.799999999999999},7.7999999999999996E-3,2.1299999999999999E-2,{"$f":"-Ztable!A211","v":-1.0449999999999999}]
[2.4249999999999998,0.49230000000000002,0.99229999999999996,{"$f":"Ztable!E210*100","v":14.92},7.7000000000000002E-3,2.1100000000000001E-2,{"$f":"-Ztable!A210","v":-1.04}]
[2.4300000000000002,0.49249999999999999,0.99250000000000005,{"$f":"Ztable!E209*100","v":15.03},7.4999999999999997E-3,2.0799999999999999E-2,{"$f":"-Ztable!A209","v":-1.0349999999999999}]
[2.4350000000000001,0.49259999999999998,0.99260000000000004,{"$f":"Ztable!E208*100","v":15.15},7.4000000000000003E-3,2.06E-2,{"$f":"-Ztable!A208","v":-1.03}]
[2.44,0.49270000000000003,0.99270000000000003,{"$f":"Ztable!E207*100","v":15.27},7.3000000000000001E-3,2.0299999999999999E-2,{"$f":"-Ztable!A207","v":-1.0249999999999999}]
[2.4449999999999998,0.49280000000000002,0.99280000000000002,{"$f":"Ztable!E206*100","v":15.39},7.1999999999999998E-3,2.01E-2,{"$f":"-Ztable!A206","v":-1.02}]
[2.4500000000000002,0.4929,0.9929,{"$f":"Ztable!E205*100","v":15.509999999999998},7.1000000000000004E-3,1.9800000000000002E-2,{"$f":"-Ztable!A205","v":-1.0149999999999999}]
[2.4550000000000001,0.49299999999999999,0.99299999999999999,{"$f":"Ztable!E204*100","v":15.620000000000001},7.0000000000000001E-3,1.9599999999999999E-2,{"$f":"-Ztable!A204","v":-1.01}]
[2.46,0.49309999999999998,0.99309999999999998,{"$f":"Ztable!E203*100","v":15.740000000000002},6.8999999999999999E-3,1.9400000000000001E-2,{"$f":"-Ztable!A203","v":-1.0049999999999999}]
[2.4649999999999999,0.49309999999999998,0.99309999999999998,{"$f":"Ztable!E202*100","v":15.870000000000001},6.8999999999999999E-3,1.9099999999999999E-2,{"$f":"-Ztable!A202","v":-1}]
[2.4700000000000002,0.49320000000000003,0.99319999999999997,{"$f":"Ztable!E201*100","v":15.989999999999998},6.7999999999999996E-3,1.89E-2,{"$f":"-Ztable!A201","v":-0.995}]
[2.4750000000000001,0.49330000000000002,0.99329999999999996,{"$f":"Ztable!E200*100","v":16.11},6.7000000000000002E-3,1.8700000000000001E-2,{"$f":"-Ztable!A200","v":-0.99}]
[2.48,0.49340000000000001,0.99339999999999995,{"$f":"Ztable!E199*100","v":16.23},6.6E-3,1.84E-2,{"$f":"-Ztable!A199","v":-0.98499999999999999}]
[2.4849999999999999,0.49349999999999999,0.99350000000000005,{"$f":"Ztable!E198*100","v":16.350000000000001},6.4999999999999997E-3,1.8200000000000001E-2,{"$f":"-Ztable!A198","v":-0.98}]
[2.4900000000000002,0.49359999999999998,0.99360000000000004,{"$f":"Ztable!E197*100","v":16.48},6.4000000000000003E-3,1.7999999999999999E-2,{"$f":"-Ztable!A197","v":-0.97499999999999998}]
[2.4950000000000001,0.49370000000000003,0.99370000000000003,{"$f":"Ztable!E196*100","v":16.600000000000001},6.3E-3,1.78E-2,{"$f":"-Ztable!A196","v":-0.97}]
[2.5,0.49380000000000002,0.99380000000000002,{"$f":"Ztable!E195*100","v":16.73},6.1999999999999998E-3,1.7500000000000002E-2,{"$f":"-Ztable!A195","v":-0.96499999999999997}]
[2.5049999999999999,0.49390000000000001,0.99390000000000001,{"$f":"Ztable!E194*100","v":16.850000000000001},6.1000000000000004E-3,1.7299999999999999E-2,{"$f":"-Ztable!A194","v":-0.96}]
[2.5099999999999998,0.49399999999999999,0.99399999999999999,{"$f":"Ztable!E193*100","v":16.98},6.0000000000000001E-3,1.7100000000000001E-2,{"$f":"-Ztable!A193","v":-0.95499999999999996}]
[2.5150000000000001,0.49399999999999999,0.99399999999999999,{"$f":"Ztable!E192*100","v":17.11},6.0000000000000001E-3,1.6899999999999998E-2,{"$f":"-Ztable!A192","v":-0.95}]
[2.52,0.49409999999999998,0.99409999999999998,{"$f":"Ztable!E191*100","v":17.23},5.8999999999999999E-3,1.67E-2,{"$f":"-Ztable!A191","v":-0.94499999999999995}]
[2.5249999999999999,0.49419999999999997,0.99419999999999997,{"$f":"Ztable!E190*100","v":17.36},5.7999999999999996E-3,1.6500000000000001E-2,{"$f":"-Ztable!A190","v":-0.94}]
[2.5299999999999998,0.49430000000000002,0.99429999999999996,{"$f":"Ztable!E189*100","v":17.489999999999998},5.7000000000000002E-3,1.6299999999999999E-2,{"$f":"-Ztable!A189","v":-0.93500000000000005}]
[2.5350000000000001,0.49440000000000001,0.99439999999999995,{"$f":"Ztable!E188*100","v":17.62},5.5999999999999999E-3,1.61E-2,{"$f":"-Ztable!A188","v":-0.93}]
[2.54,0.4945,0.99450000000000005,{"$f":"Ztable!E187*100","v":17.75},5.4999999999999997E-3,1.5900000000000001E-2,{"$f":"-Ztable!A187","v":-0.92500000000000004}]
[2.5449999999999999,0.4945,0.99450000000000005,{"$f":"Ztable!E186*100","v":17.88},5.4999999999999997E-3,1.5699999999999999E-2,{"$f":"-Ztable!A186","v":-0.92}]
[2.5499999999999998,0.49459999999999998,0.99460000000000004,{"$f":"Ztable!E185*100","v":18.010000000000002},5.4000000000000003E-3,1.55E-2,{"$f":"-Ztable!A185","v":-0.91500000000000004}]
[2.5550000000000002,0.49469999999999997,0.99470000000000003,{"$f":"Ztable!E184*100","v":18.14},5.3E-3,1.5299999999999999E-2,{"$f":"-Ztable!A184","v":-0.91}]
[2.56,0.49480000000000002,0.99480000000000002,{"$f":"Ztable!E183*100","v":18.27},5.1999999999999998E-3,1.5100000000000001E-2,{"$f":"-Ztable!A183","v":-0.90500000000000003}]
[2.5649999999999999,0.49480000000000002,0.99480000000000002,{"$f":"Ztable!E182*100","v":18.41},5.1999999999999998E-3,1.49E-2,{"$f":"-Ztable!A182","v":-0.9}]
[2.57,0.49490000000000001,0.99490000000000001,{"$f":"Ztable!E181*100","v":18.54},5.1000000000000004E-3,1.47E-2,{"$f":"-Ztable!A181","v":-0.89500000000000002}]
[2.5750000000000002,0.495,0.995,{"$f":"Ztable!E180*100","v":18.670000000000002},5.0000000000000001E-3,1.4500000000000001E-2,{"$f":"-Ztable!A180","v":-0.89}]
[2.58,0.49509999999999998,0.99509999999999998,{"$f":"Ztable!E179*100","v":18.809999999999999},4.8999999999999998E-3,1.43E-2,{"$f":"-Ztable!A179","v":-0.88500000000000001}]
[2.585,0.49509999999999998,0.99509999999999998,{"$f":"Ztable!E178*100","v":18.940000000000001},4.8999999999999998E-3,1.41E-2,{"$f":"-Ztable!A178","v":-0.88}]
[2.59,0.49519999999999997,0.99519999999999997,{"$f":"Ztable!E177*100","v":19.079999999999998},4.7999999999999996E-3,1.3899999999999999E-2,{"$f":"-Ztable!A177","v":-0.875}]
[2.5950000000000002,0.49530000000000002,0.99529999999999996,{"$f":"Ztable!E176*100","v":19.220000000000002},4.7000000000000002E-3,1.38E-2,{"$f":"-Ztable!A176","v":-0.87}]
[2.6,0.49530000000000002,0.99529999999999996,{"$f":"Ztable!E175*100","v":19.350000000000001},4.7000000000000002E-3,1.3599999999999999E-2,{"$f":"-Ztable!A175","v":-0.86499999999999999}]
[2.605,0.49540000000000001,0.99539999999999995,{"$f":"Ztable!E174*100","v":19.489999999999998},4.5999999999999999E-3,1.34E-2,{"$f":"-Ztable!A174","v":-0.86}]
[2.61,0.4955,0.99550000000000005,{"$f":"Ztable!E173*100","v":19.63},4.4999999999999997E-3,1.32E-2,{"$f":"-Ztable!A173","v":-0.85499999999999998}]
[2.6150000000000002,0.4955,0.99550000000000005,{"$f":"Ztable!E172*100","v":19.77},4.4999999999999997E-3,1.3100000000000001E-2,{"$f":"-Ztable!A172","v":-0.85}]
[2.62,0.49559999999999998,0.99560000000000004,{"$f":"Ztable!E171*100","v":19.91},4.4000000000000003E-3,1.29E-2,{"$f":"-Ztable!A171","v":-0.84499999999999997}]
[2.625,0.49569999999999997,0.99570000000000003,{"$f":"Ztable!E170*100","v":20.05},4.3E-3,1.2699999999999999E-2,{"$f":"-Ztable!A170","v":-0.84}]
[2.63,0.49569999999999997,0.99570000000000003,{"$f":"Ztable!E169*100","v":20.190000000000001},4.3E-3,1.26E-2,{"$f":"-Ztable!A169","v":-0.83499999999999996}]
[2.6349999999999998,0.49580000000000002,0.99580000000000002,{"$f":"Ztable!E168*100","v":20.330000000000002},4.1999999999999997E-3,1.24E-2,{"$f":"-Ztable!A168","v":-0.83}]
[2.64,0.49590000000000001,0.99590000000000001,{"$f":"Ztable!E167*100","v":20.47},4.1000000000000003E-3,1.2200000000000001E-2,{"$f":"-Ztable!A167","v":-0.82499999999999996}]
[2.645,0.49590000000000001,0.99590000000000001,{"$f":"Ztable!E166*100","v":20.61},4.1000000000000003E-3,1.21E-2,{"$f":"-Ztable!A166","v":-0.82}]
[2.65,0.496,0.996,{"$f":"Ztable!E165*100","v":20.75},4.0000000000000001E-3,1.1900000000000001E-2,{"$f":"-Ztable!A165","v":-0.81499999999999995}]
[2.6549999999999998,0.496,0.996,{"$f":"Ztable!E164*100","v":20.9},4.0000000000000001E-3,1.18E-2,{"$f":"-Ztable!A164","v":-0.81}]
[2.66,0.49609999999999999,0.99609999999999999,{"$f":"Ztable!E163*100","v":21.04},3.8999999999999998E-3,1.1599999999999999E-2,{"$f":"-Ztable!A163","v":-0.80500000000000005}]
[2.665,0.49619999999999997,0.99619999999999997,{"$f":"Ztable!E162*100","v":21.19},3.8E-3,1.15E-2,{"$f":"-Ztable!A162","v":-0.8}]
[2.67,0.49619999999999997,0.99619999999999997,{"$f":"Ztable!E161*100","v":21.33},3.8E-3,1.1299999999999999E-2,{"$f":"-Ztable!A161","v":-0.79500000000000004}]
[2.6749999999999998,0.49630000000000002,0.99629999999999996,{"$f":"Ztable!E160*100","v":21.48},3.7000000000000002E-3,1.11E-2,{"$f":"-Ztable!A160","v":-0.79}]
[2.68,0.49630000000000002,0.99629999999999996,{"$f":"Ztable!E159*100","v":21.62},3.7000000000000002E-3,1.0999999999999999E-2,{"$f":"-Ztable!A159","v":-0.78500000000000003}]
[2.6850000000000001,0.49640000000000001,0.99639999999999995,{"$f":"Ztable!E158*100","v":21.77},3.5999999999999999E-3,1.09E-2,{"$f":"-Ztable!A158","v":-0.78}]
[2.69,0.49640000000000001,0.99639999999999995,{"$f":"Ztable!E157*100","v":21.92},3.5999999999999999E-3,1.0699999999999999E-2,{"$f":"-Ztable!A157","v":-0.77500000000000002}]
[2.6949999999999998,0.4965,0.99650000000000005,{"$f":"Ztable!E156*100","v":22.06},3.5000000000000001E-3,1.06E-2,{"$f":"-Ztable!A156","v":-0.77}]
[2.7,0.4965,0.99650000000000005,{"$f":"Ztable!E155*100","v":22.21},3.5000000000000001E-3,1.04E-2,{"$f":"-Ztable!A155","v":-0.76500000000000001}]
[2.7050000000000001,0.49659999999999999,0.99660000000000004,{"$f":"Ztable!E154*100","v":22.36},3.3999999999999998E-3,1.03E-2,{"$f":"-Ztable!A154","v":-0.76}]
[2.71,0.49659999999999999,0.99660000000000004,{"$f":"Ztable!E153*100","v":22.509999999999998},3.3999999999999998E-3,1.01E-2,{"$f":"-Ztable!A153","v":-0.755}]
[2.7149999999999999,0.49669999999999997,0.99670000000000003,{"$f":"Ztable!E152*100","v":22.66},3.3E-3,0.01,{"$f":"-Ztable!A152","v":-0.75}]
[2.72,0.49669999999999997,0.99670000000000003,{"$f":"Ztable!E151*100","v":22.81},3.3E-3,9.9000000000000008E-3,{"$f":"-Ztable!A151","v":-0.745}]
[2.7250000000000001,0.49680000000000002,0.99680000000000002,{"$f":"Ztable!E150*100","v":22.96},3.2000000000000002E-3,9.7000000000000003E-3,{"$f":"-Ztable!A150","v":-0.74}]
[2.73,0.49680000000000002,0.99680000000000002,{"$f":"Ztable!E149*100","v":23.119999999999997},3.2000000000000002E-3,9.5999999999999992E-3,{"$f":"-Ztable!A149","v":-0.73499999999999999}]
[2.7349999999999999,0.49690000000000001,0.99690000000000001,{"$f":"Ztable!E148*100","v":23.27},3.0999999999999999E-3,9.4999999999999998E-3,{"$f":"-Ztable!A148","v":-0.73}]
[2.74,0.49690000000000001,0.99690000000000001,{"$f":"Ztable!E147*100","v":23.419999999999998},3.0999999999999999E-3,9.4000000000000004E-3,{"$f":"-Ztable!A147","v":-0.72499999999999998}]
[2.7450000000000001,0.497,0.997,{"$f":"Ztable!E146*100","v":23.580000000000002},3.0000000000000001E-3,9.1999999999999998E-3,{"$f":"-Ztable!A146","v":-0.72}]
[2.75,0.497,0.997,{"$f":"Ztable!E145*100","v":23.73},3.0000000000000001E-3,9.1000000000000004E-3,{"$f":"-Ztable!A145","v":-0.71499999999999997}]
[2.7549999999999999,0.49709999999999999,0.99709999999999999,{"$f":"Ztable!E144*100","v":23.89},2.8999999999999998E-3,8.9999999999999993E-3,{"$f":"-Ztable!A144","v":-0.71}]
[2.76,0.49709999999999999,0.99709999999999999,{"$f":"Ztable!E143*100","v":24.04},2.8999999999999998E-3,8.8000000000000005E-3,{"$f":"-Ztable!A143","v":-0.70499999999999996}]
[2.7650000000000001,0.49719999999999998,0.99719999999999998,{"$f":"Ztable!E142*100","v":24.2},2.8E-3,8.6999999999999994E-3,{"$f":"-Ztable!A142","v":-0.7}]
[2.77,0.49719999999999998,0.99719999999999998,{"$f":"Ztable!E141*100","v":24.349999999999998},2.8E-3,8.6E-3,{"$f":"-Ztable!A141","v":-0.69499999999999995}]
[2.7749999999999999,0.49719999999999998,0.99719999999999998,{"$f":"Ztable!E140*100","v":24.51},2.8E-3,8.5000000000000006E-3,{"$f":"-Ztable!A140","v":-0.69}]
[2.78,0.49730000000000002,0.99729999999999996,{"$f":"Ztable!E139*100","v":24.67},2.7000000000000001E-3,8.3999999999999995E-3,{"$f":"-Ztable!A139","v":-0.68500000000000005}]
[2.7850000000000001,0.49730000000000002,0.99729999999999996,{"$f":"Ztable!E138*100","v":24.83},2.7000000000000001E-3,8.3000000000000001E-3,{"$f":"-Ztable!A138","v":-0.68}]
[2.79,0.49740000000000001,0.99739999999999995,{"$f":"Ztable!E137*100","v":24.98},2.5999999999999999E-3,8.0999999999999996E-3,{"$f":"-Ztable!A137","v":-0.67500000000000004}]
[2.7949999999999999,0.49740000000000001,0.99739999999999995,{"$f":"Ztable!E136*100","v":25.14},2.5999999999999999E-3,8.0000000000000002E-3,{"$f":"-Ztable!A136","v":-0.67}]
[2.8,0.49740000000000001,0.99739999999999995,{"$f":"Ztable!E135*100","v":25.3},2.5999999999999999E-3,7.9000000000000008E-3,{"$f":"-Ztable!A135","v":-0.66500000000000004}]
[2.8050000000000002,0.4975,0.99750000000000005,{"$f":"Ztable!E134*100","v":25.46},2.5000000000000001E-3,7.7999999999999996E-3,{"$f":"-Ztable!A134","v":-0.66}]
[2.81,0.4975,0.99750000000000005,{"$f":"Ztable!E133*100","v":25.619999999999997},2.5000000000000001E-3,7.7000000000000002E-3,{"$f":"-Ztable!A133","v":-0.65500000000000003}]
[2.8149999999999999,0.49759999999999999,0.99760000000000004,{"$f":"Ztable!E132*100","v":25.779999999999998},2.3999999999999998E-3,7.6E-3,{"$f":"-Ztable!A132","v":-0.65}]
[2.82,0.49759999999999999,0.99760000000000004,{"$f":"Ztable!E131*100","v":25.95},2.3999999999999998E-3,7.4999999999999997E-3,{"$f":"-Ztable!A131","v":-0.64500000000000002}]
[2.8250000000000002,0.49759999999999999,0.99760000000000004,{"$f":"Ztable!E130*100","v":26.11},2.3999999999999998E-3,7.4000000000000003E-3,{"$f":"-Ztable!A130","v":-0.64}]
[2.83,0.49769999999999998,0.99770000000000003,{"$f":"Ztable!E129*100","v":26.27},2.3E-3,7.3000000000000001E-3,{"$f":"-Ztable!A129","v":-0.63500000000000001}]
[2.835,0.49769999999999998,0.99770000000000003,{"$f":"Ztable!E128*100","v":26.43},2.3E-3,7.1999999999999998E-3,{"$f":"-Ztable!A128","v":-0.63}]
[2.84,0.49769999999999998,0.99770000000000003,{"$f":"Ztable!E127*100","v":26.6},2.3E-3,7.1000000000000004E-3,{"$f":"-Ztable!A127","v":-0.625}]
[2.8450000000000002,0.49780000000000002,0.99780000000000002,{"$f":"Ztable!E126*100","v":26.76},2.2000000000000001E-3,7.0000000000000001E-3,{"$f":"-Ztable!A126","v":-0.62}]
[2.85,0.49780000000000002,0.99780000000000002,{"$f":"Ztable!E125*100","v":26.93},2.2000000000000001E-3,6.8999999999999999E-3,{"$f":"-Ztable!A125","v":-0.61499999999999999}]
[2.855,0.49780000000000002,0.99780000000000002,{"$f":"Ztable!E124*100","v":27.089999999999996},2.2000000000000001E-3,6.7999999999999996E-3,{"$f":"-Ztable!A124","v":-0.61}]
[2.86,0.49790000000000001,0.99790000000000001,{"$f":"Ztable!E123*100","v":27.26},2.0999999999999999E-3,6.7000000000000002E-3,{"$f":"-Ztable!A123","v":-0.60499999999999998}]
[2.8650000000000002,0.49790000000000001,0.99790000000000001,{"$f":"Ztable!E122*100","v":27.43},2.0999999999999999E-3,6.6E-3,{"$f":"-Ztable!A122","v":-0.6}]
[2.87,0.49790000000000001,0.99790000000000001,{"$f":"Ztable!E121*100","v":27.589999999999996},2.0999999999999999E-3,6.4999999999999997E-3,{"$f":"-Ztable!A121","v":-0.59499999999999997}]
[2.875,0.498,0.998,{"$f":"Ztable!E120*100","v":27.76},2E-3,6.4000000000000003E-3,{"$f":"-Ztable!A120","v":-0.59}]
[2.88,0.498,0.998,{"$f":"Ztable!E119*100","v":27.93},2E-3,6.3E-3,{"$f":"-Ztable!A119","v":-0.58499999999999996}]
[2.8849999999999998,0.498,0.998,{"$f":"Ztable!E118*100","v":28.1},2E-3,6.1999999999999998E-3,{"$f":"-Ztable!A118","v":-0.57999999999999996}]
[2.89,0.49809999999999999,0.99809999999999999,{"$f":"Ztable!E117*100","v":28.26},1.9E-3,6.1000000000000004E-3,{"$f":"-Ztable!A117","v":-0.57499999999999996}]
[2.895,0.49809999999999999,0.99809999999999999,{"$f":"Ztable!E116*100","v":28.43},1.9E-3,6.0000000000000001E-3,{"$f":"-Ztable!A116","v":-0.56999999999999995}]
[2.9,0.49809999999999999,0.99809999999999999,{"$f":"Ztable!E115*100","v":28.599999999999998},1.9E-3,6.0000000000000001E-3,{"$f":"-Ztable!A115","v":-0.56499999999999995}]
[2.9049999999999998,0.49819999999999998,0.99819999999999998,{"$f":"Ztable!E114*100","v":28.77},1.8E-3,5.8999999999999999E-3,{"$f":"-Ztable!A114","v":-0.56000000000000005}]
[2.91,0.49819999999999998,0.99819999999999998,{"$f":"Ztable!E113*100","v":28.939999999999998},1.8E-3,5.7999999999999996E-3,{"$f":"-Ztable!A113","v":-0.55500000000000005}]
[2.915,0.49819999999999998,0.99819999999999998,{"$f":"Ztable!E112*100","v":29.12},1.8E-3,5.7000000000000002E-3,{"$f":"-Ztable!A112","v":-0.55000000000000004}]
[2.92,0.49819999999999998,0.99819999999999998,{"$f":"Ztable!E111*100","v":29.29},1.8E-3,5.5999999999999999E-3,{"$f":"-Ztable!A111","v":-0.54500000000000004}]
[2.9249999999999998,0.49830000000000002,0.99829999999999997,{"$f":"Ztable!E110*100","v":29.459999999999997},1.6999999999999999E-3,5.4999999999999997E-3,{"$f":"-Ztable!A110","v":-0.54}]
[2.93,0.49830000000000002,0.99829999999999997,{"$f":"Ztable!E109*100","v":29.630000000000003},1.6999999999999999E-3,5.4999999999999997E-3,{"$f":"-Ztable!A109","v":-0.53500000000000003}]
[2.9350000000000001,0.49830000000000002,0.99829999999999997,{"$f":"Ztable!E108*100","v":29.81},1.6999999999999999E-3,5.4000000000000003E-3,{"$f":"-Ztable!A108","v":-0.53}]
[2.94,0.49840000000000001,0.99839999999999995,{"$f":"Ztable!E107*100","v":29.98},1.6000000000000001E-3,5.3E-3,{"$f":"-Ztable!A107","v":-0.52500000000000002}]
[2.9449999999999998,0.49840000000000001,0.99839999999999995,{"$f":"Ztable!E106*100","v":30.15},1.6000000000000001E-3,5.1999999999999998E-3,{"$f":"-Ztable!A106","v":-0.52}]
[2.95,0.49840000000000001,0.99839999999999995,{"$f":"Ztable!E105*100","v":30.330000000000002},1.6000000000000001E-3,5.1000000000000004E-3,{"$f":"-Ztable!A105","v":-0.51500000000000001}]
[2.9550000000000001,0.49840000000000001,0.99839999999999995,{"$f":"Ztable!E104*100","v":30.5},1.6000000000000001E-3,5.1000000000000004E-3,{"$f":"-Ztable!A104","v":-0.51}]
[2.96,0.4985,0.99850000000000005,{"$f":"Ztable!E103*100","v":30.680000000000003},1.5E-3,5.0000000000000001E-3,{"$f":"-Ztable!A103","v":-0.505}]
[2.9649999999999999,0.4985,0.99850000000000005,{"$f":"Ztable!E102*100","v":30.85},1.5E-3,4.8999999999999998E-3,{"$f":"-Ztable!A102","v":-0.5}]
[2.97,0.4985,0.99850000000000005,{"$f":"Ztable!E101*100","v":31.03},1.5E-3,4.7999999999999996E-3,{"$f":"-Ztable!A101","v":-0.495}]
[2.9750000000000001,0.4985,0.99850000000000005,{"$f":"Ztable!E100*100","v":31.209999999999997},1.5E-3,4.7999999999999996E-3,{"$f":"-Ztable!A100","v":-0.49}]
[2.98,0.49859999999999999,0.99860000000000004,{"$f":"Ztable!E99*100","v":31.380000000000003},1.4E-3,4.7000000000000002E-3,{"$f":"-Ztable!A99","v":-0.48499999999999999}]
[2.9849999999999999,0.49859999999999999,0.99860000000000004,{"$f":"Ztable!E98*100","v":31.56},1.4E-3,4.5999999999999999E-3,{"$f":"-Ztable!A98","v":-0.48}]
[2.99,0.49859999999999999,0.99860000000000004,{"$f":"Ztable!E97*100","v":31.740000000000002},1.4E-3,4.5999999999999999E-3,{"$f":"-Ztable!A97","v":-0.47499999999999998}]
[2.9950000000000001,0.49859999999999999,0.99860000000000004,{"$f":"Ztable!E96*100","v":31.919999999999998},1.4E-3,4.4999999999999997E-3,{"$f":"-Ztable!A96","v":-0.47}]
[3,0.49869999999999998,0.99870000000000003,{"$f":"Ztable!E95*100","v":32.1},1.2999999999999999E-3,4.4000000000000003E-3,{"$f":"-Ztable!A95","v":-0.46500000000000002}]
[3.0049999999999999,0.49869999999999998,0.99870000000000003,{"$f":"Ztable!E94*100","v":32.28},1.2999999999999999E-3,4.4000000000000003E-3,{"$f":"-Ztable!A94","v":-0.46}]
[3.01,0.49869999999999998,0.99870000000000003,{"$f":"Ztable!E93*100","v":32.46},1.2999999999999999E-3,4.3E-3,{"$f":"-Ztable!A93","v":-0.45500000000000002}]
[3.0150000000000001,0.49869999999999998,0.99870000000000003,{"$f":"Ztable!E92*100","v":32.64},1.2999999999999999E-3,4.1999999999999997E-3,{"$f":"-Ztable!A92","v":-0.45}]
[3.02,0.49869999999999998,0.99870000000000003,{"$f":"Ztable!E91*100","v":32.82},1.2999999999999999E-3,4.1999999999999997E-3,{"$f":"-Ztable!A91","v":-0.44500000000000001}]
[3.0249999999999999,0.49880000000000002,0.99880000000000002,{"$f":"Ztable!E90*100","v":33},1.1999999999999999E-3,4.1000000000000003E-3,{"$f":"-Ztable!A90","v":-0.44}]
[3.03,0.49880000000000002,0.99880000000000002,{"$f":"Ztable!E89*100","v":33.18},1.1999999999999999E-3,4.1000000000000003E-3,{"$f":"-Ztable!A89","v":-0.435}]
[3.0350000000000001,0.49880000000000002,0.99880000000000002,{"$f":"Ztable!E88*100","v":33.36},1.1999999999999999E-3,4.0000000000000001E-3,{"$f":"-Ztable!A88","v":-0.43}]
[3.04,0.49880000000000002,0.99880000000000002,{"$f":"Ztable!E87*100","v":33.54},1.1999999999999999E-3,3.8999999999999998E-3,{"$f":"-Ztable!A87","v":-0.42499999999999999}]
[3.0449999999999999,0.49880000000000002,0.99880000000000002,{"$f":"Ztable!E86*100","v":33.72},1.1999999999999999E-3,3.8999999999999998E-3,{"$f":"-Ztable!A86","v":-0.42}]
[3.05,0.49890000000000001,0.99890000000000001,{"$f":"Ztable!E85*100","v":33.910000000000004},1.1000000000000001E-3,3.8E-3,{"$f":"-Ztable!A85","v":-0.41499999999999998}]
[3.0550000000000002,0.49890000000000001,0.99890000000000001,{"$f":"Ztable!E84*100","v":34.089999999999996},1.1000000000000001E-3,3.8E-3,{"$f":"-Ztable!A84","v":-0.41}]
[3.06,0.49890000000000001,0.99890000000000001,{"$f":"Ztable!E83*100","v":34.270000000000003},1.1000000000000001E-3,3.7000000000000002E-3,{"$f":"-Ztable!A83","v":-0.40500000000000003}]
[3.0649999999999999,0.49890000000000001,0.99890000000000001,{"$f":"Ztable!E82*100","v":34.46},1.1000000000000001E-3,3.5999999999999999E-3,{"$f":"-Ztable!A82","v":-0.4}]
[3.07,0.49890000000000001,0.99890000000000001,{"$f":"Ztable!E81*100","v":34.64},1.1000000000000001E-3,3.5999999999999999E-3,{"$f":"-Ztable!A81","v":-0.39500000000000002}]
[3.0750000000000002,0.49890000000000001,0.99890000000000001,{"$f":"Ztable!E80*100","v":34.83},1.1000000000000001E-3,3.5000000000000001E-3,{"$f":"-Ztable!A80","v":-0.39}]
[3.08,0.499,0.999,{"$f":"Ztable!E79*100","v":35.010000000000005},1E-3,3.5000000000000001E-3,{"$f":"-Ztable!A79","v":-0.38500000000000001}]
[3.085,0.499,0.999,{"$f":"Ztable!E78*100","v":35.199999999999996},1E-3,3.3999999999999998E-3,{"$f":"-Ztable!A78","v":-0.38}]
[3.09,0.499,0.999,{"$f":"Ztable!E77*100","v":35.380000000000003},1E-3,3.3999999999999998E-3,{"$f":"-Ztable!A77","v":-0.375}]
[3.0950000000000002,0.499,0.999,{"$f":"Ztable!E76*100","v":35.57},1E-3,3.3E-3,{"$f":"-Ztable!A76","v":-0.37}]
[3.1,0.499,0.999,{"$f":"Ztable!E75*100","v":35.76},1E-3,3.3E-3,{"$f":"-Ztable!A75","v":-0.36499999999999999}]
[3.11,0.49909999999999999,0.99909999999999999,{"$f":"Ztable!E74*100","v":35.94},8.9999999999999998E-4,3.2000000000000002E-3,{"$f":"-Ztable!A74","v":-0.36}]
[3.12,0.49909999999999999,0.99909999999999999,{"$f":"Ztable!E73*100","v":36.130000000000003},8.9999999999999998E-4,3.0999999999999999E-3,{"$f":"-Ztable!A73","v":-0.35499999999999998}]
[3.13,0.49909999999999999,0.99909999999999999,{"$f":"Ztable!E72*100","v":36.32},8.9999999999999998E-4,3.0000000000000001E-3,{"$f":"-Ztable!A72","v":-0.35}]
[3.14,0.49919999999999998,0.99919999999999998,{"$f":"Ztable!E71*100","v":36.5},8.0000000000000004E-4,2.8999999999999998E-3,{"$f":"-Ztable!A71","v":-0.34499999999999997}]
[3.15,0.49919999999999998,0.99919999999999998,{"$f":"Ztable!E70*100","v":36.69},8.0000000000000004E-4,2.8E-3,{"$f":"-Ztable!A70","v":-0.34}]
[3.16,0.49919999999999998,0.99919999999999998,{"$f":"Ztable!E69*100","v":36.880000000000003},8.0000000000000004E-4,2.7000000000000001E-3,{"$f":"-Ztable!A69","v":-0.33500000000000002}]
[3.17,0.49919999999999998,0.99919999999999998,{"$f":"Ztable!E68*100","v":37.07},8.0000000000000004E-4,2.5999999999999999E-3,{"$f":"-Ztable!A68","v":-0.33}]
[3.18,0.49930000000000002,0.99929999999999997,{"$f":"Ztable!E67*100","v":37.26},6.9999999999999999E-4,2.5000000000000001E-3,{"$f":"-Ztable!A67","v":-0.32500000000000001}]
[3.19,0.49930000000000002,0.99929999999999997,{"$f":"Ztable!E66*100","v":37.450000000000003},6.9999999999999999E-4,2.5000000000000001E-3,{"$f":"-Ztable!A66","v":-0.32}]
[3.2,0.49930000000000002,0.99929999999999997,{"$f":"Ztable!E65*100","v":37.64},6.9999999999999999E-4,2.3999999999999998E-3,{"$f":"-Ztable!A65","v":-0.315}]
[3.21,0.49930000000000002,0.99929999999999997,{"$f":"Ztable!E64*100","v":37.830000000000005},6.9999999999999999E-4,2.3E-3,{"$f":"-Ztable!A64","v":-0.31}]
[3.22,0.49940000000000001,0.99939999999999996,{"$f":"Ztable!E63*100","v":38.019999999999996},5.9999999999999995E-4,2.2000000000000001E-3,{"$f":"-Ztable!A63","v":-0.30499999999999999}]
[3.23,0.49940000000000001,0.99939999999999996,{"$f":"Ztable!E62*100","v":38.21},5.9999999999999995E-4,2.2000000000000001E-3,{"$f":"-Ztable!A62","v":-0.3}]
[3.24,0.49940000000000001,0.99939999999999996,{"$f":"Ztable!E61*100","v":38.4},5.9999999999999995E-4,2.0999999999999999E-3,{"$f":"-Ztable!A61","v":-0.29499999999999998}]
[3.25,0.49940000000000001,0.99939999999999996,{"$f":"Ztable!E60*100","v":38.590000000000003},5.9999999999999995E-4,2E-3,{"$f":"-Ztable!A60","v":-0.28999999999999998}]
[3.26,0.49940000000000001,0.99939999999999996,{"$f":"Ztable!E59*100","v":38.78},5.9999999999999995E-4,2E-3,{"$f":"-Ztable!A59","v":-0.28499999999999998}]
[3.27,0.4995,0.99950000000000006,{"$f":"Ztable!E58*100","v":38.97},5.0000000000000001E-4,1.9E-3,{"$f":"-Ztable!A58","v":-0.28000000000000003}]
[3.28,0.4995,0.99950000000000006,{"$f":"Ztable!E57*100","v":39.17},5.0000000000000001E-4,1.8E-3,{"$f":"-Ztable!A57","v":-0.27500000000000002}]
[3.29,0.4995,0.99950000000000006,{"$f":"Ztable!E56*100","v":39.36},5.0000000000000001E-4,1.8E-3,{"$f":"-Ztable!A56","v":-0.27}]
[3.3,0.4995,0.99950000000000006,{"$f":"Ztable!E55*100","v":39.550000000000004},5.0000000000000001E-4,1.6999999999999999E-3,{"$f":"-Ztable!A55","v":-0.26500000000000001}]
[3.31,0.4995,0.99950000000000006,{"$f":"Ztable!E54*100","v":39.739999999999995},5.0000000000000001E-4,1.6999999999999999E-3,{"$f":"-Ztable!A54","v":-0.26}]
[3.32,0.4995,0.99950000000000006,{"$f":"Ztable!E53*100","v":39.94},5.0000000000000001E-4,1.6000000000000001E-3,{"$f":"-Ztable!A53","v":-0.255}]
[3.33,0.49959999999999999,0.99960000000000004,{"$f":"Ztable!E52*100","v":40.129999999999995},4.0000000000000002E-4,1.6000000000000001E-3,{"$f":"-Ztable!A52","v":-0.25}]
[3.34,0.49959999999999999,0.99960000000000004,{"$f":"Ztable!E51*100","v":40.32},4.0000000000000002E-4,1.5E-3,{"$f":"-Ztable!A51","v":-0.245}]
[3.35,0.49959999999999999,0.99960000000000004,{"$f":"Ztable!E50*100","v":40.520000000000003},4.0000000000000002E-4,1.5E-3,{"$f":"-Ztable!A50","v":-0.24}]
[3.36,0.49959999999999999,0.99960000000000004,{"$f":"Ztable!E49*100","v":40.71},4.0000000000000002E-4,1.4E-3,{"$f":"-Ztable!A49","v":-0.23499999999999999}]
[3.37,0.49959999999999999,0.99960000000000004,{"$f":"Ztable!E48*100","v":40.9},4.0000000000000002E-4,1.4E-3,{"$f":"-Ztable!A48","v":-0.23}]
[3.38,0.49959999999999999,0.99960000000000004,{"$f":"Ztable!E47*100","v":41.099999999999994},4.0000000000000002E-4,1.2999999999999999E-3,{"$f":"-Ztable!A47","v":-0.22500000000000001}]
[3.39,0.49969999999999998,0.99970000000000003,{"$f":"Ztable!E46*100","v":41.29},2.9999999999999997E-4,1.2999999999999999E-3,{"$f":"-Ztable!A46","v":-0.22}]
[3.4,0.49969999999999998,0.99970000000000003,{"$f":"Ztable!E45*100","v":41.49},2.9999999999999997E-4,1.1999999999999999E-3,{"$f":"-Ztable!A45","v":-0.215}]
[3.41,0.49969999999999998,0.99970000000000003,{"$f":"Ztable!E44*100","v":41.68},2.9999999999999997E-4,1.1999999999999999E-3,{"$f":"-Ztable!A44","v":-0.21}]
[3.42,0.49969999999999998,0.99970000000000003,{"$f":"Ztable!E43*100","v":41.88},2.9999999999999997E-4,1.1999999999999999E-3,{"$f":"-Ztable!A43","v":-0.20499999999999999}]
[3.43,0.49969999999999998,0.99970000000000003,{"$f":"Ztable!E42*100","v":42.07},2.9999999999999997E-4,1.1000000000000001E-3,{"$f":"-Ztable!A42","v":-0.2}]
[3.44,0.49969999999999998,0.99970000000000003,{"$f":"Ztable!E41*100","v":42.27},2.9999999999999997E-4,1.1000000000000001E-3,{"$f":"-Ztable!A41","v":-0.19500000000000001}]
[3.45,0.49969999999999998,0.99970000000000003,{"$f":"Ztable!E40*100","v":42.47},2.9999999999999997E-4,1E-3,{"$f":"-Ztable!A40","v":-0.19}]
[3.46,0.49969999999999998,0.99970000000000003,{"$f":"Ztable!E39*100","v":42.66},2.9999999999999997E-4,1E-3,{"$f":"-Ztable!A39","v":-0.185}]
[3.47,0.49969999999999998,0.99970000000000003,{"$f":"Ztable!E38*100","v":42.86},2.9999999999999997E-4,1E-3,{"$f":"-Ztable!A38","v":-0.18}]
[3.48,0.49969999999999998,0.99970000000000003,{"$f":"Ztable!E37*100","v":43.05},2.9999999999999997E-4,8.9999999999999998E-4,{"$f":"-Ztable!A37","v":-0.17499999999999999}]
[3.49,0.49980000000000002,0.99980000000000002,{"$f":"Ztable!E36*100","v":43.25},2.0000000000000001E-4,8.9999999999999998E-4,{"$f":"-Ztable!A36","v":-0.17}]
[3.5,0.49980000000000002,0.99980000000000002,{"$f":"Ztable!E35*100","v":43.45},2.0000000000000001E-4,8.9999999999999998E-4,{"$f":"-Ztable!A35","v":-0.16500000000000001}]
[3.51,0.49980000000000002,0.99980000000000002,{"$f":"Ztable!E34*100","v":43.64},2.0000000000000001E-4,8.0000000000000004E-4,{"$f":"-Ztable!A34","v":-0.16}]
[3.52,0.49980000000000002,0.99980000000000002,{"$f":"Ztable!E33*100","v":43.84},2.0000000000000001E-4,8.0000000000000004E-4,{"$f":"-Ztable!A33","v":-0.155}]
[3.53,0.49980000000000002,0.99980000000000002,{"$f":"Ztable!E32*100","v":44.04},2.0000000000000001E-4,8.0000000000000004E-4,{"$f":"-Ztable!A32","v":-0.15}]
[3.54,0.49980000000000002,0.99980000000000002,{"$f":"Ztable!E31*100","v":44.24},2.0000000000000001E-4,8.0000000000000004E-4,{"$f":"-Ztable!A31","v":-0.14499999999999999}]
[3.55,0.49980000000000002,0.99980000000000002,{"$f":"Ztable!E30*100","v":44.43},2.0000000000000001E-4,6.9999999999999999E-4,{"$f":"-Ztable!A30","v":-0.14000000000000001}]
[3.56,0.49980000000000002,0.99980000000000002,{"$f":"Ztable!E29*100","v":44.629999999999995},2.0000000000000001E-4,6.9999999999999999E-4,{"$f":"-Ztable!A29","v":-0.13500000000000001}]
[3.57,0.49980000000000002,0.99980000000000002,{"$f":"Ztable!E28*100","v":44.83},2.0000000000000001E-4,6.9999999999999999E-4,{"$f":"-Ztable!A28","v":-0.13}]
[3.58,0.49980000000000002,0.99980000000000002,{"$f":"Ztable!E27*100","v":45.03},2.0000000000000001E-4,6.9999999999999999E-4,{"$f":"-Ztable!A27","v":-0.125}]
[3.59,0.49980000000000002,0.99980000000000002,{"$f":"Ztable!E26*100","v":45.22},2.0000000000000001E-4,5.9999999999999995E-4,{"$f":"-Ztable!A26","v":-0.12}]
[3.6,0.49980000000000002,0.99980000000000002,{"$f":"Ztable!E25*100","v":45.42},2.0000000000000001E-4,5.9999999999999995E-4,{"$f":"-Ztable!A25","v":-0.115}]
[3.61,0.49980000000000002,0.99980000000000002,{"$f":"Ztable!E24*100","v":45.62},2.0000000000000001E-4,5.9999999999999995E-4,{"$f":"-Ztable!A24","v":-0.11}]
[3.62,0.49990000000000001,0.99990000000000001,{"$f":"Ztable!E23*100","v":45.82},1E-4,5.9999999999999995E-4,{"$f":"-Ztable!A23","v":-0.105}]
[3.63,0.49990000000000001,0.99990000000000001,{"$f":"Ztable!E22*100","v":46.02},1E-4,5.0000000000000001E-4,{"$f":"-Ztable!A22","v":-0.1}]
[3.64,0.49990000000000001,0.99990000000000001,{"$f":"Ztable!E21*100","v":46.22},1E-4,5.0000000000000001E-4,{"$f":"-Ztable!A21","v":-9.5000000000000001E-2}]
[3.65,0.49990000000000001,0.99990000000000001,{"$f":"Ztable!E20*100","v":46.410000000000004},1E-4,5.0000000000000001E-4,{"$f":"-Ztable!A20","v":-0.09}]
[3.66,0.49990000000000001,0.99990000000000001,{"$f":"Ztable!E19*100","v":46.61},1E-4,5.0000000000000001E-4,{"$f":"-Ztable!A19","v":-8.5000000000000006E-2}]
[3.67,0.49990000000000001,0.99990000000000001,{"$f":"Ztable!E18*100","v":46.81},1E-4,5.0000000000000001E-4,{"$f":"-Ztable!A18","v":-0.08}]
[3.68,0.49990000000000001,0.99990000000000001,{"$f":"Ztable!E17*100","v":47.010000000000005},1E-4,5.0000000000000001E-4,{"$f":"-Ztable!A17","v":-7.4999999999999997E-2}]
[3.69,0.49990000000000001,0.99990000000000001,{"$f":"Ztable!E16*100","v":47.21},1E-4,4.0000000000000002E-4,{"$f":"-Ztable!A16","v":-7.0000000000000007E-2}]
[3.7,0.49990000000000001,0.99990000000000001,{"$f":"Ztable!E15*100","v":47.410000000000004},1E-4,4.0000000000000002E-4,{"$f":"-Ztable!A15","v":-6.5000000000000002E-2}]
[3.8,0.49990000000000001,0.99990000000000001,{"$f":"Ztable!E14*100","v":47.61},1E-4,2.9999999999999997E-4,{"$f":"-Ztable!A14","v":-0.06}]
[3.9,0.5,1,{"$f":"Ztable!E13*100","v":47.81},0,2.0000000000000001E-4,{"$f":"-Ztable!A13","v":-5.5E-2}]
[4,0.5,1,{"$f":"Ztable!E12*100","v":48.010000000000005},0,1E-4,{"$f":"-Ztable!A12","v":-0.05}]
[4.0999999999999996,0.5,1,{"$f":"Ztable!E11*100","v":48.209999999999994},0,1E-4,{"$f":"-Ztable!A11","v":-4.4999999999999998E-2}]
[4.2,0.5,1,{"$f":"Ztable!E10*100","v":48.4},0,1E-4,{"$f":"-Ztable!A10","v":-0.04}]
[4.3,0.5,1,{"$f":"Ztable!E9*100","v":48.6},0,3.8999999999999999E-5,{"$f":"-Ztable!A9","v":-3.5000000000000003E-2}]
[4.4000000000000004,0.5,1,{"$f":"Ztable!E8*100","v":48.8},0,3.8999999999999999E-5,{"$f":"-Ztable!A8","v":-0.03}]
[4.5,0.5,1,{"$f":"Ztable!E7*100","v":49},0,3.8999999999999999E-5,{"$f":"-Ztable!A7","v":-2.5000000000000001E-2}]
[4.5999999999999996,0.5,1,{"$f":"Ztable!E6*100","v":49.2},0,3.8999999999999999E-5,{"$f":"-Ztable!A6","v":-0.02}]
[4.7,0.5,1,{"$f":"Ztable!E5*100","v":49.4},0,3.8999999999999999E-5,{"$f":"-Ztable!A5","v":-1.4999999999999999E-2}]
[4.8,0.5,1,{"$f":"Ztable!E4*100","v":49.6},0,3.8999999999999999E-5,{"$f":"-Ztable!A4","v":-0.01}]
[4.9000000000000004,0.5,1,{"$f":"Ztable!E3*100","v":49.8},0,3.8999999999999999E-5,{"$f":"-Ztable!A3","v":-5.0000000000000001E-3}]
[5,0.5,1,{"$f":"Ztable!E2*100","v":50},0,3.8999999999999999E-5,{"$f":"-Ztable!A2","v":0}]
[null,null,null,{"$f":"C2*100","v":50},null,null,{"$f":"A$2","v":0}]
[null,null,null,50.2,null,null,{"$f":"A3","v":5.0000000000000001E-3}]
[null,null,null,50.4,null,null,0.01]
[null,null,null,50.6,null,null,1.4999999999999999E-2]
[null,null,null,50.8,null,null,0.02]
[null,null,null,51,null,null,2.5000000000000001E-2]
[null,null,null,51.2,null,null,0.03]
[null,null,null,51.4,null,null,3.5000000000000003E-2]
[null,null,null,51.6,null,null,0.04]
[null,null,null,51.790000000000006,null,null,4.4999999999999998E-2]
[null,null,null,51.99,null,null,0.05]
[null,null,null,52.190000000000005,null,null,5.5E-2]
[null,null,null,52.39,null,null,0.06]
[null,null,null,52.59,null,null,6.5000000000000002E-2]
[null,null,null,52.790000000000006,null,null,7.0000000000000007E-2]
[null,null,null,52.99,null,null,7.4999999999999997E-2]
[null,null,null,53.190000000000005,null,null,0.08]
[null,null,null,53.39,null,null,8.5000000000000006E-2]
[null,null,null,53.59,null,null,0.09]
[null,null,null,53.779999999999994,null,null,9.5000000000000001E-2]
[null,null,null,53.98,null,null,0.1]
[null,null,null,54.179999999999993,null,null,0.105]
[null,null,null,54.379999999999995,null,null,0.11]
[null,null,null,54.58,null,null,0.115]
[null,null,null,54.779999999999994,null,null,0.12]
[null,null,null,54.97,null,null,0.125]
[null,null,null,55.169999999999995,null,null,0.13]
[null,null,null,55.37,null,null,0.13500000000000001]
[null,null,null,55.57,null,null,0.14000000000000001]
[null,null,null,55.76,null,null,0.14499999999999999]
[null,null,null,55.96,null,null,0.15]
[null,null,null,56.16,null,null,0.155]
[null,null,null,56.36,null,null,0.16]
[null,null,null,56.55,null,null,0.16500000000000001]
[null,null,null,56.75,null,null,0.17]
[null,null,null,56.95,null,null,0.17499999999999999]
[null,null,null,57.14,null,null,0.18]
[null,null,null,57.34,null,null,0.185]
[null,null,null,57.53,null,null,0.19]
[null,null,null,57.730000000000004,null,null,0.19500000000000001]
[null,null,null,57.930000000000007,null,null,0.2]
[null,null,null,58.120000000000005,null,null,0.20499999999999999]
[null,null,null,58.320000000000007,null,null,0.21]
[null,null,null,58.51,null,null,0.215]
[null,null,null,58.709999999999994,null,null,0.22]
[null,null,null,58.9,null,null,0.22500000000000001]
[null,null,null,59.099999999999994,null,null,0.23]
[null,null,null,59.29,null,null,0.23499999999999999]
[null,null,null,59.48,null,null,0.24]
[null,null,null,59.68,null,null,0.245]
[null,null,null,59.870000000000005,null,null,0.25]
[null,null,null,60.06,null,null,0.255]
[null,null,null,60.260000000000005,null,null,0.26]
[null,null,null,60.45,null,null,0.26500000000000001]
[null,null,null,60.640000000000008,null,null,0.27]
[null,null,null,60.83,null,null,0.27500000000000002]
[null,null,null,61.029999999999994,null,null,0.28000000000000003]
[null,null,null,61.22,null,null,0.28499999999999998]
[null,null,null,61.41,null,null,0.28999999999999998]
[null,null,null,61.6,null,null,0.29499999999999998]
[null,null,null,61.79,null,null,0.3]
[null,null,null,61.980000000000004,null,null,0.30499999999999999]
[null,null,null,62.17,null,null,0.31]
[null,null,null,62.360000000000007,null,null,0.315]
[null,null,null,{"$f":"C66*100","v":62.55},null,null,0.32]
[null,null,null,62.739999999999995,null,null,{"$f":"A67","v":0.32500000000000001}]
[null,null,null,62.93,null,null,0.33]
[null,null,null,63.12,null,null,0.33500000000000002]
[null,null,null,63.31,null,null,0.34]
[null,null,null,63.5,null,null,0.34499999999999997]
[null,null,null,63.680000000000007,null,null,0.35]
[null,null,null,63.870000000000005,null,null,0.35499999999999998]
[null,null,null,64.059999999999988,null,null,0.36]
[null,null,null,64.239999999999995,null,null,0.36499999999999999]
[null,null,null,64.429999999999993,null,null,0.37]
[null,null,null,64.62,null,null,0.375]
[null,null,null,64.8,null,null,0.38]
[null,null,null,64.990000000000009,null,null,0.38500000000000001]
[null,null,null,65.169999999999987,null,null,0.39]
[null,null,null,65.36,null,null,0.39500000000000002]
[null,null,null,65.539999999999992,null,null,0.4]
[null,null,null,65.73,null,null,0.40500000000000003]
[null,null,null,65.91,null,null,0.41]
[null,null,null,66.09,null,null,0.41499999999999998]
[null,null,null,66.28,null,null,0.42]
[null,null,null,66.459999999999994,null,null,0.42499999999999999]
[null,null,null,66.64,null,null,0.43]
[null,null,null,66.820000000000007,null,null,0.435]
[null,null,null,67,null,null,0.44]
[null,null,null,67.179999999999993,null,null,0.44500000000000001]
[null,null,null,67.36,null,null,0.45]
[null,null,null,67.540000000000006,null,null,0.45500000000000002]
[null,null,null,67.72,null,null,0.46]
[null,null,null,67.900000000000006,null,null,0.46500000000000002]
[null,null,null,68.08,null,null,0.47]
[null,null,null,68.260000000000005,null,null,0.47499999999999998]
[null,null,null,68.44,null,null,0.48]
[null,null,null,68.62,null,null,0.48499999999999999]
[null,null,null,68.789999999999992,null,null,0.49]
[null,null,null,68.97,null,null,0.495]
[null,null,null,69.150000000000006,null,null,0.5]
[null,null,null,69.320000000000007,null,null,0.505]
[null,null,null,69.5,null,null,0.51]
[null,null,null,69.67,null,null,0.51500000000000001]
[null,null,null,69.849999999999994,null,null,0.52]
[null,null,null,70.02000000000001,null,null,0.52500000000000002]
[null,null,null,70.19,null,null,0.53]
[null,null,null,70.37,null,null,0.53500000000000003]
[null,null,null,70.540000000000006,null,null,0.54]
[null,null,null,70.709999999999994,null,null,0.54500000000000004]
[null,null,null,70.88,null,null,0.55000000000000004]
[null,null,null,71.06,null,null,0.55500000000000005]
[null,null,null,71.23,null,null,0.56000000000000005]
[null,null,null,71.399999999999991,null,null,0.56499999999999995]
[null,null,null,71.569999999999993,null,null,0.56999999999999995]
[null,null,null,71.740000000000009,null,null,0.57499999999999996]
[null,null,null,71.899999999999991,null,null,0.57999999999999996]
[null,null,null,72.070000000000007,null,null,0.58499999999999996]
[null,null,null,72.240000000000009,null,null,0.59]
[null,null,null,72.41,null,null,0.59499999999999997]
[null,null,null,72.570000000000007,null,null,0.6]
[null,null,null,72.740000000000009,null,null,0.60499999999999998]
[null,null,null,72.91,null,null,0.61]
[null,null,null,73.070000000000007,null,null,0.61499999999999999]
[null,null,null,73.240000000000009,null,null,0.62]
[null,null,null,73.400000000000006,null,null,0.625]
[null,null,null,73.570000000000007,null,null,0.63]
[null,null,null,73.72999999999999,null,null,0.63500000000000001]
[null,null,null,{"$f":"C130*100","v":73.89},null,null,0.64]
[null,null,null,74.050000000000011,null,null,{"$f":"A131","v":0.64500000000000002}]
[null,null,null,74.22,null,null,0.65]
[null,null,null,74.38,null,null,0.65500000000000003]
[null,null,null,74.539999999999992,null,null,0.66]
[null,null,null,74.7,null,null,0.66500000000000004]
[null,null,null,74.86,null,null,0.67]
[null,null,null,75.02,null,null,0.67500000000000004]
[null,null,null,75.17,null,null,0.68]
[null,null,null,75.33,null,null,0.68500000000000005]
[null,null,null,75.489999999999995,null,null,0.69]
[null,null,null,75.649999999999991,null,null,0.69499999999999995]
[null,null,null,75.8,null,null,0.7]
[null,null,null,75.960000000000008,null,null,0.70499999999999996]
[null,null,null,76.11,null,null,0.71]
[null,null,null,76.27000000000001,null,null,0.71499999999999997]
[null,null,null,76.42,null,null,0.72]
[null,null,null,76.58,null,null,0.72499999999999998]
[null,null,null,76.73,null,null,0.73]
[null,null,null,76.88000000000001,null,null,0.73499999999999999]
[null,null,null,77.039999999999992,null,null,0.74]
[null,null,null,77.19,null,null,0.745]
[null,null,null,77.34,null,null,0.75]
[null,null,null,77.490000000000009,null,null,0.755]
[null,null,null,77.64,null,null,0.76]
[null,null,null,77.790000000000006,null,null,0.76500000000000001]
[null,null,null,77.94,null,null,0.77]
[null,null,null,78.08,null,null,0.77500000000000002]
[null,null,null,78.23,null,null,0.78]
[null,null,null,78.38000000000001,null,null,0.78500000000000003]
[null,null,null,78.52,null,null,0.79]
[null,null,null,78.67,null,null,0.79500000000000004]
[null,null,null,78.81,null,null,0.8]
[null,null,null,78.959999999999994,null,null,0.80500000000000005]
[null,null,null,79.100000000000009,null,null,0.81]
[null,null,null,79.25,null,null,0.81499999999999995]
[null,null,null,79.39,null,null,0.82]
[null,null,null,79.53,null,null,0.82499999999999996]
[null,null,null,79.67,null,null,0.83]
[null,null,null,79.81,null,null,0.83499999999999996]
[null,null,null,79.95,null,null,0.84]
[null,null,null,80.089999999999989,null,null,0.84499999999999997]
[null,null,null,80.23,null,null,0.85]
[null,null,null,80.36999999999999,null,null,0.85499999999999998]
[null,null,null,80.510000000000005,null,null,0.86]
[null,null,null,80.650000000000006,null,null,0.86499999999999999]
[null,null,null,80.78,null,null,0.87]
[null,null,null,80.92,null,null,0.875]
[null,null,null,81.06,null,null,0.88]
[null,null,null,81.19,null,null,0.88500000000000001]
[null,null,null,81.33,null,null,0.89]
[null,null,null,81.459999999999994,null,null,0.89500000000000002]
[null,null,null,81.589999999999989,null,null,0.9]
[null,null,null,81.73,null,null,0.90500000000000003]
[null,null,null,81.86,null,null,0.91]
[null,null,null,81.99,null,null,0.91500000000000004]
[null,null,null,82.12,null,null,0.92]
[null,null,null,82.25,null,null,0.92500000000000004]
[null,null,null,82.38,null,null,0.93]
[null,null,null,82.509999999999991,null,null,0.93500000000000005]
[null,null,null,82.64,null,null,0.94]
[null,null,null,82.77,null,null,0.94499999999999995]
[null,null,null,82.89,null,null,0.95]
[null,null,null,83.02000000000001,null,null,0.95499999999999996]
[null,null,null,{"$f":"C194*100","v":83.15},null,null,0.96]
[null,null,null,83.27,null,null,{"$f":"A195","v":0.96499999999999997}]
[null,null,null,83.399999999999991,null,null,0.97]
[null,null,null,83.52000000000001,null,null,0.97499999999999998]
[null,null,null,83.65,null,null,0.98]
[null,null,null,83.77,null,null,0.98499999999999999]
[null,null,null,83.89,null,null,0.99]
[null,null,null,84.009999999999991,null,null,0.995]
[null,null,null,84.13000000000001,null,null,1]
[null,null,null,84.26,null,null,1.0049999999999999]
[null,null,null,84.38,null,null,1.01]
[null,null,null,84.49,null,null,1.0149999999999999]
[null,null,null,84.61,null,null,1.02]
[null,null,null,84.73,null,null,1.0249999999999999]
[null,null,null,84.850000000000009,null,null,1.03]
[null,null,null,84.97,null,null,1.0349999999999999]
[null,null,null,85.08,null,null,1.04]
[null,null,null,85.2,null,null,1.0449999999999999]
[null,null,null,85.31,null,null,1.05]
[null,null,null,85.429999999999993,null,null,1.0549999999999999]
[null,null,null,85.54,null,null,1.06]
[null,null,null,85.66,null,null,1.0649999999999999]
[null,null,null,85.77,null,null,1.07]
[null,null,null,85.88,null,null,1.075]
[null,null,null,85.99,null,null,1.08]
[null,null,null,86.1,null,null,1.085]
[null,null,null,86.21,null,null,1.0900000000000001]
[null,null,null,86.32,null,null,1.095]
[null,null,null,86.429999999999993,null,null,1.1000000000000001]
[null,null,null,86.539999999999992,null,null,1.105]
[null,null,null,86.65,null,null,1.1100000000000001]
[null,null,null,86.76,null,null,1.115]
[null,null,null,86.86,null,null,1.1200000000000001]
[null,null,null,86.97,null,null,1.125]
[null,null,null,87.08,null,null,1.1299999999999999]
[null,null,null,87.18,null,null,1.135]
[null,null,null,87.29,null,null,1.1399999999999999]
[null,null,null,87.39,null,null,1.145]
[null,null,null,87.49,null,null,1.1499999999999999]
[null,null,null,87.6,null,null,1.155]
[null,null,null,87.7,null,null,1.1599999999999999]
[null,null,null,87.8,null,null,1.165]
[null,null,null,87.9,null,null,1.17]
[null,null,null,88,null,null,1.175]
[null,null,null,88.1,null,null,1.18]
[null,null,null,88.2,null,null,1.1850000000000001]
[null,null,null,88.3,null,null,1.19]
[null,null,null,88.4,null,null,1.1950000000000001]
[null,null,null,88.490000000000009,null,null,1.2]
[null,null,null,88.59,null,null,1.2050000000000001]
[null,null,null,88.69,null,null,1.21]
[null,null,null,88.78,null,null,1.2150000000000001]
[null,null,null,88.88000000000001,null,null,1.22]
[null,null,null,88.97,null,null,1.2250000000000001]
[null,null,null,89.070000000000007,null,null,1.23]
[null,null,null,89.16,null,null,1.2350000000000001]
[null,null,null,89.25,null,null,1.24]
[null,null,null,89.34,null,null,1.2450000000000001]
[null,null,null,89.44,null,null,1.25]
[null,null,null,89.53,null,null,1.2549999999999999]
[null,null,null,89.62,null,null,1.26]
[null,null,null,89.710000000000008,null,null,1.2649999999999999]
[null,null,null,89.8,null,null,1.27]
[null,null,null,89.88000000000001,null,null,1.2749999999999999]
[null,null,null,{"$f":"C258*100","v":89.97},null,null,1.28]
[null,null,null,90.06,null,null,{"$f":"A259","v":1.2849999999999999}]
[null,null,null,90.149999999999991,null,null,1.29]
[null,null,null,90.23,null,null,1.2949999999999999]
[null,null,null,90.32,null,null,1.3]
[null,null,null,90.41,null,null,1.3049999999999999]
[null,null,null,90.490000000000009,null,null,1.31]
[null,null,null,90.57,null,null,1.3149999999999999]
[null,null,null,90.66,null,null,1.32]
[null,null,null,90.74,null,null,1.325]
[null,null,null,90.820000000000007,null,null,1.33]
[null,null,null,90.91,null,null,1.335]
[null,null,null,90.990000000000009,null,null,1.34]
[null,null,null,91.07,null,null,1.345]
[null,null,null,91.149999999999991,null,null,1.35]
[null,null,null,91.23,null,null,1.355]
[null,null,null,91.31,null,null,1.36]
[null,null,null,91.39,null,null,1.365]
[null,null,null,91.47,null,null,1.37]
[null,null,null,91.539999999999992,null,null,1.375]
[null,null,null,91.62,null,null,1.38]
[null,null,null,91.7,null,null,1.385]
[null,null,null,91.77,null,null,1.39]
[null,null,null,91.85,null,null,1.395]
[null,null,null,91.92,null,null,1.4]
[null,null,null,92,null,null,1.405]
[null,null,null,92.07,null,null,1.41]
[null,null,null,92.15,null,null,1.415]
[null,null,null,92.22,null,null,1.42]
[null,null,null,92.29,null,null,1.425]
[null,null,null,92.36,null,null,1.43]
[null,null,null,92.44,null,null,1.4350000000000001]
[null,null,null,92.51,null,null,1.44]
[null,null,null,92.58,null,null,1.4450000000000001]
[null,null,null,92.65,null,null,1.45]
[null,null,null,92.72,null,null,1.4550000000000001]
[null,null,null,92.789999999999992,null,null,1.46]
[null,null,null,92.85,null,null,1.4650000000000001]
[null,null,null,92.92,null,null,1.47]
[null,null,null,92.99,null,null,1.4750000000000001]
[null,null,null,93.06,null,null,1.48]
[null,null,null,93.12,null,null,1.4850000000000001]
[null,null,null,93.19,null,null,1.49]
[null,null,null,93.25,null,null,1.4950000000000001]
[null,null,null,93.320000000000007,null,null,1.5]
[null,null,null,93.38,null,null,1.5049999999999999]
[null,null,null,93.45,null,null,1.51]
[null,null,null,93.51,null,null,1.5149999999999999]
[null,null,null,93.57,null,null,1.52]
[null,null,null,93.64,null,null,1.5249999999999999]
[null,null,null,93.7,null,null,1.53]
[null,null,null,93.76,null,null,1.5349999999999999]
[null,null,null,93.820000000000007,null,null,1.54]
[null,null,null,93.88,null,null,1.5449999999999999]
[null,null,null,93.94,null,null,1.55]
[null,null,null,94,null,null,1.5549999999999999]
[null,null,null,94.06,null,null,1.56]
[null,null,null,94.12,null,null,1.5649999999999999]
[null,null,null,94.179999999999993,null,null,1.57]
[null,null,null,94.24,null,null,1.575]
[null,null,null,94.289999999999992,null,null,1.58]
[null,null,null,94.35,null,null,1.585]
[null,null,null,94.410000000000011,null,null,1.59]
[null,null,null,94.46,null,null,1.595]
[null,null,null,{"$f":"C322*100","v":94.52000000000001},null,null,1.6]
[null,null,null,94.58,null,null,{"$f":"A323","v":1.605}]
[null,null,null,94.63000000000001,null,null,1.61]
[null,null,null,94.679999999999993,null,null,1.615]
[null,null,null,94.740000000000009,null,null,1.62]
[null,null,null,94.789999999999992,null,null,1.625]
[null,null,null,94.84,null,null,1.63]
[null,null,null,94.899999999999991,null,null,1.635]
[null,null,null,94.95,null,null,1.64]
[null,null,null,95,null,null,1.645]
[null,null,null,95.05,null,null,1.65]
[null,null,null,95.1,null,null,1.655]
[null,null,null,95.15,null,null,1.66]
[null,null,null,95.199999999999989,null,null,1.665]
[null,null,null,95.25,null,null,1.67]
[null,null,null,95.3,null,null,1.675]
[null,null,null,95.35,null,null,1.68]
[null,null,null,95.399999999999991,null,null,1.6850000000000001]
[null,null,null,95.45,null,null,1.69]
[null,null,null,95.5,null,null,1.6950000000000001]
[null,null,null,95.54,null,null,1.7]
[null,null,null,95.59,null,null,1.7050000000000001]
[null,null,null,95.64,null,null,1.71]
[null,null,null,95.679999999999993,null,null,1.7150000000000001]
[null,null,null,95.73,null,null,1.72]
[null,null,null,95.77,null,null,1.7250000000000001]
[null,null,null,95.820000000000007,null,null,1.73]
[null,null,null,95.86,null,null,1.7350000000000001]
[null,null,null,95.91,null,null,1.74]
[null,null,null,95.95,null,null,1.7450000000000001]
[null,null,null,95.99,null,null,1.75]
[null,null,null,96.04,null,null,1.7549999999999999]
[null,null,null,96.08,null,null,1.76]
[null,null,null,96.12,null,null,1.7649999999999999]
[null,null,null,96.16,null,null,1.77]
[null,null,null,96.21,null,null,1.7749999999999999]
[null,null,null,96.25,null,null,1.78]
[null,null,null,96.289999999999992,null,null,1.7849999999999999]
[null,null,null,96.33,null,null,1.79]
[null,null,null,96.37,null,null,1.7949999999999999]
[null,null,null,96.41,null,null,1.8]
[null,null,null,96.45,null,null,1.8049999999999999]
[null,null,null,96.49,null,null,1.81]
[null,null,null,96.52,null,null,1.8149999999999999]
[null,null,null,96.56,null,null,1.82]
[null,null,null,96.6,null,null,1.825]
[null,null,null,96.64,null,null,1.83]
[null,null,null,96.67,null,null,1.835]
[null,null,null,96.71,null,null,1.84]
[null,null,null,96.75,null,null,1.845]
[null,null,null,96.78,null,null,1.85]
[null,null,null,96.82,null,null,1.855]
[null,null,null,96.86,null,null,1.86]
[null,null,null,96.89,null,null,1.865]
[null,null,null,96.93,null,null,1.87]
[null,null,null,96.960000000000008,null,null,1.875]
[null,null,null,96.99,null,null,1.88]
[null,null,null,97.03,null,null,1.885]
[null,null,null,97.06,null,null,1.89]
[null,null,null,97.1,null,null,1.895]
[null,null,null,97.13000000000001,null,null,1.9]
[null,null,null,97.16,null,null,1.905]
[null,null,null,97.19,null,null,1.91]
[null,null,null,97.23,null,null,1.915]
[null,null,null,{"$f":"C386*100","v":97.26},null,null,1.92]
[null,null,null,97.289999999999992,null,null,{"$f":"A387","v":1.925}]
[null,null,null,97.32,null,null,1.93]
[null,null,null,97.350000000000009,null,null,1.9350000000000001]
[null,null,null,97.38,null,null,1.94]
[null,null,null,97.41,null,null,1.9450000000000001]
[null,null,null,97.44,null,null,1.95]
[null,null,null,97.47,null,null,1.9550000000000001]
[null,null,null,97.5,null,null,1.96]
[null,null,null,97.53,null,null,1.9650000000000001]
[null,null,null,97.56,null,null,1.97]
[null,null,null,97.59,null,null,1.9750000000000001]
[null,null,null,97.61,null,null,1.98]
[null,null,null,97.64,null,null,1.9850000000000001]
[null,null,null,97.67,null,null,1.99]
[null,null,null,97.7,null,null,1.9950000000000001]
[null,null,null,97.72,null,null,2]
[null,null,null,97.75,null,null,2.0049999999999999]
[null,null,null,97.78,null,null,2.0099999999999998]
[null,null,null,97.8,null,null,2.0150000000000001]
[null,null,null,97.83,null,null,2.02]
[null,null,null,97.86,null,null,2.0249999999999999]
[null,null,null,97.88,null,null,2.0299999999999998]
[null,null,null,97.91,null,null,2.0350000000000001]
[null,null,null,97.929999999999993,null,null,2.04]
[null,null,null,97.960000000000008,null,null,2.0449999999999999]
[null,null,null,97.98,null,null,2.0499999999999998]
[null,null,null,98.009999999999991,null,null,2.0550000000000002]
[null,null,null,98.03,null,null,2.06]
[null,null,null,98.05,null,null,2.0649999999999999]
[null,null,null,98.08,null,null,2.0699999999999998]
[null,null,null,98.1,null,null,2.0750000000000002]
[null,null,null,98.11999999999999,null,null,2.08]
[null,null,null,98.15,null,null,2.085]
[null,null,null,98.17,null,null,2.09]
[null,null,null,98.19,null,null,2.0950000000000002]
[null,null,null,98.21,null,null,2.1]
[null,null,null,98.240000000000009,null,null,2.105]
[null,null,null,98.26,null,null,2.11]
[null,null,null,98.28,null,null,2.1150000000000002]
[null,null,null,98.3,null,null,2.12]
[null,null,null,98.32,null,null,2.125]
[null,null,null,98.34,null,null,2.13]
[null,null,null,98.36,null,null,2.1349999999999998]
[null,null,null,98.38,null,null,2.14]
[null,null,null,98.4,null,null,2.145]
[null,null,null,98.42,null,null,2.15]
[null,null,null,98.440000000000012,null,null,2.1549999999999998]
[null,null,null,98.460000000000008,null,null,2.16]
[null,null,null,98.48,null,null,2.165]
[null,null,null,98.5,null,null,2.17]
[null,null,null,98.52,null,null,2.1749999999999998]
[null,null,null,98.54,null,null,2.1800000000000002]
[null,null,null,98.56,null,null,2.1850000000000001]
[null,null,null,98.570000000000007,null,null,2.19]
[null,null,null,98.59,null,null,2.1949999999999998]
[null,null,null,98.61,null,null,2.2000000000000002]
[null,null,null,98.63,null,null,2.2050000000000001]
[null,null,null,98.64,null,null,2.21]
[null,null,null,98.66,null,null,2.2149999999999999]
[null,null,null,98.68,null,null,2.2200000000000002]
[null,null,null,98.7,null,null,2.2250000000000001]
[null,null,null,98.71,null,null,2.23]
[null,null,null,98.72999999999999,null,null,2.2349999999999999]
[null,null,null,{"$f":"C450*100","v":98.75},null,null,2.2400000000000002]
[null,null,null,98.76,null,null,{"$f":"A451","v":2.2450000000000001}]
[null,null,null,98.78,null,null,2.25]
[null,null,null,98.79,null,null,2.2549999999999999]
[null,null,null,98.81,null,null,2.2599999999999998]
[null,null,null,98.82,null,null,2.2650000000000001]
[null,null,null,98.839999999999989,null,null,2.27]
[null,null,null,98.850000000000009,null,null,2.2749999999999999]
[null,null,null,98.87,null,null,2.2799999999999998]
[null,null,null,98.88,null,null,2.2850000000000001]
[null,null,null,98.9,null,null,2.29]
[null,null,null,98.91,null,null,2.2949999999999999]
[null,null,null,98.929999999999993,null,null,2.2999999999999998]
[null,null,null,98.94,null,null,2.3050000000000002]
[null,null,null,98.960000000000008,null,null,2.31]
[null,null,null,98.97,null,null,2.3149999999999999]
[null,null,null,98.98,null,null,2.3199999999999998]
[null,null,null,99,null,null,2.3250000000000002]
[null,null,null,99.009999999999991,null,null,2.33]
[null,null,null,99.02,null,null,2.335]
[null,null,null,99.039999999999992,null,null,2.34]
[null,null,null,99.050000000000011,null,null,2.3450000000000002]
[null,null,null,99.06,null,null,2.35]
[null,null,null,99.070000000000007,null,null,2.355]
[null,null,null,99.09,null,null,2.36]
[null,null,null,99.1,null,null,2.3650000000000002]
[null,null,null,99.11,null,null,2.37]
[null,null,null,99.11999999999999,null,null,2.375]
[null,null,null,99.13,null,null,2.38]
[null,null,null,99.15,null,null,2.3849999999999998]
[null,null,null,99.16,null,null,2.39]
[null,null,null,99.17,null,null,2.395]
[null,null,null,99.18,null,null,2.4]
[null,null,null,99.19,null,null,2.4049999999999998]
[null,null,null,99.2,null,null,2.41]
[null,null,null,99.21,null,null,2.415]
[null,null,null,99.22,null,null,2.42]
[null,null,null,99.22999999999999,null,null,2.4249999999999998]
[null,null,null,99.25,null,null,2.4300000000000002]
[null,null,null,99.26,null,null,2.4350000000000001]
[null,null,null,99.27,null,null,2.44]
[null,null,null,99.28,null,null,2.4449999999999998]
[null,null,null,99.29,null,null,2.4500000000000002]
[null,null,null,99.3,null,null,2.4550000000000001]
[null,null,null,99.31,null,null,2.46]
[null,null,null,99.31,null,null,2.4649999999999999]
[null,null,null,99.32,null,null,2.4700000000000002]
[null,null,null,99.33,null,null,2.4750000000000001]
[null,null,null,99.339999999999989,null,null,2.48]
[null,null,null,99.350000000000009,null,null,2.4849999999999999]
[null,null,null,99.36,null,null,2.4900000000000002]
[null,null,null,99.37,null,null,2.4950000000000001]
[null,null,null,99.38,null,null,2.5]
[null,null,null,99.39,null,null,2.5049999999999999]
[null,null,null,99.4,null,null,2.5099999999999998]
[null,null,null,99.4,null,null,2.5150000000000001]
[null,null,null,99.41,null,null,2.52]
[null,null,null,99.42,null,null,2.5249999999999999]
[null,null,null,99.429999999999993,null,null,2.5299999999999998]
[null,null,null,99.44,null,null,2.5350000000000001]
[null,null,null,99.45,null,null,2.54]
[null,null,null,99.45,null,null,2.5449999999999999]
[null,null,null,99.460000000000008,null,null,2.5499999999999998]
[null,null,null,99.47,null,null,2.5550000000000002]
[null,null,null,{"$f":"C514*100","v":99.48},null,null,2.56]
[null,null,null,99.48,null,null,{"$f":"A515","v":2.5649999999999999}]
[null,null,null,99.49,null,null,2.57]
[null,null,null,99.5,null,null,2.5750000000000002]
[null,null,null,99.51,null,null,2.58]
[null,null,null,99.51,null,null,2.585]
[null,null,null,99.52,null,null,2.59]
[null,null,null,99.53,null,null,2.5950000000000002]
[null,null,null,99.53,null,null,2.6]
[null,null,null,99.539999999999992,null,null,2.605]
[null,null,null,99.550000000000011,null,null,2.61]
[null,null,null,99.550000000000011,null,null,2.6150000000000002]
[null,null,null,99.56,null,null,2.62]
[null,null,null,99.570000000000007,null,null,2.625]
[null,null,null,99.570000000000007,null,null,2.63]
[null,null,null,99.58,null,null,2.6349999999999998]
[null,null,null,99.59,null,null,2.64]
[null,null,null,99.59,null,null,2.645]
[null,null,null,99.6,null,null,2.65]
[null,null,null,99.6,null,null,2.6549999999999998]
[null,null,null,99.61,null,null,2.66]
[null,null,null,99.62,null,null,2.665]
[null,null,null,99.62,null,null,2.67]
[null,null,null,99.63,null,null,2.6749999999999998]
[null,null,null,99.63,null,null,2.68]
[null,null,null,99.64,null,null,2.6850000000000001]
[null,null,null,99.64,null,null,2.69]
[null,null,null,99.65,null,null,2.6949999999999998]
[null,null,null,99.65,null,null,2.7]
[null,null,null,99.660000000000011,null,null,2.7050000000000001]
[null,null,null,99.660000000000011,null,null,2.71]
[null,null,null,99.67,null,null,2.7149999999999999]
[null,null,null,99.67,null,null,2.72]
[null,null,null,99.68,null,null,2.7250000000000001]
[null,null,null,99.68,null,null,2.73]
[null,null,null,99.69,null,null,2.7349999999999999]
[null,null,null,99.69,null,null,2.74]
[null,null,null,99.7,null,null,2.7450000000000001]
[null,null,null,99.7,null,null,2.75]
[null,null,null,99.71,null,null,2.7549999999999999]
[null,null,null,99.71,null,null,2.76]
[null,null,null,99.72,null,null,2.7650000000000001]
[null,null,null,99.72,null,null,2.77]
[null,null,null,99.72,null,null,2.7749999999999999]
[null,null,null,99.72999999999999,null,null,2.78]
[null,null,null,99.72999999999999,null,null,2.7850000000000001]
[null,null,null,99.74,null,null,2.79]
[null,null,null,99.74,null,null,2.7949999999999999]
[null,null,null,99.74,null,null,2.8]
[null,null,null,99.75,null,null,2.8050000000000002]
[null,null,null,99.75,null,null,2.81]
[null,null,null,99.76,null,null,2.8149999999999999]
[null,null,null,99.76,null,null,2.82]
[null,null,null,99.76,null,null,2.8250000000000002]
[null,null,null,99.77000000000001,null,null,2.83]
[null,null,null,99.77000000000001,null,null,2.835]
[null,null,null,99.77000000000001,null,null,2.84]
[null,null,null,99.78,null,null,2.8450000000000002]
[null,null,null,99.78,null,null,2.85]
[null,null,null,99.78,null,null,2.855]
[null,null,null,99.79,null,null,2.86]
[null,null,null,99.79,null,null,2.8650000000000002]
[null,null,null,99.79,null,null,2.87]
[null,null,null,99.8,null,null,2.875]
[null,null,null,{"$f":"C578*100","v":99.8},null,null,2.88]
[null,null,null,99.8,null,null,{"$f":"A579","v":2.8849999999999998}]
[null,null,null,99.81,null,null,2.89]
[null,null,null,99.81,null,null,2.895]
[null,null,null,99.81,null,null,2.9]
[null,null,null,99.82,null,null,2.9049999999999998]
[null,null,null,99.82,null,null,2.91]
[null,null,null,99.82,null,null,2.915]
[null,null,null,99.82,null,null,2.92]
[null,null,null,99.83,null,null,2.9249999999999998]
[null,null,null,99.83,null,null,2.93]
[null,null,null,99.83,null,null,2.9350000000000001]
[null,null,null,99.839999999999989,null,null,2.94]
[null,null,null,99.839999999999989,null,null,2.9449999999999998]
[null,null,null,99.839999999999989,null,null,2.95]
[null,null,null,99.839999999999989,null,null,2.9550000000000001]
[null,null,null,99.850000000000009,null,null,2.96]
[null,null,null,99.850000000000009,null,null,2.9649999999999999]
[null,null,null,99.850000000000009,null,null,2.97]
[null,null,null,99.850000000000009,null,null,2.9750000000000001]
[null,null,null,99.86,null,null,2.98]
[null,null,null,99.86,null,null,2.9849999999999999]
[null,null,null,99.86,null,null,2.99]
[null,null,null,99.86,null,null,2.9950000000000001]
[null,null,null,99.87,null,null,3]
[null,null,null,99.87,null,null,3.0049999999999999]
[null,null,null,99.87,null,null,3.01]
[null,null,null,99.87,null,null,3.0150000000000001]
[null,null,null,99.87,null,null,3.02]
[null,null,null,99.88,null,null,3.0249999999999999]
[null,null,null,99.88,null,null,3.03]
[null,null,null,99.88,null,null,3.0350000000000001]
[null,null,null,99.88,null,null,3.04]
[null,null,null,99.88,null,null,3.0449999999999999]
[null,null,null,99.89,null,null,3.05]
[null,null,null,99.89,null,null,3.0550000000000002]
[null,null,null,99.89,null,null,3.06]
[null,null,null,99.89,null,null,3.0649999999999999]
[null,null,null,99.89,null,null,3.07]
[null,null,null,99.89,null,null,3.0750000000000002]
[null,null,null,99.9,null,null,3.08]
[null,null,null,99.9,null,null,3.085]
[null,null,null,99.9,null,null,3.09]
[null,null,null,99.9,null,null,3.0950000000000002]
[null,null,null,99.9,null,null,3.1]
[null,null,null,99.91,null,null,3.11]
[null,null,null,99.91,null,null,3.12]
[null,null,null,99.91,null,null,3.13]
[null,null,null,99.92,null,null,3.14]
[null,null,null,99.92,null,null,3.15]
[null,null,null,99.92,null,null,3.16]
[null,null,null,99.92,null,null,3.17]
[null,null,null,99.929999999999993,null,null,3.18]
[null,null,null,99.929999999999993,null,null,3.19]
[null,null,null,99.929999999999993,null,null,3.2]
[null,null,null,99.929999999999993,null,null,3.21]
[null,null,null,99.94,null,null,3.22]
[null,null,null,99.94,null,null,3.23]
[null,null,null,99.94,null,null,3.24]
[null,null,null,99.94,null,null,3.25]
[null,null,null,99.94,null,null,3.26]
[null,null,null,99.95,null,null,3.27]
[null,null,null,99.95,null,null,3.28]
[null,null,null,99.95,null,null,3.29]
[null,null,null,{"$f":"C642*100","v":99.95},null,null,3.3]
[null,null,null,99.95,null,null,{"$f":"A643","v":3.31}]
[null,null,null,99.95,null,null,3.32]
[null,null,null,99.960000000000008,null,null,3.33]
[null,null,null,99.960000000000008,null,null,3.34]
[null,null,null,99.960000000000008,null,null,3.35]
[null,null,null,99.960000000000008,null,null,3.36]
[null,null,null,99.960000000000008,null,null,3.37]
[null,null,null,99.960000000000008,null,null,3.38]
[null,null,null,99.97,null,null,3.39]
[null,null,null,99.97,null,null,3.4]
[null,null,null,99.97,null,null,3.41]
[null,null,null,99.97,null,null,3.42]
[null,null,null,99.97,null,null,3.43]
[null,null,null,99.97,null,null,3.44]
[null,null,null,99.97,null,null,3.45]
[null,null,null,99.97,null,null,3.46]
[null,null,null,99.97,null,null,3.47]
[null,null,null,99.97,null,null,3.48]
[null,null,null,99.98,null,null,3.49]
[null,null,null,99.98,null,null,3.5]
[null,null,null,99.98,null,null,3.51]
[null,null,null,99.98,null,null,3.52]
[null,null,null,99.98,null,null,3.53]
[null,null,null,99.98,null,null,3.54]
[null,null,null,99.98,null,null,3.55]
[null,null,null,99.98,null,null,3.56]
[null,null,null,99.98,null,null,3.57]
[null,null,null,99.98,null,null,3.58]
[null,null,null,99.98,null,null,3.59]
[null,null,null,99.98,null,null,3.6]
[null,null,null,99.98,null,null,3.61]
[null,null,null,99.99,null,null,3.62]
[null,null,null,99.99,null,null,3.63]
[null,null,null,99.99,null,null,3.64]
[null,null,null,99.99,null,null,3.65]
[null,null,null,99.99,null,null,3.66]
[null,null,null,99.99,null,null,3.67]
[null,null,null,99.99,null,null,3.68]
[null,null,null,99.99,null,null,3.69]
[null,null,null,99.99,null,null,3.7]
[null,null,null,99.99,null,null,3.8]
[null,null,null,100,null,null,3.9]
[null,null,null,100,null,null,4]
[null,null,null,100,null,null,4.0999999999999996]
[null,null,null,100,null,null,4.2]
[null,null,null,100,null,null,4.3]
[null,null,null,100,null,null,4.4000000000000004]
[null,null,null,100,null,null,4.5]
[null,null,null,100,null,null,4.5999999999999996]
[null,null,null,100,null,null,4.7]
[null,null,null,100,null,null,4.8]
[null,null,null,100,null,null,4.9000000000000004]
[null,null,null,100,null,null,5]
[null,null,null,"Source: Table 1 of the Biometrika Tables for Statisticians, Vol.1 (ed.3), edited by E.S. Pearson and H.O.Hartley."]